{"text_format":"1","workbook":"xlsx","n_sheets":10,"sheets":["Sample Overview","Sample Information","Sample Receipt","Sample Submission","Processing Record","Sample_Type","Extraction Protocol","Gel Photo","Ladder information","Nanodrop Data Raw"],"not_rendered":{"charts":0,"images":1,"macros":1,"external_links":1,"defined_names":9,"comments":0,"pivot_tables":0},"unopened":[],"bounds":{"document_bytes":16777216,"sheet_cells":100000,"rows_first":2000,"rows_last":500,"rows_between":2000,"halvings":0,"cell_chars":16384,"cell_head_chars":4096},"cells_cut":0,"cells_raw":0,"read":"whole","date_system":"1900"}

{"sheet":"Sample Overview","index":0,"n_rows":31,"n_cols":2,"rows_kept":31,"cut":false,"hidden":false,"merged":[[0,0,0,5],[19,2,19,4],[1,0,1,5]]}
["Sample Overview"]
["Extracted DNA/RNA samples for service at CPOS Genomics Core?"]
[null,"Yes"]
[null,"No"]
[]
["Sample Storage:"]
[null,"Room temperature"]
[null,"4oC"]
[null,"-20oC"]
[null,"-80oC"]
[]
["Samples with Known Infectious Agent:"]
[null,"Yes"]
[null,"No"]
[]
["Sample Source:"]
[null,"Human"]
[null,"Mouse"]
[null,"Rat"]
[null,"Other:"]
[]
[]
["Note:"]
["- Sample with known infectious agent will NOT be accepted."]
["- For further information, please refer to our website: \"cgs.hku.hk\""]
["- Please follow precisely the instructions stated in our website or provided by our staff."]
["- CPOS Genomics Core has no obligation for failed service requests if users do not follow instructions given and /or provide insufficient information to our staff."]
["- Users should follow the existing queue for nucleic acid extraction service."]
["- For Research Use Only. Not for use in diagnostic procedures."]
["- For personal data protection, please be reminded that the submitted sample IDs should NOT carry any personal information such as the HKID or passport numbers, the laboratory numbers of patient reports, or the patient IDs of hospitals."]
["- Please refer to the Privacy and Personal Data Protection Policies at http://cgs.hku.hk/portal/index.php/policies for information on personal data protection and handling by CPOS Genomics Core."]

{"sheet":"Sample Information","index":1,"n_rows":501,"n_cols":7,"rows_kept":501,"cut":false,"hidden":false,"merged":[]}
[null,"Sample_ID\n(Max. 10 characters)\nNo SPACE and special characters within name","Sample_Type","OD600"]
[1,null,"Bacteria culture",null,null,"User Name:"]
[2,null,"Bacteria culture",null,null,"PI:"]
[3,null,"Bacteria culture",null,null,"Department:"]
[4,null,"Bacteria culture",null,null,"Submission Date:\n(yymmdd)"]
[5,null,"Bacteria culture",null,null,"iLab Service ID"]
[6,null,"Bacteria culture",null,null,"Extraction Protocol","Virus Pathogen Midi Kit, Complex_400_V4_DSP_Default_IC"]
[7,null,"Bacteria culture",null,null,"(version 210726)"]
[8,null,"Bacteria culture"]
[9,null,"Bacteria culture"]
[10,null,"Bacteria culture"]
[11,null,"Bacteria culture"]
[12,null,"Bacteria culture"]
[13,null,"Bacteria culture"]
[14,null,"Bacteria culture"]
[15,null,"Bacteria culture"]
[16,null,"Bacteria culture"]
[17,null,"Bacteria culture"]
[18,null,"Bacteria culture"]
[19,null,"Bacteria culture"]
[20,null,"Bacteria culture"]
[21,null,"Bacteria culture"]
[22,null,"Bacteria culture"]
[23,null,"Bacteria culture"]
[24,null,"Bacteria culture"]
[25,null,"Bacteria culture"]
[26,null,"Bacteria culture"]
[27,null,"Bacteria culture"]
[28,null,"Bacteria culture"]
[29,null,"Bacteria culture"]
[30,null,"Bacteria culture"]
[31,null,"Bacteria culture"]
[32,null,"Bacteria culture"]
[33,null,"Bacteria culture"]
[34,null,"Bacteria culture"]
[35,null,"Bacteria culture"]
[36,null,"Bacteria culture"]
[37,null,"Bacteria culture"]
[38,null,"Bacteria culture"]
[39,null,"Bacteria culture"]
[40,null,"Bacteria culture"]
[41,null,"Bacteria culture"]
[42,null,"Bacteria culture"]
[43,null,"Bacteria culture"]
[44,null,"Bacteria culture"]
[45,null,"Bacteria culture"]
[46,null,"Bacteria culture"]
[47,null,"Bacteria culture"]
[48,null,"Bacteria culture"]
[49,null,"Bacteria culture"]
[50,null,"Bacteria culture"]
[51,null,"Bacteria culture"]
[52,null,"Bacteria culture"]
[53,null,"Bacteria culture"]
[54,null,"Bacteria culture"]
[55,null,"Bacteria culture"]
[56,null,"Bacteria culture"]
[57,null,"Bacteria culture"]
[58,null,"Bacteria culture"]
[59,null,"Bacteria culture"]
[60,null,"Bacteria culture"]
[61,null,"Bacteria culture"]
[62,null,"Bacteria culture"]
[63,null,"Bacteria culture"]
[64,null,"Bacteria culture"]
[65,null,"Bacteria culture"]
[66,null,"Bacteria culture"]
[67,null,"Bacteria culture"]
[68,null,"Bacteria culture"]
[69,null,"Bacteria culture"]
[70,null,"Bacteria culture"]
[71,null,"Bacteria culture"]
[72,null,"Bacteria culture"]
[73,null,"Bacteria culture"]
[74,null,"Bacteria culture"]
[75,null,"Bacteria culture"]
[76,null,"Bacteria culture"]
[77,null,"Bacteria culture"]
[78,null,"Bacteria culture"]
[79,null,"Bacteria culture"]
[80,null,"Bacteria culture"]
[81,null,"Bacteria culture"]
[82,null,"Bacteria culture"]
[83,null,"Bacteria culture"]
[84,null,"Bacteria culture"]
[85,null,"Bacteria culture"]
[86,null,"Bacteria culture"]
[87,null,"Bacteria culture"]
[88,null,"Bacteria culture"]
[89,null,"Bacteria culture"]
[90,null,"Bacteria culture"]
[91,null,"Bacteria culture"]
[92,null,"Bacteria culture"]
[93,null,"Bacteria culture"]
[94,null,"Bacteria culture"]
[95,null,"Bacteria culture"]
[96,null,"Bacteria culture"]
[97,null,"Bacteria culture"]
[98,null,"Bacteria culture"]
[99,null,"Bacteria culture"]
[100,null,"Bacteria culture"]
[101,null,"Bacteria culture"]
[102,null,"Bacteria culture"]
[103,null,"Bacteria culture"]
[104,null,"Bacteria culture"]
[105,null,"Bacteria culture"]
[106,null,"Bacteria culture"]
[107,null,"Bacteria culture"]
[108,null,"Bacteria culture"]
[109,null,"Bacteria culture"]
[110,null,"Bacteria culture"]
[111,null,"Bacteria culture"]
[112,null,"Bacteria culture"]
[113,null,"Bacteria culture"]
[114,null,"Bacteria culture"]
[115,null,"Bacteria culture"]
[116,null,"Bacteria culture"]
[117,null,"Bacteria culture"]
[118,null,"Bacteria culture"]
[119,null,"Bacteria culture"]
[120,null,"Bacteria culture"]
[121,null,"Bacteria culture"]
[122,null,"Bacteria culture"]
[123,null,"Bacteria culture"]
[124,null,"Bacteria culture"]
[125,null,"Bacteria culture"]
[126,null,"Bacteria culture"]
[127,null,"Bacteria culture"]
[128,null,"Bacteria culture"]
[129,null,"Bacteria culture"]
[130,null,"Bacteria culture"]
[131,null,"Bacteria culture"]
[132,null,"Bacteria culture"]
[133,null,"Bacteria culture"]
[134,null,"Bacteria culture"]
[135,null,"Bacteria culture"]
[136,null,"Bacteria culture"]
[137,null,"Bacteria culture"]
[138,null,"Bacteria culture"]
[139,null,"Bacteria culture"]
[140,null,"Bacteria culture"]
[141,null,"Bacteria culture"]
[142,null,"Bacteria culture"]
[143,null,"Bacteria culture"]
[144,null,"Bacteria culture"]
[145,null,"Bacteria culture"]
[146,null,"Bacteria culture"]
[147,null,"Bacteria culture"]
[148,null,"Bacteria culture"]
[149,null,"Bacteria culture"]
[150,null,"Bacteria culture"]
[151,null,"Bacteria culture"]
[152,null,"Bacteria culture"]
[153,null,"Bacteria culture"]
[154,null,"Bacteria culture"]
[155,null,"Bacteria culture"]
[156,null,"Bacteria culture"]
[157,null,"Bacteria culture"]
[158,null,"Bacteria culture"]
[159,null,"Bacteria culture"]
[160,null,"Bacteria culture"]
[161,null,"Bacteria culture"]
[162,null,"Bacteria culture"]
[163,null,"Bacteria culture"]
[164,null,"Bacteria culture"]
[165,null,"Bacteria culture"]
[166,null,"Bacteria culture"]
[167,null,"Bacteria culture"]
[168,null,"Bacteria culture"]
[169,null,"Bacteria culture"]
[170,null,"Bacteria culture"]
[171,null,"Bacteria culture"]
[172,null,"Bacteria culture"]
[173,null,"Bacteria culture"]
[174,null,"Bacteria culture"]
[175,null,"Bacteria culture"]
[176,null,"Bacteria culture"]
[177,null,"Bacteria culture"]
[178,null,"Bacteria culture"]
[179,null,"Bacteria culture"]
[180,null,"Bacteria culture"]
[181,null,"Bacteria culture"]
[182,null,"Bacteria culture"]
[183,null,"Bacteria culture"]
[184,null,"Bacteria culture"]
[185,null,"Bacteria culture"]
[186,null,"Bacteria culture"]
[187,null,"Bacteria culture"]
[188,null,"Bacteria culture"]
[189,null,"Bacteria culture"]
[190,null,"Bacteria culture"]
[191,null,"Bacteria culture"]
[192,null,"Bacteria culture"]
[193,null,"Bacteria culture"]
[194,null,"Bacteria culture"]
[195,null,"Bacteria culture"]
[196,null,"Bacteria culture"]
[197,null,"Bacteria culture"]
[198,null,"Bacteria culture"]
[199,null,"Bacteria culture"]
[200,null,"Bacteria culture"]
[201,null,"Bacteria culture"]
[202,null,"Bacteria culture"]
[203,null,"Bacteria culture"]
[204,null,"Bacteria culture"]
[205,null,"Bacteria culture"]
[206,null,"Bacteria culture"]
[207,null,"Bacteria culture"]
[208,null,"Bacteria culture"]
[209,null,"Bacteria culture"]
[210,null,"Bacteria culture"]
[211,null,"Bacteria culture"]
[212,null,"Bacteria culture"]
[213,null,"Bacteria culture"]
[214,null,"Bacteria culture"]
[215,null,"Bacteria culture"]
[216,null,"Bacteria culture"]
[217,null,"Bacteria culture"]
[218,null,"Bacteria culture"]
[219,null,"Bacteria culture"]
[220,null,"Bacteria culture"]
[221,null,"Bacteria culture"]
[222,null,"Bacteria culture"]
[223,null,"Bacteria culture"]
[224,null,"Bacteria culture"]
[225,null,"Bacteria culture"]
[226,null,"Bacteria culture"]
[227,null,"Bacteria culture"]
[228,null,"Bacteria culture"]
[229,null,"Bacteria culture"]
[230,null,"Bacteria culture"]
[231,null,"Bacteria culture"]
[232,null,"Bacteria culture"]
[233,null,"Bacteria culture"]
[234,null,"Bacteria culture"]
[235,null,"Bacteria culture"]
[236,null,"Bacteria culture"]
[237,null,"Bacteria culture"]
[238,null,"Bacteria culture"]
[239,null,"Bacteria culture"]
[240,null,"Bacteria culture"]
[241,null,"Bacteria culture"]
[242,null,"Bacteria culture"]
[243,null,"Bacteria culture"]
[244,null,"Bacteria culture"]
[245,null,"Bacteria culture"]
[246,null,"Bacteria culture"]
[247,null,"Bacteria culture"]
[248,null,"Bacteria culture"]
[249,null,"Bacteria culture"]
[250,null,"Bacteria culture"]
[251,null,"Bacteria culture"]
[252,null,"Bacteria culture"]
[253,null,"Bacteria culture"]
[254,null,"Bacteria culture"]
[255,null,"Bacteria culture"]
[256,null,"Bacteria culture"]
[257,null,"Bacteria culture"]
[258,null,"Bacteria culture"]
[259,null,"Bacteria culture"]
[260,null,"Bacteria culture"]
[261,null,"Bacteria culture"]
[262,null,"Bacteria culture"]
[263,null,"Bacteria culture"]
[264,null,"Bacteria culture"]
[265,null,"Bacteria culture"]
[266,null,"Bacteria culture"]
[267,null,"Bacteria culture"]
[268,null,"Bacteria culture"]
[269,null,"Bacteria culture"]
[270,null,"Bacteria culture"]
[271,null,"Bacteria culture"]
[272,null,"Bacteria culture"]
[273,null,"Bacteria culture"]
[274,null,"Bacteria culture"]
[275,null,"Bacteria culture"]
[276,null,"Bacteria culture"]
[277,null,"Bacteria culture"]
[278,null,"Bacteria culture"]
[279,null,"Bacteria culture"]
[280,null,"Bacteria culture"]
[281,null,"Bacteria culture"]
[282,null,"Bacteria culture"]
[283,null,"Bacteria culture"]
[284,null,"Bacteria culture"]
[285,null,"Bacteria culture"]
[286,null,"Bacteria culture"]
[287,null,"Bacteria culture"]
[288,null,"Bacteria culture"]
[289,null,"Bacteria culture"]
[290,null,"Bacteria culture"]
[291,null,"Bacteria culture"]
[292,null,"Bacteria culture"]
[293,null,"Bacteria culture"]
[294,null,"Bacteria culture"]
[295,null,"Bacteria culture"]
[296,null,"Bacteria culture"]
[297,null,"Bacteria culture"]
[298,null,"Bacteria culture"]
[299,null,"Bacteria culture"]
[300,null,"Bacteria culture"]
[301,null,"Bacteria culture"]
[302,null,"Bacteria culture"]
[303,null,"Bacteria culture"]
[304,null,"Bacteria culture"]
[305,null,"Bacteria culture"]
[306,null,"Bacteria culture"]
[307,null,"Bacteria culture"]
[308,null,"Bacteria culture"]
[309,null,"Bacteria culture"]
[310,null,"Bacteria culture"]
[311,null,"Bacteria culture"]
[312,null,"Bacteria culture"]
[313,null,"Bacteria culture"]
[314,null,"Bacteria culture"]
[315,null,"Bacteria culture"]
[316,null,"Bacteria culture"]
[317,null,"Bacteria culture"]
[318,null,"Bacteria culture"]
[319,null,"Bacteria culture"]
[320,null,"Bacteria culture"]
[321,null,"Bacteria culture"]
[322,null,"Bacteria culture"]
[323,null,"Bacteria culture"]
[324,null,"Bacteria culture"]
[325,null,"Bacteria culture"]
[326,null,"Bacteria culture"]
[327,null,"Bacteria culture"]
[328,null,"Bacteria culture"]
[329,null,"Bacteria culture"]
[330,null,"Bacteria culture"]
[331,null,"Bacteria culture"]
[332,null,"Bacteria culture"]
[333,null,"Bacteria culture"]
[334,null,"Bacteria culture"]
[335,null,"Bacteria culture"]
[336,null,"Bacteria culture"]
[337,null,"Bacteria culture"]
[338,null,"Bacteria culture"]
[339,null,"Bacteria culture"]
[340,null,"Bacteria culture"]
[341,null,"Bacteria culture"]
[342,null,"Bacteria culture"]
[343,null,"Bacteria culture"]
[344,null,"Bacteria culture"]
[345,null,"Bacteria culture"]
[346,null,"Bacteria culture"]
[347,null,"Bacteria culture"]
[348,null,"Bacteria culture"]
[349,null,"Bacteria culture"]
[350,null,"Bacteria culture"]
[351,null,"Bacteria culture"]
[352,null,"Bacteria culture"]
[353,null,"Bacteria culture"]
[354,null,"Bacteria culture"]
[355,null,"Bacteria culture"]
[356,null,"Bacteria culture"]
[357,null,"Bacteria culture"]
[358,null,"Bacteria culture"]
[359,null,"Bacteria culture"]
[360,null,"Bacteria culture"]
[361,null,"Bacteria culture"]
[362,null,"Bacteria culture"]
[363,null,"Bacteria culture"]
[364,null,"Bacteria culture"]
[365,null,"Bacteria culture"]
[366,null,"Bacteria culture"]
[367,null,"Bacteria culture"]
[368,null,"Bacteria culture"]
[369,null,"Bacteria culture"]
[370,null,"Bacteria culture"]
[371,null,"Bacteria culture"]
[372,null,"Bacteria culture"]
[373,null,"Bacteria culture"]
[374,null,"Bacteria culture"]
[375,null,"Bacteria culture"]
[376,null,"Bacteria culture"]
[377,null,"Bacteria culture"]
[378,null,"Bacteria culture"]
[379,null,"Bacteria culture"]
[380,null,"Bacteria culture"]
[381,null,"Bacteria culture"]
[382,null,"Bacteria culture"]
[383,null,"Bacteria culture"]
[384,null,"Bacteria culture"]
[385,null,"Bacteria culture"]
[386,null,"Bacteria culture"]
[387,null,"Bacteria culture"]
[388,null,"Bacteria culture"]
[389,null,"Bacteria culture"]
[390,null,"Bacteria culture"]
[391,null,"Bacteria culture"]
[392,null,"Bacteria culture"]
[393,null,"Bacteria culture"]
[394,null,"Bacteria culture"]
[395,null,"Bacteria culture"]
[396,null,"Bacteria culture"]
[397,null,"Bacteria culture"]
[398,null,"Bacteria culture"]
[399,null,"Bacteria culture"]
[400,null,"Bacteria culture"]
[401,null,"Bacteria culture"]
[402,null,"Bacteria culture"]
[403,null,"Bacteria culture"]
[404,null,"Bacteria culture"]
[405,null,"Bacteria culture"]
[406,null,"Bacteria culture"]
[407,null,"Bacteria culture"]
[408,null,"Bacteria culture"]
[409,null,"Bacteria culture"]
[410,null,"Bacteria culture"]
[411,null,"Bacteria culture"]
[412,null,"Bacteria culture"]
[413,null,"Bacteria culture"]
[414,null,"Bacteria culture"]
[415,null,"Bacteria culture"]
[416,null,"Bacteria culture"]
[417,null,"Bacteria culture"]
[418,null,"Bacteria culture"]
[419,null,"Bacteria culture"]
[420,null,"Bacteria culture"]
[421,null,"Bacteria culture"]
[422,null,"Bacteria culture"]
[423,null,"Bacteria culture"]
[424,null,"Bacteria culture"]
[425,null,"Bacteria culture"]
[426,null,"Bacteria culture"]
[427,null,"Bacteria culture"]
[428,null,"Bacteria culture"]
[429,null,"Bacteria culture"]
[430,null,"Bacteria culture"]
[431,null,"Bacteria culture"]
[432,null,"Bacteria culture"]
[433,null,"Bacteria culture"]
[434,null,"Bacteria culture"]
[435,null,"Bacteria culture"]
[436,null,"Bacteria culture"]
[437,null,"Bacteria culture"]
[438,null,"Bacteria culture"]
[439,null,"Bacteria culture"]
[440,null,"Bacteria culture"]
[441,null,"Bacteria culture"]
[442,null,"Bacteria culture"]
[443,null,"Bacteria culture"]
[444,null,"Bacteria culture"]
[445,null,"Bacteria culture"]
[446,null,"Bacteria culture"]
[447,null,"Bacteria culture"]
[448,null,"Bacteria culture"]
[449,null,"Bacteria culture"]
[450,null,"Bacteria culture"]
[451,null,"Bacteria culture"]
[452,null,"Bacteria culture"]
[453,null,"Bacteria culture"]
[454,null,"Bacteria culture"]
[455,null,"Bacteria culture"]
[456,null,"Bacteria culture"]
[457,null,"Bacteria culture"]
[458,null,"Bacteria culture"]
[459,null,"Bacteria culture"]
[460,null,"Bacteria culture"]
[461,null,"Bacteria culture"]
[462,null,"Bacteria culture"]
[463,null,"Bacteria culture"]
[464,null,"Bacteria culture"]
[465,null,"Bacteria culture"]
[466,null,"Bacteria culture"]
[467,null,"Bacteria culture"]
[468,null,"Bacteria culture"]
[469,null,"Bacteria culture"]
[470,null,"Bacteria culture"]
[471,null,"Bacteria culture"]
[472,null,"Bacteria culture"]
[473,null,"Bacteria culture"]
[474,null,"Bacteria culture"]
[475,null,"Bacteria culture"]
[476,null,"Bacteria culture"]
[477,null,"Bacteria culture"]
[478,null,"Bacteria culture"]
[479,null,"Bacteria culture"]
[480,null,"Bacteria culture"]
[481,null,"Bacteria culture"]
[482,null,"Bacteria culture"]
[483,null,"Bacteria culture"]
[484,null,"Bacteria culture"]
[485,null,"Bacteria culture"]
[486,null,"Bacteria culture"]
[487,null,"Bacteria culture"]
[488,null,"Bacteria culture"]
[489,null,"Bacteria culture"]
[490,null,"Bacteria culture"]
[491,null,"Bacteria culture"]
[492,null,"Bacteria culture"]
[493,null,"Bacteria culture"]
[494,null,"Bacteria culture"]
[495,null,"Bacteria culture"]
[496,null,"Bacteria culture"]
[497,null,"Bacteria culture"]
[498,null,"Bacteria culture"]
[499,null,"Bacteria culture"]
[500,null,"Bacteria culture"]

{"sheet":"Sample Receipt","index":2,"n_rows":19,"n_cols":5,"rows_kept":19,"cut":false,"hidden":true,"merged":[[15,4,16,4],[5,2,5,3],[15,0,15,1],[16,0,16,1],[15,2,16,2],[15,3,16,3],[9,0,10,1],[9,2,10,2],[9,3,10,3],[9,4,10,4],[0,2,0,3],[1,2,1,3],[2,2,2,3],[3,2,3,3],[4,2,4,3]]}
[null,"User Name:",{"$f":"'Sample Information'!$G$2","v":0}]
[null,"PI:",{"$f":"'Sample Information'!$G$3","v":0}]
[null,"Department:",{"$f":"'Sample Information'!$G$4","v":0}]
[null,"Submission Date:\n(yymmdd)",{"$f":"'Sample Information'!$G$5","v":0}]
[null,"iLab Service ID",{"$f":"'Sample Information'!$G$6","v":0}]
[null,"Extraction Protocol",{"$f":"'Sample Information'!$G$7","v":"Virus Pathogen Midi Kit, Complex_400_V4_DSP_Default_IC"}]
[]
[]
[]
["Result Review",null,"Sign","Date","Remarks"]
[]
[null,"Gel photo matched with nanodrop"]
[null,"Result checked & ready for data release to user"]
[]
[]
["Extracted Nucleic Acid Tracking",null,"Sign","Date","Remarks"]
[{"$f":"\"iLab Service ID: \"&'Sample Information'!G6","v":"iLab Service ID: "}]
[null,"DNA/RNA collected by user / PI"]
[null,"DNA/RNA passed to CGS core platform: _______"]

{"sheet":"Sample Submission","index":3,"n_rows":577,"n_cols":6,"rows_kept":577,"cut":false,"hidden":true,"merged":[]}
[null,"Order number","Sample_ID\n(Max. 10 characters)\nNo SPACE within name","Sample_Type","Submission Date","User_Name"]
[1,{"$f":"'Sample Information'!$G$6","v":0},{"$f":"'Sample Information'!B2","v":0},{"$f":"'Sample Information'!C2","v":"Bacteria culture"},{"$f":"'Sample Information'!$G$5","v":"00:00:00"}]
[2,{"$f":"'Sample Information'!$G$6","v":0},{"$f":"'Sample Information'!B3","v":0},{"$f":"'Sample Information'!C3","v":"Bacteria culture"},{"$f":"'Sample Information'!$G$5","v":"00:00:00"}]
[3,{"$f":"'Sample Information'!$G$6","v":0},{"$f":"'Sample Information'!B4","v":0},{"$f":"'Sample Information'!C4","v":"Bacteria culture"},{"$f":"'Sample Information'!$G$5","v":"00:00:00"}]
[4,{"$f":"'Sample Information'!$G$6","v":0},{"$f":"'Sample Information'!B5","v":0},{"$f":"'Sample Information'!C5","v":"Bacteria culture"},{"$f":"'Sample Information'!$G$5","v":"00:00:00"}]
[5,{"$f":"'Sample Information'!$G$6","v":0},{"$f":"'Sample Information'!B6","v":0},{"$f":"'Sample Information'!C6","v":"Bacteria culture"},{"$f":"'Sample Information'!$G$5","v":"00:00:00"}]
[6,{"$f":"'Sample Information'!$G$6","v":0},{"$f":"'Sample Information'!B7","v":0},{"$f":"'Sample Information'!C7","v":"Bacteria culture"},{"$f":"'Sample Information'!$G$5","v":"00:00:00"}]
[7,{"$f":"'Sample Information'!$G$6","v":0},{"$f":"'Sample Information'!B8","v":0},{"$f":"'Sample Information'!C8","v":"Bacteria culture"},{"$f":"'Sample Information'!$G$5","v":"00:00:00"}]
[8,{"$f":"'Sample Information'!$G$6","v":0},{"$f":"'Sample Information'!B9","v":0},{"$f":"'Sample Information'!C9","v":"Bacteria culture"},{"$f":"'Sample Information'!$G$5","v":"00:00:00"}]
[9,{"$f":"'Sample Information'!$G$6","v":0},{"$f":"'Sample Information'!B10","v":0},{"$f":"'Sample Information'!C10","v":"Bacteria culture"},{"$f":"'Sample Information'!$G$5","v":"00:00:00"}]
[10,{"$f":"'Sample Information'!$G$6","v":0},{"$f":"'Sample Information'!B11","v":0},{"$f":"'Sample Information'!C11","v":"Bacteria culture"},{"$f":"'Sample Information'!$G$5","v":"00:00:00"}]
[11,{"$f":"'Sample Information'!$G$6","v":0},{"$f":"'Sample Information'!B12","v":0},{"$f":"'Sample Information'!C12","v":"Bacteria culture"},{"$f":"'Sample Information'!$G$5","v":"00:00:00"}]
[12,{"$f":"'Sample Information'!$G$6","v":0},{"$f":"'Sample Information'!B13","v":0},{"$f":"'Sample Information'!C13","v":"Bacteria culture"},{"$f":"'Sample Information'!$G$5","v":"00:00:00"}]
[13,{"$f":"'Sample Information'!$G$6","v":0},{"$f":"'Sample Information'!B14","v":0},{"$f":"'Sample Information'!C14","v":"Bacteria culture"},{"$f":"'Sample Information'!$G$5","v":"00:00:00"}]
[14,{"$f":"'Sample Information'!$G$6","v":0},{"$f":"'Sample Information'!B15","v":0},{"$f":"'Sample Information'!C15","v":"Bacteria culture"},{"$f":"'Sample Information'!$G$5","v":"00:00:00"}]
[15,{"$f":"'Sample Information'!$G$6","v":0},{"$f":"'Sample Information'!B16","v":0},{"$f":"'Sample Information'!C16","v":"Bacteria culture"},{"$f":"'Sample Information'!$G$5","v":"00:00:00"}]
[16,{"$f":"'Sample Information'!$G$6","v":0},{"$f":"'Sample Information'!B17","v":0},{"$f":"'Sample Information'!C17","v":"Bacteria culture"},{"$f":"'Sample Information'!$G$5","v":"00:00:00"}]
[17,{"$f":"'Sample Information'!$G$6","v":0},{"$f":"'Sample Information'!B18","v":0},{"$f":"'Sample Information'!C18","v":"Bacteria culture"},{"$f":"'Sample Information'!$G$5","v":"00:00:00"}]
[18,{"$f":"'Sample Information'!$G$6","v":0},{"$f":"'Sample Information'!B19","v":0},{"$f":"'Sample Information'!C19","v":"Bacteria culture"},{"$f":"'Sample Information'!$G$5","v":"00:00:00"}]
[19,{"$f":"'Sample Information'!$G$6","v":0},{"$f":"'Sample Information'!B20","v":0},{"$f":"'Sample Information'!C20","v":"Bacteria culture"},{"$f":"'Sample Information'!$G$5","v":"00:00:00"}]
[20,{"$f":"'Sample Information'!$G$6","v":0},{"$f":"'Sample Information'!B21","v":0},{"$f":"'Sample Information'!C21","v":"Bacteria culture"},{"$f":"'Sample Information'!$G$5","v":"00:00:00"}]
[21,{"$f":"'Sample Information'!$G$6","v":0},{"$f":"'Sample Information'!B22","v":0},{"$f":"'Sample Information'!C22","v":"Bacteria culture"},{"$f":"'Sample Information'!$G$5","v":"00:00:00"}]
[22,{"$f":"'Sample Information'!$G$6","v":0},{"$f":"'Sample Information'!B23","v":0},{"$f":"'Sample Information'!C23","v":"Bacteria culture"},{"$f":"'Sample Information'!$G$5","v":"00:00:00"}]
[23,{"$f":"'Sample Information'!$G$6","v":0},{"$f":"'Sample Information'!B24","v":0},{"$f":"'Sample Information'!C24","v":"Bacteria culture"},{"$f":"'Sample Information'!$G$5","v":"00:00:00"}]
[24,{"$f":"'Sample Information'!$G$6","v":0},{"$f":"'Sample Information'!B25","v":0},{"$f":"'Sample Information'!C25","v":"Bacteria culture"},{"$f":"'Sample Information'!$G$5","v":"00:00:00"}]
[25,{"$f":"'Sample Information'!$G$6","v":0},{"$f":"'Sample Information'!B26","v":0},{"$f":"'Sample Information'!C26","v":"Bacteria culture"},{"$f":"'Sample Information'!$G$5","v":"00:00:00"}]
[26,{"$f":"'Sample Information'!$G$6","v":0},{"$f":"'Sample Information'!B27","v":0},{"$f":"'Sample Information'!C27","v":"Bacteria culture"},{"$f":"'Sample Information'!$G$5","v":"00:00:00"}]
[27,{"$f":"'Sample Information'!$G$6","v":0},{"$f":"'Sample Information'!B28","v":0},{"$f":"'Sample Information'!C28","v":"Bacteria culture"},{"$f":"'Sample Information'!$G$5","v":"00:00:00"}]
[28,{"$f":"'Sample Information'!$G$6","v":0},{"$f":"'Sample Information'!B29","v":0},{"$f":"'Sample Information'!C29","v":"Bacteria culture"},{"$f":"'Sample Information'!$G$5","v":"00:00:00"}]
[29,{"$f":"'Sample Information'!$G$6","v":0},{"$f":"'Sample Information'!B30","v":0},{"$f":"'Sample Information'!C30","v":"Bacteria culture"},{"$f":"'Sample Information'!$G$5","v":"00:00:00"}]
[30,{"$f":"'Sample Information'!$G$6","v":0},{"$f":"'Sample Information'!B31","v":0},{"$f":"'Sample Information'!C31","v":"Bacteria culture"},{"$f":"'Sample Information'!$G$5","v":"00:00:00"}]
[31,{"$f":"'Sample Information'!$G$6","v":0},{"$f":"'Sample Information'!B32","v":0},{"$f":"'Sample Information'!C32","v":"Bacteria culture"},{"$f":"'Sample Information'!$G$5","v":"00:00:00"}]
[32,{"$f":"'Sample Information'!$G$6","v":0},{"$f":"'Sample Information'!B33","v":0},{"$f":"'Sample Information'!C33","v":"Bacteria culture"},{"$f":"'Sample Information'!$G$5","v":"00:00:00"}]
[33,{"$f":"'Sample Information'!$G$6","v":0},{"$f":"'Sample Information'!B34","v":0},{"$f":"'Sample Information'!C34","v":"Bacteria culture"},{"$f":"'Sample Information'!$G$5","v":"00:00:00"}]
[34,{"$f":"'Sample Information'!$G$6","v":0},{"$f":"'Sample Information'!B35","v":0},{"$f":"'Sample Information'!C35","v":"Bacteria culture"},{"$f":"'Sample Information'!$G$5","v":"00:00:00"}]
[35,{"$f":"'Sample Information'!$G$6","v":0},{"$f":"'Sample Information'!B36","v":0},{"$f":"'Sample Information'!C36","v":"Bacteria culture"},{"$f":"'Sample Information'!$G$5","v":"00:00:00"}]
[36,{"$f":"'Sample Information'!$G$6","v":0},{"$f":"'Sample Information'!B37","v":0},{"$f":"'Sample Information'!C37","v":"Bacteria culture"},{"$f":"'Sample Information'!$G$5","v":"00:00:00"}]
[37,{"$f":"'Sample Information'!$G$6","v":0},{"$f":"'Sample Information'!B38","v":0},{"$f":"'Sample Information'!C38","v":"Bacteria culture"},{"$f":"'Sample Information'!$G$5","v":"00:00:00"}]
[38,{"$f":"'Sample Information'!$G$6","v":0},{"$f":"'Sample Information'!B39","v":0},{"$f":"'Sample Information'!C39","v":"Bacteria culture"},{"$f":"'Sample Information'!$G$5","v":"00:00:00"}]
[39,{"$f":"'Sample Information'!$G$6","v":0},{"$f":"'Sample Information'!B40","v":0},{"$f":"'Sample Information'!C40","v":"Bacteria culture"},{"$f":"'Sample Information'!$G$5","v":"00:00:00"}]
[40,{"$f":"'Sample Information'!$G$6","v":0},{"$f":"'Sample Information'!B41","v":0},{"$f":"'Sample Information'!C41","v":"Bacteria culture"},{"$f":"'Sample Information'!$G$5","v":"00:00:00"}]
[41,{"$f":"'Sample Information'!$G$6","v":0},{"$f":"'Sample Information'!B42","v":0},{"$f":"'Sample Information'!C42","v":"Bacteria culture"},{"$f":"'Sample Information'!$G$5","v":"00:00:00"}]
[42,{"$f":"'Sample Information'!$G$6","v":0},{"$f":"'Sample Information'!B43","v":0},{"$f":"'Sample Information'!C43","v":"Bacteria culture"},{"$f":"'Sample Information'!$G$5","v":"00:00:00"}]
[43,{"$f":"'Sample Information'!$G$6","v":0},{"$f":"'Sample Information'!B44","v":0},{"$f":"'Sample Information'!C44","v":"Bacteria culture"},{"$f":"'Sample Information'!$G$5","v":"00:00:00"}]
[44,{"$f":"'Sample Information'!$G$6","v":0},{"$f":"'Sample Information'!B45","v":0},{"$f":"'Sample Information'!C45","v":"Bacteria culture"},{"$f":"'Sample Information'!$G$5","v":"00:00:00"}]
[45,{"$f":"'Sample Information'!$G$6","v":0},{"$f":"'Sample Information'!B46","v":0},{"$f":"'Sample Information'!C46","v":"Bacteria culture"},{"$f":"'Sample Information'!$G$5","v":"00:00:00"}]
[46,{"$f":"'Sample Information'!$G$6","v":0},{"$f":"'Sample Information'!B47","v":0},{"$f":"'Sample Information'!C47","v":"Bacteria culture"},{"$f":"'Sample Information'!$G$5","v":"00:00:00"}]
[47,{"$f":"'Sample Information'!$G$6","v":0},{"$f":"'Sample Information'!B48","v":0},{"$f":"'Sample Information'!C48","v":"Bacteria culture"},{"$f":"'Sample Information'!$G$5","v":"00:00:00"}]
[48,{"$f":"'Sample Information'!$G$6","v":0},{"$f":"'Sample Information'!B49","v":0},{"$f":"'Sample Information'!C49","v":"Bacteria culture"},{"$f":"'Sample Information'!$G$5","v":"00:00:00"}]
[49,{"$f":"'Sample Information'!$G$6","v":0},{"$f":"'Sample Information'!B50","v":0},{"$f":"'Sample Information'!C50","v":"Bacteria culture"},{"$f":"'Sample Information'!$G$5","v":"00:00:00"}]
[50,{"$f":"'Sample Information'!$G$6","v":0},{"$f":"'Sample Information'!B51","v":0},{"$f":"'Sample Information'!C51","v":"Bacteria culture"},{"$f":"'Sample Information'!$G$5","v":"00:00:00"}]
[51,{"$f":"'Sample Information'!$G$6","v":0},{"$f":"'Sample Information'!B52","v":0},{"$f":"'Sample Information'!C52","v":"Bacteria culture"},{"$f":"'Sample Information'!$G$5","v":"00:00:00"}]
[52,{"$f":"'Sample Information'!$G$6","v":0},{"$f":"'Sample Information'!B53","v":0},{"$f":"'Sample Information'!C53","v":"Bacteria culture"},{"$f":"'Sample Information'!$G$5","v":"00:00:00"}]
[53,{"$f":"'Sample Information'!$G$6","v":0},{"$f":"'Sample Information'!B54","v":0},{"$f":"'Sample Information'!C54","v":"Bacteria culture"},{"$f":"'Sample Information'!$G$5","v":"00:00:00"}]
[54,{"$f":"'Sample Information'!$G$6","v":0},{"$f":"'Sample Information'!B55","v":0},{"$f":"'Sample Information'!C55","v":"Bacteria culture"},{"$f":"'Sample Information'!$G$5","v":"00:00:00"}]
[55,{"$f":"'Sample Information'!$G$6","v":0},{"$f":"'Sample Information'!B56","v":0},{"$f":"'Sample Information'!C56","v":"Bacteria culture"},{"$f":"'Sample Information'!$G$5","v":"00:00:00"}]
[56,{"$f":"'Sample Information'!$G$6","v":0},{"$f":"'Sample Information'!B57","v":0},{"$f":"'Sample Information'!C57","v":"Bacteria culture"},{"$f":"'Sample Information'!$G$5","v":"00:00:00"}]
[57,{"$f":"'Sample Information'!$G$6","v":0},{"$f":"'Sample Information'!B58","v":0},{"$f":"'Sample Information'!C58","v":"Bacteria culture"},{"$f":"'Sample Information'!$G$5","v":"00:00:00"}]
[58,{"$f":"'Sample Information'!$G$6","v":0},{"$f":"'Sample Information'!B59","v":0},{"$f":"'Sample Information'!C59","v":"Bacteria culture"},{"$f":"'Sample Information'!$G$5","v":"00:00:00"}]
[59,{"$f":"'Sample Information'!$G$6","v":0},{"$f":"'Sample Information'!B60","v":0},{"$f":"'Sample Information'!C60","v":"Bacteria culture"},{"$f":"'Sample Information'!$G$5","v":"00:00:00"}]
[60,{"$f":"'Sample Information'!$G$6","v":0},{"$f":"'Sample Information'!B61","v":0},{"$f":"'Sample Information'!C61","v":"Bacteria culture"},{"$f":"'Sample Information'!$G$5","v":"00:00:00"}]
[61,{"$f":"'Sample Information'!$G$6","v":0},{"$f":"'Sample Information'!B62","v":0},{"$f":"'Sample Information'!C62","v":"Bacteria culture"},{"$f":"'Sample Information'!$G$5","v":"00:00:00"}]
[62,{"$f":"'Sample Information'!$G$6","v":0},{"$f":"'Sample Information'!B63","v":0},{"$f":"'Sample Information'!C63","v":"Bacteria culture"},{"$f":"'Sample Information'!$G$5","v":"00:00:00"}]
[63,{"$f":"'Sample Information'!$G$6","v":0},{"$f":"'Sample Information'!B64","v":0},{"$f":"'Sample Information'!C64","v":"Bacteria culture"},{"$f":"'Sample Information'!$G$5","v":"00:00:00"}]
[64,{"$f":"'Sample Information'!$G$6","v":0},{"$f":"'Sample Information'!B65","v":0},{"$f":"'Sample Information'!C65","v":"Bacteria culture"},{"$f":"'Sample Information'!$G$5","v":"00:00:00"}]
[65,{"$f":"'Sample Information'!$G$6","v":0},{"$f":"'Sample Information'!B66","v":0},{"$f":"'Sample Information'!C66","v":"Bacteria culture"},{"$f":"'Sample Information'!$G$5","v":"00:00:00"}]
[66,{"$f":"'Sample Information'!$G$6","v":0},{"$f":"'Sample Information'!B67","v":0},{"$f":"'Sample Information'!C67","v":"Bacteria culture"},{"$f":"'Sample Information'!$G$5","v":"00:00:00"}]
[67,{"$f":"'Sample Information'!$G$6","v":0},{"$f":"'Sample Information'!B68","v":0},{"$f":"'Sample Information'!C68","v":"Bacteria culture"},{"$f":"'Sample Information'!$G$5","v":"00:00:00"}]
[68,{"$f":"'Sample Information'!$G$6","v":0},{"$f":"'Sample Information'!B69","v":0},{"$f":"'Sample Information'!C69","v":"Bacteria culture"},{"$f":"'Sample Information'!$G$5","v":"00:00:00"}]
[69,{"$f":"'Sample Information'!$G$6","v":0},{"$f":"'Sample Information'!B70","v":0},{"$f":"'Sample Information'!C70","v":"Bacteria culture"},{"$f":"'Sample Information'!$G$5","v":"00:00:00"}]
[70,{"$f":"'Sample Information'!$G$6","v":0},{"$f":"'Sample Information'!B71","v":0},{"$f":"'Sample Information'!C71","v":"Bacteria culture"},{"$f":"'Sample Information'!$G$5","v":"00:00:00"}]
[71,{"$f":"'Sample Information'!$G$6","v":0},{"$f":"'Sample Information'!B72","v":0},{"$f":"'Sample Information'!C72","v":"Bacteria culture"},{"$f":"'Sample Information'!$G$5","v":"00:00:00"}]
[72,{"$f":"'Sample Information'!$G$6","v":0},{"$f":"'Sample Information'!B73","v":0},{"$f":"'Sample Information'!C73","v":"Bacteria culture"},{"$f":"'Sample Information'!$G$5","v":"00:00:00"}]
[73,{"$f":"'Sample Information'!$G$6","v":0},{"$f":"'Sample Information'!B74","v":0},{"$f":"'Sample Information'!C74","v":"Bacteria culture"},{"$f":"'Sample Information'!$G$5","v":"00:00:00"}]
[74,{"$f":"'Sample Information'!$G$6","v":0},{"$f":"'Sample Information'!B75","v":0},{"$f":"'Sample Information'!C75","v":"Bacteria culture"},{"$f":"'Sample Information'!$G$5","v":"00:00:00"}]
[75,{"$f":"'Sample Information'!$G$6","v":0},{"$f":"'Sample Information'!B76","v":0},{"$f":"'Sample Information'!C76","v":"Bacteria culture"},{"$f":"'Sample Information'!$G$5","v":"00:00:00"}]
[76,{"$f":"'Sample Information'!$G$6","v":0},{"$f":"'Sample Information'!B77","v":0},{"$f":"'Sample Information'!C77","v":"Bacteria culture"},{"$f":"'Sample Information'!$G$5","v":"00:00:00"}]
[77,{"$f":"'Sample Information'!$G$6","v":0},{"$f":"'Sample Information'!B78","v":0},{"$f":"'Sample Information'!C78","v":"Bacteria culture"},{"$f":"'Sample Information'!$G$5","v":"00:00:00"}]
[78,{"$f":"'Sample Information'!$G$6","v":0},{"$f":"'Sample Information'!B79","v":0},{"$f":"'Sample Information'!C79","v":"Bacteria culture"},{"$f":"'Sample Information'!$G$5","v":"00:00:00"}]
[79,{"$f":"'Sample Information'!$G$6","v":0},{"$f":"'Sample Information'!B80","v":0},{"$f":"'Sample Information'!C80","v":"Bacteria culture"},{"$f":"'Sample Information'!$G$5","v":"00:00:00"}]
[80,{"$f":"'Sample Information'!$G$6","v":0},{"$f":"'Sample Information'!B81","v":0},{"$f":"'Sample Information'!C81","v":"Bacteria culture"},{"$f":"'Sample Information'!$G$5","v":"00:00:00"}]
[81,{"$f":"'Sample Information'!$G$6","v":0},{"$f":"'Sample Information'!B82","v":0},{"$f":"'Sample Information'!C82","v":"Bacteria culture"},{"$f":"'Sample Information'!$G$5","v":"00:00:00"}]
[82,{"$f":"'Sample Information'!$G$6","v":0},{"$f":"'Sample Information'!B83","v":0},{"$f":"'Sample Information'!C83","v":"Bacteria culture"},{"$f":"'Sample Information'!$G$5","v":"00:00:00"}]
[83,{"$f":"'Sample Information'!$G$6","v":0},{"$f":"'Sample Information'!B84","v":0},{"$f":"'Sample Information'!C84","v":"Bacteria culture"},{"$f":"'Sample Information'!$G$5","v":"00:00:00"}]
[84,{"$f":"'Sample Information'!$G$6","v":0},{"$f":"'Sample Information'!B85","v":0},{"$f":"'Sample Information'!C85","v":"Bacteria culture"},{"$f":"'Sample Information'!$G$5","v":"00:00:00"}]
[85,{"$f":"'Sample Information'!$G$6","v":0},{"$f":"'Sample Information'!B86","v":0},{"$f":"'Sample Information'!C86","v":"Bacteria culture"},{"$f":"'Sample Information'!$G$5","v":"00:00:00"}]
[86,{"$f":"'Sample Information'!$G$6","v":0},{"$f":"'Sample Information'!B87","v":0},{"$f":"'Sample Information'!C87","v":"Bacteria culture"},{"$f":"'Sample Information'!$G$5","v":"00:00:00"}]
[87,{"$f":"'Sample Information'!$G$6","v":0},{"$f":"'Sample Information'!B88","v":0},{"$f":"'Sample Information'!C88","v":"Bacteria culture"},{"$f":"'Sample Information'!$G$5","v":"00:00:00"}]
[88,{"$f":"'Sample Information'!$G$6","v":0},{"$f":"'Sample Information'!B89","v":0},{"$f":"'Sample Information'!C89","v":"Bacteria culture"},{"$f":"'Sample Information'!$G$5","v":"00:00:00"}]
[89,{"$f":"'Sample Information'!$G$6","v":0},{"$f":"'Sample Information'!B90","v":0},{"$f":"'Sample Information'!C90","v":"Bacteria culture"},{"$f":"'Sample Information'!$G$5","v":"00:00:00"}]
[90,{"$f":"'Sample Information'!$G$6","v":0},{"$f":"'Sample Information'!B91","v":0},{"$f":"'Sample Information'!C91","v":"Bacteria culture"},{"$f":"'Sample Information'!$G$5","v":"00:00:00"}]
[91,{"$f":"'Sample Information'!$G$6","v":0},{"$f":"'Sample Information'!B92","v":0},{"$f":"'Sample Information'!C92","v":"Bacteria culture"},{"$f":"'Sample Information'!$G$5","v":"00:00:00"}]
[92,{"$f":"'Sample Information'!$G$6","v":0},{"$f":"'Sample Information'!B93","v":0},{"$f":"'Sample Information'!C93","v":"Bacteria culture"},{"$f":"'Sample Information'!$G$5","v":"00:00:00"}]
[93,{"$f":"'Sample Information'!$G$6","v":0},{"$f":"'Sample Information'!B94","v":0},{"$f":"'Sample Information'!C94","v":"Bacteria culture"},{"$f":"'Sample Information'!$G$5","v":"00:00:00"}]
[94,{"$f":"'Sample Information'!$G$6","v":0},{"$f":"'Sample Information'!B95","v":0},{"$f":"'Sample Information'!C95","v":"Bacteria culture"},{"$f":"'Sample Information'!$G$5","v":"00:00:00"}]
[95,{"$f":"'Sample Information'!$G$6","v":0},{"$f":"'Sample Information'!B96","v":0},{"$f":"'Sample Information'!C96","v":"Bacteria culture"},{"$f":"'Sample Information'!$G$5","v":"00:00:00"}]
[96,{"$f":"'Sample Information'!$G$6","v":0},{"$f":"'Sample Information'!B97","v":0},{"$f":"'Sample Information'!C97","v":"Bacteria culture"},{"$f":"'Sample Information'!$G$5","v":"00:00:00"}]
[97,{"$f":"'Sample Information'!$G$6","v":0},{"$f":"'Sample Information'!B98","v":0},{"$f":"'Sample Information'!C98","v":"Bacteria culture"},{"$f":"'Sample Information'!$G$5","v":"00:00:00"}]
[98,{"$f":"'Sample Information'!$G$6","v":0},{"$f":"'Sample Information'!B99","v":0},{"$f":"'Sample Information'!C99","v":"Bacteria culture"},{"$f":"'Sample Information'!$G$5","v":"00:00:00"}]
[99,{"$f":"'Sample Information'!$G$6","v":0},{"$f":"'Sample Information'!B100","v":0},{"$f":"'Sample Information'!C100","v":"Bacteria culture"},{"$f":"'Sample Information'!$G$5","v":"00:00:00"}]
[100,{"$f":"'Sample Information'!$G$6","v":0},{"$f":"'Sample Information'!B101","v":0},{"$f":"'Sample Information'!C101","v":"Bacteria culture"},{"$f":"'Sample Information'!$G$5","v":"00:00:00"}]
[101,{"$f":"'Sample Information'!$G$6","v":0},{"$f":"'Sample Information'!B102","v":0},{"$f":"'Sample Information'!C102","v":"Bacteria culture"},{"$f":"'Sample Information'!$G$5","v":"00:00:00"}]
[102,{"$f":"'Sample Information'!$G$6","v":0},{"$f":"'Sample Information'!B103","v":0},{"$f":"'Sample Information'!C103","v":"Bacteria culture"},{"$f":"'Sample Information'!$G$5","v":"00:00:00"}]
[103,{"$f":"'Sample Information'!$G$6","v":0},{"$f":"'Sample Information'!B104","v":0},{"$f":"'Sample Information'!C104","v":"Bacteria culture"},{"$f":"'Sample Information'!$G$5","v":"00:00:00"}]
[104,{"$f":"'Sample Information'!$G$6","v":0},{"$f":"'Sample Information'!B105","v":0},{"$f":"'Sample Information'!C105","v":"Bacteria culture"},{"$f":"'Sample Information'!$G$5","v":"00:00:00"}]
[105,{"$f":"'Sample Information'!$G$6","v":0},{"$f":"'Sample Information'!B106","v":0},{"$f":"'Sample Information'!C106","v":"Bacteria culture"},{"$f":"'Sample Information'!$G$5","v":"00:00:00"}]
[106,{"$f":"'Sample Information'!$G$6","v":0},{"$f":"'Sample Information'!B107","v":0},{"$f":"'Sample Information'!C107","v":"Bacteria culture"},{"$f":"'Sample Information'!$G$5","v":"00:00:00"}]
[107,{"$f":"'Sample Information'!$G$6","v":0},{"$f":"'Sample Information'!B108","v":0},{"$f":"'Sample Information'!C108","v":"Bacteria culture"},{"$f":"'Sample Information'!$G$5","v":"00:00:00"}]
[108,{"$f":"'Sample Information'!$G$6","v":0},{"$f":"'Sample Information'!B109","v":0},{"$f":"'Sample Information'!C109","v":"Bacteria culture"},{"$f":"'Sample Information'!$G$5","v":"00:00:00"}]
[109,{"$f":"'Sample Information'!$G$6","v":0},{"$f":"'Sample Information'!B110","v":0},{"$f":"'Sample Information'!C110","v":"Bacteria culture"},{"$f":"'Sample Information'!$G$5","v":"00:00:00"}]
[110,{"$f":"'Sample Information'!$G$6","v":0},{"$f":"'Sample Information'!B111","v":0},{"$f":"'Sample Information'!C111","v":"Bacteria culture"},{"$f":"'Sample Information'!$G$5","v":"00:00:00"}]
[111,{"$f":"'Sample Information'!$G$6","v":0},{"$f":"'Sample Information'!B112","v":0},{"$f":"'Sample Information'!C112","v":"Bacteria culture"},{"$f":"'Sample Information'!$G$5","v":"00:00:00"}]
[112,{"$f":"'Sample Information'!$G$6","v":0},{"$f":"'Sample Information'!B113","v":0},{"$f":"'Sample Information'!C113","v":"Bacteria culture"},{"$f":"'Sample Information'!$G$5","v":"00:00:00"}]
[113,{"$f":"'Sample Information'!$G$6","v":0},{"$f":"'Sample Information'!B114","v":0},{"$f":"'Sample Information'!C114","v":"Bacteria culture"},{"$f":"'Sample Information'!$G$5","v":"00:00:00"}]
[114,{"$f":"'Sample Information'!$G$6","v":0},{"$f":"'Sample Information'!B115","v":0},{"$f":"'Sample Information'!C115","v":"Bacteria culture"},{"$f":"'Sample Information'!$G$5","v":"00:00:00"}]
[115,{"$f":"'Sample Information'!$G$6","v":0},{"$f":"'Sample Information'!B116","v":0},{"$f":"'Sample Information'!C116","v":"Bacteria culture"},{"$f":"'Sample Information'!$G$5","v":"00:00:00"}]
[116,{"$f":"'Sample Information'!$G$6","v":0},{"$f":"'Sample Information'!B117","v":0},{"$f":"'Sample Information'!C117","v":"Bacteria culture"},{"$f":"'Sample Information'!$G$5","v":"00:00:00"}]
[117,{"$f":"'Sample Information'!$G$6","v":0},{"$f":"'Sample Information'!B118","v":0},{"$f":"'Sample Information'!C118","v":"Bacteria culture"},{"$f":"'Sample Information'!$G$5","v":"00:00:00"}]
[118,{"$f":"'Sample Information'!$G$6","v":0},{"$f":"'Sample Information'!B119","v":0},{"$f":"'Sample Information'!C119","v":"Bacteria culture"},{"$f":"'Sample Information'!$G$5","v":"00:00:00"}]
[119,{"$f":"'Sample Information'!$G$6","v":0},{"$f":"'Sample Information'!B120","v":0},{"$f":"'Sample Information'!C120","v":"Bacteria culture"},{"$f":"'Sample Information'!$G$5","v":"00:00:00"}]
[120,{"$f":"'Sample Information'!$G$6","v":0},{"$f":"'Sample Information'!B121","v":0},{"$f":"'Sample Information'!C121","v":"Bacteria culture"},{"$f":"'Sample Information'!$G$5","v":"00:00:00"}]
[121,{"$f":"'Sample Information'!$G$6","v":0},{"$f":"'Sample Information'!B122","v":0},{"$f":"'Sample Information'!C122","v":"Bacteria culture"},{"$f":"'Sample Information'!$G$5","v":"00:00:00"}]
[122,{"$f":"'Sample Information'!$G$6","v":0},{"$f":"'Sample Information'!B123","v":0},{"$f":"'Sample Information'!C123","v":"Bacteria culture"},{"$f":"'Sample Information'!$G$5","v":"00:00:00"}]
[123,{"$f":"'Sample Information'!$G$6","v":0},{"$f":"'Sample Information'!B124","v":0},{"$f":"'Sample Information'!C124","v":"Bacteria culture"},{"$f":"'Sample Information'!$G$5","v":"00:00:00"}]
[124,{"$f":"'Sample Information'!$G$6","v":0},{"$f":"'Sample Information'!B125","v":0},{"$f":"'Sample Information'!C125","v":"Bacteria culture"},{"$f":"'Sample Information'!$G$5","v":"00:00:00"}]
[125,{"$f":"'Sample Information'!$G$6","v":0},{"$f":"'Sample Information'!B126","v":0},{"$f":"'Sample Information'!C126","v":"Bacteria culture"},{"$f":"'Sample Information'!$G$5","v":"00:00:00"}]
[126,{"$f":"'Sample Information'!$G$6","v":0},{"$f":"'Sample Information'!B127","v":0},{"$f":"'Sample Information'!C127","v":"Bacteria culture"},{"$f":"'Sample Information'!$G$5","v":"00:00:00"}]
[127,{"$f":"'Sample Information'!$G$6","v":0},{"$f":"'Sample Information'!B128","v":0},{"$f":"'Sample Information'!C128","v":"Bacteria culture"},{"$f":"'Sample Information'!$G$5","v":"00:00:00"}]
[128,{"$f":"'Sample Information'!$G$6","v":0},{"$f":"'Sample Information'!B129","v":0},{"$f":"'Sample Information'!C129","v":"Bacteria culture"},{"$f":"'Sample Information'!$G$5","v":"00:00:00"}]
[129,{"$f":"'Sample Information'!$G$6","v":0},{"$f":"'Sample Information'!B130","v":0},{"$f":"'Sample Information'!C130","v":"Bacteria culture"},{"$f":"'Sample Information'!$G$5","v":"00:00:00"}]
[130,{"$f":"'Sample Information'!$G$6","v":0},{"$f":"'Sample Information'!B131","v":0},{"$f":"'Sample Information'!C131","v":"Bacteria culture"},{"$f":"'Sample Information'!$G$5","v":"00:00:00"}]
[131,{"$f":"'Sample Information'!$G$6","v":0},{"$f":"'Sample Information'!B132","v":0},{"$f":"'Sample Information'!C132","v":"Bacteria culture"},{"$f":"'Sample Information'!$G$5","v":"00:00:00"}]
[132,{"$f":"'Sample Information'!$G$6","v":0},{"$f":"'Sample Information'!B133","v":0},{"$f":"'Sample Information'!C133","v":"Bacteria culture"},{"$f":"'Sample Information'!$G$5","v":"00:00:00"}]
[133,{"$f":"'Sample Information'!$G$6","v":0},{"$f":"'Sample Information'!B134","v":0},{"$f":"'Sample Information'!C134","v":"Bacteria culture"},{"$f":"'Sample Information'!$G$5","v":"00:00:00"}]
[134,{"$f":"'Sample Information'!$G$6","v":0},{"$f":"'Sample Information'!B135","v":0},{"$f":"'Sample Information'!C135","v":"Bacteria culture"},{"$f":"'Sample Information'!$G$5","v":"00:00:00"}]
[135,{"$f":"'Sample Information'!$G$6","v":0},{"$f":"'Sample Information'!B136","v":0},{"$f":"'Sample Information'!C136","v":"Bacteria culture"},{"$f":"'Sample Information'!$G$5","v":"00:00:00"}]
[136,{"$f":"'Sample Information'!$G$6","v":0},{"$f":"'Sample Information'!B137","v":0},{"$f":"'Sample Information'!C137","v":"Bacteria culture"},{"$f":"'Sample Information'!$G$5","v":"00:00:00"}]
[137,{"$f":"'Sample Information'!$G$6","v":0},{"$f":"'Sample Information'!B138","v":0},{"$f":"'Sample Information'!C138","v":"Bacteria culture"},{"$f":"'Sample Information'!$G$5","v":"00:00:00"}]
[138,{"$f":"'Sample Information'!$G$6","v":0},{"$f":"'Sample Information'!B139","v":0},{"$f":"'Sample Information'!C139","v":"Bacteria culture"},{"$f":"'Sample Information'!$G$5","v":"00:00:00"}]
[139,{"$f":"'Sample Information'!$G$6","v":0},{"$f":"'Sample Information'!B140","v":0},{"$f":"'Sample Information'!C140","v":"Bacteria culture"},{"$f":"'Sample Information'!$G$5","v":"00:00:00"}]
[140,{"$f":"'Sample Information'!$G$6","v":0},{"$f":"'Sample Information'!B141","v":0},{"$f":"'Sample Information'!C141","v":"Bacteria culture"},{"$f":"'Sample Information'!$G$5","v":"00:00:00"}]
[141,{"$f":"'Sample Information'!$G$6","v":0},{"$f":"'Sample Information'!B142","v":0},{"$f":"'Sample Information'!C142","v":"Bacteria culture"},{"$f":"'Sample Information'!$G$5","v":"00:00:00"}]
[142,{"$f":"'Sample Information'!$G$6","v":0},{"$f":"'Sample Information'!B143","v":0},{"$f":"'Sample Information'!C143","v":"Bacteria culture"},{"$f":"'Sample Information'!$G$5","v":"00:00:00"}]
[143,{"$f":"'Sample Information'!$G$6","v":0},{"$f":"'Sample Information'!B144","v":0},{"$f":"'Sample Information'!C144","v":"Bacteria culture"},{"$f":"'Sample Information'!$G$5","v":"00:00:00"}]
[144,{"$f":"'Sample Information'!$G$6","v":0},{"$f":"'Sample Information'!B145","v":0},{"$f":"'Sample Information'!C145","v":"Bacteria culture"},{"$f":"'Sample Information'!$G$5","v":"00:00:00"}]
[145,{"$f":"'Sample Information'!$G$6","v":0},{"$f":"'Sample Information'!B146","v":0},{"$f":"'Sample Information'!C146","v":"Bacteria culture"},{"$f":"'Sample Information'!$G$5","v":"00:00:00"}]
[146,{"$f":"'Sample Information'!$G$6","v":0},{"$f":"'Sample Information'!B147","v":0},{"$f":"'Sample Information'!C147","v":"Bacteria culture"},{"$f":"'Sample Information'!$G$5","v":"00:00:00"}]
[147,{"$f":"'Sample Information'!$G$6","v":0},{"$f":"'Sample Information'!B148","v":0},{"$f":"'Sample Information'!C148","v":"Bacteria culture"},{"$f":"'Sample Information'!$G$5","v":"00:00:00"}]
[148,{"$f":"'Sample Information'!$G$6","v":0},{"$f":"'Sample Information'!B149","v":0},{"$f":"'Sample Information'!C149","v":"Bacteria culture"},{"$f":"'Sample Information'!$G$5","v":"00:00:00"}]
[149,{"$f":"'Sample Information'!$G$6","v":0},{"$f":"'Sample Information'!B150","v":0},{"$f":"'Sample Information'!C150","v":"Bacteria culture"},{"$f":"'Sample Information'!$G$5","v":"00:00:00"}]
[150,{"$f":"'Sample Information'!$G$6","v":0},{"$f":"'Sample Information'!B151","v":0},{"$f":"'Sample Information'!C151","v":"Bacteria culture"},{"$f":"'Sample Information'!$G$5","v":"00:00:00"}]
[151,{"$f":"'Sample Information'!$G$6","v":0},{"$f":"'Sample Information'!B152","v":0},{"$f":"'Sample Information'!C152","v":"Bacteria culture"},{"$f":"'Sample Information'!$G$5","v":"00:00:00"}]
[152,{"$f":"'Sample Information'!$G$6","v":0},{"$f":"'Sample Information'!B153","v":0},{"$f":"'Sample Information'!C153","v":"Bacteria culture"},{"$f":"'Sample Information'!$G$5","v":"00:00:00"}]
[153,{"$f":"'Sample Information'!$G$6","v":0},{"$f":"'Sample Information'!B154","v":0},{"$f":"'Sample Information'!C154","v":"Bacteria culture"},{"$f":"'Sample Information'!$G$5","v":"00:00:00"}]
[154,{"$f":"'Sample Information'!$G$6","v":0},{"$f":"'Sample Information'!B155","v":0},{"$f":"'Sample Information'!C155","v":"Bacteria culture"},{"$f":"'Sample Information'!$G$5","v":"00:00:00"}]
[155,{"$f":"'Sample Information'!$G$6","v":0},{"$f":"'Sample Information'!B156","v":0},{"$f":"'Sample Information'!C156","v":"Bacteria culture"},{"$f":"'Sample Information'!$G$5","v":"00:00:00"}]
[156,{"$f":"'Sample Information'!$G$6","v":0},{"$f":"'Sample Information'!B157","v":0},{"$f":"'Sample Information'!C157","v":"Bacteria culture"},{"$f":"'Sample Information'!$G$5","v":"00:00:00"}]
[157,{"$f":"'Sample Information'!$G$6","v":0},{"$f":"'Sample Information'!B158","v":0},{"$f":"'Sample Information'!C158","v":"Bacteria culture"},{"$f":"'Sample Information'!$G$5","v":"00:00:00"}]
[158,{"$f":"'Sample Information'!$G$6","v":0},{"$f":"'Sample Information'!B159","v":0},{"$f":"'Sample Information'!C159","v":"Bacteria culture"},{"$f":"'Sample Information'!$G$5","v":"00:00:00"}]
[159,{"$f":"'Sample Information'!$G$6","v":0},{"$f":"'Sample Information'!B160","v":0},{"$f":"'Sample Information'!C160","v":"Bacteria culture"},{"$f":"'Sample Information'!$G$5","v":"00:00:00"}]
[160,{"$f":"'Sample Information'!$G$6","v":0},{"$f":"'Sample Information'!B161","v":0},{"$f":"'Sample Information'!C161","v":"Bacteria culture"},{"$f":"'Sample Information'!$G$5","v":"00:00:00"}]
[161,{"$f":"'Sample Information'!$G$6","v":0},{"$f":"'Sample Information'!B162","v":0},{"$f":"'Sample Information'!C162","v":"Bacteria culture"},{"$f":"'Sample Information'!$G$5","v":"00:00:00"}]
[162,{"$f":"'Sample Information'!$G$6","v":0},{"$f":"'Sample Information'!B163","v":0},{"$f":"'Sample Information'!C163","v":"Bacteria culture"},{"$f":"'Sample Information'!$G$5","v":"00:00:00"}]
[163,{"$f":"'Sample Information'!$G$6","v":0},{"$f":"'Sample Information'!B164","v":0},{"$f":"'Sample Information'!C164","v":"Bacteria culture"},{"$f":"'Sample Information'!$G$5","v":"00:00:00"}]
[164,{"$f":"'Sample Information'!$G$6","v":0},{"$f":"'Sample Information'!B165","v":0},{"$f":"'Sample Information'!C165","v":"Bacteria culture"},{"$f":"'Sample Information'!$G$5","v":"00:00:00"}]
[165,{"$f":"'Sample Information'!$G$6","v":0},{"$f":"'Sample Information'!B166","v":0},{"$f":"'Sample Information'!C166","v":"Bacteria culture"},{"$f":"'Sample Information'!$G$5","v":"00:00:00"}]
[166,{"$f":"'Sample Information'!$G$6","v":0},{"$f":"'Sample Information'!B167","v":0},{"$f":"'Sample Information'!C167","v":"Bacteria culture"},{"$f":"'Sample Information'!$G$5","v":"00:00:00"}]
[167,{"$f":"'Sample Information'!$G$6","v":0},{"$f":"'Sample Information'!B168","v":0},{"$f":"'Sample Information'!C168","v":"Bacteria culture"},{"$f":"'Sample Information'!$G$5","v":"00:00:00"}]
[168,{"$f":"'Sample Information'!$G$6","v":0},{"$f":"'Sample Information'!B169","v":0},{"$f":"'Sample Information'!C169","v":"Bacteria culture"},{"$f":"'Sample Information'!$G$5","v":"00:00:00"}]
[169,{"$f":"'Sample Information'!$G$6","v":0},{"$f":"'Sample Information'!B170","v":0},{"$f":"'Sample Information'!C170","v":"Bacteria culture"},{"$f":"'Sample Information'!$G$5","v":"00:00:00"}]
[170,{"$f":"'Sample Information'!$G$6","v":0},{"$f":"'Sample Information'!B171","v":0},{"$f":"'Sample Information'!C171","v":"Bacteria culture"},{"$f":"'Sample Information'!$G$5","v":"00:00:00"}]
[171,{"$f":"'Sample Information'!$G$6","v":0},{"$f":"'Sample Information'!B172","v":0},{"$f":"'Sample Information'!C172","v":"Bacteria culture"},{"$f":"'Sample Information'!$G$5","v":"00:00:00"}]
[172,{"$f":"'Sample Information'!$G$6","v":0},{"$f":"'Sample Information'!B173","v":0},{"$f":"'Sample Information'!C173","v":"Bacteria culture"},{"$f":"'Sample Information'!$G$5","v":"00:00:00"}]
[173,{"$f":"'Sample Information'!$G$6","v":0},{"$f":"'Sample Information'!B174","v":0},{"$f":"'Sample Information'!C174","v":"Bacteria culture"},{"$f":"'Sample Information'!$G$5","v":"00:00:00"}]
[174,{"$f":"'Sample Information'!$G$6","v":0},{"$f":"'Sample Information'!B175","v":0},{"$f":"'Sample Information'!C175","v":"Bacteria culture"},{"$f":"'Sample Information'!$G$5","v":"00:00:00"}]
[175,{"$f":"'Sample Information'!$G$6","v":0},{"$f":"'Sample Information'!B176","v":0},{"$f":"'Sample Information'!C176","v":"Bacteria culture"},{"$f":"'Sample Information'!$G$5","v":"00:00:00"}]
[176,{"$f":"'Sample Information'!$G$6","v":0},{"$f":"'Sample Information'!B177","v":0},{"$f":"'Sample Information'!C177","v":"Bacteria culture"},{"$f":"'Sample Information'!$G$5","v":"00:00:00"}]
[177,{"$f":"'Sample Information'!$G$6","v":0},{"$f":"'Sample Information'!B178","v":0},{"$f":"'Sample Information'!C178","v":"Bacteria culture"},{"$f":"'Sample Information'!$G$5","v":"00:00:00"}]
[178,{"$f":"'Sample Information'!$G$6","v":0},{"$f":"'Sample Information'!B179","v":0},{"$f":"'Sample Information'!C179","v":"Bacteria culture"},{"$f":"'Sample Information'!$G$5","v":"00:00:00"}]
[179,{"$f":"'Sample Information'!$G$6","v":0},{"$f":"'Sample Information'!B180","v":0},{"$f":"'Sample Information'!C180","v":"Bacteria culture"},{"$f":"'Sample Information'!$G$5","v":"00:00:00"}]
[180,{"$f":"'Sample Information'!$G$6","v":0},{"$f":"'Sample Information'!B181","v":0},{"$f":"'Sample Information'!C181","v":"Bacteria culture"},{"$f":"'Sample Information'!$G$5","v":"00:00:00"}]
[181,{"$f":"'Sample Information'!$G$6","v":0},{"$f":"'Sample Information'!B182","v":0},{"$f":"'Sample Information'!C182","v":"Bacteria culture"},{"$f":"'Sample Information'!$G$5","v":"00:00:00"}]
[182,{"$f":"'Sample Information'!$G$6","v":0},{"$f":"'Sample Information'!B183","v":0},{"$f":"'Sample Information'!C183","v":"Bacteria culture"},{"$f":"'Sample Information'!$G$5","v":"00:00:00"}]
[183,{"$f":"'Sample Information'!$G$6","v":0},{"$f":"'Sample Information'!B184","v":0},{"$f":"'Sample Information'!C184","v":"Bacteria culture"},{"$f":"'Sample Information'!$G$5","v":"00:00:00"}]
[184,{"$f":"'Sample Information'!$G$6","v":0},{"$f":"'Sample Information'!B185","v":0},{"$f":"'Sample Information'!C185","v":"Bacteria culture"},{"$f":"'Sample Information'!$G$5","v":"00:00:00"}]
[185,{"$f":"'Sample Information'!$G$6","v":0},{"$f":"'Sample Information'!B186","v":0},{"$f":"'Sample Information'!C186","v":"Bacteria culture"},{"$f":"'Sample Information'!$G$5","v":"00:00:00"}]
[186,{"$f":"'Sample Information'!$G$6","v":0},{"$f":"'Sample Information'!B187","v":0},{"$f":"'Sample Information'!C187","v":"Bacteria culture"},{"$f":"'Sample Information'!$G$5","v":"00:00:00"}]
[187,{"$f":"'Sample Information'!$G$6","v":0},{"$f":"'Sample Information'!B188","v":0},{"$f":"'Sample Information'!C188","v":"Bacteria culture"},{"$f":"'Sample Information'!$G$5","v":"00:00:00"}]
[188,{"$f":"'Sample Information'!$G$6","v":0},{"$f":"'Sample Information'!B189","v":0},{"$f":"'Sample Information'!C189","v":"Bacteria culture"},{"$f":"'Sample Information'!$G$5","v":"00:00:00"}]
[189,{"$f":"'Sample Information'!$G$6","v":0},{"$f":"'Sample Information'!B190","v":0},{"$f":"'Sample Information'!C190","v":"Bacteria culture"},{"$f":"'Sample Information'!$G$5","v":"00:00:00"}]
[190,{"$f":"'Sample Information'!$G$6","v":0},{"$f":"'Sample Information'!B191","v":0},{"$f":"'Sample Information'!C191","v":"Bacteria culture"},{"$f":"'Sample Information'!$G$5","v":"00:00:00"}]
[191,{"$f":"'Sample Information'!$G$6","v":0},{"$f":"'Sample Information'!B192","v":0},{"$f":"'Sample Information'!C192","v":"Bacteria culture"},{"$f":"'Sample Information'!$G$5","v":"00:00:00"}]
[192,{"$f":"'Sample Information'!$G$6","v":0},{"$f":"'Sample Information'!B193","v":0},{"$f":"'Sample Information'!C193","v":"Bacteria culture"},{"$f":"'Sample Information'!$G$5","v":"00:00:00"}]
[193,{"$f":"'Sample Information'!$G$6","v":0},{"$f":"'Sample Information'!B194","v":0},{"$f":"'Sample Information'!C194","v":"Bacteria culture"},{"$f":"'Sample Information'!$G$5","v":"00:00:00"}]
[194,{"$f":"'Sample Information'!$G$6","v":0},{"$f":"'Sample Information'!B195","v":0},{"$f":"'Sample Information'!C195","v":"Bacteria culture"},{"$f":"'Sample Information'!$G$5","v":"00:00:00"}]
[195,{"$f":"'Sample Information'!$G$6","v":0},{"$f":"'Sample Information'!B196","v":0},{"$f":"'Sample Information'!C196","v":"Bacteria culture"},{"$f":"'Sample Information'!$G$5","v":"00:00:00"}]
[196,{"$f":"'Sample Information'!$G$6","v":0},{"$f":"'Sample Information'!B197","v":0},{"$f":"'Sample Information'!C197","v":"Bacteria culture"},{"$f":"'Sample Information'!$G$5","v":"00:00:00"}]
[197,{"$f":"'Sample Information'!$G$6","v":0},{"$f":"'Sample Information'!B198","v":0},{"$f":"'Sample Information'!C198","v":"Bacteria culture"},{"$f":"'Sample Information'!$G$5","v":"00:00:00"}]
[198,{"$f":"'Sample Information'!$G$6","v":0},{"$f":"'Sample Information'!B199","v":0},{"$f":"'Sample Information'!C199","v":"Bacteria culture"},{"$f":"'Sample Information'!$G$5","v":"00:00:00"}]
[199,{"$f":"'Sample Information'!$G$6","v":0},{"$f":"'Sample Information'!B200","v":0},{"$f":"'Sample Information'!C200","v":"Bacteria culture"},{"$f":"'Sample Information'!$G$5","v":"00:00:00"}]
[200,{"$f":"'Sample Information'!$G$6","v":0},{"$f":"'Sample Information'!B201","v":0},{"$f":"'Sample Information'!C201","v":"Bacteria culture"},{"$f":"'Sample Information'!$G$5","v":"00:00:00"}]
[201,{"$f":"'Sample Information'!$G$6","v":0},{"$f":"'Sample Information'!B202","v":0},{"$f":"'Sample Information'!C202","v":"Bacteria culture"},{"$f":"'Sample Information'!$G$5","v":"00:00:00"}]
[202,{"$f":"'Sample Information'!$G$6","v":0},{"$f":"'Sample Information'!B203","v":0},{"$f":"'Sample Information'!C203","v":"Bacteria culture"},{"$f":"'Sample Information'!$G$5","v":"00:00:00"}]
[203,{"$f":"'Sample Information'!$G$6","v":0},{"$f":"'Sample Information'!B204","v":0},{"$f":"'Sample Information'!C204","v":"Bacteria culture"},{"$f":"'Sample Information'!$G$5","v":"00:00:00"}]
[204,{"$f":"'Sample Information'!$G$6","v":0},{"$f":"'Sample Information'!B205","v":0},{"$f":"'Sample Information'!C205","v":"Bacteria culture"},{"$f":"'Sample Information'!$G$5","v":"00:00:00"}]
[205,{"$f":"'Sample Information'!$G$6","v":0},{"$f":"'Sample Information'!B206","v":0},{"$f":"'Sample Information'!C206","v":"Bacteria culture"},{"$f":"'Sample Information'!$G$5","v":"00:00:00"}]
[206,{"$f":"'Sample Information'!$G$6","v":0},{"$f":"'Sample Information'!B207","v":0},{"$f":"'Sample Information'!C207","v":"Bacteria culture"},{"$f":"'Sample Information'!$G$5","v":"00:00:00"}]
[207,{"$f":"'Sample Information'!$G$6","v":0},{"$f":"'Sample Information'!B208","v":0},{"$f":"'Sample Information'!C208","v":"Bacteria culture"},{"$f":"'Sample Information'!$G$5","v":"00:00:00"}]
[208,{"$f":"'Sample Information'!$G$6","v":0},{"$f":"'Sample Information'!B209","v":0},{"$f":"'Sample Information'!C209","v":"Bacteria culture"},{"$f":"'Sample Information'!$G$5","v":"00:00:00"}]
[209,{"$f":"'Sample Information'!$G$6","v":0},{"$f":"'Sample Information'!B210","v":0},{"$f":"'Sample Information'!C210","v":"Bacteria culture"},{"$f":"'Sample Information'!$G$5","v":"00:00:00"}]
[210,{"$f":"'Sample Information'!$G$6","v":0},{"$f":"'Sample Information'!B211","v":0},{"$f":"'Sample Information'!C211","v":"Bacteria culture"},{"$f":"'Sample Information'!$G$5","v":"00:00:00"}]
[211,{"$f":"'Sample Information'!$G$6","v":0},{"$f":"'Sample Information'!B212","v":0},{"$f":"'Sample Information'!C212","v":"Bacteria culture"},{"$f":"'Sample Information'!$G$5","v":"00:00:00"}]
[212,{"$f":"'Sample Information'!$G$6","v":0},{"$f":"'Sample Information'!B213","v":0},{"$f":"'Sample Information'!C213","v":"Bacteria culture"},{"$f":"'Sample Information'!$G$5","v":"00:00:00"}]
[213,{"$f":"'Sample Information'!$G$6","v":0},{"$f":"'Sample Information'!B214","v":0},{"$f":"'Sample Information'!C214","v":"Bacteria culture"},{"$f":"'Sample Information'!$G$5","v":"00:00:00"}]
[214,{"$f":"'Sample Information'!$G$6","v":0},{"$f":"'Sample Information'!B215","v":0},{"$f":"'Sample Information'!C215","v":"Bacteria culture"},{"$f":"'Sample Information'!$G$5","v":"00:00:00"}]
[215,{"$f":"'Sample Information'!$G$6","v":0},{"$f":"'Sample Information'!B216","v":0},{"$f":"'Sample Information'!C216","v":"Bacteria culture"},{"$f":"'Sample Information'!$G$5","v":"00:00:00"}]
[216,{"$f":"'Sample Information'!$G$6","v":0},{"$f":"'Sample Information'!B217","v":0},{"$f":"'Sample Information'!C217","v":"Bacteria culture"},{"$f":"'Sample Information'!$G$5","v":"00:00:00"}]
[217,{"$f":"'Sample Information'!$G$6","v":0},{"$f":"'Sample Information'!B218","v":0},{"$f":"'Sample Information'!C218","v":"Bacteria culture"},{"$f":"'Sample Information'!$G$5","v":"00:00:00"}]
[218,{"$f":"'Sample Information'!$G$6","v":0},{"$f":"'Sample Information'!B219","v":0},{"$f":"'Sample Information'!C219","v":"Bacteria culture"},{"$f":"'Sample Information'!$G$5","v":"00:00:00"}]
[219,{"$f":"'Sample Information'!$G$6","v":0},{"$f":"'Sample Information'!B220","v":0},{"$f":"'Sample Information'!C220","v":"Bacteria culture"},{"$f":"'Sample Information'!$G$5","v":"00:00:00"}]
[220,{"$f":"'Sample Information'!$G$6","v":0},{"$f":"'Sample Information'!B221","v":0},{"$f":"'Sample Information'!C221","v":"Bacteria culture"},{"$f":"'Sample Information'!$G$5","v":"00:00:00"}]
[221,{"$f":"'Sample Information'!$G$6","v":0},{"$f":"'Sample Information'!B222","v":0},{"$f":"'Sample Information'!C222","v":"Bacteria culture"},{"$f":"'Sample Information'!$G$5","v":"00:00:00"}]
[222,{"$f":"'Sample Information'!$G$6","v":0},{"$f":"'Sample Information'!B223","v":0},{"$f":"'Sample Information'!C223","v":"Bacteria culture"},{"$f":"'Sample Information'!$G$5","v":"00:00:00"}]
[223,{"$f":"'Sample Information'!$G$6","v":0},{"$f":"'Sample Information'!B224","v":0},{"$f":"'Sample Information'!C224","v":"Bacteria culture"},{"$f":"'Sample Information'!$G$5","v":"00:00:00"}]
[224,{"$f":"'Sample Information'!$G$6","v":0},{"$f":"'Sample Information'!B225","v":0},{"$f":"'Sample Information'!C225","v":"Bacteria culture"},{"$f":"'Sample Information'!$G$5","v":"00:00:00"}]
[225,{"$f":"'Sample Information'!$G$6","v":0},{"$f":"'Sample Information'!B226","v":0},{"$f":"'Sample Information'!C226","v":"Bacteria culture"},{"$f":"'Sample Information'!$G$5","v":"00:00:00"}]
[226,{"$f":"'Sample Information'!$G$6","v":0},{"$f":"'Sample Information'!B227","v":0},{"$f":"'Sample Information'!C227","v":"Bacteria culture"},{"$f":"'Sample Information'!$G$5","v":"00:00:00"}]
[227,{"$f":"'Sample Information'!$G$6","v":0},{"$f":"'Sample Information'!B228","v":0},{"$f":"'Sample Information'!C228","v":"Bacteria culture"},{"$f":"'Sample Information'!$G$5","v":"00:00:00"}]
[228,{"$f":"'Sample Information'!$G$6","v":0},{"$f":"'Sample Information'!B229","v":0},{"$f":"'Sample Information'!C229","v":"Bacteria culture"},{"$f":"'Sample Information'!$G$5","v":"00:00:00"}]
[229,{"$f":"'Sample Information'!$G$6","v":0},{"$f":"'Sample Information'!B230","v":0},{"$f":"'Sample Information'!C230","v":"Bacteria culture"},{"$f":"'Sample Information'!$G$5","v":"00:00:00"}]
[230,{"$f":"'Sample Information'!$G$6","v":0},{"$f":"'Sample Information'!B231","v":0},{"$f":"'Sample Information'!C231","v":"Bacteria culture"},{"$f":"'Sample Information'!$G$5","v":"00:00:00"}]
[231,{"$f":"'Sample Information'!$G$6","v":0},{"$f":"'Sample Information'!B232","v":0},{"$f":"'Sample Information'!C232","v":"Bacteria culture"},{"$f":"'Sample Information'!$G$5","v":"00:00:00"}]
[232,{"$f":"'Sample Information'!$G$6","v":0},{"$f":"'Sample Information'!B233","v":0},{"$f":"'Sample Information'!C233","v":"Bacteria culture"},{"$f":"'Sample Information'!$G$5","v":"00:00:00"}]
[233,{"$f":"'Sample Information'!$G$6","v":0},{"$f":"'Sample Information'!B234","v":0},{"$f":"'Sample Information'!C234","v":"Bacteria culture"},{"$f":"'Sample Information'!$G$5","v":"00:00:00"}]
[234,{"$f":"'Sample Information'!$G$6","v":0},{"$f":"'Sample Information'!B235","v":0},{"$f":"'Sample Information'!C235","v":"Bacteria culture"},{"$f":"'Sample Information'!$G$5","v":"00:00:00"}]
[235,{"$f":"'Sample Information'!$G$6","v":0},{"$f":"'Sample Information'!B236","v":0},{"$f":"'Sample Information'!C236","v":"Bacteria culture"},{"$f":"'Sample Information'!$G$5","v":"00:00:00"}]
[236,{"$f":"'Sample Information'!$G$6","v":0},{"$f":"'Sample Information'!B237","v":0},{"$f":"'Sample Information'!C237","v":"Bacteria culture"},{"$f":"'Sample Information'!$G$5","v":"00:00:00"}]
[237,{"$f":"'Sample Information'!$G$6","v":0},{"$f":"'Sample Information'!B238","v":0},{"$f":"'Sample Information'!C238","v":"Bacteria culture"},{"$f":"'Sample Information'!$G$5","v":"00:00:00"}]
[238,{"$f":"'Sample Information'!$G$6","v":0},{"$f":"'Sample Information'!B239","v":0},{"$f":"'Sample Information'!C239","v":"Bacteria culture"},{"$f":"'Sample Information'!$G$5","v":"00:00:00"}]
[239,{"$f":"'Sample Information'!$G$6","v":0},{"$f":"'Sample Information'!B240","v":0},{"$f":"'Sample Information'!C240","v":"Bacteria culture"},{"$f":"'Sample Information'!$G$5","v":"00:00:00"}]
[240,{"$f":"'Sample Information'!$G$6","v":0},{"$f":"'Sample Information'!B241","v":0},{"$f":"'Sample Information'!C241","v":"Bacteria culture"},{"$f":"'Sample Information'!$G$5","v":"00:00:00"}]
[241,{"$f":"'Sample Information'!$G$6","v":0},{"$f":"'Sample Information'!B242","v":0},{"$f":"'Sample Information'!C242","v":"Bacteria culture"},{"$f":"'Sample Information'!$G$5","v":"00:00:00"}]
[242,{"$f":"'Sample Information'!$G$6","v":0},{"$f":"'Sample Information'!B243","v":0},{"$f":"'Sample Information'!C243","v":"Bacteria culture"},{"$f":"'Sample Information'!$G$5","v":"00:00:00"}]
[243,{"$f":"'Sample Information'!$G$6","v":0},{"$f":"'Sample Information'!B244","v":0},{"$f":"'Sample Information'!C244","v":"Bacteria culture"},{"$f":"'Sample Information'!$G$5","v":"00:00:00"}]
[244,{"$f":"'Sample Information'!$G$6","v":0},{"$f":"'Sample Information'!B245","v":0},{"$f":"'Sample Information'!C245","v":"Bacteria culture"},{"$f":"'Sample Information'!$G$5","v":"00:00:00"}]
[245,{"$f":"'Sample Information'!$G$6","v":0},{"$f":"'Sample Information'!B246","v":0},{"$f":"'Sample Information'!C246","v":"Bacteria culture"},{"$f":"'Sample Information'!$G$5","v":"00:00:00"}]
[246,{"$f":"'Sample Information'!$G$6","v":0},{"$f":"'Sample Information'!B247","v":0},{"$f":"'Sample Information'!C247","v":"Bacteria culture"},{"$f":"'Sample Information'!$G$5","v":"00:00:00"}]
[247,{"$f":"'Sample Information'!$G$6","v":0},{"$f":"'Sample Information'!B248","v":0},{"$f":"'Sample Information'!C248","v":"Bacteria culture"},{"$f":"'Sample Information'!$G$5","v":"00:00:00"}]
[248,{"$f":"'Sample Information'!$G$6","v":0},{"$f":"'Sample Information'!B249","v":0},{"$f":"'Sample Information'!C249","v":"Bacteria culture"},{"$f":"'Sample Information'!$G$5","v":"00:00:00"}]
[249,{"$f":"'Sample Information'!$G$6","v":0},{"$f":"'Sample Information'!B250","v":0},{"$f":"'Sample Information'!C250","v":"Bacteria culture"},{"$f":"'Sample Information'!$G$5","v":"00:00:00"}]
[250,{"$f":"'Sample Information'!$G$6","v":0},{"$f":"'Sample Information'!B251","v":0},{"$f":"'Sample Information'!C251","v":"Bacteria culture"},{"$f":"'Sample Information'!$G$5","v":"00:00:00"}]
[251,{"$f":"'Sample Information'!$G$6","v":0},{"$f":"'Sample Information'!B252","v":0},{"$f":"'Sample Information'!C252","v":"Bacteria culture"},{"$f":"'Sample Information'!$G$5","v":"00:00:00"}]
[252,{"$f":"'Sample Information'!$G$6","v":0},{"$f":"'Sample Information'!B253","v":0},{"$f":"'Sample Information'!C253","v":"Bacteria culture"},{"$f":"'Sample Information'!$G$5","v":"00:00:00"}]
[253,{"$f":"'Sample Information'!$G$6","v":0},{"$f":"'Sample Information'!B254","v":0},{"$f":"'Sample Information'!C254","v":"Bacteria culture"},{"$f":"'Sample Information'!$G$5","v":"00:00:00"}]
[254,{"$f":"'Sample Information'!$G$6","v":0},{"$f":"'Sample Information'!B255","v":0},{"$f":"'Sample Information'!C255","v":"Bacteria culture"},{"$f":"'Sample Information'!$G$5","v":"00:00:00"}]
[255,{"$f":"'Sample Information'!$G$6","v":0},{"$f":"'Sample Information'!B256","v":0},{"$f":"'Sample Information'!C256","v":"Bacteria culture"},{"$f":"'Sample Information'!$G$5","v":"00:00:00"}]
[256,{"$f":"'Sample Information'!$G$6","v":0},{"$f":"'Sample Information'!B257","v":0},{"$f":"'Sample Information'!C257","v":"Bacteria culture"},{"$f":"'Sample Information'!$G$5","v":"00:00:00"}]
[257,{"$f":"'Sample Information'!$G$6","v":0},{"$f":"'Sample Information'!B258","v":0},{"$f":"'Sample Information'!C258","v":"Bacteria culture"},{"$f":"'Sample Information'!$G$5","v":"00:00:00"}]
[258,{"$f":"'Sample Information'!$G$6","v":0},{"$f":"'Sample Information'!B259","v":0},{"$f":"'Sample Information'!C259","v":"Bacteria culture"},{"$f":"'Sample Information'!$G$5","v":"00:00:00"}]
[259,{"$f":"'Sample Information'!$G$6","v":0},{"$f":"'Sample Information'!B260","v":0},{"$f":"'Sample Information'!C260","v":"Bacteria culture"},{"$f":"'Sample Information'!$G$5","v":"00:00:00"}]
[260,{"$f":"'Sample Information'!$G$6","v":0},{"$f":"'Sample Information'!B261","v":0},{"$f":"'Sample Information'!C261","v":"Bacteria culture"},{"$f":"'Sample Information'!$G$5","v":"00:00:00"}]
[261,{"$f":"'Sample Information'!$G$6","v":0},{"$f":"'Sample Information'!B262","v":0},{"$f":"'Sample Information'!C262","v":"Bacteria culture"},{"$f":"'Sample Information'!$G$5","v":"00:00:00"}]
[262,{"$f":"'Sample Information'!$G$6","v":0},{"$f":"'Sample Information'!B263","v":0},{"$f":"'Sample Information'!C263","v":"Bacteria culture"},{"$f":"'Sample Information'!$G$5","v":"00:00:00"}]
[263,{"$f":"'Sample Information'!$G$6","v":0},{"$f":"'Sample Information'!B264","v":0},{"$f":"'Sample Information'!C264","v":"Bacteria culture"},{"$f":"'Sample Information'!$G$5","v":"00:00:00"}]
[264,{"$f":"'Sample Information'!$G$6","v":0},{"$f":"'Sample Information'!B265","v":0},{"$f":"'Sample Information'!C265","v":"Bacteria culture"},{"$f":"'Sample Information'!$G$5","v":"00:00:00"}]
[265,{"$f":"'Sample Information'!$G$6","v":0},{"$f":"'Sample Information'!B266","v":0},{"$f":"'Sample Information'!C266","v":"Bacteria culture"},{"$f":"'Sample Information'!$G$5","v":"00:00:00"}]
[266,{"$f":"'Sample Information'!$G$6","v":0},{"$f":"'Sample Information'!B267","v":0},{"$f":"'Sample Information'!C267","v":"Bacteria culture"},{"$f":"'Sample Information'!$G$5","v":"00:00:00"}]
[267,{"$f":"'Sample Information'!$G$6","v":0},{"$f":"'Sample Information'!B268","v":0},{"$f":"'Sample Information'!C268","v":"Bacteria culture"},{"$f":"'Sample Information'!$G$5","v":"00:00:00"}]
[268,{"$f":"'Sample Information'!$G$6","v":0},{"$f":"'Sample Information'!B269","v":0},{"$f":"'Sample Information'!C269","v":"Bacteria culture"},{"$f":"'Sample Information'!$G$5","v":"00:00:00"}]
[269,{"$f":"'Sample Information'!$G$6","v":0},{"$f":"'Sample Information'!B270","v":0},{"$f":"'Sample Information'!C270","v":"Bacteria culture"},{"$f":"'Sample Information'!$G$5","v":"00:00:00"}]
[270,{"$f":"'Sample Information'!$G$6","v":0},{"$f":"'Sample Information'!B271","v":0},{"$f":"'Sample Information'!C271","v":"Bacteria culture"},{"$f":"'Sample Information'!$G$5","v":"00:00:00"}]
[271,{"$f":"'Sample Information'!$G$6","v":0},{"$f":"'Sample Information'!B272","v":0},{"$f":"'Sample Information'!C272","v":"Bacteria culture"},{"$f":"'Sample Information'!$G$5","v":"00:00:00"}]
[272,{"$f":"'Sample Information'!$G$6","v":0},{"$f":"'Sample Information'!B273","v":0},{"$f":"'Sample Information'!C273","v":"Bacteria culture"},{"$f":"'Sample Information'!$G$5","v":"00:00:00"}]
[273,{"$f":"'Sample Information'!$G$6","v":0},{"$f":"'Sample Information'!B274","v":0},{"$f":"'Sample Information'!C274","v":"Bacteria culture"},{"$f":"'Sample Information'!$G$5","v":"00:00:00"}]
[274,{"$f":"'Sample Information'!$G$6","v":0},{"$f":"'Sample Information'!B275","v":0},{"$f":"'Sample Information'!C275","v":"Bacteria culture"},{"$f":"'Sample Information'!$G$5","v":"00:00:00"}]
[275,{"$f":"'Sample Information'!$G$6","v":0},{"$f":"'Sample Information'!B276","v":0},{"$f":"'Sample Information'!C276","v":"Bacteria culture"},{"$f":"'Sample Information'!$G$5","v":"00:00:00"}]
[276,{"$f":"'Sample Information'!$G$6","v":0},{"$f":"'Sample Information'!B277","v":0},{"$f":"'Sample Information'!C277","v":"Bacteria culture"},{"$f":"'Sample Information'!$G$5","v":"00:00:00"}]
[277,{"$f":"'Sample Information'!$G$6","v":0},{"$f":"'Sample Information'!B278","v":0},{"$f":"'Sample Information'!C278","v":"Bacteria culture"},{"$f":"'Sample Information'!$G$5","v":"00:00:00"}]
[278,{"$f":"'Sample Information'!$G$6","v":0},{"$f":"'Sample Information'!B279","v":0},{"$f":"'Sample Information'!C279","v":"Bacteria culture"},{"$f":"'Sample Information'!$G$5","v":"00:00:00"}]
[279,{"$f":"'Sample Information'!$G$6","v":0},{"$f":"'Sample Information'!B280","v":0},{"$f":"'Sample Information'!C280","v":"Bacteria culture"},{"$f":"'Sample Information'!$G$5","v":"00:00:00"}]
[280,{"$f":"'Sample Information'!$G$6","v":0},{"$f":"'Sample Information'!B281","v":0},{"$f":"'Sample Information'!C281","v":"Bacteria culture"},{"$f":"'Sample Information'!$G$5","v":"00:00:00"}]
[281,{"$f":"'Sample Information'!$G$6","v":0},{"$f":"'Sample Information'!B282","v":0},{"$f":"'Sample Information'!C282","v":"Bacteria culture"},{"$f":"'Sample Information'!$G$5","v":"00:00:00"}]
[282,{"$f":"'Sample Information'!$G$6","v":0},{"$f":"'Sample Information'!B283","v":0},{"$f":"'Sample Information'!C283","v":"Bacteria culture"},{"$f":"'Sample Information'!$G$5","v":"00:00:00"}]
[283,{"$f":"'Sample Information'!$G$6","v":0},{"$f":"'Sample Information'!B284","v":0},{"$f":"'Sample Information'!C284","v":"Bacteria culture"},{"$f":"'Sample Information'!$G$5","v":"00:00:00"}]
[284,{"$f":"'Sample Information'!$G$6","v":0},{"$f":"'Sample Information'!B285","v":0},{"$f":"'Sample Information'!C285","v":"Bacteria culture"},{"$f":"'Sample Information'!$G$5","v":"00:00:00"}]
[285,{"$f":"'Sample Information'!$G$6","v":0},{"$f":"'Sample Information'!B286","v":0},{"$f":"'Sample Information'!C286","v":"Bacteria culture"},{"$f":"'Sample Information'!$G$5","v":"00:00:00"}]
[286,{"$f":"'Sample Information'!$G$6","v":0},{"$f":"'Sample Information'!B287","v":0},{"$f":"'Sample Information'!C287","v":"Bacteria culture"},{"$f":"'Sample Information'!$G$5","v":"00:00:00"}]
[287,{"$f":"'Sample Information'!$G$6","v":0},{"$f":"'Sample Information'!B288","v":0},{"$f":"'Sample Information'!C288","v":"Bacteria culture"},{"$f":"'Sample Information'!$G$5","v":"00:00:00"}]
[288,{"$f":"'Sample Information'!$G$6","v":0},{"$f":"'Sample Information'!B289","v":0},{"$f":"'Sample Information'!C289","v":"Bacteria culture"},{"$f":"'Sample Information'!$G$5","v":"00:00:00"}]
[289,{"$f":"'Sample Information'!$G$6","v":0},{"$f":"'Sample Information'!B290","v":0},{"$f":"'Sample Information'!C290","v":"Bacteria culture"},{"$f":"'Sample Information'!$G$5","v":"00:00:00"}]
[290,{"$f":"'Sample Information'!$G$6","v":0},{"$f":"'Sample Information'!B291","v":0},{"$f":"'Sample Information'!C291","v":"Bacteria culture"},{"$f":"'Sample Information'!$G$5","v":"00:00:00"}]
[291,{"$f":"'Sample Information'!$G$6","v":0},{"$f":"'Sample Information'!B292","v":0},{"$f":"'Sample Information'!C292","v":"Bacteria culture"},{"$f":"'Sample Information'!$G$5","v":"00:00:00"}]
[292,{"$f":"'Sample Information'!$G$6","v":0},{"$f":"'Sample Information'!B293","v":0},{"$f":"'Sample Information'!C293","v":"Bacteria culture"},{"$f":"'Sample Information'!$G$5","v":"00:00:00"}]
[293,{"$f":"'Sample Information'!$G$6","v":0},{"$f":"'Sample Information'!B294","v":0},{"$f":"'Sample Information'!C294","v":"Bacteria culture"},{"$f":"'Sample Information'!$G$5","v":"00:00:00"}]
[294,{"$f":"'Sample Information'!$G$6","v":0},{"$f":"'Sample Information'!B295","v":0},{"$f":"'Sample Information'!C295","v":"Bacteria culture"},{"$f":"'Sample Information'!$G$5","v":"00:00:00"}]
[295,{"$f":"'Sample Information'!$G$6","v":0},{"$f":"'Sample Information'!B296","v":0},{"$f":"'Sample Information'!C296","v":"Bacteria culture"},{"$f":"'Sample Information'!$G$5","v":"00:00:00"}]
[296,{"$f":"'Sample Information'!$G$6","v":0},{"$f":"'Sample Information'!B297","v":0},{"$f":"'Sample Information'!C297","v":"Bacteria culture"},{"$f":"'Sample Information'!$G$5","v":"00:00:00"}]
[297,{"$f":"'Sample Information'!$G$6","v":0},{"$f":"'Sample Information'!B298","v":0},{"$f":"'Sample Information'!C298","v":"Bacteria culture"},{"$f":"'Sample Information'!$G$5","v":"00:00:00"}]
[298,{"$f":"'Sample Information'!$G$6","v":0},{"$f":"'Sample Information'!B299","v":0},{"$f":"'Sample Information'!C299","v":"Bacteria culture"},{"$f":"'Sample Information'!$G$5","v":"00:00:00"}]
[299,{"$f":"'Sample Information'!$G$6","v":0},{"$f":"'Sample Information'!B300","v":0},{"$f":"'Sample Information'!C300","v":"Bacteria culture"},{"$f":"'Sample Information'!$G$5","v":"00:00:00"}]
[300,{"$f":"'Sample Information'!$G$6","v":0},{"$f":"'Sample Information'!B301","v":0},{"$f":"'Sample Information'!C301","v":"Bacteria culture"},{"$f":"'Sample Information'!$G$5","v":"00:00:00"}]
[301,{"$f":"'Sample Information'!$G$6","v":0},{"$f":"'Sample Information'!B302","v":0},{"$f":"'Sample Information'!C302","v":"Bacteria culture"},{"$f":"'Sample Information'!$G$5","v":"00:00:00"}]
[302,{"$f":"'Sample Information'!$G$6","v":0},{"$f":"'Sample Information'!B303","v":0},{"$f":"'Sample Information'!C303","v":"Bacteria culture"},{"$f":"'Sample Information'!$G$5","v":"00:00:00"}]
[303,{"$f":"'Sample Information'!$G$6","v":0},{"$f":"'Sample Information'!B304","v":0},{"$f":"'Sample Information'!C304","v":"Bacteria culture"},{"$f":"'Sample Information'!$G$5","v":"00:00:00"}]
[304,{"$f":"'Sample Information'!$G$6","v":0},{"$f":"'Sample Information'!B305","v":0},{"$f":"'Sample Information'!C305","v":"Bacteria culture"},{"$f":"'Sample Information'!$G$5","v":"00:00:00"}]
[305,{"$f":"'Sample Information'!$G$6","v":0},{"$f":"'Sample Information'!B306","v":0},{"$f":"'Sample Information'!C306","v":"Bacteria culture"},{"$f":"'Sample Information'!$G$5","v":"00:00:00"}]
[306,{"$f":"'Sample Information'!$G$6","v":0},{"$f":"'Sample Information'!B307","v":0},{"$f":"'Sample Information'!C307","v":"Bacteria culture"},{"$f":"'Sample Information'!$G$5","v":"00:00:00"}]
[307,{"$f":"'Sample Information'!$G$6","v":0},{"$f":"'Sample Information'!B308","v":0},{"$f":"'Sample Information'!C308","v":"Bacteria culture"},{"$f":"'Sample Information'!$G$5","v":"00:00:00"}]
[308,{"$f":"'Sample Information'!$G$6","v":0},{"$f":"'Sample Information'!B309","v":0},{"$f":"'Sample Information'!C309","v":"Bacteria culture"},{"$f":"'Sample Information'!$G$5","v":"00:00:00"}]
[309,{"$f":"'Sample Information'!$G$6","v":0},{"$f":"'Sample Information'!B310","v":0},{"$f":"'Sample Information'!C310","v":"Bacteria culture"},{"$f":"'Sample Information'!$G$5","v":"00:00:00"}]
[310,{"$f":"'Sample Information'!$G$6","v":0},{"$f":"'Sample Information'!B311","v":0},{"$f":"'Sample Information'!C311","v":"Bacteria culture"},{"$f":"'Sample Information'!$G$5","v":"00:00:00"}]
[311,{"$f":"'Sample Information'!$G$6","v":0},{"$f":"'Sample Information'!B312","v":0},{"$f":"'Sample Information'!C312","v":"Bacteria culture"},{"$f":"'Sample Information'!$G$5","v":"00:00:00"}]
[312,{"$f":"'Sample Information'!$G$6","v":0},{"$f":"'Sample Information'!B313","v":0},{"$f":"'Sample Information'!C313","v":"Bacteria culture"},{"$f":"'Sample Information'!$G$5","v":"00:00:00"}]
[313,{"$f":"'Sample Information'!$G$6","v":0},{"$f":"'Sample Information'!B314","v":0},{"$f":"'Sample Information'!C314","v":"Bacteria culture"},{"$f":"'Sample Information'!$G$5","v":"00:00:00"}]
[314,{"$f":"'Sample Information'!$G$6","v":0},{"$f":"'Sample Information'!B315","v":0},{"$f":"'Sample Information'!C315","v":"Bacteria culture"},{"$f":"'Sample Information'!$G$5","v":"00:00:00"}]
[315,{"$f":"'Sample Information'!$G$6","v":0},{"$f":"'Sample Information'!B316","v":0},{"$f":"'Sample Information'!C316","v":"Bacteria culture"},{"$f":"'Sample Information'!$G$5","v":"00:00:00"}]
[316,{"$f":"'Sample Information'!$G$6","v":0},{"$f":"'Sample Information'!B317","v":0},{"$f":"'Sample Information'!C317","v":"Bacteria culture"},{"$f":"'Sample Information'!$G$5","v":"00:00:00"}]
[317,{"$f":"'Sample Information'!$G$6","v":0},{"$f":"'Sample Information'!B318","v":0},{"$f":"'Sample Information'!C318","v":"Bacteria culture"},{"$f":"'Sample Information'!$G$5","v":"00:00:00"}]
[318,{"$f":"'Sample Information'!$G$6","v":0},{"$f":"'Sample Information'!B319","v":0},{"$f":"'Sample Information'!C319","v":"Bacteria culture"},{"$f":"'Sample Information'!$G$5","v":"00:00:00"}]
[319,{"$f":"'Sample Information'!$G$6","v":0},{"$f":"'Sample Information'!B320","v":0},{"$f":"'Sample Information'!C320","v":"Bacteria culture"},{"$f":"'Sample Information'!$G$5","v":"00:00:00"}]
[320,{"$f":"'Sample Information'!$G$6","v":0},{"$f":"'Sample Information'!B321","v":0},{"$f":"'Sample Information'!C321","v":"Bacteria culture"},{"$f":"'Sample Information'!$G$5","v":"00:00:00"}]
[321,{"$f":"'Sample Information'!$G$6","v":0},{"$f":"'Sample Information'!B322","v":0},{"$f":"'Sample Information'!C322","v":"Bacteria culture"},{"$f":"'Sample Information'!$G$5","v":"00:00:00"}]
[322,{"$f":"'Sample Information'!$G$6","v":0},{"$f":"'Sample Information'!B323","v":0},{"$f":"'Sample Information'!C323","v":"Bacteria culture"},{"$f":"'Sample Information'!$G$5","v":"00:00:00"}]
[323,{"$f":"'Sample Information'!$G$6","v":0},{"$f":"'Sample Information'!B324","v":0},{"$f":"'Sample Information'!C324","v":"Bacteria culture"},{"$f":"'Sample Information'!$G$5","v":"00:00:00"}]
[324,{"$f":"'Sample Information'!$G$6","v":0},{"$f":"'Sample Information'!B325","v":0},{"$f":"'Sample Information'!C325","v":"Bacteria culture"},{"$f":"'Sample Information'!$G$5","v":"00:00:00"}]
[325,{"$f":"'Sample Information'!$G$6","v":0},{"$f":"'Sample Information'!B326","v":0},{"$f":"'Sample Information'!C326","v":"Bacteria culture"},{"$f":"'Sample Information'!$G$5","v":"00:00:00"}]
[326,{"$f":"'Sample Information'!$G$6","v":0},{"$f":"'Sample Information'!B327","v":0},{"$f":"'Sample Information'!C327","v":"Bacteria culture"},{"$f":"'Sample Information'!$G$5","v":"00:00:00"}]
[327,{"$f":"'Sample Information'!$G$6","v":0},{"$f":"'Sample Information'!B328","v":0},{"$f":"'Sample Information'!C328","v":"Bacteria culture"},{"$f":"'Sample Information'!$G$5","v":"00:00:00"}]
[328,{"$f":"'Sample Information'!$G$6","v":0},{"$f":"'Sample Information'!B329","v":0},{"$f":"'Sample Information'!C329","v":"Bacteria culture"},{"$f":"'Sample Information'!$G$5","v":"00:00:00"}]
[329,{"$f":"'Sample Information'!$G$6","v":0},{"$f":"'Sample Information'!B330","v":0},{"$f":"'Sample Information'!C330","v":"Bacteria culture"},{"$f":"'Sample Information'!$G$5","v":"00:00:00"}]
[330,{"$f":"'Sample Information'!$G$6","v":0},{"$f":"'Sample Information'!B331","v":0},{"$f":"'Sample Information'!C331","v":"Bacteria culture"},{"$f":"'Sample Information'!$G$5","v":"00:00:00"}]
[331,{"$f":"'Sample Information'!$G$6","v":0},{"$f":"'Sample Information'!B332","v":0},{"$f":"'Sample Information'!C332","v":"Bacteria culture"},{"$f":"'Sample Information'!$G$5","v":"00:00:00"}]
[332,{"$f":"'Sample Information'!$G$6","v":0},{"$f":"'Sample Information'!B333","v":0},{"$f":"'Sample Information'!C333","v":"Bacteria culture"},{"$f":"'Sample Information'!$G$5","v":"00:00:00"}]
[333,{"$f":"'Sample Information'!$G$6","v":0},{"$f":"'Sample Information'!B334","v":0},{"$f":"'Sample Information'!C334","v":"Bacteria culture"},{"$f":"'Sample Information'!$G$5","v":"00:00:00"}]
[334,{"$f":"'Sample Information'!$G$6","v":0},{"$f":"'Sample Information'!B335","v":0},{"$f":"'Sample Information'!C335","v":"Bacteria culture"},{"$f":"'Sample Information'!$G$5","v":"00:00:00"}]
[335,{"$f":"'Sample Information'!$G$6","v":0},{"$f":"'Sample Information'!B336","v":0},{"$f":"'Sample Information'!C336","v":"Bacteria culture"},{"$f":"'Sample Information'!$G$5","v":"00:00:00"}]
[336,{"$f":"'Sample Information'!$G$6","v":0},{"$f":"'Sample Information'!B337","v":0},{"$f":"'Sample Information'!C337","v":"Bacteria culture"},{"$f":"'Sample Information'!$G$5","v":"00:00:00"}]
[337,{"$f":"'Sample Information'!$G$6","v":0},{"$f":"'Sample Information'!B338","v":0},{"$f":"'Sample Information'!C338","v":"Bacteria culture"},{"$f":"'Sample Information'!$G$5","v":"00:00:00"}]
[338,{"$f":"'Sample Information'!$G$6","v":0},{"$f":"'Sample Information'!B339","v":0},{"$f":"'Sample Information'!C339","v":"Bacteria culture"},{"$f":"'Sample Information'!$G$5","v":"00:00:00"}]
[339,{"$f":"'Sample Information'!$G$6","v":0},{"$f":"'Sample Information'!B340","v":0},{"$f":"'Sample Information'!C340","v":"Bacteria culture"},{"$f":"'Sample Information'!$G$5","v":"00:00:00"}]
[340,{"$f":"'Sample Information'!$G$6","v":0},{"$f":"'Sample Information'!B341","v":0},{"$f":"'Sample Information'!C341","v":"Bacteria culture"},{"$f":"'Sample Information'!$G$5","v":"00:00:00"}]
[341,{"$f":"'Sample Information'!$G$6","v":0},{"$f":"'Sample Information'!B342","v":0},{"$f":"'Sample Information'!C342","v":"Bacteria culture"},{"$f":"'Sample Information'!$G$5","v":"00:00:00"}]
[342,{"$f":"'Sample Information'!$G$6","v":0},{"$f":"'Sample Information'!B343","v":0},{"$f":"'Sample Information'!C343","v":"Bacteria culture"},{"$f":"'Sample Information'!$G$5","v":"00:00:00"}]
[343,{"$f":"'Sample Information'!$G$6","v":0},{"$f":"'Sample Information'!B344","v":0},{"$f":"'Sample Information'!C344","v":"Bacteria culture"},{"$f":"'Sample Information'!$G$5","v":"00:00:00"}]
[344,{"$f":"'Sample Information'!$G$6","v":0},{"$f":"'Sample Information'!B345","v":0},{"$f":"'Sample Information'!C345","v":"Bacteria culture"},{"$f":"'Sample Information'!$G$5","v":"00:00:00"}]
[345,{"$f":"'Sample Information'!$G$6","v":0},{"$f":"'Sample Information'!B346","v":0},{"$f":"'Sample Information'!C346","v":"Bacteria culture"},{"$f":"'Sample Information'!$G$5","v":"00:00:00"}]
[346,{"$f":"'Sample Information'!$G$6","v":0},{"$f":"'Sample Information'!B347","v":0},{"$f":"'Sample Information'!C347","v":"Bacteria culture"},{"$f":"'Sample Information'!$G$5","v":"00:00:00"}]
[347,{"$f":"'Sample Information'!$G$6","v":0},{"$f":"'Sample Information'!B348","v":0},{"$f":"'Sample Information'!C348","v":"Bacteria culture"},{"$f":"'Sample Information'!$G$5","v":"00:00:00"}]
[348,{"$f":"'Sample Information'!$G$6","v":0},{"$f":"'Sample Information'!B349","v":0},{"$f":"'Sample Information'!C349","v":"Bacteria culture"},{"$f":"'Sample Information'!$G$5","v":"00:00:00"}]
[349,{"$f":"'Sample Information'!$G$6","v":0},{"$f":"'Sample Information'!B350","v":0},{"$f":"'Sample Information'!C350","v":"Bacteria culture"},{"$f":"'Sample Information'!$G$5","v":"00:00:00"}]
[350,{"$f":"'Sample Information'!$G$6","v":0},{"$f":"'Sample Information'!B351","v":0},{"$f":"'Sample Information'!C351","v":"Bacteria culture"},{"$f":"'Sample Information'!$G$5","v":"00:00:00"}]
[351,{"$f":"'Sample Information'!$G$6","v":0},{"$f":"'Sample Information'!B352","v":0},{"$f":"'Sample Information'!C352","v":"Bacteria culture"},{"$f":"'Sample Information'!$G$5","v":"00:00:00"}]
[352,{"$f":"'Sample Information'!$G$6","v":0},{"$f":"'Sample Information'!B353","v":0},{"$f":"'Sample Information'!C353","v":"Bacteria culture"},{"$f":"'Sample Information'!$G$5","v":"00:00:00"}]
[353,{"$f":"'Sample Information'!$G$6","v":0},{"$f":"'Sample Information'!B354","v":0},{"$f":"'Sample Information'!C354","v":"Bacteria culture"},{"$f":"'Sample Information'!$G$5","v":"00:00:00"}]
[354,{"$f":"'Sample Information'!$G$6","v":0},{"$f":"'Sample Information'!B355","v":0},{"$f":"'Sample Information'!C355","v":"Bacteria culture"},{"$f":"'Sample Information'!$G$5","v":"00:00:00"}]
[355,{"$f":"'Sample Information'!$G$6","v":0},{"$f":"'Sample Information'!B356","v":0},{"$f":"'Sample Information'!C356","v":"Bacteria culture"},{"$f":"'Sample Information'!$G$5","v":"00:00:00"}]
[356,{"$f":"'Sample Information'!$G$6","v":0},{"$f":"'Sample Information'!B357","v":0},{"$f":"'Sample Information'!C357","v":"Bacteria culture"},{"$f":"'Sample Information'!$G$5","v":"00:00:00"}]
[357,{"$f":"'Sample Information'!$G$6","v":0},{"$f":"'Sample Information'!B358","v":0},{"$f":"'Sample Information'!C358","v":"Bacteria culture"},{"$f":"'Sample Information'!$G$5","v":"00:00:00"}]
[358,{"$f":"'Sample Information'!$G$6","v":0},{"$f":"'Sample Information'!B359","v":0},{"$f":"'Sample Information'!C359","v":"Bacteria culture"},{"$f":"'Sample Information'!$G$5","v":"00:00:00"}]
[359,{"$f":"'Sample Information'!$G$6","v":0},{"$f":"'Sample Information'!B360","v":0},{"$f":"'Sample Information'!C360","v":"Bacteria culture"},{"$f":"'Sample Information'!$G$5","v":"00:00:00"}]
[360,{"$f":"'Sample Information'!$G$6","v":0},{"$f":"'Sample Information'!B361","v":0},{"$f":"'Sample Information'!C361","v":"Bacteria culture"},{"$f":"'Sample Information'!$G$5","v":"00:00:00"}]
[361,{"$f":"'Sample Information'!$G$6","v":0},{"$f":"'Sample Information'!B362","v":0},{"$f":"'Sample Information'!C362","v":"Bacteria culture"},{"$f":"'Sample Information'!$G$5","v":"00:00:00"}]
[362,{"$f":"'Sample Information'!$G$6","v":0},{"$f":"'Sample Information'!B363","v":0},{"$f":"'Sample Information'!C363","v":"Bacteria culture"},{"$f":"'Sample Information'!$G$5","v":"00:00:00"}]
[363,{"$f":"'Sample Information'!$G$6","v":0},{"$f":"'Sample Information'!B364","v":0},{"$f":"'Sample Information'!C364","v":"Bacteria culture"},{"$f":"'Sample Information'!$G$5","v":"00:00:00"}]
[364,{"$f":"'Sample Information'!$G$6","v":0},{"$f":"'Sample Information'!B365","v":0},{"$f":"'Sample Information'!C365","v":"Bacteria culture"},{"$f":"'Sample Information'!$G$5","v":"00:00:00"}]
[365,{"$f":"'Sample Information'!$G$6","v":0},{"$f":"'Sample Information'!B366","v":0},{"$f":"'Sample Information'!C366","v":"Bacteria culture"},{"$f":"'Sample Information'!$G$5","v":"00:00:00"}]
[366,{"$f":"'Sample Information'!$G$6","v":0},{"$f":"'Sample Information'!B367","v":0},{"$f":"'Sample Information'!C367","v":"Bacteria culture"},{"$f":"'Sample Information'!$G$5","v":"00:00:00"}]
[367,{"$f":"'Sample Information'!$G$6","v":0},{"$f":"'Sample Information'!B368","v":0},{"$f":"'Sample Information'!C368","v":"Bacteria culture"},{"$f":"'Sample Information'!$G$5","v":"00:00:00"}]
[368,{"$f":"'Sample Information'!$G$6","v":0},{"$f":"'Sample Information'!B369","v":0},{"$f":"'Sample Information'!C369","v":"Bacteria culture"},{"$f":"'Sample Information'!$G$5","v":"00:00:00"}]
[369,{"$f":"'Sample Information'!$G$6","v":0},{"$f":"'Sample Information'!B370","v":0},{"$f":"'Sample Information'!C370","v":"Bacteria culture"},{"$f":"'Sample Information'!$G$5","v":"00:00:00"}]
[370,{"$f":"'Sample Information'!$G$6","v":0},{"$f":"'Sample Information'!B371","v":0},{"$f":"'Sample Information'!C371","v":"Bacteria culture"},{"$f":"'Sample Information'!$G$5","v":"00:00:00"}]
[371,{"$f":"'Sample Information'!$G$6","v":0},{"$f":"'Sample Information'!B372","v":0},{"$f":"'Sample Information'!C372","v":"Bacteria culture"},{"$f":"'Sample Information'!$G$5","v":"00:00:00"}]
[372,{"$f":"'Sample Information'!$G$6","v":0},{"$f":"'Sample Information'!B373","v":0},{"$f":"'Sample Information'!C373","v":"Bacteria culture"},{"$f":"'Sample Information'!$G$5","v":"00:00:00"}]
[373,{"$f":"'Sample Information'!$G$6","v":0},{"$f":"'Sample Information'!B374","v":0},{"$f":"'Sample Information'!C374","v":"Bacteria culture"},{"$f":"'Sample Information'!$G$5","v":"00:00:00"}]
[374,{"$f":"'Sample Information'!$G$6","v":0},{"$f":"'Sample Information'!B375","v":0},{"$f":"'Sample Information'!C375","v":"Bacteria culture"},{"$f":"'Sample Information'!$G$5","v":"00:00:00"}]
[375,{"$f":"'Sample Information'!$G$6","v":0},{"$f":"'Sample Information'!B376","v":0},{"$f":"'Sample Information'!C376","v":"Bacteria culture"},{"$f":"'Sample Information'!$G$5","v":"00:00:00"}]
[376,{"$f":"'Sample Information'!$G$6","v":0},{"$f":"'Sample Information'!B377","v":0},{"$f":"'Sample Information'!C377","v":"Bacteria culture"},{"$f":"'Sample Information'!$G$5","v":"00:00:00"}]
[377,{"$f":"'Sample Information'!$G$6","v":0},{"$f":"'Sample Information'!B378","v":0},{"$f":"'Sample Information'!C378","v":"Bacteria culture"},{"$f":"'Sample Information'!$G$5","v":"00:00:00"}]
[378,{"$f":"'Sample Information'!$G$6","v":0},{"$f":"'Sample Information'!B379","v":0},{"$f":"'Sample Information'!C379","v":"Bacteria culture"},{"$f":"'Sample Information'!$G$5","v":"00:00:00"}]
[379,{"$f":"'Sample Information'!$G$6","v":0},{"$f":"'Sample Information'!B380","v":0},{"$f":"'Sample Information'!C380","v":"Bacteria culture"},{"$f":"'Sample Information'!$G$5","v":"00:00:00"}]
[380,{"$f":"'Sample Information'!$G$6","v":0},{"$f":"'Sample Information'!B381","v":0},{"$f":"'Sample Information'!C381","v":"Bacteria culture"},{"$f":"'Sample Information'!$G$5","v":"00:00:00"}]
[381,{"$f":"'Sample Information'!$G$6","v":0},{"$f":"'Sample Information'!B382","v":0},{"$f":"'Sample Information'!C382","v":"Bacteria culture"},{"$f":"'Sample Information'!$G$5","v":"00:00:00"}]
[382,{"$f":"'Sample Information'!$G$6","v":0},{"$f":"'Sample Information'!B383","v":0},{"$f":"'Sample Information'!C383","v":"Bacteria culture"},{"$f":"'Sample Information'!$G$5","v":"00:00:00"}]
[383,{"$f":"'Sample Information'!$G$6","v":0},{"$f":"'Sample Information'!B384","v":0},{"$f":"'Sample Information'!C384","v":"Bacteria culture"},{"$f":"'Sample Information'!$G$5","v":"00:00:00"}]
[384,{"$f":"'Sample Information'!$G$6","v":0},{"$f":"'Sample Information'!B385","v":0},{"$f":"'Sample Information'!C385","v":"Bacteria culture"},{"$f":"'Sample Information'!$G$5","v":"00:00:00"}]
[385,{"$f":"'Sample Information'!$G$6","v":0},{"$f":"'Sample Information'!B386","v":0},{"$f":"'Sample Information'!C386","v":"Bacteria culture"},{"$f":"'Sample Information'!$G$5","v":"00:00:00"}]
[386,{"$f":"'Sample Information'!$G$6","v":0},{"$f":"'Sample Information'!B387","v":0},{"$f":"'Sample Information'!C387","v":"Bacteria culture"},{"$f":"'Sample Information'!$G$5","v":"00:00:00"}]
[387,{"$f":"'Sample Information'!$G$6","v":0},{"$f":"'Sample Information'!B388","v":0},{"$f":"'Sample Information'!C388","v":"Bacteria culture"},{"$f":"'Sample Information'!$G$5","v":"00:00:00"}]
[388,{"$f":"'Sample Information'!$G$6","v":0},{"$f":"'Sample Information'!B389","v":0},{"$f":"'Sample Information'!C389","v":"Bacteria culture"},{"$f":"'Sample Information'!$G$5","v":"00:00:00"}]
[389,{"$f":"'Sample Information'!$G$6","v":0},{"$f":"'Sample Information'!B390","v":0},{"$f":"'Sample Information'!C390","v":"Bacteria culture"},{"$f":"'Sample Information'!$G$5","v":"00:00:00"}]
[390,{"$f":"'Sample Information'!$G$6","v":0},{"$f":"'Sample Information'!B391","v":0},{"$f":"'Sample Information'!C391","v":"Bacteria culture"},{"$f":"'Sample Information'!$G$5","v":"00:00:00"}]
[391,{"$f":"'Sample Information'!$G$6","v":0},{"$f":"'Sample Information'!B392","v":0},{"$f":"'Sample Information'!C392","v":"Bacteria culture"},{"$f":"'Sample Information'!$G$5","v":"00:00:00"}]
[392,{"$f":"'Sample Information'!$G$6","v":0},{"$f":"'Sample Information'!B393","v":0},{"$f":"'Sample Information'!C393","v":"Bacteria culture"},{"$f":"'Sample Information'!$G$5","v":"00:00:00"}]
[393,{"$f":"'Sample Information'!$G$6","v":0},{"$f":"'Sample Information'!B394","v":0},{"$f":"'Sample Information'!C394","v":"Bacteria culture"},{"$f":"'Sample Information'!$G$5","v":"00:00:00"}]
[394,{"$f":"'Sample Information'!$G$6","v":0},{"$f":"'Sample Information'!B395","v":0},{"$f":"'Sample Information'!C395","v":"Bacteria culture"},{"$f":"'Sample Information'!$G$5","v":"00:00:00"}]
[395,{"$f":"'Sample Information'!$G$6","v":0},{"$f":"'Sample Information'!B396","v":0},{"$f":"'Sample Information'!C396","v":"Bacteria culture"},{"$f":"'Sample Information'!$G$5","v":"00:00:00"}]
[396,{"$f":"'Sample Information'!$G$6","v":0},{"$f":"'Sample Information'!B397","v":0},{"$f":"'Sample Information'!C397","v":"Bacteria culture"},{"$f":"'Sample Information'!$G$5","v":"00:00:00"}]
[397,{"$f":"'Sample Information'!$G$6","v":0},{"$f":"'Sample Information'!B398","v":0},{"$f":"'Sample Information'!C398","v":"Bacteria culture"},{"$f":"'Sample Information'!$G$5","v":"00:00:00"}]
[398,{"$f":"'Sample Information'!$G$6","v":0},{"$f":"'Sample Information'!B399","v":0},{"$f":"'Sample Information'!C399","v":"Bacteria culture"},{"$f":"'Sample Information'!$G$5","v":"00:00:00"}]
[399,{"$f":"'Sample Information'!$G$6","v":0},{"$f":"'Sample Information'!B400","v":0},{"$f":"'Sample Information'!C400","v":"Bacteria culture"},{"$f":"'Sample Information'!$G$5","v":"00:00:00"}]
[400,{"$f":"'Sample Information'!$G$6","v":0},{"$f":"'Sample Information'!B401","v":0},{"$f":"'Sample Information'!C401","v":"Bacteria culture"},{"$f":"'Sample Information'!$G$5","v":"00:00:00"}]
[401,{"$f":"'Sample Information'!$G$6","v":0},{"$f":"'Sample Information'!B402","v":0},{"$f":"'Sample Information'!C402","v":"Bacteria culture"},{"$f":"'Sample Information'!$G$5","v":"00:00:00"}]
[402,{"$f":"'Sample Information'!$G$6","v":0},{"$f":"'Sample Information'!B403","v":0},{"$f":"'Sample Information'!C403","v":"Bacteria culture"},{"$f":"'Sample Information'!$G$5","v":"00:00:00"}]
[403,{"$f":"'Sample Information'!$G$6","v":0},{"$f":"'Sample Information'!B404","v":0},{"$f":"'Sample Information'!C404","v":"Bacteria culture"},{"$f":"'Sample Information'!$G$5","v":"00:00:00"}]
[404,{"$f":"'Sample Information'!$G$6","v":0},{"$f":"'Sample Information'!B405","v":0},{"$f":"'Sample Information'!C405","v":"Bacteria culture"},{"$f":"'Sample Information'!$G$5","v":"00:00:00"}]
[405,{"$f":"'Sample Information'!$G$6","v":0},{"$f":"'Sample Information'!B406","v":0},{"$f":"'Sample Information'!C406","v":"Bacteria culture"},{"$f":"'Sample Information'!$G$5","v":"00:00:00"}]
[406,{"$f":"'Sample Information'!$G$6","v":0},{"$f":"'Sample Information'!B407","v":0},{"$f":"'Sample Information'!C407","v":"Bacteria culture"},{"$f":"'Sample Information'!$G$5","v":"00:00:00"}]
[407,{"$f":"'Sample Information'!$G$6","v":0},{"$f":"'Sample Information'!B408","v":0},{"$f":"'Sample Information'!C408","v":"Bacteria culture"},{"$f":"'Sample Information'!$G$5","v":"00:00:00"}]
[408,{"$f":"'Sample Information'!$G$6","v":0},{"$f":"'Sample Information'!B409","v":0},{"$f":"'Sample Information'!C409","v":"Bacteria culture"},{"$f":"'Sample Information'!$G$5","v":"00:00:00"}]
[409,{"$f":"'Sample Information'!$G$6","v":0},{"$f":"'Sample Information'!B410","v":0},{"$f":"'Sample Information'!C410","v":"Bacteria culture"},{"$f":"'Sample Information'!$G$5","v":"00:00:00"}]
[410,{"$f":"'Sample Information'!$G$6","v":0},{"$f":"'Sample Information'!B411","v":0},{"$f":"'Sample Information'!C411","v":"Bacteria culture"},{"$f":"'Sample Information'!$G$5","v":"00:00:00"}]
[411,{"$f":"'Sample Information'!$G$6","v":0},{"$f":"'Sample Information'!B412","v":0},{"$f":"'Sample Information'!C412","v":"Bacteria culture"},{"$f":"'Sample Information'!$G$5","v":"00:00:00"}]
[412,{"$f":"'Sample Information'!$G$6","v":0},{"$f":"'Sample Information'!B413","v":0},{"$f":"'Sample Information'!C413","v":"Bacteria culture"},{"$f":"'Sample Information'!$G$5","v":"00:00:00"}]
[413,{"$f":"'Sample Information'!$G$6","v":0},{"$f":"'Sample Information'!B414","v":0},{"$f":"'Sample Information'!C414","v":"Bacteria culture"},{"$f":"'Sample Information'!$G$5","v":"00:00:00"}]
[414,{"$f":"'Sample Information'!$G$6","v":0},{"$f":"'Sample Information'!B415","v":0},{"$f":"'Sample Information'!C415","v":"Bacteria culture"},{"$f":"'Sample Information'!$G$5","v":"00:00:00"}]
[415,{"$f":"'Sample Information'!$G$6","v":0},{"$f":"'Sample Information'!B416","v":0},{"$f":"'Sample Information'!C416","v":"Bacteria culture"},{"$f":"'Sample Information'!$G$5","v":"00:00:00"}]
[416,{"$f":"'Sample Information'!$G$6","v":0},{"$f":"'Sample Information'!B417","v":0},{"$f":"'Sample Information'!C417","v":"Bacteria culture"},{"$f":"'Sample Information'!$G$5","v":"00:00:00"}]
[417,{"$f":"'Sample Information'!$G$6","v":0},{"$f":"'Sample Information'!B418","v":0},{"$f":"'Sample Information'!C418","v":"Bacteria culture"},{"$f":"'Sample Information'!$G$5","v":"00:00:00"}]
[418,{"$f":"'Sample Information'!$G$6","v":0},{"$f":"'Sample Information'!B419","v":0},{"$f":"'Sample Information'!C419","v":"Bacteria culture"},{"$f":"'Sample Information'!$G$5","v":"00:00:00"}]
[419,{"$f":"'Sample Information'!$G$6","v":0},{"$f":"'Sample Information'!B420","v":0},{"$f":"'Sample Information'!C420","v":"Bacteria culture"},{"$f":"'Sample Information'!$G$5","v":"00:00:00"}]
[420,{"$f":"'Sample Information'!$G$6","v":0},{"$f":"'Sample Information'!B421","v":0},{"$f":"'Sample Information'!C421","v":"Bacteria culture"},{"$f":"'Sample Information'!$G$5","v":"00:00:00"}]
[421,{"$f":"'Sample Information'!$G$6","v":0},{"$f":"'Sample Information'!B422","v":0},{"$f":"'Sample Information'!C422","v":"Bacteria culture"},{"$f":"'Sample Information'!$G$5","v":"00:00:00"}]
[422,{"$f":"'Sample Information'!$G$6","v":0},{"$f":"'Sample Information'!B423","v":0},{"$f":"'Sample Information'!C423","v":"Bacteria culture"},{"$f":"'Sample Information'!$G$5","v":"00:00:00"}]
[423,{"$f":"'Sample Information'!$G$6","v":0},{"$f":"'Sample Information'!B424","v":0},{"$f":"'Sample Information'!C424","v":"Bacteria culture"},{"$f":"'Sample Information'!$G$5","v":"00:00:00"}]
[424,{"$f":"'Sample Information'!$G$6","v":0},{"$f":"'Sample Information'!B425","v":0},{"$f":"'Sample Information'!C425","v":"Bacteria culture"},{"$f":"'Sample Information'!$G$5","v":"00:00:00"}]
[425,{"$f":"'Sample Information'!$G$6","v":0},{"$f":"'Sample Information'!B426","v":0},{"$f":"'Sample Information'!C426","v":"Bacteria culture"},{"$f":"'Sample Information'!$G$5","v":"00:00:00"}]
[426,{"$f":"'Sample Information'!$G$6","v":0},{"$f":"'Sample Information'!B427","v":0},{"$f":"'Sample Information'!C427","v":"Bacteria culture"},{"$f":"'Sample Information'!$G$5","v":"00:00:00"}]
[427,{"$f":"'Sample Information'!$G$6","v":0},{"$f":"'Sample Information'!B428","v":0},{"$f":"'Sample Information'!C428","v":"Bacteria culture"},{"$f":"'Sample Information'!$G$5","v":"00:00:00"}]
[428,{"$f":"'Sample Information'!$G$6","v":0},{"$f":"'Sample Information'!B429","v":0},{"$f":"'Sample Information'!C429","v":"Bacteria culture"},{"$f":"'Sample Information'!$G$5","v":"00:00:00"}]
[429,{"$f":"'Sample Information'!$G$6","v":0},{"$f":"'Sample Information'!B430","v":0},{"$f":"'Sample Information'!C430","v":"Bacteria culture"},{"$f":"'Sample Information'!$G$5","v":"00:00:00"}]
[430,{"$f":"'Sample Information'!$G$6","v":0},{"$f":"'Sample Information'!B431","v":0},{"$f":"'Sample Information'!C431","v":"Bacteria culture"},{"$f":"'Sample Information'!$G$5","v":"00:00:00"}]
[431,{"$f":"'Sample Information'!$G$6","v":0},{"$f":"'Sample Information'!B432","v":0},{"$f":"'Sample Information'!C432","v":"Bacteria culture"},{"$f":"'Sample Information'!$G$5","v":"00:00:00"}]
[432,{"$f":"'Sample Information'!$G$6","v":0},{"$f":"'Sample Information'!B433","v":0},{"$f":"'Sample Information'!C433","v":"Bacteria culture"},{"$f":"'Sample Information'!$G$5","v":"00:00:00"}]
[433,{"$f":"'Sample Information'!$G$6","v":0},{"$f":"'Sample Information'!B434","v":0},{"$f":"'Sample Information'!C434","v":"Bacteria culture"},{"$f":"'Sample Information'!$G$5","v":"00:00:00"}]
[434,{"$f":"'Sample Information'!$G$6","v":0},{"$f":"'Sample Information'!B435","v":0},{"$f":"'Sample Information'!C435","v":"Bacteria culture"},{"$f":"'Sample Information'!$G$5","v":"00:00:00"}]
[435,{"$f":"'Sample Information'!$G$6","v":0},{"$f":"'Sample Information'!B436","v":0},{"$f":"'Sample Information'!C436","v":"Bacteria culture"},{"$f":"'Sample Information'!$G$5","v":"00:00:00"}]
[436,{"$f":"'Sample Information'!$G$6","v":0},{"$f":"'Sample Information'!B437","v":0},{"$f":"'Sample Information'!C437","v":"Bacteria culture"},{"$f":"'Sample Information'!$G$5","v":"00:00:00"}]
[437,{"$f":"'Sample Information'!$G$6","v":0},{"$f":"'Sample Information'!B438","v":0},{"$f":"'Sample Information'!C438","v":"Bacteria culture"},{"$f":"'Sample Information'!$G$5","v":"00:00:00"}]
[438,{"$f":"'Sample Information'!$G$6","v":0},{"$f":"'Sample Information'!B439","v":0},{"$f":"'Sample Information'!C439","v":"Bacteria culture"},{"$f":"'Sample Information'!$G$5","v":"00:00:00"}]
[439,{"$f":"'Sample Information'!$G$6","v":0},{"$f":"'Sample Information'!B440","v":0},{"$f":"'Sample Information'!C440","v":"Bacteria culture"},{"$f":"'Sample Information'!$G$5","v":"00:00:00"}]
[440,{"$f":"'Sample Information'!$G$6","v":0},{"$f":"'Sample Information'!B441","v":0},{"$f":"'Sample Information'!C441","v":"Bacteria culture"},{"$f":"'Sample Information'!$G$5","v":"00:00:00"}]
[441,{"$f":"'Sample Information'!$G$6","v":0},{"$f":"'Sample Information'!B442","v":0},{"$f":"'Sample Information'!C442","v":"Bacteria culture"},{"$f":"'Sample Information'!$G$5","v":"00:00:00"}]
[442,{"$f":"'Sample Information'!$G$6","v":0},{"$f":"'Sample Information'!B443","v":0},{"$f":"'Sample Information'!C443","v":"Bacteria culture"},{"$f":"'Sample Information'!$G$5","v":"00:00:00"}]
[443,{"$f":"'Sample Information'!$G$6","v":0},{"$f":"'Sample Information'!B444","v":0},{"$f":"'Sample Information'!C444","v":"Bacteria culture"},{"$f":"'Sample Information'!$G$5","v":"00:00:00"}]
[444,{"$f":"'Sample Information'!$G$6","v":0},{"$f":"'Sample Information'!B445","v":0},{"$f":"'Sample Information'!C445","v":"Bacteria culture"},{"$f":"'Sample Information'!$G$5","v":"00:00:00"}]
[445,{"$f":"'Sample Information'!$G$6","v":0},{"$f":"'Sample Information'!B446","v":0},{"$f":"'Sample Information'!C446","v":"Bacteria culture"},{"$f":"'Sample Information'!$G$5","v":"00:00:00"}]
[446,{"$f":"'Sample Information'!$G$6","v":0},{"$f":"'Sample Information'!B447","v":0},{"$f":"'Sample Information'!C447","v":"Bacteria culture"},{"$f":"'Sample Information'!$G$5","v":"00:00:00"}]
[447,{"$f":"'Sample Information'!$G$6","v":0},{"$f":"'Sample Information'!B448","v":0},{"$f":"'Sample Information'!C448","v":"Bacteria culture"},{"$f":"'Sample Information'!$G$5","v":"00:00:00"}]
[448,{"$f":"'Sample Information'!$G$6","v":0},{"$f":"'Sample Information'!B449","v":0},{"$f":"'Sample Information'!C449","v":"Bacteria culture"},{"$f":"'Sample Information'!$G$5","v":"00:00:00"}]
[449,{"$f":"'Sample Information'!$G$6","v":0},{"$f":"'Sample Information'!B450","v":0},{"$f":"'Sample Information'!C450","v":"Bacteria culture"},{"$f":"'Sample Information'!$G$5","v":"00:00:00"}]
[450,{"$f":"'Sample Information'!$G$6","v":0},{"$f":"'Sample Information'!B451","v":0},{"$f":"'Sample Information'!C451","v":"Bacteria culture"},{"$f":"'Sample Information'!$G$5","v":"00:00:00"}]
[451,{"$f":"'Sample Information'!$G$6","v":0},{"$f":"'Sample Information'!B452","v":0},{"$f":"'Sample Information'!C452","v":"Bacteria culture"},{"$f":"'Sample Information'!$G$5","v":"00:00:00"}]
[452,{"$f":"'Sample Information'!$G$6","v":0},{"$f":"'Sample Information'!B453","v":0},{"$f":"'Sample Information'!C453","v":"Bacteria culture"},{"$f":"'Sample Information'!$G$5","v":"00:00:00"}]
[453,{"$f":"'Sample Information'!$G$6","v":0},{"$f":"'Sample Information'!B454","v":0},{"$f":"'Sample Information'!C454","v":"Bacteria culture"},{"$f":"'Sample Information'!$G$5","v":"00:00:00"}]
[454,{"$f":"'Sample Information'!$G$6","v":0},{"$f":"'Sample Information'!B455","v":0},{"$f":"'Sample Information'!C455","v":"Bacteria culture"},{"$f":"'Sample Information'!$G$5","v":"00:00:00"}]
[455,{"$f":"'Sample Information'!$G$6","v":0},{"$f":"'Sample Information'!B456","v":0},{"$f":"'Sample Information'!C456","v":"Bacteria culture"},{"$f":"'Sample Information'!$G$5","v":"00:00:00"}]
[456,{"$f":"'Sample Information'!$G$6","v":0},{"$f":"'Sample Information'!B457","v":0},{"$f":"'Sample Information'!C457","v":"Bacteria culture"},{"$f":"'Sample Information'!$G$5","v":"00:00:00"}]
[457,{"$f":"'Sample Information'!$G$6","v":0},{"$f":"'Sample Information'!B458","v":0},{"$f":"'Sample Information'!C458","v":"Bacteria culture"},{"$f":"'Sample Information'!$G$5","v":"00:00:00"}]
[458,{"$f":"'Sample Information'!$G$6","v":0},{"$f":"'Sample Information'!B459","v":0},{"$f":"'Sample Information'!C459","v":"Bacteria culture"},{"$f":"'Sample Information'!$G$5","v":"00:00:00"}]
[459,{"$f":"'Sample Information'!$G$6","v":0},{"$f":"'Sample Information'!B460","v":0},{"$f":"'Sample Information'!C460","v":"Bacteria culture"},{"$f":"'Sample Information'!$G$5","v":"00:00:00"}]
[460,{"$f":"'Sample Information'!$G$6","v":0},{"$f":"'Sample Information'!B461","v":0},{"$f":"'Sample Information'!C461","v":"Bacteria culture"},{"$f":"'Sample Information'!$G$5","v":"00:00:00"}]
[461,{"$f":"'Sample Information'!$G$6","v":0},{"$f":"'Sample Information'!B462","v":0},{"$f":"'Sample Information'!C462","v":"Bacteria culture"},{"$f":"'Sample Information'!$G$5","v":"00:00:00"}]
[462,{"$f":"'Sample Information'!$G$6","v":0},{"$f":"'Sample Information'!B463","v":0},{"$f":"'Sample Information'!C463","v":"Bacteria culture"},{"$f":"'Sample Information'!$G$5","v":"00:00:00"}]
[463,{"$f":"'Sample Information'!$G$6","v":0},{"$f":"'Sample Information'!B464","v":0},{"$f":"'Sample Information'!C464","v":"Bacteria culture"},{"$f":"'Sample Information'!$G$5","v":"00:00:00"}]
[464,{"$f":"'Sample Information'!$G$6","v":0},{"$f":"'Sample Information'!B465","v":0},{"$f":"'Sample Information'!C465","v":"Bacteria culture"},{"$f":"'Sample Information'!$G$5","v":"00:00:00"}]
[465,{"$f":"'Sample Information'!$G$6","v":0},{"$f":"'Sample Information'!B466","v":0},{"$f":"'Sample Information'!C466","v":"Bacteria culture"},{"$f":"'Sample Information'!$G$5","v":"00:00:00"}]
[466,{"$f":"'Sample Information'!$G$6","v":0},{"$f":"'Sample Information'!B467","v":0},{"$f":"'Sample Information'!C467","v":"Bacteria culture"},{"$f":"'Sample Information'!$G$5","v":"00:00:00"}]
[467,{"$f":"'Sample Information'!$G$6","v":0},{"$f":"'Sample Information'!B468","v":0},{"$f":"'Sample Information'!C468","v":"Bacteria culture"},{"$f":"'Sample Information'!$G$5","v":"00:00:00"}]
[468,{"$f":"'Sample Information'!$G$6","v":0},{"$f":"'Sample Information'!B469","v":0},{"$f":"'Sample Information'!C469","v":"Bacteria culture"},{"$f":"'Sample Information'!$G$5","v":"00:00:00"}]
[469,{"$f":"'Sample Information'!$G$6","v":0},{"$f":"'Sample Information'!B470","v":0},{"$f":"'Sample Information'!C470","v":"Bacteria culture"},{"$f":"'Sample Information'!$G$5","v":"00:00:00"}]
[470,{"$f":"'Sample Information'!$G$6","v":0},{"$f":"'Sample Information'!B471","v":0},{"$f":"'Sample Information'!C471","v":"Bacteria culture"},{"$f":"'Sample Information'!$G$5","v":"00:00:00"}]
[471,{"$f":"'Sample Information'!$G$6","v":0},{"$f":"'Sample Information'!B472","v":0},{"$f":"'Sample Information'!C472","v":"Bacteria culture"},{"$f":"'Sample Information'!$G$5","v":"00:00:00"}]
[472,{"$f":"'Sample Information'!$G$6","v":0},{"$f":"'Sample Information'!B473","v":0},{"$f":"'Sample Information'!C473","v":"Bacteria culture"},{"$f":"'Sample Information'!$G$5","v":"00:00:00"}]
[473,{"$f":"'Sample Information'!$G$6","v":0},{"$f":"'Sample Information'!B474","v":0},{"$f":"'Sample Information'!C474","v":"Bacteria culture"},{"$f":"'Sample Information'!$G$5","v":"00:00:00"}]
[474,{"$f":"'Sample Information'!$G$6","v":0},{"$f":"'Sample Information'!B475","v":0},{"$f":"'Sample Information'!C475","v":"Bacteria culture"},{"$f":"'Sample Information'!$G$5","v":"00:00:00"}]
[475,{"$f":"'Sample Information'!$G$6","v":0},{"$f":"'Sample Information'!B476","v":0},{"$f":"'Sample Information'!C476","v":"Bacteria culture"},{"$f":"'Sample Information'!$G$5","v":"00:00:00"}]
[476,{"$f":"'Sample Information'!$G$6","v":0},{"$f":"'Sample Information'!B477","v":0},{"$f":"'Sample Information'!C477","v":"Bacteria culture"},{"$f":"'Sample Information'!$G$5","v":"00:00:00"}]
[477,{"$f":"'Sample Information'!$G$6","v":0},{"$f":"'Sample Information'!B478","v":0},{"$f":"'Sample Information'!C478","v":"Bacteria culture"},{"$f":"'Sample Information'!$G$5","v":"00:00:00"}]
[478,{"$f":"'Sample Information'!$G$6","v":0},{"$f":"'Sample Information'!B479","v":0},{"$f":"'Sample Information'!C479","v":"Bacteria culture"},{"$f":"'Sample Information'!$G$5","v":"00:00:00"}]
[479,{"$f":"'Sample Information'!$G$6","v":0},{"$f":"'Sample Information'!B480","v":0},{"$f":"'Sample Information'!C480","v":"Bacteria culture"},{"$f":"'Sample Information'!$G$5","v":"00:00:00"}]
[480,{"$f":"'Sample Information'!$G$6","v":0},{"$f":"'Sample Information'!B481","v":0},{"$f":"'Sample Information'!C481","v":"Bacteria culture"},{"$f":"'Sample Information'!$G$5","v":"00:00:00"}]
[481,{"$f":"'Sample Information'!$G$6","v":0},{"$f":"'Sample Information'!B482","v":0},{"$f":"'Sample Information'!C482","v":"Bacteria culture"},{"$f":"'Sample Information'!$G$5","v":"00:00:00"}]
[482,{"$f":"'Sample Information'!$G$6","v":0},{"$f":"'Sample Information'!B483","v":0},{"$f":"'Sample Information'!C483","v":"Bacteria culture"},{"$f":"'Sample Information'!$G$5","v":"00:00:00"}]
[483,{"$f":"'Sample Information'!$G$6","v":0},{"$f":"'Sample Information'!B484","v":0},{"$f":"'Sample Information'!C484","v":"Bacteria culture"},{"$f":"'Sample Information'!$G$5","v":"00:00:00"}]
[484,{"$f":"'Sample Information'!$G$6","v":0},{"$f":"'Sample Information'!B485","v":0},{"$f":"'Sample Information'!C485","v":"Bacteria culture"},{"$f":"'Sample Information'!$G$5","v":"00:00:00"}]
[485,{"$f":"'Sample Information'!$G$6","v":0},{"$f":"'Sample Information'!B486","v":0},{"$f":"'Sample Information'!C486","v":"Bacteria culture"},{"$f":"'Sample Information'!$G$5","v":"00:00:00"}]
[486,{"$f":"'Sample Information'!$G$6","v":0},{"$f":"'Sample Information'!B487","v":0},{"$f":"'Sample Information'!C487","v":"Bacteria culture"},{"$f":"'Sample Information'!$G$5","v":"00:00:00"}]
[487,{"$f":"'Sample Information'!$G$6","v":0},{"$f":"'Sample Information'!B488","v":0},{"$f":"'Sample Information'!C488","v":"Bacteria culture"},{"$f":"'Sample Information'!$G$5","v":"00:00:00"}]
[488,{"$f":"'Sample Information'!$G$6","v":0},{"$f":"'Sample Information'!B489","v":0},{"$f":"'Sample Information'!C489","v":"Bacteria culture"},{"$f":"'Sample Information'!$G$5","v":"00:00:00"}]
[489,{"$f":"'Sample Information'!$G$6","v":0},{"$f":"'Sample Information'!B490","v":0},{"$f":"'Sample Information'!C490","v":"Bacteria culture"},{"$f":"'Sample Information'!$G$5","v":"00:00:00"}]
[490,{"$f":"'Sample Information'!$G$6","v":0},{"$f":"'Sample Information'!B491","v":0},{"$f":"'Sample Information'!C491","v":"Bacteria culture"},{"$f":"'Sample Information'!$G$5","v":"00:00:00"}]
[491,{"$f":"'Sample Information'!$G$6","v":0},{"$f":"'Sample Information'!B492","v":0},{"$f":"'Sample Information'!C492","v":"Bacteria culture"},{"$f":"'Sample Information'!$G$5","v":"00:00:00"}]
[492,{"$f":"'Sample Information'!$G$6","v":0},{"$f":"'Sample Information'!B493","v":0},{"$f":"'Sample Information'!C493","v":"Bacteria culture"},{"$f":"'Sample Information'!$G$5","v":"00:00:00"}]
[493,{"$f":"'Sample Information'!$G$6","v":0},{"$f":"'Sample Information'!B494","v":0},{"$f":"'Sample Information'!C494","v":"Bacteria culture"},{"$f":"'Sample Information'!$G$5","v":"00:00:00"}]
[494,{"$f":"'Sample Information'!$G$6","v":0},{"$f":"'Sample Information'!B495","v":0},{"$f":"'Sample Information'!C495","v":"Bacteria culture"},{"$f":"'Sample Information'!$G$5","v":"00:00:00"}]
[495,{"$f":"'Sample Information'!$G$6","v":0},{"$f":"'Sample Information'!B496","v":0},{"$f":"'Sample Information'!C496","v":"Bacteria culture"},{"$f":"'Sample Information'!$G$5","v":"00:00:00"}]
[496,{"$f":"'Sample Information'!$G$6","v":0},{"$f":"'Sample Information'!B497","v":0},{"$f":"'Sample Information'!C497","v":"Bacteria culture"},{"$f":"'Sample Information'!$G$5","v":"00:00:00"}]
[497,{"$f":"'Sample Information'!$G$6","v":0},{"$f":"'Sample Information'!B498","v":0},{"$f":"'Sample Information'!C498","v":"Bacteria culture"},{"$f":"'Sample Information'!$G$5","v":"00:00:00"}]
[498,{"$f":"'Sample Information'!$G$6","v":0},{"$f":"'Sample Information'!B499","v":0},{"$f":"'Sample Information'!C499","v":"Bacteria culture"},{"$f":"'Sample Information'!$G$5","v":"00:00:00"}]
[499,{"$f":"'Sample Information'!$G$6","v":0},{"$f":"'Sample Information'!B500","v":0},{"$f":"'Sample Information'!C500","v":"Bacteria culture"},{"$f":"'Sample Information'!$G$5","v":"00:00:00"}]
[500,{"$f":"'Sample Information'!$G$6","v":0},{"$f":"'Sample Information'!B501","v":0},{"$f":"'Sample Information'!C501","v":"Bacteria culture"},{"$f":"'Sample Information'!$G$5","v":"00:00:00"}]
[501,{"$f":"'Sample Information'!$G$6","v":0},{"$f":"'Sample Information'!B502","v":0},{"$f":"'Sample Information'!C502","v":0},{"$f":"'Sample Information'!$G$5","v":"00:00:00"}]
[502,{"$f":"'Sample Information'!$G$6","v":0},{"$f":"'Sample Information'!B503","v":0},{"$f":"'Sample Information'!C503","v":0},{"$f":"'Sample Information'!$G$5","v":"00:00:00"}]
[503,{"$f":"'Sample Information'!$G$6","v":0},{"$f":"'Sample Information'!B504","v":0},{"$f":"'Sample Information'!C504","v":0},{"$f":"'Sample Information'!$G$5","v":"00:00:00"}]
[504,{"$f":"'Sample Information'!$G$6","v":0},{"$f":"'Sample Information'!B505","v":0},{"$f":"'Sample Information'!C505","v":0},{"$f":"'Sample Information'!$G$5","v":"00:00:00"}]
[505,{"$f":"'Sample Information'!$G$6","v":0},{"$f":"'Sample Information'!B506","v":0},{"$f":"'Sample Information'!C506","v":0},{"$f":"'Sample Information'!$G$5","v":"00:00:00"}]
[506,{"$f":"'Sample Information'!$G$6","v":0},{"$f":"'Sample Information'!B507","v":0},{"$f":"'Sample Information'!C507","v":0},{"$f":"'Sample Information'!$G$5","v":"00:00:00"}]
[507,{"$f":"'Sample Information'!$G$6","v":0},{"$f":"'Sample Information'!B508","v":0},{"$f":"'Sample Information'!C508","v":0},{"$f":"'Sample Information'!$G$5","v":"00:00:00"}]
[508,{"$f":"'Sample Information'!$G$6","v":0},{"$f":"'Sample Information'!B509","v":0},{"$f":"'Sample Information'!C509","v":0},{"$f":"'Sample Information'!$G$5","v":"00:00:00"}]
[509,{"$f":"'Sample Information'!$G$6","v":0},{"$f":"'Sample Information'!B510","v":0},{"$f":"'Sample Information'!C510","v":0},{"$f":"'Sample Information'!$G$5","v":"00:00:00"}]
[510,{"$f":"'Sample Information'!$G$6","v":0},{"$f":"'Sample Information'!B511","v":0},{"$f":"'Sample Information'!C511","v":0},{"$f":"'Sample Information'!$G$5","v":"00:00:00"}]
[511,{"$f":"'Sample Information'!$G$6","v":0},{"$f":"'Sample Information'!B512","v":0},{"$f":"'Sample Information'!C512","v":0},{"$f":"'Sample Information'!$G$5","v":"00:00:00"}]
[512,{"$f":"'Sample Information'!$G$6","v":0},{"$f":"'Sample Information'!B513","v":0},{"$f":"'Sample Information'!C513","v":0},{"$f":"'Sample Information'!$G$5","v":"00:00:00"}]
[513,{"$f":"'Sample Information'!$G$6","v":0},{"$f":"'Sample Information'!B514","v":0},{"$f":"'Sample Information'!C514","v":0},{"$f":"'Sample Information'!$G$5","v":"00:00:00"}]
[514,{"$f":"'Sample Information'!$G$6","v":0},{"$f":"'Sample Information'!B515","v":0},{"$f":"'Sample Information'!C515","v":0},{"$f":"'Sample Information'!$G$5","v":"00:00:00"}]
[515,{"$f":"'Sample Information'!$G$6","v":0},{"$f":"'Sample Information'!B516","v":0},{"$f":"'Sample Information'!C516","v":0},{"$f":"'Sample Information'!$G$5","v":"00:00:00"}]
[516,{"$f":"'Sample Information'!$G$6","v":0},{"$f":"'Sample Information'!B517","v":0},{"$f":"'Sample Information'!C517","v":0},{"$f":"'Sample Information'!$G$5","v":"00:00:00"}]
[517,{"$f":"'Sample Information'!$G$6","v":0},{"$f":"'Sample Information'!B518","v":0},{"$f":"'Sample Information'!C518","v":0},{"$f":"'Sample Information'!$G$5","v":"00:00:00"}]
[518,{"$f":"'Sample Information'!$G$6","v":0},{"$f":"'Sample Information'!B519","v":0},{"$f":"'Sample Information'!C519","v":0},{"$f":"'Sample Information'!$G$5","v":"00:00:00"}]
[519,{"$f":"'Sample Information'!$G$6","v":0},{"$f":"'Sample Information'!B520","v":0},{"$f":"'Sample Information'!C520","v":0},{"$f":"'Sample Information'!$G$5","v":"00:00:00"}]
[520,{"$f":"'Sample Information'!$G$6","v":0},{"$f":"'Sample Information'!B521","v":0},{"$f":"'Sample Information'!C521","v":0},{"$f":"'Sample Information'!$G$5","v":"00:00:00"}]
[521,{"$f":"'Sample Information'!$G$6","v":0},{"$f":"'Sample Information'!B522","v":0},{"$f":"'Sample Information'!C522","v":0},{"$f":"'Sample Information'!$G$5","v":"00:00:00"}]
[522,{"$f":"'Sample Information'!$G$6","v":0},{"$f":"'Sample Information'!B523","v":0},{"$f":"'Sample Information'!C523","v":0},{"$f":"'Sample Information'!$G$5","v":"00:00:00"}]
[523,{"$f":"'Sample Information'!$G$6","v":0},{"$f":"'Sample Information'!B524","v":0},{"$f":"'Sample Information'!C524","v":0},{"$f":"'Sample Information'!$G$5","v":"00:00:00"}]
[524,{"$f":"'Sample Information'!$G$6","v":0},{"$f":"'Sample Information'!B525","v":0},{"$f":"'Sample Information'!C525","v":0},{"$f":"'Sample Information'!$G$5","v":"00:00:00"}]
[525,{"$f":"'Sample Information'!$G$6","v":0},{"$f":"'Sample Information'!B526","v":0},{"$f":"'Sample Information'!C526","v":0},{"$f":"'Sample Information'!$G$5","v":"00:00:00"}]
[526,{"$f":"'Sample Information'!$G$6","v":0},{"$f":"'Sample Information'!B527","v":0},{"$f":"'Sample Information'!C527","v":0},{"$f":"'Sample Information'!$G$5","v":"00:00:00"}]
[527,{"$f":"'Sample Information'!$G$6","v":0},{"$f":"'Sample Information'!B528","v":0},{"$f":"'Sample Information'!C528","v":0},{"$f":"'Sample Information'!$G$5","v":"00:00:00"}]
[528,{"$f":"'Sample Information'!$G$6","v":0},{"$f":"'Sample Information'!B529","v":0},{"$f":"'Sample Information'!C529","v":0},{"$f":"'Sample Information'!$G$5","v":"00:00:00"}]
[529,{"$f":"'Sample Information'!$G$6","v":0},{"$f":"'Sample Information'!B530","v":0},{"$f":"'Sample Information'!C530","v":0},{"$f":"'Sample Information'!$G$5","v":"00:00:00"}]
[530,{"$f":"'Sample Information'!$G$6","v":0},{"$f":"'Sample Information'!B531","v":0},{"$f":"'Sample Information'!C531","v":0},{"$f":"'Sample Information'!$G$5","v":"00:00:00"}]
[531,{"$f":"'Sample Information'!$G$6","v":0},{"$f":"'Sample Information'!B532","v":0},{"$f":"'Sample Information'!C532","v":0},{"$f":"'Sample Information'!$G$5","v":"00:00:00"}]
[532,{"$f":"'Sample Information'!$G$6","v":0},{"$f":"'Sample Information'!B533","v":0},{"$f":"'Sample Information'!C533","v":0},{"$f":"'Sample Information'!$G$5","v":"00:00:00"}]
[533,{"$f":"'Sample Information'!$G$6","v":0},{"$f":"'Sample Information'!B534","v":0},{"$f":"'Sample Information'!C534","v":0},{"$f":"'Sample Information'!$G$5","v":"00:00:00"}]
[534,{"$f":"'Sample Information'!$G$6","v":0},{"$f":"'Sample Information'!B535","v":0},{"$f":"'Sample Information'!C535","v":0},{"$f":"'Sample Information'!$G$5","v":"00:00:00"}]
[535,{"$f":"'Sample Information'!$G$6","v":0},{"$f":"'Sample Information'!B536","v":0},{"$f":"'Sample Information'!C536","v":0},{"$f":"'Sample Information'!$G$5","v":"00:00:00"}]
[536,{"$f":"'Sample Information'!$G$6","v":0},{"$f":"'Sample Information'!B537","v":0},{"$f":"'Sample Information'!C537","v":0},{"$f":"'Sample Information'!$G$5","v":"00:00:00"}]
[537,{"$f":"'Sample Information'!$G$6","v":0},{"$f":"'Sample Information'!B538","v":0},{"$f":"'Sample Information'!C538","v":0},{"$f":"'Sample Information'!$G$5","v":"00:00:00"}]
[538,{"$f":"'Sample Information'!$G$6","v":0},{"$f":"'Sample Information'!B539","v":0},{"$f":"'Sample Information'!C539","v":0},{"$f":"'Sample Information'!$G$5","v":"00:00:00"}]
[539,{"$f":"'Sample Information'!$G$6","v":0},{"$f":"'Sample Information'!B540","v":0},{"$f":"'Sample Information'!C540","v":0},{"$f":"'Sample Information'!$G$5","v":"00:00:00"}]
[540,{"$f":"'Sample Information'!$G$6","v":0},{"$f":"'Sample Information'!B541","v":0},{"$f":"'Sample Information'!C541","v":0},{"$f":"'Sample Information'!$G$5","v":"00:00:00"}]
[541,{"$f":"'Sample Information'!$G$6","v":0},{"$f":"'Sample Information'!B542","v":0},{"$f":"'Sample Information'!C542","v":0},{"$f":"'Sample Information'!$G$5","v":"00:00:00"}]
[542,{"$f":"'Sample Information'!$G$6","v":0},{"$f":"'Sample Information'!B543","v":0},{"$f":"'Sample Information'!C543","v":0},{"$f":"'Sample Information'!$G$5","v":"00:00:00"}]
[543,{"$f":"'Sample Information'!$G$6","v":0},{"$f":"'Sample Information'!B544","v":0},{"$f":"'Sample Information'!C544","v":0},{"$f":"'Sample Information'!$G$5","v":"00:00:00"}]
[544,{"$f":"'Sample Information'!$G$6","v":0},{"$f":"'Sample Information'!B545","v":0},{"$f":"'Sample Information'!C545","v":0},{"$f":"'Sample Information'!$G$5","v":"00:00:00"}]
[545,{"$f":"'Sample Information'!$G$6","v":0},{"$f":"'Sample Information'!B546","v":0},{"$f":"'Sample Information'!C546","v":0},{"$f":"'Sample Information'!$G$5","v":"00:00:00"}]
[546,{"$f":"'Sample Information'!$G$6","v":0},{"$f":"'Sample Information'!B547","v":0},{"$f":"'Sample Information'!C547","v":0},{"$f":"'Sample Information'!$G$5","v":"00:00:00"}]
[547,{"$f":"'Sample Information'!$G$6","v":0},{"$f":"'Sample Information'!B548","v":0},{"$f":"'Sample Information'!C548","v":0},{"$f":"'Sample Information'!$G$5","v":"00:00:00"}]
[548,{"$f":"'Sample Information'!$G$6","v":0},{"$f":"'Sample Information'!B549","v":0},{"$f":"'Sample Information'!C549","v":0},{"$f":"'Sample Information'!$G$5","v":"00:00:00"}]
[549,{"$f":"'Sample Information'!$G$6","v":0},{"$f":"'Sample Information'!B550","v":0},{"$f":"'Sample Information'!C550","v":0},{"$f":"'Sample Information'!$G$5","v":"00:00:00"}]
[550,{"$f":"'Sample Information'!$G$6","v":0},{"$f":"'Sample Information'!B551","v":0},{"$f":"'Sample Information'!C551","v":0},{"$f":"'Sample Information'!$G$5","v":"00:00:00"}]
[551,{"$f":"'Sample Information'!$G$6","v":0},{"$f":"'Sample Information'!B552","v":0},{"$f":"'Sample Information'!C552","v":0},{"$f":"'Sample Information'!$G$5","v":"00:00:00"}]
[552,{"$f":"'Sample Information'!$G$6","v":0},{"$f":"'Sample Information'!B553","v":0},{"$f":"'Sample Information'!C553","v":0},{"$f":"'Sample Information'!$G$5","v":"00:00:00"}]
[553,{"$f":"'Sample Information'!$G$6","v":0},{"$f":"'Sample Information'!B554","v":0},{"$f":"'Sample Information'!C554","v":0},{"$f":"'Sample Information'!$G$5","v":"00:00:00"}]
[554,{"$f":"'Sample Information'!$G$6","v":0},{"$f":"'Sample Information'!B555","v":0},{"$f":"'Sample Information'!C555","v":0},{"$f":"'Sample Information'!$G$5","v":"00:00:00"}]
[555,{"$f":"'Sample Information'!$G$6","v":0},{"$f":"'Sample Information'!B556","v":0},{"$f":"'Sample Information'!C556","v":0},{"$f":"'Sample Information'!$G$5","v":"00:00:00"}]
[556,{"$f":"'Sample Information'!$G$6","v":0},{"$f":"'Sample Information'!B557","v":0},{"$f":"'Sample Information'!C557","v":0},{"$f":"'Sample Information'!$G$5","v":"00:00:00"}]
[557,{"$f":"'Sample Information'!$G$6","v":0},{"$f":"'Sample Information'!B558","v":0},{"$f":"'Sample Information'!C558","v":0},{"$f":"'Sample Information'!$G$5","v":"00:00:00"}]
[558,{"$f":"'Sample Information'!$G$6","v":0},{"$f":"'Sample Information'!B559","v":0},{"$f":"'Sample Information'!C559","v":0},{"$f":"'Sample Information'!$G$5","v":"00:00:00"}]
[559,{"$f":"'Sample Information'!$G$6","v":0},{"$f":"'Sample Information'!B560","v":0},{"$f":"'Sample Information'!C560","v":0},{"$f":"'Sample Information'!$G$5","v":"00:00:00"}]
[560,{"$f":"'Sample Information'!$G$6","v":0},{"$f":"'Sample Information'!B561","v":0},{"$f":"'Sample Information'!C561","v":0},{"$f":"'Sample Information'!$G$5","v":"00:00:00"}]
[561,{"$f":"'Sample Information'!$G$6","v":0},{"$f":"'Sample Information'!B562","v":0},{"$f":"'Sample Information'!C562","v":0},{"$f":"'Sample Information'!$G$5","v":"00:00:00"}]
[562,{"$f":"'Sample Information'!$G$6","v":0},{"$f":"'Sample Information'!B563","v":0},{"$f":"'Sample Information'!C563","v":0},{"$f":"'Sample Information'!$G$5","v":"00:00:00"}]
[563,{"$f":"'Sample Information'!$G$6","v":0},{"$f":"'Sample Information'!B564","v":0},{"$f":"'Sample Information'!C564","v":0},{"$f":"'Sample Information'!$G$5","v":"00:00:00"}]
[564,{"$f":"'Sample Information'!$G$6","v":0},{"$f":"'Sample Information'!B565","v":0},{"$f":"'Sample Information'!C565","v":0},{"$f":"'Sample Information'!$G$5","v":"00:00:00"}]
[565,{"$f":"'Sample Information'!$G$6","v":0},{"$f":"'Sample Information'!B566","v":0},{"$f":"'Sample Information'!C566","v":0},{"$f":"'Sample Information'!$G$5","v":"00:00:00"}]
[566,{"$f":"'Sample Information'!$G$6","v":0},{"$f":"'Sample Information'!B567","v":0},{"$f":"'Sample Information'!C567","v":0},{"$f":"'Sample Information'!$G$5","v":"00:00:00"}]
[567,{"$f":"'Sample Information'!$G$6","v":0},{"$f":"'Sample Information'!B568","v":0},{"$f":"'Sample Information'!C568","v":0},{"$f":"'Sample Information'!$G$5","v":"00:00:00"}]
[568,{"$f":"'Sample Information'!$G$6","v":0},{"$f":"'Sample Information'!B569","v":0},{"$f":"'Sample Information'!C569","v":0},{"$f":"'Sample Information'!$G$5","v":"00:00:00"}]
[569,{"$f":"'Sample Information'!$G$6","v":0},{"$f":"'Sample Information'!B570","v":0},{"$f":"'Sample Information'!C570","v":0},{"$f":"'Sample Information'!$G$5","v":"00:00:00"}]
[570,{"$f":"'Sample Information'!$G$6","v":0},{"$f":"'Sample Information'!B571","v":0},{"$f":"'Sample Information'!C571","v":0},{"$f":"'Sample Information'!$G$5","v":"00:00:00"}]
[571,{"$f":"'Sample Information'!$G$6","v":0},{"$f":"'Sample Information'!B572","v":0},{"$f":"'Sample Information'!C572","v":0},{"$f":"'Sample Information'!$G$5","v":"00:00:00"}]
[572,{"$f":"'Sample Information'!$G$6","v":0},{"$f":"'Sample Information'!B573","v":0},{"$f":"'Sample Information'!C573","v":0},{"$f":"'Sample Information'!$G$5","v":"00:00:00"}]
[573,{"$f":"'Sample Information'!$G$6","v":0},{"$f":"'Sample Information'!B574","v":0},{"$f":"'Sample Information'!C574","v":0},{"$f":"'Sample Information'!$G$5","v":"00:00:00"}]
[574,{"$f":"'Sample Information'!$G$6","v":0},{"$f":"'Sample Information'!B575","v":0},{"$f":"'Sample Information'!C575","v":0},{"$f":"'Sample Information'!$G$5","v":"00:00:00"}]
[575,{"$f":"'Sample Information'!$G$6","v":0},{"$f":"'Sample Information'!B576","v":0},{"$f":"'Sample Information'!C576","v":0},{"$f":"'Sample Information'!$G$5","v":"00:00:00"}]
[576,{"$f":"'Sample Information'!$G$6","v":0},{"$f":"'Sample Information'!B577","v":0},{"$f":"'Sample Information'!C577","v":0},{"$f":"'Sample Information'!$G$5","v":"00:00:00"}]

{"sheet":"Processing Record","index":4,"n_rows":501,"n_cols":23,"rows_kept":501,"cut":false,"hidden":true,"merged":[]}
[null,"Sample_ID\n(Max. 10 characters)","Sample DNA_ID","Sample_Type","*Concentration by Nanodrop (ng/ul)","Elution Volume (ul)","Elution Buffer ","Nucleic Acid Quantity (ug)","A260/280","A260/230","Species","RIN Value                             (For RNA Sample Only)","Gel-photo                             ","Concentration by Qubit (ng/ul)","iLab Service ID","Submission Date","Reference_ID","Extraction_Date","Extraction Protocol","Operator","Qubit/Nanodrop %","Remarks","*Concentration measured by NanoDrop™ One (A320 adjustment inclusive)"]
[{"$f":"'Sample Information'!A2","v":1},{"$f":"'Sample Information'!B2","v":0},{"$f":"CONCATENATE(B2,\"-DNA\")","v":"0-DNA"},{"$f":"'Sample Information'!E2","v":0},{"$f":"IF(VLOOKUP($C2, 'Nanodrop Data Raw'!$C:$L, 10, FALSE)<>\"\", VLOOKUP($C2, 'Nanodrop Data Raw'!$C:$L, 10, FALSE), VLOOKUP($C2, 'Nanodrop Data Raw'!$C:$L, 2, FALSE))","v":{"$error":"#N/A"}},60,"AVE",{"$f":"E2*F2/1000","v":{"$error":"#N/A"}},{"$f":"VLOOKUP($C2, 'Nanodrop Data Raw'!$C:$L, 3, FALSE)","v":{"$error":"#N/A"}},{"$f":"VLOOKUP($C2, 'Nanodrop Data Raw'!$C:$L, 4, FALSE)","v":{"$error":"#N/A"}},null,null,null,null,{"$f":"'Sample Information'!$G$6","v":0},{"$f":"'Sample Information'!$G$5","v":0},null,null,{"$f":"'Sample Information'!$G$7","v":"Virus Pathogen Midi Kit, Complex_400_V4_DSP_Default_IC"},null,{"$f":"$O2/$E2","v":{"$error":"#N/A"}}]
[{"$f":"'Sample Information'!A3","v":2},{"$f":"'Sample Information'!B3","v":0},{"$f":"CONCATENATE(B3,\"-DNA\")","v":"0-DNA"},{"$f":"'Sample Information'!E3","v":0},{"$f":"IF(VLOOKUP($C3, 'Nanodrop Data Raw'!$C:$L, 10, FALSE)<>\"\", VLOOKUP($C3, 'Nanodrop Data Raw'!$C:$L, 10, FALSE), VLOOKUP($C3, 'Nanodrop Data Raw'!$C:$L, 2, FALSE))","v":{"$error":"#N/A"}},60,"AVE",{"$f":"E3*F3/1000","v":{"$error":"#N/A"}},{"$f":"VLOOKUP($C3, 'Nanodrop Data Raw'!$C:$L, 3, FALSE)","v":{"$error":"#N/A"}},{"$f":"VLOOKUP($C3, 'Nanodrop Data Raw'!$C:$L, 4, FALSE)","v":{"$error":"#N/A"}},null,null,null,null,{"$f":"'Sample Information'!$G$6","v":0},{"$f":"'Sample Information'!$G$5","v":0},null,null,{"$f":"'Sample Information'!$G$7","v":"Virus Pathogen Midi Kit, Complex_400_V4_DSP_Default_IC"},null,{"$f":"$O3/$E3","v":{"$error":"#N/A"}}]
[{"$f":"'Sample Information'!A4","v":3},{"$f":"'Sample Information'!B4","v":0},"0-DNA",{"$f":"'Sample Information'!E4","v":0},{"$f":"IF(VLOOKUP($C4, 'Nanodrop Data Raw'!$C:$L, 10, FALSE)<>\"\", VLOOKUP($C4, 'Nanodrop Data Raw'!$C:$L, 10, FALSE), VLOOKUP($C4, 'Nanodrop Data Raw'!$C:$L, 2, FALSE))","v":{"$error":"#N/A"}},60,"AVE",{"$error":"#N/A"},{"$f":"VLOOKUP($C4, 'Nanodrop Data Raw'!$C:$L, 3, FALSE)","v":{"$error":"#N/A"}},{"$f":"VLOOKUP($C4, 'Nanodrop Data Raw'!$C:$L, 4, FALSE)","v":{"$error":"#N/A"}},null,null,null,null,{"$f":"'Sample Information'!$G$6","v":0},{"$f":"'Sample Information'!$G$5","v":0},null,null,{"$f":"'Sample Information'!$G$7","v":"Virus Pathogen Midi Kit, Complex_400_V4_DSP_Default_IC"},null,{"$error":"#N/A"}]
[{"$f":"'Sample Information'!A5","v":4},{"$f":"'Sample Information'!B5","v":0},"0-DNA",{"$f":"'Sample Information'!E5","v":0},{"$f":"IF(VLOOKUP($C5, 'Nanodrop Data Raw'!$C:$L, 10, FALSE)<>\"\", VLOOKUP($C5, 'Nanodrop Data Raw'!$C:$L, 10, FALSE), VLOOKUP($C5, 'Nanodrop Data Raw'!$C:$L, 2, FALSE))","v":{"$error":"#N/A"}},60,"AVE",{"$error":"#N/A"},{"$f":"VLOOKUP($C5, 'Nanodrop Data Raw'!$C:$L, 3, FALSE)","v":{"$error":"#N/A"}},{"$f":"VLOOKUP($C5, 'Nanodrop Data Raw'!$C:$L, 4, FALSE)","v":{"$error":"#N/A"}},null,null,null,null,{"$f":"'Sample Information'!$G$6","v":0},{"$f":"'Sample Information'!$G$5","v":0},null,null,{"$f":"'Sample Information'!$G$7","v":"Virus Pathogen Midi Kit, Complex_400_V4_DSP_Default_IC"},null,{"$error":"#N/A"}]
[{"$f":"'Sample Information'!A6","v":5},{"$f":"'Sample Information'!B6","v":0},"0-DNA",{"$f":"'Sample Information'!E6","v":0},{"$f":"IF(VLOOKUP($C6, 'Nanodrop Data Raw'!$C:$L, 10, FALSE)<>\"\", VLOOKUP($C6, 'Nanodrop Data Raw'!$C:$L, 10, FALSE), VLOOKUP($C6, 'Nanodrop Data Raw'!$C:$L, 2, FALSE))","v":{"$error":"#N/A"}},60,"AVE",{"$error":"#N/A"},{"$f":"VLOOKUP($C6, 'Nanodrop Data Raw'!$C:$L, 3, FALSE)","v":{"$error":"#N/A"}},{"$f":"VLOOKUP($C6, 'Nanodrop Data Raw'!$C:$L, 4, FALSE)","v":{"$error":"#N/A"}},null,null,null,null,{"$f":"'Sample Information'!$G$6","v":0},{"$f":"'Sample Information'!$G$5","v":0},null,null,{"$f":"'Sample Information'!$G$7","v":"Virus Pathogen Midi Kit, Complex_400_V4_DSP_Default_IC"},null,{"$error":"#N/A"}]
[{"$f":"'Sample Information'!A7","v":6},{"$f":"'Sample Information'!B7","v":0},"0-DNA",{"$f":"'Sample Information'!E7","v":0},{"$f":"IF(VLOOKUP($C7, 'Nanodrop Data Raw'!$C:$L, 10, FALSE)<>\"\", VLOOKUP($C7, 'Nanodrop Data Raw'!$C:$L, 10, FALSE), VLOOKUP($C7, 'Nanodrop Data Raw'!$C:$L, 2, FALSE))","v":{"$error":"#N/A"}},60,"AVE",{"$error":"#N/A"},{"$f":"VLOOKUP($C7, 'Nanodrop Data Raw'!$C:$L, 3, FALSE)","v":{"$error":"#N/A"}},{"$f":"VLOOKUP($C7, 'Nanodrop Data Raw'!$C:$L, 4, FALSE)","v":{"$error":"#N/A"}},null,null,null,null,{"$f":"'Sample Information'!$G$6","v":0},{"$f":"'Sample Information'!$G$5","v":0},null,null,{"$f":"'Sample Information'!$G$7","v":"Virus Pathogen Midi Kit, Complex_400_V4_DSP_Default_IC"},null,{"$error":"#N/A"}]
[{"$f":"'Sample Information'!A8","v":7},{"$f":"'Sample Information'!B8","v":0},"0-DNA",{"$f":"'Sample Information'!E8","v":0},{"$f":"IF(VLOOKUP($C8, 'Nanodrop Data Raw'!$C:$L, 10, FALSE)<>\"\", VLOOKUP($C8, 'Nanodrop Data Raw'!$C:$L, 10, FALSE), VLOOKUP($C8, 'Nanodrop Data Raw'!$C:$L, 2, FALSE))","v":{"$error":"#N/A"}},60,"AVE",{"$error":"#N/A"},{"$f":"VLOOKUP($C8, 'Nanodrop Data Raw'!$C:$L, 3, FALSE)","v":{"$error":"#N/A"}},{"$f":"VLOOKUP($C8, 'Nanodrop Data Raw'!$C:$L, 4, FALSE)","v":{"$error":"#N/A"}},null,null,null,null,{"$f":"'Sample Information'!$G$6","v":0},{"$f":"'Sample Information'!$G$5","v":0},null,null,{"$f":"'Sample Information'!$G$7","v":"Virus Pathogen Midi Kit, Complex_400_V4_DSP_Default_IC"},null,{"$error":"#N/A"}]
[{"$f":"'Sample Information'!A9","v":8},{"$f":"'Sample Information'!B9","v":0},"0-DNA",{"$f":"'Sample Information'!E9","v":0},{"$f":"IF(VLOOKUP($C9, 'Nanodrop Data Raw'!$C:$L, 10, FALSE)<>\"\", VLOOKUP($C9, 'Nanodrop Data Raw'!$C:$L, 10, FALSE), VLOOKUP($C9, 'Nanodrop Data Raw'!$C:$L, 2, FALSE))","v":{"$error":"#N/A"}},60,"AVE",{"$error":"#N/A"},{"$f":"VLOOKUP($C9, 'Nanodrop Data Raw'!$C:$L, 3, FALSE)","v":{"$error":"#N/A"}},{"$f":"VLOOKUP($C9, 'Nanodrop Data Raw'!$C:$L, 4, FALSE)","v":{"$error":"#N/A"}},null,null,null,null,{"$f":"'Sample Information'!$G$6","v":0},{"$f":"'Sample Information'!$G$5","v":0},null,null,{"$f":"'Sample Information'!$G$7","v":"Virus Pathogen Midi Kit, Complex_400_V4_DSP_Default_IC"},null,{"$error":"#N/A"}]
[{"$f":"'Sample Information'!A10","v":9},{"$f":"'Sample Information'!B10","v":0},"0-DNA",{"$f":"'Sample Information'!E10","v":0},{"$f":"IF(VLOOKUP($C10, 'Nanodrop Data Raw'!$C:$L, 10, FALSE)<>\"\", VLOOKUP($C10, 'Nanodrop Data Raw'!$C:$L, 10, FALSE), VLOOKUP($C10, 'Nanodrop Data Raw'!$C:$L, 2, FALSE))","v":{"$error":"#N/A"}},60,"AVE",{"$error":"#N/A"},{"$f":"VLOOKUP($C10, 'Nanodrop Data Raw'!$C:$L, 3, FALSE)","v":{"$error":"#N/A"}},{"$f":"VLOOKUP($C10, 'Nanodrop Data Raw'!$C:$L, 4, FALSE)","v":{"$error":"#N/A"}},null,null,null,null,{"$f":"'Sample Information'!$G$6","v":0},{"$f":"'Sample Information'!$G$5","v":0},null,null,{"$f":"'Sample Information'!$G$7","v":"Virus Pathogen Midi Kit, Complex_400_V4_DSP_Default_IC"},null,{"$error":"#N/A"}]
[{"$f":"'Sample Information'!A11","v":10},{"$f":"'Sample Information'!B11","v":0},"0-DNA",{"$f":"'Sample Information'!E11","v":0},{"$f":"IF(VLOOKUP($C11, 'Nanodrop Data Raw'!$C:$L, 10, FALSE)<>\"\", VLOOKUP($C11, 'Nanodrop Data Raw'!$C:$L, 10, FALSE), VLOOKUP($C11, 'Nanodrop Data Raw'!$C:$L, 2, FALSE))","v":{"$error":"#N/A"}},60,"AVE",{"$error":"#N/A"},{"$f":"VLOOKUP($C11, 'Nanodrop Data Raw'!$C:$L, 3, FALSE)","v":{"$error":"#N/A"}},{"$f":"VLOOKUP($C11, 'Nanodrop Data Raw'!$C:$L, 4, FALSE)","v":{"$error":"#N/A"}},null,null,null,null,{"$f":"'Sample Information'!$G$6","v":0},{"$f":"'Sample Information'!$G$5","v":0},null,null,{"$f":"'Sample Information'!$G$7","v":"Virus Pathogen Midi Kit, Complex_400_V4_DSP_Default_IC"},null,{"$error":"#N/A"}]
[{"$f":"'Sample Information'!A12","v":11},{"$f":"'Sample Information'!B12","v":0},"0-DNA",{"$f":"'Sample Information'!E12","v":0},{"$f":"IF(VLOOKUP($C12, 'Nanodrop Data Raw'!$C:$L, 10, FALSE)<>\"\", VLOOKUP($C12, 'Nanodrop Data Raw'!$C:$L, 10, FALSE), VLOOKUP($C12, 'Nanodrop Data Raw'!$C:$L, 2, FALSE))","v":{"$error":"#N/A"}},60,"AVE",{"$error":"#N/A"},{"$f":"VLOOKUP($C12, 'Nanodrop Data Raw'!$C:$L, 3, FALSE)","v":{"$error":"#N/A"}},{"$f":"VLOOKUP($C12, 'Nanodrop Data Raw'!$C:$L, 4, FALSE)","v":{"$error":"#N/A"}},null,null,null,null,{"$f":"'Sample Information'!$G$6","v":0},{"$f":"'Sample Information'!$G$5","v":0},null,null,{"$f":"'Sample Information'!$G$7","v":"Virus Pathogen Midi Kit, Complex_400_V4_DSP_Default_IC"},null,{"$error":"#N/A"}]
[{"$f":"'Sample Information'!A13","v":12},{"$f":"'Sample Information'!B13","v":0},"0-DNA",{"$f":"'Sample Information'!E13","v":0},{"$f":"IF(VLOOKUP($C13, 'Nanodrop Data Raw'!$C:$L, 10, FALSE)<>\"\", VLOOKUP($C13, 'Nanodrop Data Raw'!$C:$L, 10, FALSE), VLOOKUP($C13, 'Nanodrop Data Raw'!$C:$L, 2, FALSE))","v":{"$error":"#N/A"}},60,"AVE",{"$error":"#N/A"},{"$f":"VLOOKUP($C13, 'Nanodrop Data Raw'!$C:$L, 3, FALSE)","v":{"$error":"#N/A"}},{"$f":"VLOOKUP($C13, 'Nanodrop Data Raw'!$C:$L, 4, FALSE)","v":{"$error":"#N/A"}},null,null,null,null,{"$f":"'Sample Information'!$G$6","v":0},{"$f":"'Sample Information'!$G$5","v":0},null,null,{"$f":"'Sample Information'!$G$7","v":"Virus Pathogen Midi Kit, Complex_400_V4_DSP_Default_IC"},null,{"$error":"#N/A"}]
[{"$f":"'Sample Information'!A14","v":13},{"$f":"'Sample Information'!B14","v":0},"0-DNA",{"$f":"'Sample Information'!E14","v":0},{"$f":"IF(VLOOKUP($C14, 'Nanodrop Data Raw'!$C:$L, 10, FALSE)<>\"\", VLOOKUP($C14, 'Nanodrop Data Raw'!$C:$L, 10, FALSE), VLOOKUP($C14, 'Nanodrop Data Raw'!$C:$L, 2, FALSE))","v":{"$error":"#N/A"}},60,"AVE",{"$error":"#N/A"},{"$f":"VLOOKUP($C14, 'Nanodrop Data Raw'!$C:$L, 3, FALSE)","v":{"$error":"#N/A"}},{"$f":"VLOOKUP($C14, 'Nanodrop Data Raw'!$C:$L, 4, FALSE)","v":{"$error":"#N/A"}},null,null,null,null,{"$f":"'Sample Information'!$G$6","v":0},{"$f":"'Sample Information'!$G$5","v":0},null,null,{"$f":"'Sample Information'!$G$7","v":"Virus Pathogen Midi Kit, Complex_400_V4_DSP_Default_IC"},null,{"$error":"#N/A"}]
[{"$f":"'Sample Information'!A15","v":14},{"$f":"'Sample Information'!B15","v":0},"0-DNA",{"$f":"'Sample Information'!E15","v":0},{"$f":"IF(VLOOKUP($C15, 'Nanodrop Data Raw'!$C:$L, 10, FALSE)<>\"\", VLOOKUP($C15, 'Nanodrop Data Raw'!$C:$L, 10, FALSE), VLOOKUP($C15, 'Nanodrop Data Raw'!$C:$L, 2, FALSE))","v":{"$error":"#N/A"}},60,"AVE",{"$error":"#N/A"},{"$f":"VLOOKUP($C15, 'Nanodrop Data Raw'!$C:$L, 3, FALSE)","v":{"$error":"#N/A"}},{"$f":"VLOOKUP($C15, 'Nanodrop Data Raw'!$C:$L, 4, FALSE)","v":{"$error":"#N/A"}},null,null,null,null,{"$f":"'Sample Information'!$G$6","v":0},{"$f":"'Sample Information'!$G$5","v":0},null,null,{"$f":"'Sample Information'!$G$7","v":"Virus Pathogen Midi Kit, Complex_400_V4_DSP_Default_IC"},null,{"$error":"#N/A"}]
[{"$f":"'Sample Information'!A16","v":15},{"$f":"'Sample Information'!B16","v":0},"0-DNA",{"$f":"'Sample Information'!E16","v":0},{"$f":"IF(VLOOKUP($C16, 'Nanodrop Data Raw'!$C:$L, 10, FALSE)<>\"\", VLOOKUP($C16, 'Nanodrop Data Raw'!$C:$L, 10, FALSE), VLOOKUP($C16, 'Nanodrop Data Raw'!$C:$L, 2, FALSE))","v":{"$error":"#N/A"}},60,"AVE",{"$error":"#N/A"},{"$f":"VLOOKUP($C16, 'Nanodrop Data Raw'!$C:$L, 3, FALSE)","v":{"$error":"#N/A"}},{"$f":"VLOOKUP($C16, 'Nanodrop Data Raw'!$C:$L, 4, FALSE)","v":{"$error":"#N/A"}},null,null,null,null,{"$f":"'Sample Information'!$G$6","v":0},{"$f":"'Sample Information'!$G$5","v":0},null,null,{"$f":"'Sample Information'!$G$7","v":"Virus Pathogen Midi Kit, Complex_400_V4_DSP_Default_IC"},null,{"$error":"#N/A"}]
[{"$f":"'Sample Information'!A17","v":16},{"$f":"'Sample Information'!B17","v":0},"0-DNA",{"$f":"'Sample Information'!E17","v":0},{"$f":"IF(VLOOKUP($C17, 'Nanodrop Data Raw'!$C:$L, 10, FALSE)<>\"\", VLOOKUP($C17, 'Nanodrop Data Raw'!$C:$L, 10, FALSE), VLOOKUP($C17, 'Nanodrop Data Raw'!$C:$L, 2, FALSE))","v":{"$error":"#N/A"}},60,"AVE",{"$error":"#N/A"},{"$f":"VLOOKUP($C17, 'Nanodrop Data Raw'!$C:$L, 3, FALSE)","v":{"$error":"#N/A"}},{"$f":"VLOOKUP($C17, 'Nanodrop Data Raw'!$C:$L, 4, FALSE)","v":{"$error":"#N/A"}},null,null,null,null,{"$f":"'Sample Information'!$G$6","v":0},{"$f":"'Sample Information'!$G$5","v":0},null,null,{"$f":"'Sample Information'!$G$7","v":"Virus Pathogen Midi Kit, Complex_400_V4_DSP_Default_IC"},null,{"$error":"#N/A"}]
[{"$f":"'Sample Information'!A18","v":17},{"$f":"'Sample Information'!B18","v":0},"0-DNA",{"$f":"'Sample Information'!E18","v":0},{"$f":"IF(VLOOKUP($C18, 'Nanodrop Data Raw'!$C:$L, 10, FALSE)<>\"\", VLOOKUP($C18, 'Nanodrop Data Raw'!$C:$L, 10, FALSE), VLOOKUP($C18, 'Nanodrop Data Raw'!$C:$L, 2, FALSE))","v":{"$error":"#N/A"}},60,"AVE",{"$error":"#N/A"},{"$f":"VLOOKUP($C18, 'Nanodrop Data Raw'!$C:$L, 3, FALSE)","v":{"$error":"#N/A"}},{"$f":"VLOOKUP($C18, 'Nanodrop Data Raw'!$C:$L, 4, FALSE)","v":{"$error":"#N/A"}},null,null,null,null,{"$f":"'Sample Information'!$G$6","v":0},{"$f":"'Sample Information'!$G$5","v":0},null,null,{"$f":"'Sample Information'!$G$7","v":"Virus Pathogen Midi Kit, Complex_400_V4_DSP_Default_IC"},null,{"$error":"#N/A"}]
[{"$f":"'Sample Information'!A19","v":18},{"$f":"'Sample Information'!B19","v":0},"0-DNA",{"$f":"'Sample Information'!E19","v":0},{"$f":"IF(VLOOKUP($C19, 'Nanodrop Data Raw'!$C:$L, 10, FALSE)<>\"\", VLOOKUP($C19, 'Nanodrop Data Raw'!$C:$L, 10, FALSE), VLOOKUP($C19, 'Nanodrop Data Raw'!$C:$L, 2, FALSE))","v":{"$error":"#N/A"}},60,"AVE",{"$error":"#N/A"},{"$f":"VLOOKUP($C19, 'Nanodrop Data Raw'!$C:$L, 3, FALSE)","v":{"$error":"#N/A"}},{"$f":"VLOOKUP($C19, 'Nanodrop Data Raw'!$C:$L, 4, FALSE)","v":{"$error":"#N/A"}},null,null,null,null,{"$f":"'Sample Information'!$G$6","v":0},{"$f":"'Sample Information'!$G$5","v":0},null,null,{"$f":"'Sample Information'!$G$7","v":"Virus Pathogen Midi Kit, Complex_400_V4_DSP_Default_IC"},null,{"$error":"#N/A"}]
[{"$f":"'Sample Information'!A20","v":19},{"$f":"'Sample Information'!B20","v":0},"0-DNA",{"$f":"'Sample Information'!E20","v":0},{"$f":"IF(VLOOKUP($C20, 'Nanodrop Data Raw'!$C:$L, 10, FALSE)<>\"\", VLOOKUP($C20, 'Nanodrop Data Raw'!$C:$L, 10, FALSE), VLOOKUP($C20, 'Nanodrop Data Raw'!$C:$L, 2, FALSE))","v":{"$error":"#N/A"}},60,"AVE",{"$error":"#N/A"},{"$f":"VLOOKUP($C20, 'Nanodrop Data Raw'!$C:$L, 3, FALSE)","v":{"$error":"#N/A"}},{"$f":"VLOOKUP($C20, 'Nanodrop Data Raw'!$C:$L, 4, FALSE)","v":{"$error":"#N/A"}},null,null,null,null,{"$f":"'Sample Information'!$G$6","v":0},{"$f":"'Sample Information'!$G$5","v":0},null,null,{"$f":"'Sample Information'!$G$7","v":"Virus Pathogen Midi Kit, Complex_400_V4_DSP_Default_IC"},null,{"$error":"#N/A"}]
[{"$f":"'Sample Information'!A21","v":20},{"$f":"'Sample Information'!B21","v":0},"0-DNA",{"$f":"'Sample Information'!E21","v":0},{"$f":"IF(VLOOKUP($C21, 'Nanodrop Data Raw'!$C:$L, 10, FALSE)<>\"\", VLOOKUP($C21, 'Nanodrop Data Raw'!$C:$L, 10, FALSE), VLOOKUP($C21, 'Nanodrop Data Raw'!$C:$L, 2, FALSE))","v":{"$error":"#N/A"}},60,"AVE",{"$error":"#N/A"},{"$f":"VLOOKUP($C21, 'Nanodrop Data Raw'!$C:$L, 3, FALSE)","v":{"$error":"#N/A"}},{"$f":"VLOOKUP($C21, 'Nanodrop Data Raw'!$C:$L, 4, FALSE)","v":{"$error":"#N/A"}},null,null,null,null,{"$f":"'Sample Information'!$G$6","v":0},{"$f":"'Sample Information'!$G$5","v":0},null,null,{"$f":"'Sample Information'!$G$7","v":"Virus Pathogen Midi Kit, Complex_400_V4_DSP_Default_IC"},null,{"$error":"#N/A"}]
[{"$f":"'Sample Information'!A22","v":21},{"$f":"'Sample Information'!B22","v":0},"0-DNA",{"$f":"'Sample Information'!E22","v":0},{"$f":"IF(VLOOKUP($C22, 'Nanodrop Data Raw'!$C:$L, 10, FALSE)<>\"\", VLOOKUP($C22, 'Nanodrop Data Raw'!$C:$L, 10, FALSE), VLOOKUP($C22, 'Nanodrop Data Raw'!$C:$L, 2, FALSE))","v":{"$error":"#N/A"}},60,"AVE",{"$error":"#N/A"},{"$f":"VLOOKUP($C22, 'Nanodrop Data Raw'!$C:$L, 3, FALSE)","v":{"$error":"#N/A"}},{"$f":"VLOOKUP($C22, 'Nanodrop Data Raw'!$C:$L, 4, FALSE)","v":{"$error":"#N/A"}},null,null,null,null,{"$f":"'Sample Information'!$G$6","v":0},{"$f":"'Sample Information'!$G$5","v":0},null,null,{"$f":"'Sample Information'!$G$7","v":"Virus Pathogen Midi Kit, Complex_400_V4_DSP_Default_IC"},null,{"$error":"#N/A"}]
[{"$f":"'Sample Information'!A23","v":22},{"$f":"'Sample Information'!B23","v":0},"0-DNA",{"$f":"'Sample Information'!E23","v":0},{"$f":"IF(VLOOKUP($C23, 'Nanodrop Data Raw'!$C:$L, 10, FALSE)<>\"\", VLOOKUP($C23, 'Nanodrop Data Raw'!$C:$L, 10, FALSE), VLOOKUP($C23, 'Nanodrop Data Raw'!$C:$L, 2, FALSE))","v":{"$error":"#N/A"}},60,"AVE",{"$error":"#N/A"},{"$f":"VLOOKUP($C23, 'Nanodrop Data Raw'!$C:$L, 3, FALSE)","v":{"$error":"#N/A"}},{"$f":"VLOOKUP($C23, 'Nanodrop Data Raw'!$C:$L, 4, FALSE)","v":{"$error":"#N/A"}},null,null,null,null,{"$f":"'Sample Information'!$G$6","v":0},{"$f":"'Sample Information'!$G$5","v":0},null,null,{"$f":"'Sample Information'!$G$7","v":"Virus Pathogen Midi Kit, Complex_400_V4_DSP_Default_IC"},null,{"$error":"#N/A"}]
[{"$f":"'Sample Information'!A24","v":23},{"$f":"'Sample Information'!B24","v":0},"0-DNA",{"$f":"'Sample Information'!E24","v":0},{"$f":"IF(VLOOKUP($C24, 'Nanodrop Data Raw'!$C:$L, 10, FALSE)<>\"\", VLOOKUP($C24, 'Nanodrop Data Raw'!$C:$L, 10, FALSE), VLOOKUP($C24, 'Nanodrop Data Raw'!$C:$L, 2, FALSE))","v":{"$error":"#N/A"}},60,"AVE",{"$error":"#N/A"},{"$f":"VLOOKUP($C24, 'Nanodrop Data Raw'!$C:$L, 3, FALSE)","v":{"$error":"#N/A"}},{"$f":"VLOOKUP($C24, 'Nanodrop Data Raw'!$C:$L, 4, FALSE)","v":{"$error":"#N/A"}},null,null,null,null,{"$f":"'Sample Information'!$G$6","v":0},{"$f":"'Sample Information'!$G$5","v":0},null,null,{"$f":"'Sample Information'!$G$7","v":"Virus Pathogen Midi Kit, Complex_400_V4_DSP_Default_IC"},null,{"$error":"#N/A"}]
[{"$f":"'Sample Information'!A25","v":24},{"$f":"'Sample Information'!B25","v":0},"0-DNA",{"$f":"'Sample Information'!E25","v":0},{"$f":"IF(VLOOKUP($C25, 'Nanodrop Data Raw'!$C:$L, 10, FALSE)<>\"\", VLOOKUP($C25, 'Nanodrop Data Raw'!$C:$L, 10, FALSE), VLOOKUP($C25, 'Nanodrop Data Raw'!$C:$L, 2, FALSE))","v":{"$error":"#N/A"}},60,"AVE",{"$error":"#N/A"},{"$f":"VLOOKUP($C25, 'Nanodrop Data Raw'!$C:$L, 3, FALSE)","v":{"$error":"#N/A"}},{"$f":"VLOOKUP($C25, 'Nanodrop Data Raw'!$C:$L, 4, FALSE)","v":{"$error":"#N/A"}},null,null,null,null,{"$f":"'Sample Information'!$G$6","v":0},{"$f":"'Sample Information'!$G$5","v":0},null,null,{"$f":"'Sample Information'!$G$7","v":"Virus Pathogen Midi Kit, Complex_400_V4_DSP_Default_IC"},null,{"$error":"#N/A"}]
[{"$f":"'Sample Information'!A26","v":25},{"$f":"'Sample Information'!B26","v":0},"0-DNA",{"$f":"'Sample Information'!E26","v":0},{"$f":"IF(VLOOKUP($C26, 'Nanodrop Data Raw'!$C:$L, 10, FALSE)<>\"\", VLOOKUP($C26, 'Nanodrop Data Raw'!$C:$L, 10, FALSE), VLOOKUP($C26, 'Nanodrop Data Raw'!$C:$L, 2, FALSE))","v":{"$error":"#N/A"}},60,"AVE",{"$error":"#N/A"},{"$f":"VLOOKUP($C26, 'Nanodrop Data Raw'!$C:$L, 3, FALSE)","v":{"$error":"#N/A"}},{"$f":"VLOOKUP($C26, 'Nanodrop Data Raw'!$C:$L, 4, FALSE)","v":{"$error":"#N/A"}},null,null,null,null,{"$f":"'Sample Information'!$G$6","v":0},{"$f":"'Sample Information'!$G$5","v":0},null,null,{"$f":"'Sample Information'!$G$7","v":"Virus Pathogen Midi Kit, Complex_400_V4_DSP_Default_IC"},null,{"$error":"#N/A"}]
[{"$f":"'Sample Information'!A27","v":26},{"$f":"'Sample Information'!B27","v":0},"0-DNA",{"$f":"'Sample Information'!E27","v":0},{"$f":"IF(VLOOKUP($C27, 'Nanodrop Data Raw'!$C:$L, 10, FALSE)<>\"\", VLOOKUP($C27, 'Nanodrop Data Raw'!$C:$L, 10, FALSE), VLOOKUP($C27, 'Nanodrop Data Raw'!$C:$L, 2, FALSE))","v":{"$error":"#N/A"}},60,"AVE",{"$error":"#N/A"},{"$f":"VLOOKUP($C27, 'Nanodrop Data Raw'!$C:$L, 3, FALSE)","v":{"$error":"#N/A"}},{"$f":"VLOOKUP($C27, 'Nanodrop Data Raw'!$C:$L, 4, FALSE)","v":{"$error":"#N/A"}},null,null,null,null,{"$f":"'Sample Information'!$G$6","v":0},{"$f":"'Sample Information'!$G$5","v":0},null,null,{"$f":"'Sample Information'!$G$7","v":"Virus Pathogen Midi Kit, Complex_400_V4_DSP_Default_IC"},null,{"$error":"#N/A"}]
[{"$f":"'Sample Information'!A28","v":27},{"$f":"'Sample Information'!B28","v":0},"0-DNA",{"$f":"'Sample Information'!E28","v":0},{"$f":"IF(VLOOKUP($C28, 'Nanodrop Data Raw'!$C:$L, 10, FALSE)<>\"\", VLOOKUP($C28, 'Nanodrop Data Raw'!$C:$L, 10, FALSE), VLOOKUP($C28, 'Nanodrop Data Raw'!$C:$L, 2, FALSE))","v":{"$error":"#N/A"}},60,"AVE",{"$error":"#N/A"},{"$f":"VLOOKUP($C28, 'Nanodrop Data Raw'!$C:$L, 3, FALSE)","v":{"$error":"#N/A"}},{"$f":"VLOOKUP($C28, 'Nanodrop Data Raw'!$C:$L, 4, FALSE)","v":{"$error":"#N/A"}},null,null,null,null,{"$f":"'Sample Information'!$G$6","v":0},{"$f":"'Sample Information'!$G$5","v":0},null,null,{"$f":"'Sample Information'!$G$7","v":"Virus Pathogen Midi Kit, Complex_400_V4_DSP_Default_IC"},null,{"$error":"#N/A"}]
[{"$f":"'Sample Information'!A29","v":28},{"$f":"'Sample Information'!B29","v":0},"0-DNA",{"$f":"'Sample Information'!E29","v":0},{"$f":"IF(VLOOKUP($C29, 'Nanodrop Data Raw'!$C:$L, 10, FALSE)<>\"\", VLOOKUP($C29, 'Nanodrop Data Raw'!$C:$L, 10, FALSE), VLOOKUP($C29, 'Nanodrop Data Raw'!$C:$L, 2, FALSE))","v":{"$error":"#N/A"}},60,"AVE",{"$error":"#N/A"},{"$f":"VLOOKUP($C29, 'Nanodrop Data Raw'!$C:$L, 3, FALSE)","v":{"$error":"#N/A"}},{"$f":"VLOOKUP($C29, 'Nanodrop Data Raw'!$C:$L, 4, FALSE)","v":{"$error":"#N/A"}},null,null,null,null,{"$f":"'Sample Information'!$G$6","v":0},{"$f":"'Sample Information'!$G$5","v":0},null,null,{"$f":"'Sample Information'!$G$7","v":"Virus Pathogen Midi Kit, Complex_400_V4_DSP_Default_IC"},null,{"$error":"#N/A"}]
[{"$f":"'Sample Information'!A30","v":29},{"$f":"'Sample Information'!B30","v":0},"0-DNA",{"$f":"'Sample Information'!E30","v":0},{"$f":"IF(VLOOKUP($C30, 'Nanodrop Data Raw'!$C:$L, 10, FALSE)<>\"\", VLOOKUP($C30, 'Nanodrop Data Raw'!$C:$L, 10, FALSE), VLOOKUP($C30, 'Nanodrop Data Raw'!$C:$L, 2, FALSE))","v":{"$error":"#N/A"}},60,"AVE",{"$error":"#N/A"},{"$f":"VLOOKUP($C30, 'Nanodrop Data Raw'!$C:$L, 3, FALSE)","v":{"$error":"#N/A"}},{"$f":"VLOOKUP($C30, 'Nanodrop Data Raw'!$C:$L, 4, FALSE)","v":{"$error":"#N/A"}},null,null,null,null,{"$f":"'Sample Information'!$G$6","v":0},{"$f":"'Sample Information'!$G$5","v":0},null,null,{"$f":"'Sample Information'!$G$7","v":"Virus Pathogen Midi Kit, Complex_400_V4_DSP_Default_IC"},null,{"$error":"#N/A"}]
[{"$f":"'Sample Information'!A31","v":30},{"$f":"'Sample Information'!B31","v":0},"0-DNA",{"$f":"'Sample Information'!E31","v":0},{"$f":"IF(VLOOKUP($C31, 'Nanodrop Data Raw'!$C:$L, 10, FALSE)<>\"\", VLOOKUP($C31, 'Nanodrop Data Raw'!$C:$L, 10, FALSE), VLOOKUP($C31, 'Nanodrop Data Raw'!$C:$L, 2, FALSE))","v":{"$error":"#N/A"}},60,"AVE",{"$error":"#N/A"},{"$f":"VLOOKUP($C31, 'Nanodrop Data Raw'!$C:$L, 3, FALSE)","v":{"$error":"#N/A"}},{"$f":"VLOOKUP($C31, 'Nanodrop Data Raw'!$C:$L, 4, FALSE)","v":{"$error":"#N/A"}},null,null,null,null,{"$f":"'Sample Information'!$G$6","v":0},{"$f":"'Sample Information'!$G$5","v":0},null,null,{"$f":"'Sample Information'!$G$7","v":"Virus Pathogen Midi Kit, Complex_400_V4_DSP_Default_IC"},null,{"$error":"#N/A"}]
[{"$f":"'Sample Information'!A32","v":31},{"$f":"'Sample Information'!B32","v":0},"0-DNA",{"$f":"'Sample Information'!E32","v":0},{"$f":"IF(VLOOKUP($C32, 'Nanodrop Data Raw'!$C:$L, 10, FALSE)<>\"\", VLOOKUP($C32, 'Nanodrop Data Raw'!$C:$L, 10, FALSE), VLOOKUP($C32, 'Nanodrop Data Raw'!$C:$L, 2, FALSE))","v":{"$error":"#N/A"}},60,"AVE",{"$error":"#N/A"},{"$f":"VLOOKUP($C32, 'Nanodrop Data Raw'!$C:$L, 3, FALSE)","v":{"$error":"#N/A"}},{"$f":"VLOOKUP($C32, 'Nanodrop Data Raw'!$C:$L, 4, FALSE)","v":{"$error":"#N/A"}},null,null,null,null,{"$f":"'Sample Information'!$G$6","v":0},{"$f":"'Sample Information'!$G$5","v":0},null,null,{"$f":"'Sample Information'!$G$7","v":"Virus Pathogen Midi Kit, Complex_400_V4_DSP_Default_IC"},null,{"$error":"#N/A"}]
[{"$f":"'Sample Information'!A33","v":32},{"$f":"'Sample Information'!B33","v":0},"0-DNA",{"$f":"'Sample Information'!E33","v":0},{"$f":"IF(VLOOKUP($C33, 'Nanodrop Data Raw'!$C:$L, 10, FALSE)<>\"\", VLOOKUP($C33, 'Nanodrop Data Raw'!$C:$L, 10, FALSE), VLOOKUP($C33, 'Nanodrop Data Raw'!$C:$L, 2, FALSE))","v":{"$error":"#N/A"}},60,"AVE",{"$error":"#N/A"},{"$f":"VLOOKUP($C33, 'Nanodrop Data Raw'!$C:$L, 3, FALSE)","v":{"$error":"#N/A"}},{"$f":"VLOOKUP($C33, 'Nanodrop Data Raw'!$C:$L, 4, FALSE)","v":{"$error":"#N/A"}},null,null,null,null,{"$f":"'Sample Information'!$G$6","v":0},{"$f":"'Sample Information'!$G$5","v":0},null,null,{"$f":"'Sample Information'!$G$7","v":"Virus Pathogen Midi Kit, Complex_400_V4_DSP_Default_IC"},null,{"$error":"#N/A"}]
[{"$f":"'Sample Information'!A34","v":33},{"$f":"'Sample Information'!B34","v":0},"0-DNA",{"$f":"'Sample Information'!E34","v":0},{"$f":"IF(VLOOKUP($C34, 'Nanodrop Data Raw'!$C:$L, 10, FALSE)<>\"\", VLOOKUP($C34, 'Nanodrop Data Raw'!$C:$L, 10, FALSE), VLOOKUP($C34, 'Nanodrop Data Raw'!$C:$L, 2, FALSE))","v":{"$error":"#N/A"}},60,"AVE",{"$error":"#N/A"},{"$f":"VLOOKUP($C34, 'Nanodrop Data Raw'!$C:$L, 3, FALSE)","v":{"$error":"#N/A"}},{"$f":"VLOOKUP($C34, 'Nanodrop Data Raw'!$C:$L, 4, FALSE)","v":{"$error":"#N/A"}},null,null,null,null,{"$f":"'Sample Information'!$G$6","v":0},{"$f":"'Sample Information'!$G$5","v":0},null,null,{"$f":"'Sample Information'!$G$7","v":"Virus Pathogen Midi Kit, Complex_400_V4_DSP_Default_IC"},null,{"$error":"#N/A"}]
[{"$f":"'Sample Information'!A35","v":34},{"$f":"'Sample Information'!B35","v":0},"0-DNA",{"$f":"'Sample Information'!E35","v":0},{"$f":"IF(VLOOKUP($C35, 'Nanodrop Data Raw'!$C:$L, 10, FALSE)<>\"\", VLOOKUP($C35, 'Nanodrop Data Raw'!$C:$L, 10, FALSE), VLOOKUP($C35, 'Nanodrop Data Raw'!$C:$L, 2, FALSE))","v":{"$error":"#N/A"}},60,"AVE",{"$error":"#N/A"},{"$f":"VLOOKUP($C35, 'Nanodrop Data Raw'!$C:$L, 3, FALSE)","v":{"$error":"#N/A"}},{"$f":"VLOOKUP($C35, 'Nanodrop Data Raw'!$C:$L, 4, FALSE)","v":{"$error":"#N/A"}},null,null,null,null,{"$f":"'Sample Information'!$G$6","v":0},{"$f":"'Sample Information'!$G$5","v":0},null,null,{"$f":"'Sample Information'!$G$7","v":"Virus Pathogen Midi Kit, Complex_400_V4_DSP_Default_IC"},null,{"$error":"#N/A"}]
[{"$f":"'Sample Information'!A36","v":35},{"$f":"'Sample Information'!B36","v":0},"0-DNA",{"$f":"'Sample Information'!E36","v":0},{"$f":"IF(VLOOKUP($C36, 'Nanodrop Data Raw'!$C:$L, 10, FALSE)<>\"\", VLOOKUP($C36, 'Nanodrop Data Raw'!$C:$L, 10, FALSE), VLOOKUP($C36, 'Nanodrop Data Raw'!$C:$L, 2, FALSE))","v":{"$error":"#N/A"}},60,"AVE",{"$error":"#N/A"},{"$f":"VLOOKUP($C36, 'Nanodrop Data Raw'!$C:$L, 3, FALSE)","v":{"$error":"#N/A"}},{"$f":"VLOOKUP($C36, 'Nanodrop Data Raw'!$C:$L, 4, FALSE)","v":{"$error":"#N/A"}},null,null,null,null,{"$f":"'Sample Information'!$G$6","v":0},{"$f":"'Sample Information'!$G$5","v":0},null,null,{"$f":"'Sample Information'!$G$7","v":"Virus Pathogen Midi Kit, Complex_400_V4_DSP_Default_IC"},null,{"$error":"#N/A"}]
[{"$f":"'Sample Information'!A37","v":36},{"$f":"'Sample Information'!B37","v":0},"0-DNA",{"$f":"'Sample Information'!E37","v":0},{"$f":"IF(VLOOKUP($C37, 'Nanodrop Data Raw'!$C:$L, 10, FALSE)<>\"\", VLOOKUP($C37, 'Nanodrop Data Raw'!$C:$L, 10, FALSE), VLOOKUP($C37, 'Nanodrop Data Raw'!$C:$L, 2, FALSE))","v":{"$error":"#N/A"}},60,"AVE",{"$error":"#N/A"},{"$f":"VLOOKUP($C37, 'Nanodrop Data Raw'!$C:$L, 3, FALSE)","v":{"$error":"#N/A"}},{"$f":"VLOOKUP($C37, 'Nanodrop Data Raw'!$C:$L, 4, FALSE)","v":{"$error":"#N/A"}},null,null,null,null,{"$f":"'Sample Information'!$G$6","v":0},{"$f":"'Sample Information'!$G$5","v":0},null,null,{"$f":"'Sample Information'!$G$7","v":"Virus Pathogen Midi Kit, Complex_400_V4_DSP_Default_IC"},null,{"$error":"#N/A"}]
[{"$f":"'Sample Information'!A38","v":37},{"$f":"'Sample Information'!B38","v":0},"0-DNA",{"$f":"'Sample Information'!E38","v":0},{"$f":"IF(VLOOKUP($C38, 'Nanodrop Data Raw'!$C:$L, 10, FALSE)<>\"\", VLOOKUP($C38, 'Nanodrop Data Raw'!$C:$L, 10, FALSE), VLOOKUP($C38, 'Nanodrop Data Raw'!$C:$L, 2, FALSE))","v":{"$error":"#N/A"}},60,"AVE",{"$error":"#N/A"},{"$f":"VLOOKUP($C38, 'Nanodrop Data Raw'!$C:$L, 3, FALSE)","v":{"$error":"#N/A"}},{"$f":"VLOOKUP($C38, 'Nanodrop Data Raw'!$C:$L, 4, FALSE)","v":{"$error":"#N/A"}},null,null,null,null,{"$f":"'Sample Information'!$G$6","v":0},{"$f":"'Sample Information'!$G$5","v":0},null,null,{"$f":"'Sample Information'!$G$7","v":"Virus Pathogen Midi Kit, Complex_400_V4_DSP_Default_IC"},null,{"$error":"#N/A"}]
[{"$f":"'Sample Information'!A39","v":38},{"$f":"'Sample Information'!B39","v":0},"0-DNA",{"$f":"'Sample Information'!E39","v":0},{"$f":"IF(VLOOKUP($C39, 'Nanodrop Data Raw'!$C:$L, 10, FALSE)<>\"\", VLOOKUP($C39, 'Nanodrop Data Raw'!$C:$L, 10, FALSE), VLOOKUP($C39, 'Nanodrop Data Raw'!$C:$L, 2, FALSE))","v":{"$error":"#N/A"}},60,"AVE",{"$error":"#N/A"},{"$f":"VLOOKUP($C39, 'Nanodrop Data Raw'!$C:$L, 3, FALSE)","v":{"$error":"#N/A"}},{"$f":"VLOOKUP($C39, 'Nanodrop Data Raw'!$C:$L, 4, FALSE)","v":{"$error":"#N/A"}},null,null,null,null,{"$f":"'Sample Information'!$G$6","v":0},{"$f":"'Sample Information'!$G$5","v":0},null,null,{"$f":"'Sample Information'!$G$7","v":"Virus Pathogen Midi Kit, Complex_400_V4_DSP_Default_IC"},null,{"$error":"#N/A"}]
[{"$f":"'Sample Information'!A40","v":39},{"$f":"'Sample Information'!B40","v":0},"0-DNA",{"$f":"'Sample Information'!E40","v":0},{"$f":"IF(VLOOKUP($C40, 'Nanodrop Data Raw'!$C:$L, 10, FALSE)<>\"\", VLOOKUP($C40, 'Nanodrop Data Raw'!$C:$L, 10, FALSE), VLOOKUP($C40, 'Nanodrop Data Raw'!$C:$L, 2, FALSE))","v":{"$error":"#N/A"}},60,"AVE",{"$error":"#N/A"},{"$f":"VLOOKUP($C40, 'Nanodrop Data Raw'!$C:$L, 3, FALSE)","v":{"$error":"#N/A"}},{"$f":"VLOOKUP($C40, 'Nanodrop Data Raw'!$C:$L, 4, FALSE)","v":{"$error":"#N/A"}},null,null,null,null,{"$f":"'Sample Information'!$G$6","v":0},{"$f":"'Sample Information'!$G$5","v":0},null,null,{"$f":"'Sample Information'!$G$7","v":"Virus Pathogen Midi Kit, Complex_400_V4_DSP_Default_IC"},null,{"$error":"#N/A"}]
[{"$f":"'Sample Information'!A41","v":40},{"$f":"'Sample Information'!B41","v":0},"0-DNA",{"$f":"'Sample Information'!E41","v":0},{"$f":"IF(VLOOKUP($C41, 'Nanodrop Data Raw'!$C:$L, 10, FALSE)<>\"\", VLOOKUP($C41, 'Nanodrop Data Raw'!$C:$L, 10, FALSE), VLOOKUP($C41, 'Nanodrop Data Raw'!$C:$L, 2, FALSE))","v":{"$error":"#N/A"}},60,"AVE",{"$error":"#N/A"},{"$f":"VLOOKUP($C41, 'Nanodrop Data Raw'!$C:$L, 3, FALSE)","v":{"$error":"#N/A"}},{"$f":"VLOOKUP($C41, 'Nanodrop Data Raw'!$C:$L, 4, FALSE)","v":{"$error":"#N/A"}},null,null,null,null,{"$f":"'Sample Information'!$G$6","v":0},{"$f":"'Sample Information'!$G$5","v":0},null,null,{"$f":"'Sample Information'!$G$7","v":"Virus Pathogen Midi Kit, Complex_400_V4_DSP_Default_IC"},null,{"$error":"#N/A"}]
[{"$f":"'Sample Information'!A42","v":41},{"$f":"'Sample Information'!B42","v":0},"0-DNA",{"$f":"'Sample Information'!E42","v":0},{"$f":"IF(VLOOKUP($C42, 'Nanodrop Data Raw'!$C:$L, 10, FALSE)<>\"\", VLOOKUP($C42, 'Nanodrop Data Raw'!$C:$L, 10, FALSE), VLOOKUP($C42, 'Nanodrop Data Raw'!$C:$L, 2, FALSE))","v":{"$error":"#N/A"}},60,"AVE",{"$error":"#N/A"},{"$f":"VLOOKUP($C42, 'Nanodrop Data Raw'!$C:$L, 3, FALSE)","v":{"$error":"#N/A"}},{"$f":"VLOOKUP($C42, 'Nanodrop Data Raw'!$C:$L, 4, FALSE)","v":{"$error":"#N/A"}},null,null,null,null,{"$f":"'Sample Information'!$G$6","v":0},{"$f":"'Sample Information'!$G$5","v":0},null,null,{"$f":"'Sample Information'!$G$7","v":"Virus Pathogen Midi Kit, Complex_400_V4_DSP_Default_IC"},null,{"$error":"#N/A"}]
[{"$f":"'Sample Information'!A43","v":42},{"$f":"'Sample Information'!B43","v":0},"0-DNA",{"$f":"'Sample Information'!E43","v":0},{"$f":"IF(VLOOKUP($C43, 'Nanodrop Data Raw'!$C:$L, 10, FALSE)<>\"\", VLOOKUP($C43, 'Nanodrop Data Raw'!$C:$L, 10, FALSE), VLOOKUP($C43, 'Nanodrop Data Raw'!$C:$L, 2, FALSE))","v":{"$error":"#N/A"}},60,"AVE",{"$error":"#N/A"},{"$f":"VLOOKUP($C43, 'Nanodrop Data Raw'!$C:$L, 3, FALSE)","v":{"$error":"#N/A"}},{"$f":"VLOOKUP($C43, 'Nanodrop Data Raw'!$C:$L, 4, FALSE)","v":{"$error":"#N/A"}},null,null,null,null,{"$f":"'Sample Information'!$G$6","v":0},{"$f":"'Sample Information'!$G$5","v":0},null,null,{"$f":"'Sample Information'!$G$7","v":"Virus Pathogen Midi Kit, Complex_400_V4_DSP_Default_IC"},null,{"$error":"#N/A"}]
[{"$f":"'Sample Information'!A44","v":43},{"$f":"'Sample Information'!B44","v":0},"0-DNA",{"$f":"'Sample Information'!E44","v":0},{"$f":"IF(VLOOKUP($C44, 'Nanodrop Data Raw'!$C:$L, 10, FALSE)<>\"\", VLOOKUP($C44, 'Nanodrop Data Raw'!$C:$L, 10, FALSE), VLOOKUP($C44, 'Nanodrop Data Raw'!$C:$L, 2, FALSE))","v":{"$error":"#N/A"}},60,"AVE",{"$error":"#N/A"},{"$f":"VLOOKUP($C44, 'Nanodrop Data Raw'!$C:$L, 3, FALSE)","v":{"$error":"#N/A"}},{"$f":"VLOOKUP($C44, 'Nanodrop Data Raw'!$C:$L, 4, FALSE)","v":{"$error":"#N/A"}},null,null,null,null,{"$f":"'Sample Information'!$G$6","v":0},{"$f":"'Sample Information'!$G$5","v":0},null,null,{"$f":"'Sample Information'!$G$7","v":"Virus Pathogen Midi Kit, Complex_400_V4_DSP_Default_IC"},null,{"$error":"#N/A"}]
[{"$f":"'Sample Information'!A45","v":44},{"$f":"'Sample Information'!B45","v":0},"0-DNA",{"$f":"'Sample Information'!E45","v":0},{"$f":"IF(VLOOKUP($C45, 'Nanodrop Data Raw'!$C:$L, 10, FALSE)<>\"\", VLOOKUP($C45, 'Nanodrop Data Raw'!$C:$L, 10, FALSE), VLOOKUP($C45, 'Nanodrop Data Raw'!$C:$L, 2, FALSE))","v":{"$error":"#N/A"}},60,"AVE",{"$error":"#N/A"},{"$f":"VLOOKUP($C45, 'Nanodrop Data Raw'!$C:$L, 3, FALSE)","v":{"$error":"#N/A"}},{"$f":"VLOOKUP($C45, 'Nanodrop Data Raw'!$C:$L, 4, FALSE)","v":{"$error":"#N/A"}},null,null,null,null,{"$f":"'Sample Information'!$G$6","v":0},{"$f":"'Sample Information'!$G$5","v":0},null,null,{"$f":"'Sample Information'!$G$7","v":"Virus Pathogen Midi Kit, Complex_400_V4_DSP_Default_IC"},null,{"$error":"#N/A"}]
[{"$f":"'Sample Information'!A46","v":45},{"$f":"'Sample Information'!B46","v":0},"0-DNA",{"$f":"'Sample Information'!E46","v":0},{"$f":"IF(VLOOKUP($C46, 'Nanodrop Data Raw'!$C:$L, 10, FALSE)<>\"\", VLOOKUP($C46, 'Nanodrop Data Raw'!$C:$L, 10, FALSE), VLOOKUP($C46, 'Nanodrop Data Raw'!$C:$L, 2, FALSE))","v":{"$error":"#N/A"}},60,"AVE",{"$error":"#N/A"},{"$f":"VLOOKUP($C46, 'Nanodrop Data Raw'!$C:$L, 3, FALSE)","v":{"$error":"#N/A"}},{"$f":"VLOOKUP($C46, 'Nanodrop Data Raw'!$C:$L, 4, FALSE)","v":{"$error":"#N/A"}},null,null,null,null,{"$f":"'Sample Information'!$G$6","v":0},{"$f":"'Sample Information'!$G$5","v":0},null,null,{"$f":"'Sample Information'!$G$7","v":"Virus Pathogen Midi Kit, Complex_400_V4_DSP_Default_IC"},null,{"$error":"#N/A"}]
[{"$f":"'Sample Information'!A47","v":46},{"$f":"'Sample Information'!B47","v":0},"0-DNA",{"$f":"'Sample Information'!E47","v":0},{"$f":"IF(VLOOKUP($C47, 'Nanodrop Data Raw'!$C:$L, 10, FALSE)<>\"\", VLOOKUP($C47, 'Nanodrop Data Raw'!$C:$L, 10, FALSE), VLOOKUP($C47, 'Nanodrop Data Raw'!$C:$L, 2, FALSE))","v":{"$error":"#N/A"}},60,"AVE",{"$error":"#N/A"},{"$f":"VLOOKUP($C47, 'Nanodrop Data Raw'!$C:$L, 3, FALSE)","v":{"$error":"#N/A"}},{"$f":"VLOOKUP($C47, 'Nanodrop Data Raw'!$C:$L, 4, FALSE)","v":{"$error":"#N/A"}},null,null,null,null,{"$f":"'Sample Information'!$G$6","v":0},{"$f":"'Sample Information'!$G$5","v":0},null,null,{"$f":"'Sample Information'!$G$7","v":"Virus Pathogen Midi Kit, Complex_400_V4_DSP_Default_IC"},null,{"$error":"#N/A"}]
[{"$f":"'Sample Information'!A48","v":47},{"$f":"'Sample Information'!B48","v":0},"0-DNA",{"$f":"'Sample Information'!E48","v":0},{"$f":"IF(VLOOKUP($C48, 'Nanodrop Data Raw'!$C:$L, 10, FALSE)<>\"\", VLOOKUP($C48, 'Nanodrop Data Raw'!$C:$L, 10, FALSE), VLOOKUP($C48, 'Nanodrop Data Raw'!$C:$L, 2, FALSE))","v":{"$error":"#N/A"}},60,"AVE",{"$error":"#N/A"},{"$f":"VLOOKUP($C48, 'Nanodrop Data Raw'!$C:$L, 3, FALSE)","v":{"$error":"#N/A"}},{"$f":"VLOOKUP($C48, 'Nanodrop Data Raw'!$C:$L, 4, FALSE)","v":{"$error":"#N/A"}},null,null,null,null,{"$f":"'Sample Information'!$G$6","v":0},{"$f":"'Sample Information'!$G$5","v":0},null,null,{"$f":"'Sample Information'!$G$7","v":"Virus Pathogen Midi Kit, Complex_400_V4_DSP_Default_IC"},null,{"$error":"#N/A"}]
[{"$f":"'Sample Information'!A49","v":48},{"$f":"'Sample Information'!B49","v":0},"0-DNA",{"$f":"'Sample Information'!E49","v":0},{"$f":"IF(VLOOKUP($C49, 'Nanodrop Data Raw'!$C:$L, 10, FALSE)<>\"\", VLOOKUP($C49, 'Nanodrop Data Raw'!$C:$L, 10, FALSE), VLOOKUP($C49, 'Nanodrop Data Raw'!$C:$L, 2, FALSE))","v":{"$error":"#N/A"}},60,"AVE",{"$error":"#N/A"},{"$f":"VLOOKUP($C49, 'Nanodrop Data Raw'!$C:$L, 3, FALSE)","v":{"$error":"#N/A"}},{"$f":"VLOOKUP($C49, 'Nanodrop Data Raw'!$C:$L, 4, FALSE)","v":{"$error":"#N/A"}},null,null,null,null,{"$f":"'Sample Information'!$G$6","v":0},{"$f":"'Sample Information'!$G$5","v":0},null,null,{"$f":"'Sample Information'!$G$7","v":"Virus Pathogen Midi Kit, Complex_400_V4_DSP_Default_IC"},null,{"$error":"#N/A"}]
[{"$f":"'Sample Information'!A50","v":49},{"$f":"'Sample Information'!B50","v":0},"0-DNA",{"$f":"'Sample Information'!E50","v":0},{"$f":"IF(VLOOKUP($C50, 'Nanodrop Data Raw'!$C:$L, 10, FALSE)<>\"\", VLOOKUP($C50, 'Nanodrop Data Raw'!$C:$L, 10, FALSE), VLOOKUP($C50, 'Nanodrop Data Raw'!$C:$L, 2, FALSE))","v":{"$error":"#N/A"}},60,"AVE",{"$error":"#N/A"},{"$f":"VLOOKUP($C50, 'Nanodrop Data Raw'!$C:$L, 3, FALSE)","v":{"$error":"#N/A"}},{"$f":"VLOOKUP($C50, 'Nanodrop Data Raw'!$C:$L, 4, FALSE)","v":{"$error":"#N/A"}},null,null,null,null,{"$f":"'Sample Information'!$G$6","v":0},{"$f":"'Sample Information'!$G$5","v":0},null,null,{"$f":"'Sample Information'!$G$7","v":"Virus Pathogen Midi Kit, Complex_400_V4_DSP_Default_IC"},null,{"$error":"#N/A"}]
[{"$f":"'Sample Information'!A51","v":50},{"$f":"'Sample Information'!B51","v":0},"0-DNA",{"$f":"'Sample Information'!E51","v":0},{"$f":"IF(VLOOKUP($C51, 'Nanodrop Data Raw'!$C:$L, 10, FALSE)<>\"\", VLOOKUP($C51, 'Nanodrop Data Raw'!$C:$L, 10, FALSE), VLOOKUP($C51, 'Nanodrop Data Raw'!$C:$L, 2, FALSE))","v":{"$error":"#N/A"}},60,"AVE",{"$error":"#N/A"},{"$f":"VLOOKUP($C51, 'Nanodrop Data Raw'!$C:$L, 3, FALSE)","v":{"$error":"#N/A"}},{"$f":"VLOOKUP($C51, 'Nanodrop Data Raw'!$C:$L, 4, FALSE)","v":{"$error":"#N/A"}},null,null,null,null,{"$f":"'Sample Information'!$G$6","v":0},{"$f":"'Sample Information'!$G$5","v":0},null,null,{"$f":"'Sample Information'!$G$7","v":"Virus Pathogen Midi Kit, Complex_400_V4_DSP_Default_IC"},null,{"$error":"#N/A"}]
[{"$f":"'Sample Information'!A52","v":51},{"$f":"'Sample Information'!B52","v":0},"0-DNA",{"$f":"'Sample Information'!E52","v":0},{"$f":"IF(VLOOKUP($C52, 'Nanodrop Data Raw'!$C:$L, 10, FALSE)<>\"\", VLOOKUP($C52, 'Nanodrop Data Raw'!$C:$L, 10, FALSE), VLOOKUP($C52, 'Nanodrop Data Raw'!$C:$L, 2, FALSE))","v":{"$error":"#N/A"}},60,"AVE",{"$error":"#N/A"},{"$f":"VLOOKUP($C52, 'Nanodrop Data Raw'!$C:$L, 3, FALSE)","v":{"$error":"#N/A"}},{"$f":"VLOOKUP($C52, 'Nanodrop Data Raw'!$C:$L, 4, FALSE)","v":{"$error":"#N/A"}},null,null,null,null,{"$f":"'Sample Information'!$G$6","v":0},{"$f":"'Sample Information'!$G$5","v":0},null,null,{"$f":"'Sample Information'!$G$7","v":"Virus Pathogen Midi Kit, Complex_400_V4_DSP_Default_IC"},null,{"$error":"#N/A"}]
[{"$f":"'Sample Information'!A53","v":52},{"$f":"'Sample Information'!B53","v":0},"0-DNA",{"$f":"'Sample Information'!E53","v":0},{"$f":"IF(VLOOKUP($C53, 'Nanodrop Data Raw'!$C:$L, 10, FALSE)<>\"\", VLOOKUP($C53, 'Nanodrop Data Raw'!$C:$L, 10, FALSE), VLOOKUP($C53, 'Nanodrop Data Raw'!$C:$L, 2, FALSE))","v":{"$error":"#N/A"}},60,"AVE",{"$error":"#N/A"},{"$f":"VLOOKUP($C53, 'Nanodrop Data Raw'!$C:$L, 3, FALSE)","v":{"$error":"#N/A"}},{"$f":"VLOOKUP($C53, 'Nanodrop Data Raw'!$C:$L, 4, FALSE)","v":{"$error":"#N/A"}},null,null,null,null,{"$f":"'Sample Information'!$G$6","v":0},{"$f":"'Sample Information'!$G$5","v":0},null,null,{"$f":"'Sample Information'!$G$7","v":"Virus Pathogen Midi Kit, Complex_400_V4_DSP_Default_IC"},null,{"$error":"#N/A"}]
[{"$f":"'Sample Information'!A54","v":53},{"$f":"'Sample Information'!B54","v":0},"0-DNA",{"$f":"'Sample Information'!E54","v":0},{"$f":"IF(VLOOKUP($C54, 'Nanodrop Data Raw'!$C:$L, 10, FALSE)<>\"\", VLOOKUP($C54, 'Nanodrop Data Raw'!$C:$L, 10, FALSE), VLOOKUP($C54, 'Nanodrop Data Raw'!$C:$L, 2, FALSE))","v":{"$error":"#N/A"}},60,"AVE",{"$error":"#N/A"},{"$f":"VLOOKUP($C54, 'Nanodrop Data Raw'!$C:$L, 3, FALSE)","v":{"$error":"#N/A"}},{"$f":"VLOOKUP($C54, 'Nanodrop Data Raw'!$C:$L, 4, FALSE)","v":{"$error":"#N/A"}},null,null,null,null,{"$f":"'Sample Information'!$G$6","v":0},{"$f":"'Sample Information'!$G$5","v":0},null,null,{"$f":"'Sample Information'!$G$7","v":"Virus Pathogen Midi Kit, Complex_400_V4_DSP_Default_IC"},null,{"$error":"#N/A"}]
[{"$f":"'Sample Information'!A55","v":54},{"$f":"'Sample Information'!B55","v":0},"0-DNA",{"$f":"'Sample Information'!E55","v":0},{"$f":"IF(VLOOKUP($C55, 'Nanodrop Data Raw'!$C:$L, 10, FALSE)<>\"\", VLOOKUP($C55, 'Nanodrop Data Raw'!$C:$L, 10, FALSE), VLOOKUP($C55, 'Nanodrop Data Raw'!$C:$L, 2, FALSE))","v":{"$error":"#N/A"}},60,"AVE",{"$error":"#N/A"},{"$f":"VLOOKUP($C55, 'Nanodrop Data Raw'!$C:$L, 3, FALSE)","v":{"$error":"#N/A"}},{"$f":"VLOOKUP($C55, 'Nanodrop Data Raw'!$C:$L, 4, FALSE)","v":{"$error":"#N/A"}},null,null,null,null,{"$f":"'Sample Information'!$G$6","v":0},{"$f":"'Sample Information'!$G$5","v":0},null,null,{"$f":"'Sample Information'!$G$7","v":"Virus Pathogen Midi Kit, Complex_400_V4_DSP_Default_IC"},null,{"$error":"#N/A"}]
[{"$f":"'Sample Information'!A56","v":55},{"$f":"'Sample Information'!B56","v":0},"0-DNA",{"$f":"'Sample Information'!E56","v":0},{"$f":"IF(VLOOKUP($C56, 'Nanodrop Data Raw'!$C:$L, 10, FALSE)<>\"\", VLOOKUP($C56, 'Nanodrop Data Raw'!$C:$L, 10, FALSE), VLOOKUP($C56, 'Nanodrop Data Raw'!$C:$L, 2, FALSE))","v":{"$error":"#N/A"}},60,"AVE",{"$error":"#N/A"},{"$f":"VLOOKUP($C56, 'Nanodrop Data Raw'!$C:$L, 3, FALSE)","v":{"$error":"#N/A"}},{"$f":"VLOOKUP($C56, 'Nanodrop Data Raw'!$C:$L, 4, FALSE)","v":{"$error":"#N/A"}},null,null,null,null,{"$f":"'Sample Information'!$G$6","v":0},{"$f":"'Sample Information'!$G$5","v":0},null,null,{"$f":"'Sample Information'!$G$7","v":"Virus Pathogen Midi Kit, Complex_400_V4_DSP_Default_IC"},null,{"$error":"#N/A"}]
[{"$f":"'Sample Information'!A57","v":56},{"$f":"'Sample Information'!B57","v":0},"0-DNA",{"$f":"'Sample Information'!E57","v":0},{"$f":"IF(VLOOKUP($C57, 'Nanodrop Data Raw'!$C:$L, 10, FALSE)<>\"\", VLOOKUP($C57, 'Nanodrop Data Raw'!$C:$L, 10, FALSE), VLOOKUP($C57, 'Nanodrop Data Raw'!$C:$L, 2, FALSE))","v":{"$error":"#N/A"}},60,"AVE",{"$error":"#N/A"},{"$f":"VLOOKUP($C57, 'Nanodrop Data Raw'!$C:$L, 3, FALSE)","v":{"$error":"#N/A"}},{"$f":"VLOOKUP($C57, 'Nanodrop Data Raw'!$C:$L, 4, FALSE)","v":{"$error":"#N/A"}},null,null,null,null,{"$f":"'Sample Information'!$G$6","v":0},{"$f":"'Sample Information'!$G$5","v":0},null,null,{"$f":"'Sample Information'!$G$7","v":"Virus Pathogen Midi Kit, Complex_400_V4_DSP_Default_IC"},null,{"$error":"#N/A"}]
[{"$f":"'Sample Information'!A58","v":57},{"$f":"'Sample Information'!B58","v":0},"0-DNA",{"$f":"'Sample Information'!E58","v":0},{"$f":"IF(VLOOKUP($C58, 'Nanodrop Data Raw'!$C:$L, 10, FALSE)<>\"\", VLOOKUP($C58, 'Nanodrop Data Raw'!$C:$L, 10, FALSE), VLOOKUP($C58, 'Nanodrop Data Raw'!$C:$L, 2, FALSE))","v":{"$error":"#N/A"}},60,"AVE",{"$error":"#N/A"},{"$f":"VLOOKUP($C58, 'Nanodrop Data Raw'!$C:$L, 3, FALSE)","v":{"$error":"#N/A"}},{"$f":"VLOOKUP($C58, 'Nanodrop Data Raw'!$C:$L, 4, FALSE)","v":{"$error":"#N/A"}},null,null,null,null,{"$f":"'Sample Information'!$G$6","v":0},{"$f":"'Sample Information'!$G$5","v":0},null,null,{"$f":"'Sample Information'!$G$7","v":"Virus Pathogen Midi Kit, Complex_400_V4_DSP_Default_IC"},null,{"$error":"#N/A"}]
[{"$f":"'Sample Information'!A59","v":58},{"$f":"'Sample Information'!B59","v":0},"0-DNA",{"$f":"'Sample Information'!E59","v":0},{"$f":"IF(VLOOKUP($C59, 'Nanodrop Data Raw'!$C:$L, 10, FALSE)<>\"\", VLOOKUP($C59, 'Nanodrop Data Raw'!$C:$L, 10, FALSE), VLOOKUP($C59, 'Nanodrop Data Raw'!$C:$L, 2, FALSE))","v":{"$error":"#N/A"}},60,"AVE",{"$error":"#N/A"},{"$f":"VLOOKUP($C59, 'Nanodrop Data Raw'!$C:$L, 3, FALSE)","v":{"$error":"#N/A"}},{"$f":"VLOOKUP($C59, 'Nanodrop Data Raw'!$C:$L, 4, FALSE)","v":{"$error":"#N/A"}},null,null,null,null,{"$f":"'Sample Information'!$G$6","v":0},{"$f":"'Sample Information'!$G$5","v":0},null,null,{"$f":"'Sample Information'!$G$7","v":"Virus Pathogen Midi Kit, Complex_400_V4_DSP_Default_IC"},null,{"$error":"#N/A"}]
[{"$f":"'Sample Information'!A60","v":59},{"$f":"'Sample Information'!B60","v":0},"0-DNA",{"$f":"'Sample Information'!E60","v":0},{"$f":"IF(VLOOKUP($C60, 'Nanodrop Data Raw'!$C:$L, 10, FALSE)<>\"\", VLOOKUP($C60, 'Nanodrop Data Raw'!$C:$L, 10, FALSE), VLOOKUP($C60, 'Nanodrop Data Raw'!$C:$L, 2, FALSE))","v":{"$error":"#N/A"}},60,"AVE",{"$error":"#N/A"},{"$f":"VLOOKUP($C60, 'Nanodrop Data Raw'!$C:$L, 3, FALSE)","v":{"$error":"#N/A"}},{"$f":"VLOOKUP($C60, 'Nanodrop Data Raw'!$C:$L, 4, FALSE)","v":{"$error":"#N/A"}},null,null,null,null,{"$f":"'Sample Information'!$G$6","v":0},{"$f":"'Sample Information'!$G$5","v":0},null,null,{"$f":"'Sample Information'!$G$7","v":"Virus Pathogen Midi Kit, Complex_400_V4_DSP_Default_IC"},null,{"$error":"#N/A"}]
[{"$f":"'Sample Information'!A61","v":60},{"$f":"'Sample Information'!B61","v":0},"0-DNA",{"$f":"'Sample Information'!E61","v":0},{"$f":"IF(VLOOKUP($C61, 'Nanodrop Data Raw'!$C:$L, 10, FALSE)<>\"\", VLOOKUP($C61, 'Nanodrop Data Raw'!$C:$L, 10, FALSE), VLOOKUP($C61, 'Nanodrop Data Raw'!$C:$L, 2, FALSE))","v":{"$error":"#N/A"}},60,"AVE",{"$error":"#N/A"},{"$f":"VLOOKUP($C61, 'Nanodrop Data Raw'!$C:$L, 3, FALSE)","v":{"$error":"#N/A"}},{"$f":"VLOOKUP($C61, 'Nanodrop Data Raw'!$C:$L, 4, FALSE)","v":{"$error":"#N/A"}},null,null,null,null,{"$f":"'Sample Information'!$G$6","v":0},{"$f":"'Sample Information'!$G$5","v":0},null,null,{"$f":"'Sample Information'!$G$7","v":"Virus Pathogen Midi Kit, Complex_400_V4_DSP_Default_IC"},null,{"$error":"#N/A"}]
[{"$f":"'Sample Information'!A62","v":61},{"$f":"'Sample Information'!B62","v":0},"0-DNA",{"$f":"'Sample Information'!E62","v":0},{"$f":"IF(VLOOKUP($C62, 'Nanodrop Data Raw'!$C:$L, 10, FALSE)<>\"\", VLOOKUP($C62, 'Nanodrop Data Raw'!$C:$L, 10, FALSE), VLOOKUP($C62, 'Nanodrop Data Raw'!$C:$L, 2, FALSE))","v":{"$error":"#N/A"}},60,"AVE",{"$error":"#N/A"},{"$f":"VLOOKUP($C62, 'Nanodrop Data Raw'!$C:$L, 3, FALSE)","v":{"$error":"#N/A"}},{"$f":"VLOOKUP($C62, 'Nanodrop Data Raw'!$C:$L, 4, FALSE)","v":{"$error":"#N/A"}},null,null,null,null,{"$f":"'Sample Information'!$G$6","v":0},{"$f":"'Sample Information'!$G$5","v":0},null,null,{"$f":"'Sample Information'!$G$7","v":"Virus Pathogen Midi Kit, Complex_400_V4_DSP_Default_IC"},null,{"$error":"#N/A"}]
[{"$f":"'Sample Information'!A63","v":62},{"$f":"'Sample Information'!B63","v":0},"0-DNA",{"$f":"'Sample Information'!E63","v":0},{"$f":"IF(VLOOKUP($C63, 'Nanodrop Data Raw'!$C:$L, 10, FALSE)<>\"\", VLOOKUP($C63, 'Nanodrop Data Raw'!$C:$L, 10, FALSE), VLOOKUP($C63, 'Nanodrop Data Raw'!$C:$L, 2, FALSE))","v":{"$error":"#N/A"}},60,"AVE",{"$error":"#N/A"},{"$f":"VLOOKUP($C63, 'Nanodrop Data Raw'!$C:$L, 3, FALSE)","v":{"$error":"#N/A"}},{"$f":"VLOOKUP($C63, 'Nanodrop Data Raw'!$C:$L, 4, FALSE)","v":{"$error":"#N/A"}},null,null,null,null,{"$f":"'Sample Information'!$G$6","v":0},{"$f":"'Sample Information'!$G$5","v":0},null,null,{"$f":"'Sample Information'!$G$7","v":"Virus Pathogen Midi Kit, Complex_400_V4_DSP_Default_IC"},null,{"$error":"#N/A"}]
[{"$f":"'Sample Information'!A64","v":63},{"$f":"'Sample Information'!B64","v":0},"0-DNA",{"$f":"'Sample Information'!E64","v":0},{"$f":"IF(VLOOKUP($C64, 'Nanodrop Data Raw'!$C:$L, 10, FALSE)<>\"\", VLOOKUP($C64, 'Nanodrop Data Raw'!$C:$L, 10, FALSE), VLOOKUP($C64, 'Nanodrop Data Raw'!$C:$L, 2, FALSE))","v":{"$error":"#N/A"}},60,"AVE",{"$error":"#N/A"},{"$f":"VLOOKUP($C64, 'Nanodrop Data Raw'!$C:$L, 3, FALSE)","v":{"$error":"#N/A"}},{"$f":"VLOOKUP($C64, 'Nanodrop Data Raw'!$C:$L, 4, FALSE)","v":{"$error":"#N/A"}},null,null,null,null,{"$f":"'Sample Information'!$G$6","v":0},{"$f":"'Sample Information'!$G$5","v":0},null,null,{"$f":"'Sample Information'!$G$7","v":"Virus Pathogen Midi Kit, Complex_400_V4_DSP_Default_IC"},null,{"$error":"#N/A"}]
[{"$f":"'Sample Information'!A65","v":64},{"$f":"'Sample Information'!B65","v":0},"0-DNA",{"$f":"'Sample Information'!E65","v":0},{"$f":"IF(VLOOKUP($C65, 'Nanodrop Data Raw'!$C:$L, 10, FALSE)<>\"\", VLOOKUP($C65, 'Nanodrop Data Raw'!$C:$L, 10, FALSE), VLOOKUP($C65, 'Nanodrop Data Raw'!$C:$L, 2, FALSE))","v":{"$error":"#N/A"}},60,"AVE",{"$error":"#N/A"},{"$f":"VLOOKUP($C65, 'Nanodrop Data Raw'!$C:$L, 3, FALSE)","v":{"$error":"#N/A"}},{"$f":"VLOOKUP($C65, 'Nanodrop Data Raw'!$C:$L, 4, FALSE)","v":{"$error":"#N/A"}},null,null,null,null,{"$f":"'Sample Information'!$G$6","v":0},{"$f":"'Sample Information'!$G$5","v":0},null,null,{"$f":"'Sample Information'!$G$7","v":"Virus Pathogen Midi Kit, Complex_400_V4_DSP_Default_IC"},null,{"$error":"#N/A"}]
[{"$f":"'Sample Information'!A66","v":65},{"$f":"'Sample Information'!B66","v":0},"0-DNA",{"$f":"'Sample Information'!E66","v":0},{"$f":"IF(VLOOKUP($C66, 'Nanodrop Data Raw'!$C:$L, 10, FALSE)<>\"\", VLOOKUP($C66, 'Nanodrop Data Raw'!$C:$L, 10, FALSE), VLOOKUP($C66, 'Nanodrop Data Raw'!$C:$L, 2, FALSE))","v":{"$error":"#N/A"}},60,"AVE",{"$error":"#N/A"},{"$f":"VLOOKUP($C66, 'Nanodrop Data Raw'!$C:$L, 3, FALSE)","v":{"$error":"#N/A"}},{"$f":"VLOOKUP($C66, 'Nanodrop Data Raw'!$C:$L, 4, FALSE)","v":{"$error":"#N/A"}},null,null,null,null,{"$f":"'Sample Information'!$G$6","v":0},{"$f":"'Sample Information'!$G$5","v":0},null,null,{"$f":"'Sample Information'!$G$7","v":"Virus Pathogen Midi Kit, Complex_400_V4_DSP_Default_IC"},null,{"$error":"#N/A"}]
[{"$f":"'Sample Information'!A67","v":66},{"$f":"'Sample Information'!B67","v":0},{"$f":"CONCATENATE(B67,\"-DNA\")","v":"0-DNA"},{"$f":"'Sample Information'!E67","v":0},{"$f":"IF(VLOOKUP($C67, 'Nanodrop Data Raw'!$C:$L, 10, FALSE)<>\"\", VLOOKUP($C67, 'Nanodrop Data Raw'!$C:$L, 10, FALSE), VLOOKUP($C67, 'Nanodrop Data Raw'!$C:$L, 2, FALSE))","v":{"$error":"#N/A"}},60,"AVE",{"$f":"E67*F67/1000","v":{"$error":"#N/A"}},{"$f":"VLOOKUP($C67, 'Nanodrop Data Raw'!$C:$L, 3, FALSE)","v":{"$error":"#N/A"}},{"$f":"VLOOKUP($C67, 'Nanodrop Data Raw'!$C:$L, 4, FALSE)","v":{"$error":"#N/A"}},null,null,null,null,{"$f":"'Sample Information'!$G$6","v":0},{"$f":"'Sample Information'!$G$5","v":0},null,null,{"$f":"'Sample Information'!$G$7","v":"Virus Pathogen Midi Kit, Complex_400_V4_DSP_Default_IC"},null,{"$f":"$O67/$E67","v":{"$error":"#N/A"}}]
[{"$f":"'Sample Information'!A68","v":67},{"$f":"'Sample Information'!B68","v":0},"0-DNA",{"$f":"'Sample Information'!E68","v":0},{"$f":"IF(VLOOKUP($C68, 'Nanodrop Data Raw'!$C:$L, 10, FALSE)<>\"\", VLOOKUP($C68, 'Nanodrop Data Raw'!$C:$L, 10, FALSE), VLOOKUP($C68, 'Nanodrop Data Raw'!$C:$L, 2, FALSE))","v":{"$error":"#N/A"}},60,"AVE",{"$error":"#N/A"},{"$f":"VLOOKUP($C68, 'Nanodrop Data Raw'!$C:$L, 3, FALSE)","v":{"$error":"#N/A"}},{"$f":"VLOOKUP($C68, 'Nanodrop Data Raw'!$C:$L, 4, FALSE)","v":{"$error":"#N/A"}},null,null,null,null,{"$f":"'Sample Information'!$G$6","v":0},{"$f":"'Sample Information'!$G$5","v":0},null,null,{"$f":"'Sample Information'!$G$7","v":"Virus Pathogen Midi Kit, Complex_400_V4_DSP_Default_IC"},null,{"$error":"#N/A"}]
[{"$f":"'Sample Information'!A69","v":68},{"$f":"'Sample Information'!B69","v":0},"0-DNA",{"$f":"'Sample Information'!E69","v":0},{"$f":"IF(VLOOKUP($C69, 'Nanodrop Data Raw'!$C:$L, 10, FALSE)<>\"\", VLOOKUP($C69, 'Nanodrop Data Raw'!$C:$L, 10, FALSE), VLOOKUP($C69, 'Nanodrop Data Raw'!$C:$L, 2, FALSE))","v":{"$error":"#N/A"}},60,"AVE",{"$error":"#N/A"},{"$f":"VLOOKUP($C69, 'Nanodrop Data Raw'!$C:$L, 3, FALSE)","v":{"$error":"#N/A"}},{"$f":"VLOOKUP($C69, 'Nanodrop Data Raw'!$C:$L, 4, FALSE)","v":{"$error":"#N/A"}},null,null,null,null,{"$f":"'Sample Information'!$G$6","v":0},{"$f":"'Sample Information'!$G$5","v":0},null,null,{"$f":"'Sample Information'!$G$7","v":"Virus Pathogen Midi Kit, Complex_400_V4_DSP_Default_IC"},null,{"$error":"#N/A"}]
[{"$f":"'Sample Information'!A70","v":69},{"$f":"'Sample Information'!B70","v":0},"0-DNA",{"$f":"'Sample Information'!E70","v":0},{"$f":"IF(VLOOKUP($C70, 'Nanodrop Data Raw'!$C:$L, 10, FALSE)<>\"\", VLOOKUP($C70, 'Nanodrop Data Raw'!$C:$L, 10, FALSE), VLOOKUP($C70, 'Nanodrop Data Raw'!$C:$L, 2, FALSE))","v":{"$error":"#N/A"}},60,"AVE",{"$error":"#N/A"},{"$f":"VLOOKUP($C70, 'Nanodrop Data Raw'!$C:$L, 3, FALSE)","v":{"$error":"#N/A"}},{"$f":"VLOOKUP($C70, 'Nanodrop Data Raw'!$C:$L, 4, FALSE)","v":{"$error":"#N/A"}},null,null,null,null,{"$f":"'Sample Information'!$G$6","v":0},{"$f":"'Sample Information'!$G$5","v":0},null,null,{"$f":"'Sample Information'!$G$7","v":"Virus Pathogen Midi Kit, Complex_400_V4_DSP_Default_IC"},null,{"$error":"#N/A"}]
[{"$f":"'Sample Information'!A71","v":70},{"$f":"'Sample Information'!B71","v":0},"0-DNA",{"$f":"'Sample Information'!E71","v":0},{"$f":"IF(VLOOKUP($C71, 'Nanodrop Data Raw'!$C:$L, 10, FALSE)<>\"\", VLOOKUP($C71, 'Nanodrop Data Raw'!$C:$L, 10, FALSE), VLOOKUP($C71, 'Nanodrop Data Raw'!$C:$L, 2, FALSE))","v":{"$error":"#N/A"}},60,"AVE",{"$error":"#N/A"},{"$f":"VLOOKUP($C71, 'Nanodrop Data Raw'!$C:$L, 3, FALSE)","v":{"$error":"#N/A"}},{"$f":"VLOOKUP($C71, 'Nanodrop Data Raw'!$C:$L, 4, FALSE)","v":{"$error":"#N/A"}},null,null,null,null,{"$f":"'Sample Information'!$G$6","v":0},{"$f":"'Sample Information'!$G$5","v":0},null,null,{"$f":"'Sample Information'!$G$7","v":"Virus Pathogen Midi Kit, Complex_400_V4_DSP_Default_IC"},null,{"$error":"#N/A"}]
[{"$f":"'Sample Information'!A72","v":71},{"$f":"'Sample Information'!B72","v":0},"0-DNA",{"$f":"'Sample Information'!E72","v":0},{"$f":"IF(VLOOKUP($C72, 'Nanodrop Data Raw'!$C:$L, 10, FALSE)<>\"\", VLOOKUP($C72, 'Nanodrop Data Raw'!$C:$L, 10, FALSE), VLOOKUP($C72, 'Nanodrop Data Raw'!$C:$L, 2, FALSE))","v":{"$error":"#N/A"}},60,"AVE",{"$error":"#N/A"},{"$f":"VLOOKUP($C72, 'Nanodrop Data Raw'!$C:$L, 3, FALSE)","v":{"$error":"#N/A"}},{"$f":"VLOOKUP($C72, 'Nanodrop Data Raw'!$C:$L, 4, FALSE)","v":{"$error":"#N/A"}},null,null,null,null,{"$f":"'Sample Information'!$G$6","v":0},{"$f":"'Sample Information'!$G$5","v":0},null,null,{"$f":"'Sample Information'!$G$7","v":"Virus Pathogen Midi Kit, Complex_400_V4_DSP_Default_IC"},null,{"$error":"#N/A"}]
[{"$f":"'Sample Information'!A73","v":72},{"$f":"'Sample Information'!B73","v":0},"0-DNA",{"$f":"'Sample Information'!E73","v":0},{"$f":"IF(VLOOKUP($C73, 'Nanodrop Data Raw'!$C:$L, 10, FALSE)<>\"\", VLOOKUP($C73, 'Nanodrop Data Raw'!$C:$L, 10, FALSE), VLOOKUP($C73, 'Nanodrop Data Raw'!$C:$L, 2, FALSE))","v":{"$error":"#N/A"}},60,"AVE",{"$error":"#N/A"},{"$f":"VLOOKUP($C73, 'Nanodrop Data Raw'!$C:$L, 3, FALSE)","v":{"$error":"#N/A"}},{"$f":"VLOOKUP($C73, 'Nanodrop Data Raw'!$C:$L, 4, FALSE)","v":{"$error":"#N/A"}},null,null,null,null,{"$f":"'Sample Information'!$G$6","v":0},{"$f":"'Sample Information'!$G$5","v":0},null,null,{"$f":"'Sample Information'!$G$7","v":"Virus Pathogen Midi Kit, Complex_400_V4_DSP_Default_IC"},null,{"$error":"#N/A"}]
[{"$f":"'Sample Information'!A74","v":73},{"$f":"'Sample Information'!B74","v":0},"0-DNA",{"$f":"'Sample Information'!E74","v":0},{"$f":"IF(VLOOKUP($C74, 'Nanodrop Data Raw'!$C:$L, 10, FALSE)<>\"\", VLOOKUP($C74, 'Nanodrop Data Raw'!$C:$L, 10, FALSE), VLOOKUP($C74, 'Nanodrop Data Raw'!$C:$L, 2, FALSE))","v":{"$error":"#N/A"}},60,"AVE",{"$error":"#N/A"},{"$f":"VLOOKUP($C74, 'Nanodrop Data Raw'!$C:$L, 3, FALSE)","v":{"$error":"#N/A"}},{"$f":"VLOOKUP($C74, 'Nanodrop Data Raw'!$C:$L, 4, FALSE)","v":{"$error":"#N/A"}},null,null,null,null,{"$f":"'Sample Information'!$G$6","v":0},{"$f":"'Sample Information'!$G$5","v":0},null,null,{"$f":"'Sample Information'!$G$7","v":"Virus Pathogen Midi Kit, Complex_400_V4_DSP_Default_IC"},null,{"$error":"#N/A"}]
[{"$f":"'Sample Information'!A75","v":74},{"$f":"'Sample Information'!B75","v":0},"0-DNA",{"$f":"'Sample Information'!E75","v":0},{"$f":"IF(VLOOKUP($C75, 'Nanodrop Data Raw'!$C:$L, 10, FALSE)<>\"\", VLOOKUP($C75, 'Nanodrop Data Raw'!$C:$L, 10, FALSE), VLOOKUP($C75, 'Nanodrop Data Raw'!$C:$L, 2, FALSE))","v":{"$error":"#N/A"}},60,"AVE",{"$error":"#N/A"},{"$f":"VLOOKUP($C75, 'Nanodrop Data Raw'!$C:$L, 3, FALSE)","v":{"$error":"#N/A"}},{"$f":"VLOOKUP($C75, 'Nanodrop Data Raw'!$C:$L, 4, FALSE)","v":{"$error":"#N/A"}},null,null,null,null,{"$f":"'Sample Information'!$G$6","v":0},{"$f":"'Sample Information'!$G$5","v":0},null,null,{"$f":"'Sample Information'!$G$7","v":"Virus Pathogen Midi Kit, Complex_400_V4_DSP_Default_IC"},null,{"$error":"#N/A"}]
[{"$f":"'Sample Information'!A76","v":75},{"$f":"'Sample Information'!B76","v":0},"0-DNA",{"$f":"'Sample Information'!E76","v":0},{"$f":"IF(VLOOKUP($C76, 'Nanodrop Data Raw'!$C:$L, 10, FALSE)<>\"\", VLOOKUP($C76, 'Nanodrop Data Raw'!$C:$L, 10, FALSE), VLOOKUP($C76, 'Nanodrop Data Raw'!$C:$L, 2, FALSE))","v":{"$error":"#N/A"}},60,"AVE",{"$error":"#N/A"},{"$f":"VLOOKUP($C76, 'Nanodrop Data Raw'!$C:$L, 3, FALSE)","v":{"$error":"#N/A"}},{"$f":"VLOOKUP($C76, 'Nanodrop Data Raw'!$C:$L, 4, FALSE)","v":{"$error":"#N/A"}},null,null,null,null,{"$f":"'Sample Information'!$G$6","v":0},{"$f":"'Sample Information'!$G$5","v":0},null,null,{"$f":"'Sample Information'!$G$7","v":"Virus Pathogen Midi Kit, Complex_400_V4_DSP_Default_IC"},null,{"$error":"#N/A"}]
[{"$f":"'Sample Information'!A77","v":76},{"$f":"'Sample Information'!B77","v":0},"0-DNA",{"$f":"'Sample Information'!E77","v":0},{"$f":"IF(VLOOKUP($C77, 'Nanodrop Data Raw'!$C:$L, 10, FALSE)<>\"\", VLOOKUP($C77, 'Nanodrop Data Raw'!$C:$L, 10, FALSE), VLOOKUP($C77, 'Nanodrop Data Raw'!$C:$L, 2, FALSE))","v":{"$error":"#N/A"}},60,"AVE",{"$error":"#N/A"},{"$f":"VLOOKUP($C77, 'Nanodrop Data Raw'!$C:$L, 3, FALSE)","v":{"$error":"#N/A"}},{"$f":"VLOOKUP($C77, 'Nanodrop Data Raw'!$C:$L, 4, FALSE)","v":{"$error":"#N/A"}},null,null,null,null,{"$f":"'Sample Information'!$G$6","v":0},{"$f":"'Sample Information'!$G$5","v":0},null,null,{"$f":"'Sample Information'!$G$7","v":"Virus Pathogen Midi Kit, Complex_400_V4_DSP_Default_IC"},null,{"$error":"#N/A"}]
[{"$f":"'Sample Information'!A78","v":77},{"$f":"'Sample Information'!B78","v":0},"0-DNA",{"$f":"'Sample Information'!E78","v":0},{"$f":"IF(VLOOKUP($C78, 'Nanodrop Data Raw'!$C:$L, 10, FALSE)<>\"\", VLOOKUP($C78, 'Nanodrop Data Raw'!$C:$L, 10, FALSE), VLOOKUP($C78, 'Nanodrop Data Raw'!$C:$L, 2, FALSE))","v":{"$error":"#N/A"}},60,"AVE",{"$error":"#N/A"},{"$f":"VLOOKUP($C78, 'Nanodrop Data Raw'!$C:$L, 3, FALSE)","v":{"$error":"#N/A"}},{"$f":"VLOOKUP($C78, 'Nanodrop Data Raw'!$C:$L, 4, FALSE)","v":{"$error":"#N/A"}},null,null,null,null,{"$f":"'Sample Information'!$G$6","v":0},{"$f":"'Sample Information'!$G$5","v":0},null,null,{"$f":"'Sample Information'!$G$7","v":"Virus Pathogen Midi Kit, Complex_400_V4_DSP_Default_IC"},null,{"$error":"#N/A"}]
[{"$f":"'Sample Information'!A79","v":78},{"$f":"'Sample Information'!B79","v":0},"0-DNA",{"$f":"'Sample Information'!E79","v":0},{"$f":"IF(VLOOKUP($C79, 'Nanodrop Data Raw'!$C:$L, 10, FALSE)<>\"\", VLOOKUP($C79, 'Nanodrop Data Raw'!$C:$L, 10, FALSE), VLOOKUP($C79, 'Nanodrop Data Raw'!$C:$L, 2, FALSE))","v":{"$error":"#N/A"}},60,"AVE",{"$error":"#N/A"},{"$f":"VLOOKUP($C79, 'Nanodrop Data Raw'!$C:$L, 3, FALSE)","v":{"$error":"#N/A"}},{"$f":"VLOOKUP($C79, 'Nanodrop Data Raw'!$C:$L, 4, FALSE)","v":{"$error":"#N/A"}},null,null,null,null,{"$f":"'Sample Information'!$G$6","v":0},{"$f":"'Sample Information'!$G$5","v":0},null,null,{"$f":"'Sample Information'!$G$7","v":"Virus Pathogen Midi Kit, Complex_400_V4_DSP_Default_IC"},null,{"$error":"#N/A"}]
[{"$f":"'Sample Information'!A80","v":79},{"$f":"'Sample Information'!B80","v":0},"0-DNA",{"$f":"'Sample Information'!E80","v":0},{"$f":"IF(VLOOKUP($C80, 'Nanodrop Data Raw'!$C:$L, 10, FALSE)<>\"\", VLOOKUP($C80, 'Nanodrop Data Raw'!$C:$L, 10, FALSE), VLOOKUP($C80, 'Nanodrop Data Raw'!$C:$L, 2, FALSE))","v":{"$error":"#N/A"}},60,"AVE",{"$error":"#N/A"},{"$f":"VLOOKUP($C80, 'Nanodrop Data Raw'!$C:$L, 3, FALSE)","v":{"$error":"#N/A"}},{"$f":"VLOOKUP($C80, 'Nanodrop Data Raw'!$C:$L, 4, FALSE)","v":{"$error":"#N/A"}},null,null,null,null,{"$f":"'Sample Information'!$G$6","v":0},{"$f":"'Sample Information'!$G$5","v":0},null,null,{"$f":"'Sample Information'!$G$7","v":"Virus Pathogen Midi Kit, Complex_400_V4_DSP_Default_IC"},null,{"$error":"#N/A"}]
[{"$f":"'Sample Information'!A81","v":80},{"$f":"'Sample Information'!B81","v":0},"0-DNA",{"$f":"'Sample Information'!E81","v":0},{"$f":"IF(VLOOKUP($C81, 'Nanodrop Data Raw'!$C:$L, 10, FALSE)<>\"\", VLOOKUP($C81, 'Nanodrop Data Raw'!$C:$L, 10, FALSE), VLOOKUP($C81, 'Nanodrop Data Raw'!$C:$L, 2, FALSE))","v":{"$error":"#N/A"}},60,"AVE",{"$error":"#N/A"},{"$f":"VLOOKUP($C81, 'Nanodrop Data Raw'!$C:$L, 3, FALSE)","v":{"$error":"#N/A"}},{"$f":"VLOOKUP($C81, 'Nanodrop Data Raw'!$C:$L, 4, FALSE)","v":{"$error":"#N/A"}},null,null,null,null,{"$f":"'Sample Information'!$G$6","v":0},{"$f":"'Sample Information'!$G$5","v":0},null,null,{"$f":"'Sample Information'!$G$7","v":"Virus Pathogen Midi Kit, Complex_400_V4_DSP_Default_IC"},null,{"$error":"#N/A"}]
[{"$f":"'Sample Information'!A82","v":81},{"$f":"'Sample Information'!B82","v":0},"0-DNA",{"$f":"'Sample Information'!E82","v":0},{"$f":"IF(VLOOKUP($C82, 'Nanodrop Data Raw'!$C:$L, 10, FALSE)<>\"\", VLOOKUP($C82, 'Nanodrop Data Raw'!$C:$L, 10, FALSE), VLOOKUP($C82, 'Nanodrop Data Raw'!$C:$L, 2, FALSE))","v":{"$error":"#N/A"}},60,"AVE",{"$error":"#N/A"},{"$f":"VLOOKUP($C82, 'Nanodrop Data Raw'!$C:$L, 3, FALSE)","v":{"$error":"#N/A"}},{"$f":"VLOOKUP($C82, 'Nanodrop Data Raw'!$C:$L, 4, FALSE)","v":{"$error":"#N/A"}},null,null,null,null,{"$f":"'Sample Information'!$G$6","v":0},{"$f":"'Sample Information'!$G$5","v":0},null,null,{"$f":"'Sample Information'!$G$7","v":"Virus Pathogen Midi Kit, Complex_400_V4_DSP_Default_IC"},null,{"$error":"#N/A"}]
[{"$f":"'Sample Information'!A83","v":82},{"$f":"'Sample Information'!B83","v":0},"0-DNA",{"$f":"'Sample Information'!E83","v":0},{"$f":"IF(VLOOKUP($C83, 'Nanodrop Data Raw'!$C:$L, 10, FALSE)<>\"\", VLOOKUP($C83, 'Nanodrop Data Raw'!$C:$L, 10, FALSE), VLOOKUP($C83, 'Nanodrop Data Raw'!$C:$L, 2, FALSE))","v":{"$error":"#N/A"}},60,"AVE",{"$error":"#N/A"},{"$f":"VLOOKUP($C83, 'Nanodrop Data Raw'!$C:$L, 3, FALSE)","v":{"$error":"#N/A"}},{"$f":"VLOOKUP($C83, 'Nanodrop Data Raw'!$C:$L, 4, FALSE)","v":{"$error":"#N/A"}},null,null,null,null,{"$f":"'Sample Information'!$G$6","v":0},{"$f":"'Sample Information'!$G$5","v":0},null,null,{"$f":"'Sample Information'!$G$7","v":"Virus Pathogen Midi Kit, Complex_400_V4_DSP_Default_IC"},null,{"$error":"#N/A"}]
[{"$f":"'Sample Information'!A84","v":83},{"$f":"'Sample Information'!B84","v":0},"0-DNA",{"$f":"'Sample Information'!E84","v":0},{"$f":"IF(VLOOKUP($C84, 'Nanodrop Data Raw'!$C:$L, 10, FALSE)<>\"\", VLOOKUP($C84, 'Nanodrop Data Raw'!$C:$L, 10, FALSE), VLOOKUP($C84, 'Nanodrop Data Raw'!$C:$L, 2, FALSE))","v":{"$error":"#N/A"}},60,"AVE",{"$error":"#N/A"},{"$f":"VLOOKUP($C84, 'Nanodrop Data Raw'!$C:$L, 3, FALSE)","v":{"$error":"#N/A"}},{"$f":"VLOOKUP($C84, 'Nanodrop Data Raw'!$C:$L, 4, FALSE)","v":{"$error":"#N/A"}},null,null,null,null,{"$f":"'Sample Information'!$G$6","v":0},{"$f":"'Sample Information'!$G$5","v":0},null,null,{"$f":"'Sample Information'!$G$7","v":"Virus Pathogen Midi Kit, Complex_400_V4_DSP_Default_IC"},null,{"$error":"#N/A"}]
[{"$f":"'Sample Information'!A85","v":84},{"$f":"'Sample Information'!B85","v":0},"0-DNA",{"$f":"'Sample Information'!E85","v":0},{"$f":"IF(VLOOKUP($C85, 'Nanodrop Data Raw'!$C:$L, 10, FALSE)<>\"\", VLOOKUP($C85, 'Nanodrop Data Raw'!$C:$L, 10, FALSE), VLOOKUP($C85, 'Nanodrop Data Raw'!$C:$L, 2, FALSE))","v":{"$error":"#N/A"}},60,"AVE",{"$error":"#N/A"},{"$f":"VLOOKUP($C85, 'Nanodrop Data Raw'!$C:$L, 3, FALSE)","v":{"$error":"#N/A"}},{"$f":"VLOOKUP($C85, 'Nanodrop Data Raw'!$C:$L, 4, FALSE)","v":{"$error":"#N/A"}},null,null,null,null,{"$f":"'Sample Information'!$G$6","v":0},{"$f":"'Sample Information'!$G$5","v":0},null,null,{"$f":"'Sample Information'!$G$7","v":"Virus Pathogen Midi Kit, Complex_400_V4_DSP_Default_IC"},null,{"$error":"#N/A"}]
[{"$f":"'Sample Information'!A86","v":85},{"$f":"'Sample Information'!B86","v":0},"0-DNA",{"$f":"'Sample Information'!E86","v":0},{"$f":"IF(VLOOKUP($C86, 'Nanodrop Data Raw'!$C:$L, 10, FALSE)<>\"\", VLOOKUP($C86, 'Nanodrop Data Raw'!$C:$L, 10, FALSE), VLOOKUP($C86, 'Nanodrop Data Raw'!$C:$L, 2, FALSE))","v":{"$error":"#N/A"}},60,"AVE",{"$error":"#N/A"},{"$f":"VLOOKUP($C86, 'Nanodrop Data Raw'!$C:$L, 3, FALSE)","v":{"$error":"#N/A"}},{"$f":"VLOOKUP($C86, 'Nanodrop Data Raw'!$C:$L, 4, FALSE)","v":{"$error":"#N/A"}},null,null,null,null,{"$f":"'Sample Information'!$G$6","v":0},{"$f":"'Sample Information'!$G$5","v":0},null,null,{"$f":"'Sample Information'!$G$7","v":"Virus Pathogen Midi Kit, Complex_400_V4_DSP_Default_IC"},null,{"$error":"#N/A"}]
[{"$f":"'Sample Information'!A87","v":86},{"$f":"'Sample Information'!B87","v":0},"0-DNA",{"$f":"'Sample Information'!E87","v":0},{"$f":"IF(VLOOKUP($C87, 'Nanodrop Data Raw'!$C:$L, 10, FALSE)<>\"\", VLOOKUP($C87, 'Nanodrop Data Raw'!$C:$L, 10, FALSE), VLOOKUP($C87, 'Nanodrop Data Raw'!$C:$L, 2, FALSE))","v":{"$error":"#N/A"}},60,"AVE",{"$error":"#N/A"},{"$f":"VLOOKUP($C87, 'Nanodrop Data Raw'!$C:$L, 3, FALSE)","v":{"$error":"#N/A"}},{"$f":"VLOOKUP($C87, 'Nanodrop Data Raw'!$C:$L, 4, FALSE)","v":{"$error":"#N/A"}},null,null,null,null,{"$f":"'Sample Information'!$G$6","v":0},{"$f":"'Sample Information'!$G$5","v":0},null,null,{"$f":"'Sample Information'!$G$7","v":"Virus Pathogen Midi Kit, Complex_400_V4_DSP_Default_IC"},null,{"$error":"#N/A"}]
[{"$f":"'Sample Information'!A88","v":87},{"$f":"'Sample Information'!B88","v":0},"0-DNA",{"$f":"'Sample Information'!E88","v":0},{"$f":"IF(VLOOKUP($C88, 'Nanodrop Data Raw'!$C:$L, 10, FALSE)<>\"\", VLOOKUP($C88, 'Nanodrop Data Raw'!$C:$L, 10, FALSE), VLOOKUP($C88, 'Nanodrop Data Raw'!$C:$L, 2, FALSE))","v":{"$error":"#N/A"}},60,"AVE",{"$error":"#N/A"},{"$f":"VLOOKUP($C88, 'Nanodrop Data Raw'!$C:$L, 3, FALSE)","v":{"$error":"#N/A"}},{"$f":"VLOOKUP($C88, 'Nanodrop Data Raw'!$C:$L, 4, FALSE)","v":{"$error":"#N/A"}},null,null,null,null,{"$f":"'Sample Information'!$G$6","v":0},{"$f":"'Sample Information'!$G$5","v":0},null,null,{"$f":"'Sample Information'!$G$7","v":"Virus Pathogen Midi Kit, Complex_400_V4_DSP_Default_IC"},null,{"$error":"#N/A"}]
[{"$f":"'Sample Information'!A89","v":88},{"$f":"'Sample Information'!B89","v":0},"0-DNA",{"$f":"'Sample Information'!E89","v":0},{"$f":"IF(VLOOKUP($C89, 'Nanodrop Data Raw'!$C:$L, 10, FALSE)<>\"\", VLOOKUP($C89, 'Nanodrop Data Raw'!$C:$L, 10, FALSE), VLOOKUP($C89, 'Nanodrop Data Raw'!$C:$L, 2, FALSE))","v":{"$error":"#N/A"}},60,"AVE",{"$error":"#N/A"},{"$f":"VLOOKUP($C89, 'Nanodrop Data Raw'!$C:$L, 3, FALSE)","v":{"$error":"#N/A"}},{"$f":"VLOOKUP($C89, 'Nanodrop Data Raw'!$C:$L, 4, FALSE)","v":{"$error":"#N/A"}},null,null,null,null,{"$f":"'Sample Information'!$G$6","v":0},{"$f":"'Sample Information'!$G$5","v":0},null,null,{"$f":"'Sample Information'!$G$7","v":"Virus Pathogen Midi Kit, Complex_400_V4_DSP_Default_IC"},null,{"$error":"#N/A"}]
[{"$f":"'Sample Information'!A90","v":89},{"$f":"'Sample Information'!B90","v":0},"0-DNA",{"$f":"'Sample Information'!E90","v":0},{"$f":"IF(VLOOKUP($C90, 'Nanodrop Data Raw'!$C:$L, 10, FALSE)<>\"\", VLOOKUP($C90, 'Nanodrop Data Raw'!$C:$L, 10, FALSE), VLOOKUP($C90, 'Nanodrop Data Raw'!$C:$L, 2, FALSE))","v":{"$error":"#N/A"}},60,"AVE",{"$error":"#N/A"},{"$f":"VLOOKUP($C90, 'Nanodrop Data Raw'!$C:$L, 3, FALSE)","v":{"$error":"#N/A"}},{"$f":"VLOOKUP($C90, 'Nanodrop Data Raw'!$C:$L, 4, FALSE)","v":{"$error":"#N/A"}},null,null,null,null,{"$f":"'Sample Information'!$G$6","v":0},{"$f":"'Sample Information'!$G$5","v":0},null,null,{"$f":"'Sample Information'!$G$7","v":"Virus Pathogen Midi Kit, Complex_400_V4_DSP_Default_IC"},null,{"$error":"#N/A"}]
[{"$f":"'Sample Information'!A91","v":90},{"$f":"'Sample Information'!B91","v":0},"0-DNA",{"$f":"'Sample Information'!E91","v":0},{"$f":"IF(VLOOKUP($C91, 'Nanodrop Data Raw'!$C:$L, 10, FALSE)<>\"\", VLOOKUP($C91, 'Nanodrop Data Raw'!$C:$L, 10, FALSE), VLOOKUP($C91, 'Nanodrop Data Raw'!$C:$L, 2, FALSE))","v":{"$error":"#N/A"}},60,"AVE",{"$error":"#N/A"},{"$f":"VLOOKUP($C91, 'Nanodrop Data Raw'!$C:$L, 3, FALSE)","v":{"$error":"#N/A"}},{"$f":"VLOOKUP($C91, 'Nanodrop Data Raw'!$C:$L, 4, FALSE)","v":{"$error":"#N/A"}},null,null,null,null,{"$f":"'Sample Information'!$G$6","v":0},{"$f":"'Sample Information'!$G$5","v":0},null,null,{"$f":"'Sample Information'!$G$7","v":"Virus Pathogen Midi Kit, Complex_400_V4_DSP_Default_IC"},null,{"$error":"#N/A"}]
[{"$f":"'Sample Information'!A92","v":91},{"$f":"'Sample Information'!B92","v":0},"0-DNA",{"$f":"'Sample Information'!E92","v":0},{"$f":"IF(VLOOKUP($C92, 'Nanodrop Data Raw'!$C:$L, 10, FALSE)<>\"\", VLOOKUP($C92, 'Nanodrop Data Raw'!$C:$L, 10, FALSE), VLOOKUP($C92, 'Nanodrop Data Raw'!$C:$L, 2, FALSE))","v":{"$error":"#N/A"}},60,"AVE",{"$error":"#N/A"},{"$f":"VLOOKUP($C92, 'Nanodrop Data Raw'!$C:$L, 3, FALSE)","v":{"$error":"#N/A"}},{"$f":"VLOOKUP($C92, 'Nanodrop Data Raw'!$C:$L, 4, FALSE)","v":{"$error":"#N/A"}},null,null,null,null,{"$f":"'Sample Information'!$G$6","v":0},{"$f":"'Sample Information'!$G$5","v":0},null,null,{"$f":"'Sample Information'!$G$7","v":"Virus Pathogen Midi Kit, Complex_400_V4_DSP_Default_IC"},null,{"$error":"#N/A"}]
[{"$f":"'Sample Information'!A93","v":92},{"$f":"'Sample Information'!B93","v":0},"0-DNA",{"$f":"'Sample Information'!E93","v":0},{"$f":"IF(VLOOKUP($C93, 'Nanodrop Data Raw'!$C:$L, 10, FALSE)<>\"\", VLOOKUP($C93, 'Nanodrop Data Raw'!$C:$L, 10, FALSE), VLOOKUP($C93, 'Nanodrop Data Raw'!$C:$L, 2, FALSE))","v":{"$error":"#N/A"}},60,"AVE",{"$error":"#N/A"},{"$f":"VLOOKUP($C93, 'Nanodrop Data Raw'!$C:$L, 3, FALSE)","v":{"$error":"#N/A"}},{"$f":"VLOOKUP($C93, 'Nanodrop Data Raw'!$C:$L, 4, FALSE)","v":{"$error":"#N/A"}},null,null,null,null,{"$f":"'Sample Information'!$G$6","v":0},{"$f":"'Sample Information'!$G$5","v":0},null,null,{"$f":"'Sample Information'!$G$7","v":"Virus Pathogen Midi Kit, Complex_400_V4_DSP_Default_IC"},null,{"$error":"#N/A"}]
[{"$f":"'Sample Information'!A94","v":93},{"$f":"'Sample Information'!B94","v":0},"0-DNA",{"$f":"'Sample Information'!E94","v":0},{"$f":"IF(VLOOKUP($C94, 'Nanodrop Data Raw'!$C:$L, 10, FALSE)<>\"\", VLOOKUP($C94, 'Nanodrop Data Raw'!$C:$L, 10, FALSE), VLOOKUP($C94, 'Nanodrop Data Raw'!$C:$L, 2, FALSE))","v":{"$error":"#N/A"}},60,"AVE",{"$error":"#N/A"},{"$f":"VLOOKUP($C94, 'Nanodrop Data Raw'!$C:$L, 3, FALSE)","v":{"$error":"#N/A"}},{"$f":"VLOOKUP($C94, 'Nanodrop Data Raw'!$C:$L, 4, FALSE)","v":{"$error":"#N/A"}},null,null,null,null,{"$f":"'Sample Information'!$G$6","v":0},{"$f":"'Sample Information'!$G$5","v":0},null,null,{"$f":"'Sample Information'!$G$7","v":"Virus Pathogen Midi Kit, Complex_400_V4_DSP_Default_IC"},null,{"$error":"#N/A"}]
[{"$f":"'Sample Information'!A95","v":94},{"$f":"'Sample Information'!B95","v":0},"0-DNA",{"$f":"'Sample Information'!E95","v":0},{"$f":"IF(VLOOKUP($C95, 'Nanodrop Data Raw'!$C:$L, 10, FALSE)<>\"\", VLOOKUP($C95, 'Nanodrop Data Raw'!$C:$L, 10, FALSE), VLOOKUP($C95, 'Nanodrop Data Raw'!$C:$L, 2, FALSE))","v":{"$error":"#N/A"}},60,"AVE",{"$error":"#N/A"},{"$f":"VLOOKUP($C95, 'Nanodrop Data Raw'!$C:$L, 3, FALSE)","v":{"$error":"#N/A"}},{"$f":"VLOOKUP($C95, 'Nanodrop Data Raw'!$C:$L, 4, FALSE)","v":{"$error":"#N/A"}},null,null,null,null,{"$f":"'Sample Information'!$G$6","v":0},{"$f":"'Sample Information'!$G$5","v":0},null,null,{"$f":"'Sample Information'!$G$7","v":"Virus Pathogen Midi Kit, Complex_400_V4_DSP_Default_IC"},null,{"$error":"#N/A"}]
[{"$f":"'Sample Information'!A96","v":95},{"$f":"'Sample Information'!B96","v":0},"0-DNA",{"$f":"'Sample Information'!E96","v":0},{"$f":"IF(VLOOKUP($C96, 'Nanodrop Data Raw'!$C:$L, 10, FALSE)<>\"\", VLOOKUP($C96, 'Nanodrop Data Raw'!$C:$L, 10, FALSE), VLOOKUP($C96, 'Nanodrop Data Raw'!$C:$L, 2, FALSE))","v":{"$error":"#N/A"}},60,"AVE",{"$error":"#N/A"},{"$f":"VLOOKUP($C96, 'Nanodrop Data Raw'!$C:$L, 3, FALSE)","v":{"$error":"#N/A"}},{"$f":"VLOOKUP($C96, 'Nanodrop Data Raw'!$C:$L, 4, FALSE)","v":{"$error":"#N/A"}},null,null,null,null,{"$f":"'Sample Information'!$G$6","v":0},{"$f":"'Sample Information'!$G$5","v":0},null,null,{"$f":"'Sample Information'!$G$7","v":"Virus Pathogen Midi Kit, Complex_400_V4_DSP_Default_IC"},null,{"$error":"#N/A"}]
[{"$f":"'Sample Information'!A97","v":96},{"$f":"'Sample Information'!B97","v":0},"0-DNA",{"$f":"'Sample Information'!E97","v":0},{"$f":"IF(VLOOKUP($C97, 'Nanodrop Data Raw'!$C:$L, 10, FALSE)<>\"\", VLOOKUP($C97, 'Nanodrop Data Raw'!$C:$L, 10, FALSE), VLOOKUP($C97, 'Nanodrop Data Raw'!$C:$L, 2, FALSE))","v":{"$error":"#N/A"}},60,"AVE",{"$error":"#N/A"},{"$f":"VLOOKUP($C97, 'Nanodrop Data Raw'!$C:$L, 3, FALSE)","v":{"$error":"#N/A"}},{"$f":"VLOOKUP($C97, 'Nanodrop Data Raw'!$C:$L, 4, FALSE)","v":{"$error":"#N/A"}},null,null,null,null,{"$f":"'Sample Information'!$G$6","v":0},{"$f":"'Sample Information'!$G$5","v":0},null,null,{"$f":"'Sample Information'!$G$7","v":"Virus Pathogen Midi Kit, Complex_400_V4_DSP_Default_IC"},null,{"$error":"#N/A"}]
[{"$f":"'Sample Information'!A98","v":97},{"$f":"'Sample Information'!B98","v":0},"0-DNA",{"$f":"'Sample Information'!E98","v":0},{"$f":"IF(VLOOKUP($C98, 'Nanodrop Data Raw'!$C:$L, 10, FALSE)<>\"\", VLOOKUP($C98, 'Nanodrop Data Raw'!$C:$L, 10, FALSE), VLOOKUP($C98, 'Nanodrop Data Raw'!$C:$L, 2, FALSE))","v":{"$error":"#N/A"}},60,"AVE",{"$error":"#N/A"},{"$f":"VLOOKUP($C98, 'Nanodrop Data Raw'!$C:$L, 3, FALSE)","v":{"$error":"#N/A"}},{"$f":"VLOOKUP($C98, 'Nanodrop Data Raw'!$C:$L, 4, FALSE)","v":{"$error":"#N/A"}},null,null,null,null,{"$f":"'Sample Information'!$G$6","v":0},{"$f":"'Sample Information'!$G$5","v":0},null,null,{"$f":"'Sample Information'!$G$7","v":"Virus Pathogen Midi Kit, Complex_400_V4_DSP_Default_IC"},null,{"$error":"#N/A"}]
[{"$f":"'Sample Information'!A99","v":98},{"$f":"'Sample Information'!B99","v":0},"0-DNA",{"$f":"'Sample Information'!E99","v":0},{"$f":"IF(VLOOKUP($C99, 'Nanodrop Data Raw'!$C:$L, 10, FALSE)<>\"\", VLOOKUP($C99, 'Nanodrop Data Raw'!$C:$L, 10, FALSE), VLOOKUP($C99, 'Nanodrop Data Raw'!$C:$L, 2, FALSE))","v":{"$error":"#N/A"}},60,"AVE",{"$error":"#N/A"},{"$f":"VLOOKUP($C99, 'Nanodrop Data Raw'!$C:$L, 3, FALSE)","v":{"$error":"#N/A"}},{"$f":"VLOOKUP($C99, 'Nanodrop Data Raw'!$C:$L, 4, FALSE)","v":{"$error":"#N/A"}},null,null,null,null,{"$f":"'Sample Information'!$G$6","v":0},{"$f":"'Sample Information'!$G$5","v":0},null,null,{"$f":"'Sample Information'!$G$7","v":"Virus Pathogen Midi Kit, Complex_400_V4_DSP_Default_IC"},null,{"$error":"#N/A"}]
[{"$f":"'Sample Information'!A100","v":99},{"$f":"'Sample Information'!B100","v":0},"0-DNA",{"$f":"'Sample Information'!E100","v":0},{"$f":"IF(VLOOKUP($C100, 'Nanodrop Data Raw'!$C:$L, 10, FALSE)<>\"\", VLOOKUP($C100, 'Nanodrop Data Raw'!$C:$L, 10, FALSE), VLOOKUP($C100, 'Nanodrop Data Raw'!$C:$L, 2, FALSE))","v":{"$error":"#N/A"}},60,"AVE",{"$error":"#N/A"},{"$f":"VLOOKUP($C100, 'Nanodrop Data Raw'!$C:$L, 3, FALSE)","v":{"$error":"#N/A"}},{"$f":"VLOOKUP($C100, 'Nanodrop Data Raw'!$C:$L, 4, FALSE)","v":{"$error":"#N/A"}},null,null,null,null,{"$f":"'Sample Information'!$G$6","v":0},{"$f":"'Sample Information'!$G$5","v":0},null,null,{"$f":"'Sample Information'!$G$7","v":"Virus Pathogen Midi Kit, Complex_400_V4_DSP_Default_IC"},null,{"$error":"#N/A"}]
[{"$f":"'Sample Information'!A101","v":100},{"$f":"'Sample Information'!B101","v":0},"0-DNA",{"$f":"'Sample Information'!E101","v":0},{"$f":"IF(VLOOKUP($C101, 'Nanodrop Data Raw'!$C:$L, 10, FALSE)<>\"\", VLOOKUP($C101, 'Nanodrop Data Raw'!$C:$L, 10, FALSE), VLOOKUP($C101, 'Nanodrop Data Raw'!$C:$L, 2, FALSE))","v":{"$error":"#N/A"}},60,"AVE",{"$error":"#N/A"},{"$f":"VLOOKUP($C101, 'Nanodrop Data Raw'!$C:$L, 3, FALSE)","v":{"$error":"#N/A"}},{"$f":"VLOOKUP($C101, 'Nanodrop Data Raw'!$C:$L, 4, FALSE)","v":{"$error":"#N/A"}},null,null,null,null,{"$f":"'Sample Information'!$G$6","v":0},{"$f":"'Sample Information'!$G$5","v":0},null,null,{"$f":"'Sample Information'!$G$7","v":"Virus Pathogen Midi Kit, Complex_400_V4_DSP_Default_IC"},null,{"$error":"#N/A"}]
[{"$f":"'Sample Information'!A102","v":101},{"$f":"'Sample Information'!B102","v":0},"0-DNA",{"$f":"'Sample Information'!E102","v":0},{"$f":"IF(VLOOKUP($C102, 'Nanodrop Data Raw'!$C:$L, 10, FALSE)<>\"\", VLOOKUP($C102, 'Nanodrop Data Raw'!$C:$L, 10, FALSE), VLOOKUP($C102, 'Nanodrop Data Raw'!$C:$L, 2, FALSE))","v":{"$error":"#N/A"}},60,"AVE",{"$error":"#N/A"},{"$f":"VLOOKUP($C102, 'Nanodrop Data Raw'!$C:$L, 3, FALSE)","v":{"$error":"#N/A"}},{"$f":"VLOOKUP($C102, 'Nanodrop Data Raw'!$C:$L, 4, FALSE)","v":{"$error":"#N/A"}},null,null,null,null,{"$f":"'Sample Information'!$G$6","v":0},{"$f":"'Sample Information'!$G$5","v":0},null,null,{"$f":"'Sample Information'!$G$7","v":"Virus Pathogen Midi Kit, Complex_400_V4_DSP_Default_IC"},null,{"$error":"#N/A"}]
[{"$f":"'Sample Information'!A103","v":102},{"$f":"'Sample Information'!B103","v":0},"0-DNA",{"$f":"'Sample Information'!E103","v":0},{"$f":"IF(VLOOKUP($C103, 'Nanodrop Data Raw'!$C:$L, 10, FALSE)<>\"\", VLOOKUP($C103, 'Nanodrop Data Raw'!$C:$L, 10, FALSE), VLOOKUP($C103, 'Nanodrop Data Raw'!$C:$L, 2, FALSE))","v":{"$error":"#N/A"}},60,"AVE",{"$error":"#N/A"},{"$f":"VLOOKUP($C103, 'Nanodrop Data Raw'!$C:$L, 3, FALSE)","v":{"$error":"#N/A"}},{"$f":"VLOOKUP($C103, 'Nanodrop Data Raw'!$C:$L, 4, FALSE)","v":{"$error":"#N/A"}},null,null,null,null,{"$f":"'Sample Information'!$G$6","v":0},{"$f":"'Sample Information'!$G$5","v":0},null,null,{"$f":"'Sample Information'!$G$7","v":"Virus Pathogen Midi Kit, Complex_400_V4_DSP_Default_IC"},null,{"$error":"#N/A"}]
[{"$f":"'Sample Information'!A104","v":103},{"$f":"'Sample Information'!B104","v":0},"0-DNA",{"$f":"'Sample Information'!E104","v":0},{"$f":"IF(VLOOKUP($C104, 'Nanodrop Data Raw'!$C:$L, 10, FALSE)<>\"\", VLOOKUP($C104, 'Nanodrop Data Raw'!$C:$L, 10, FALSE), VLOOKUP($C104, 'Nanodrop Data Raw'!$C:$L, 2, FALSE))","v":{"$error":"#N/A"}},60,"AVE",{"$error":"#N/A"},{"$f":"VLOOKUP($C104, 'Nanodrop Data Raw'!$C:$L, 3, FALSE)","v":{"$error":"#N/A"}},{"$f":"VLOOKUP($C104, 'Nanodrop Data Raw'!$C:$L, 4, FALSE)","v":{"$error":"#N/A"}},null,null,null,null,{"$f":"'Sample Information'!$G$6","v":0},{"$f":"'Sample Information'!$G$5","v":0},null,null,{"$f":"'Sample Information'!$G$7","v":"Virus Pathogen Midi Kit, Complex_400_V4_DSP_Default_IC"},null,{"$error":"#N/A"}]
[{"$f":"'Sample Information'!A105","v":104},{"$f":"'Sample Information'!B105","v":0},"0-DNA",{"$f":"'Sample Information'!E105","v":0},{"$f":"IF(VLOOKUP($C105, 'Nanodrop Data Raw'!$C:$L, 10, FALSE)<>\"\", VLOOKUP($C105, 'Nanodrop Data Raw'!$C:$L, 10, FALSE), VLOOKUP($C105, 'Nanodrop Data Raw'!$C:$L, 2, FALSE))","v":{"$error":"#N/A"}},60,"AVE",{"$error":"#N/A"},{"$f":"VLOOKUP($C105, 'Nanodrop Data Raw'!$C:$L, 3, FALSE)","v":{"$error":"#N/A"}},{"$f":"VLOOKUP($C105, 'Nanodrop Data Raw'!$C:$L, 4, FALSE)","v":{"$error":"#N/A"}},null,null,null,null,{"$f":"'Sample Information'!$G$6","v":0},{"$f":"'Sample Information'!$G$5","v":0},null,null,{"$f":"'Sample Information'!$G$7","v":"Virus Pathogen Midi Kit, Complex_400_V4_DSP_Default_IC"},null,{"$error":"#N/A"}]
[{"$f":"'Sample Information'!A106","v":105},{"$f":"'Sample Information'!B106","v":0},"0-DNA",{"$f":"'Sample Information'!E106","v":0},{"$f":"IF(VLOOKUP($C106, 'Nanodrop Data Raw'!$C:$L, 10, FALSE)<>\"\", VLOOKUP($C106, 'Nanodrop Data Raw'!$C:$L, 10, FALSE), VLOOKUP($C106, 'Nanodrop Data Raw'!$C:$L, 2, FALSE))","v":{"$error":"#N/A"}},60,"AVE",{"$error":"#N/A"},{"$f":"VLOOKUP($C106, 'Nanodrop Data Raw'!$C:$L, 3, FALSE)","v":{"$error":"#N/A"}},{"$f":"VLOOKUP($C106, 'Nanodrop Data Raw'!$C:$L, 4, FALSE)","v":{"$error":"#N/A"}},null,null,null,null,{"$f":"'Sample Information'!$G$6","v":0},{"$f":"'Sample Information'!$G$5","v":0},null,null,{"$f":"'Sample Information'!$G$7","v":"Virus Pathogen Midi Kit, Complex_400_V4_DSP_Default_IC"},null,{"$error":"#N/A"}]
[{"$f":"'Sample Information'!A107","v":106},{"$f":"'Sample Information'!B107","v":0},"0-DNA",{"$f":"'Sample Information'!E107","v":0},{"$f":"IF(VLOOKUP($C107, 'Nanodrop Data Raw'!$C:$L, 10, FALSE)<>\"\", VLOOKUP($C107, 'Nanodrop Data Raw'!$C:$L, 10, FALSE), VLOOKUP($C107, 'Nanodrop Data Raw'!$C:$L, 2, FALSE))","v":{"$error":"#N/A"}},60,"AVE",{"$error":"#N/A"},{"$f":"VLOOKUP($C107, 'Nanodrop Data Raw'!$C:$L, 3, FALSE)","v":{"$error":"#N/A"}},{"$f":"VLOOKUP($C107, 'Nanodrop Data Raw'!$C:$L, 4, FALSE)","v":{"$error":"#N/A"}},null,null,null,null,{"$f":"'Sample Information'!$G$6","v":0},{"$f":"'Sample Information'!$G$5","v":0},null,null,{"$f":"'Sample Information'!$G$7","v":"Virus Pathogen Midi Kit, Complex_400_V4_DSP_Default_IC"},null,{"$error":"#N/A"}]
[{"$f":"'Sample Information'!A108","v":107},{"$f":"'Sample Information'!B108","v":0},"0-DNA",{"$f":"'Sample Information'!E108","v":0},{"$f":"IF(VLOOKUP($C108, 'Nanodrop Data Raw'!$C:$L, 10, FALSE)<>\"\", VLOOKUP($C108, 'Nanodrop Data Raw'!$C:$L, 10, FALSE), VLOOKUP($C108, 'Nanodrop Data Raw'!$C:$L, 2, FALSE))","v":{"$error":"#N/A"}},60,"AVE",{"$error":"#N/A"},{"$f":"VLOOKUP($C108, 'Nanodrop Data Raw'!$C:$L, 3, FALSE)","v":{"$error":"#N/A"}},{"$f":"VLOOKUP($C108, 'Nanodrop Data Raw'!$C:$L, 4, FALSE)","v":{"$error":"#N/A"}},null,null,null,null,{"$f":"'Sample Information'!$G$6","v":0},{"$f":"'Sample Information'!$G$5","v":0},null,null,{"$f":"'Sample Information'!$G$7","v":"Virus Pathogen Midi Kit, Complex_400_V4_DSP_Default_IC"},null,{"$error":"#N/A"}]
[{"$f":"'Sample Information'!A109","v":108},{"$f":"'Sample Information'!B109","v":0},"0-DNA",{"$f":"'Sample Information'!E109","v":0},{"$f":"IF(VLOOKUP($C109, 'Nanodrop Data Raw'!$C:$L, 10, FALSE)<>\"\", VLOOKUP($C109, 'Nanodrop Data Raw'!$C:$L, 10, FALSE), VLOOKUP($C109, 'Nanodrop Data Raw'!$C:$L, 2, FALSE))","v":{"$error":"#N/A"}},60,"AVE",{"$error":"#N/A"},{"$f":"VLOOKUP($C109, 'Nanodrop Data Raw'!$C:$L, 3, FALSE)","v":{"$error":"#N/A"}},{"$f":"VLOOKUP($C109, 'Nanodrop Data Raw'!$C:$L, 4, FALSE)","v":{"$error":"#N/A"}},null,null,null,null,{"$f":"'Sample Information'!$G$6","v":0},{"$f":"'Sample Information'!$G$5","v":0},null,null,{"$f":"'Sample Information'!$G$7","v":"Virus Pathogen Midi Kit, Complex_400_V4_DSP_Default_IC"},null,{"$error":"#N/A"}]
[{"$f":"'Sample Information'!A110","v":109},{"$f":"'Sample Information'!B110","v":0},"0-DNA",{"$f":"'Sample Information'!E110","v":0},{"$f":"IF(VLOOKUP($C110, 'Nanodrop Data Raw'!$C:$L, 10, FALSE)<>\"\", VLOOKUP($C110, 'Nanodrop Data Raw'!$C:$L, 10, FALSE), VLOOKUP($C110, 'Nanodrop Data Raw'!$C:$L, 2, FALSE))","v":{"$error":"#N/A"}},60,"AVE",{"$error":"#N/A"},{"$f":"VLOOKUP($C110, 'Nanodrop Data Raw'!$C:$L, 3, FALSE)","v":{"$error":"#N/A"}},{"$f":"VLOOKUP($C110, 'Nanodrop Data Raw'!$C:$L, 4, FALSE)","v":{"$error":"#N/A"}},null,null,null,null,{"$f":"'Sample Information'!$G$6","v":0},{"$f":"'Sample Information'!$G$5","v":0},null,null,{"$f":"'Sample Information'!$G$7","v":"Virus Pathogen Midi Kit, Complex_400_V4_DSP_Default_IC"},null,{"$error":"#N/A"}]
[{"$f":"'Sample Information'!A111","v":110},{"$f":"'Sample Information'!B111","v":0},"0-DNA",{"$f":"'Sample Information'!E111","v":0},{"$f":"IF(VLOOKUP($C111, 'Nanodrop Data Raw'!$C:$L, 10, FALSE)<>\"\", VLOOKUP($C111, 'Nanodrop Data Raw'!$C:$L, 10, FALSE), VLOOKUP($C111, 'Nanodrop Data Raw'!$C:$L, 2, FALSE))","v":{"$error":"#N/A"}},60,"AVE",{"$error":"#N/A"},{"$f":"VLOOKUP($C111, 'Nanodrop Data Raw'!$C:$L, 3, FALSE)","v":{"$error":"#N/A"}},{"$f":"VLOOKUP($C111, 'Nanodrop Data Raw'!$C:$L, 4, FALSE)","v":{"$error":"#N/A"}},null,null,null,null,{"$f":"'Sample Information'!$G$6","v":0},{"$f":"'Sample Information'!$G$5","v":0},null,null,{"$f":"'Sample Information'!$G$7","v":"Virus Pathogen Midi Kit, Complex_400_V4_DSP_Default_IC"},null,{"$error":"#N/A"}]
[{"$f":"'Sample Information'!A112","v":111},{"$f":"'Sample Information'!B112","v":0},"0-DNA",{"$f":"'Sample Information'!E112","v":0},{"$f":"IF(VLOOKUP($C112, 'Nanodrop Data Raw'!$C:$L, 10, FALSE)<>\"\", VLOOKUP($C112, 'Nanodrop Data Raw'!$C:$L, 10, FALSE), VLOOKUP($C112, 'Nanodrop Data Raw'!$C:$L, 2, FALSE))","v":{"$error":"#N/A"}},60,"AVE",{"$error":"#N/A"},{"$f":"VLOOKUP($C112, 'Nanodrop Data Raw'!$C:$L, 3, FALSE)","v":{"$error":"#N/A"}},{"$f":"VLOOKUP($C112, 'Nanodrop Data Raw'!$C:$L, 4, FALSE)","v":{"$error":"#N/A"}},null,null,null,null,{"$f":"'Sample Information'!$G$6","v":0},{"$f":"'Sample Information'!$G$5","v":0},null,null,{"$f":"'Sample Information'!$G$7","v":"Virus Pathogen Midi Kit, Complex_400_V4_DSP_Default_IC"},null,{"$error":"#N/A"}]
[{"$f":"'Sample Information'!A113","v":112},{"$f":"'Sample Information'!B113","v":0},"0-DNA",{"$f":"'Sample Information'!E113","v":0},{"$f":"IF(VLOOKUP($C113, 'Nanodrop Data Raw'!$C:$L, 10, FALSE)<>\"\", VLOOKUP($C113, 'Nanodrop Data Raw'!$C:$L, 10, FALSE), VLOOKUP($C113, 'Nanodrop Data Raw'!$C:$L, 2, FALSE))","v":{"$error":"#N/A"}},60,"AVE",{"$error":"#N/A"},{"$f":"VLOOKUP($C113, 'Nanodrop Data Raw'!$C:$L, 3, FALSE)","v":{"$error":"#N/A"}},{"$f":"VLOOKUP($C113, 'Nanodrop Data Raw'!$C:$L, 4, FALSE)","v":{"$error":"#N/A"}},null,null,null,null,{"$f":"'Sample Information'!$G$6","v":0},{"$f":"'Sample Information'!$G$5","v":0},null,null,{"$f":"'Sample Information'!$G$7","v":"Virus Pathogen Midi Kit, Complex_400_V4_DSP_Default_IC"},null,{"$error":"#N/A"}]
[{"$f":"'Sample Information'!A114","v":113},{"$f":"'Sample Information'!B114","v":0},"0-DNA",{"$f":"'Sample Information'!E114","v":0},{"$f":"IF(VLOOKUP($C114, 'Nanodrop Data Raw'!$C:$L, 10, FALSE)<>\"\", VLOOKUP($C114, 'Nanodrop Data Raw'!$C:$L, 10, FALSE), VLOOKUP($C114, 'Nanodrop Data Raw'!$C:$L, 2, FALSE))","v":{"$error":"#N/A"}},60,"AVE",{"$error":"#N/A"},{"$f":"VLOOKUP($C114, 'Nanodrop Data Raw'!$C:$L, 3, FALSE)","v":{"$error":"#N/A"}},{"$f":"VLOOKUP($C114, 'Nanodrop Data Raw'!$C:$L, 4, FALSE)","v":{"$error":"#N/A"}},null,null,null,null,{"$f":"'Sample Information'!$G$6","v":0},{"$f":"'Sample Information'!$G$5","v":0},null,null,{"$f":"'Sample Information'!$G$7","v":"Virus Pathogen Midi Kit, Complex_400_V4_DSP_Default_IC"},null,{"$error":"#N/A"}]
[{"$f":"'Sample Information'!A115","v":114},{"$f":"'Sample Information'!B115","v":0},"0-DNA",{"$f":"'Sample Information'!E115","v":0},{"$f":"IF(VLOOKUP($C115, 'Nanodrop Data Raw'!$C:$L, 10, FALSE)<>\"\", VLOOKUP($C115, 'Nanodrop Data Raw'!$C:$L, 10, FALSE), VLOOKUP($C115, 'Nanodrop Data Raw'!$C:$L, 2, FALSE))","v":{"$error":"#N/A"}},60,"AVE",{"$error":"#N/A"},{"$f":"VLOOKUP($C115, 'Nanodrop Data Raw'!$C:$L, 3, FALSE)","v":{"$error":"#N/A"}},{"$f":"VLOOKUP($C115, 'Nanodrop Data Raw'!$C:$L, 4, FALSE)","v":{"$error":"#N/A"}},null,null,null,null,{"$f":"'Sample Information'!$G$6","v":0},{"$f":"'Sample Information'!$G$5","v":0},null,null,{"$f":"'Sample Information'!$G$7","v":"Virus Pathogen Midi Kit, Complex_400_V4_DSP_Default_IC"},null,{"$error":"#N/A"}]
[{"$f":"'Sample Information'!A116","v":115},{"$f":"'Sample Information'!B116","v":0},"0-DNA",{"$f":"'Sample Information'!E116","v":0},{"$f":"IF(VLOOKUP($C116, 'Nanodrop Data Raw'!$C:$L, 10, FALSE)<>\"\", VLOOKUP($C116, 'Nanodrop Data Raw'!$C:$L, 10, FALSE), VLOOKUP($C116, 'Nanodrop Data Raw'!$C:$L, 2, FALSE))","v":{"$error":"#N/A"}},60,"AVE",{"$error":"#N/A"},{"$f":"VLOOKUP($C116, 'Nanodrop Data Raw'!$C:$L, 3, FALSE)","v":{"$error":"#N/A"}},{"$f":"VLOOKUP($C116, 'Nanodrop Data Raw'!$C:$L, 4, FALSE)","v":{"$error":"#N/A"}},null,null,null,null,{"$f":"'Sample Information'!$G$6","v":0},{"$f":"'Sample Information'!$G$5","v":0},null,null,{"$f":"'Sample Information'!$G$7","v":"Virus Pathogen Midi Kit, Complex_400_V4_DSP_Default_IC"},null,{"$error":"#N/A"}]
[{"$f":"'Sample Information'!A117","v":116},{"$f":"'Sample Information'!B117","v":0},"0-DNA",{"$f":"'Sample Information'!E117","v":0},{"$f":"IF(VLOOKUP($C117, 'Nanodrop Data Raw'!$C:$L, 10, FALSE)<>\"\", VLOOKUP($C117, 'Nanodrop Data Raw'!$C:$L, 10, FALSE), VLOOKUP($C117, 'Nanodrop Data Raw'!$C:$L, 2, FALSE))","v":{"$error":"#N/A"}},60,"AVE",{"$error":"#N/A"},{"$f":"VLOOKUP($C117, 'Nanodrop Data Raw'!$C:$L, 3, FALSE)","v":{"$error":"#N/A"}},{"$f":"VLOOKUP($C117, 'Nanodrop Data Raw'!$C:$L, 4, FALSE)","v":{"$error":"#N/A"}},null,null,null,null,{"$f":"'Sample Information'!$G$6","v":0},{"$f":"'Sample Information'!$G$5","v":0},null,null,{"$f":"'Sample Information'!$G$7","v":"Virus Pathogen Midi Kit, Complex_400_V4_DSP_Default_IC"},null,{"$error":"#N/A"}]
[{"$f":"'Sample Information'!A118","v":117},{"$f":"'Sample Information'!B118","v":0},"0-DNA",{"$f":"'Sample Information'!E118","v":0},{"$f":"IF(VLOOKUP($C118, 'Nanodrop Data Raw'!$C:$L, 10, FALSE)<>\"\", VLOOKUP($C118, 'Nanodrop Data Raw'!$C:$L, 10, FALSE), VLOOKUP($C118, 'Nanodrop Data Raw'!$C:$L, 2, FALSE))","v":{"$error":"#N/A"}},60,"AVE",{"$error":"#N/A"},{"$f":"VLOOKUP($C118, 'Nanodrop Data Raw'!$C:$L, 3, FALSE)","v":{"$error":"#N/A"}},{"$f":"VLOOKUP($C118, 'Nanodrop Data Raw'!$C:$L, 4, FALSE)","v":{"$error":"#N/A"}},null,null,null,null,{"$f":"'Sample Information'!$G$6","v":0},{"$f":"'Sample Information'!$G$5","v":0},null,null,{"$f":"'Sample Information'!$G$7","v":"Virus Pathogen Midi Kit, Complex_400_V4_DSP_Default_IC"},null,{"$error":"#N/A"}]
[{"$f":"'Sample Information'!A119","v":118},{"$f":"'Sample Information'!B119","v":0},"0-DNA",{"$f":"'Sample Information'!E119","v":0},{"$f":"IF(VLOOKUP($C119, 'Nanodrop Data Raw'!$C:$L, 10, FALSE)<>\"\", VLOOKUP($C119, 'Nanodrop Data Raw'!$C:$L, 10, FALSE), VLOOKUP($C119, 'Nanodrop Data Raw'!$C:$L, 2, FALSE))","v":{"$error":"#N/A"}},60,"AVE",{"$error":"#N/A"},{"$f":"VLOOKUP($C119, 'Nanodrop Data Raw'!$C:$L, 3, FALSE)","v":{"$error":"#N/A"}},{"$f":"VLOOKUP($C119, 'Nanodrop Data Raw'!$C:$L, 4, FALSE)","v":{"$error":"#N/A"}},null,null,null,null,{"$f":"'Sample Information'!$G$6","v":0},{"$f":"'Sample Information'!$G$5","v":0},null,null,{"$f":"'Sample Information'!$G$7","v":"Virus Pathogen Midi Kit, Complex_400_V4_DSP_Default_IC"},null,{"$error":"#N/A"}]
[{"$f":"'Sample Information'!A120","v":119},{"$f":"'Sample Information'!B120","v":0},"0-DNA",{"$f":"'Sample Information'!E120","v":0},{"$f":"IF(VLOOKUP($C120, 'Nanodrop Data Raw'!$C:$L, 10, FALSE)<>\"\", VLOOKUP($C120, 'Nanodrop Data Raw'!$C:$L, 10, FALSE), VLOOKUP($C120, 'Nanodrop Data Raw'!$C:$L, 2, FALSE))","v":{"$error":"#N/A"}},60,"AVE",{"$error":"#N/A"},{"$f":"VLOOKUP($C120, 'Nanodrop Data Raw'!$C:$L, 3, FALSE)","v":{"$error":"#N/A"}},{"$f":"VLOOKUP($C120, 'Nanodrop Data Raw'!$C:$L, 4, FALSE)","v":{"$error":"#N/A"}},null,null,null,null,{"$f":"'Sample Information'!$G$6","v":0},{"$f":"'Sample Information'!$G$5","v":0},null,null,{"$f":"'Sample Information'!$G$7","v":"Virus Pathogen Midi Kit, Complex_400_V4_DSP_Default_IC"},null,{"$error":"#N/A"}]
[{"$f":"'Sample Information'!A121","v":120},{"$f":"'Sample Information'!B121","v":0},"0-DNA",{"$f":"'Sample Information'!E121","v":0},{"$f":"IF(VLOOKUP($C121, 'Nanodrop Data Raw'!$C:$L, 10, FALSE)<>\"\", VLOOKUP($C121, 'Nanodrop Data Raw'!$C:$L, 10, FALSE), VLOOKUP($C121, 'Nanodrop Data Raw'!$C:$L, 2, FALSE))","v":{"$error":"#N/A"}},60,"AVE",{"$error":"#N/A"},{"$f":"VLOOKUP($C121, 'Nanodrop Data Raw'!$C:$L, 3, FALSE)","v":{"$error":"#N/A"}},{"$f":"VLOOKUP($C121, 'Nanodrop Data Raw'!$C:$L, 4, FALSE)","v":{"$error":"#N/A"}},null,null,null,null,{"$f":"'Sample Information'!$G$6","v":0},{"$f":"'Sample Information'!$G$5","v":0},null,null,{"$f":"'Sample Information'!$G$7","v":"Virus Pathogen Midi Kit, Complex_400_V4_DSP_Default_IC"},null,{"$error":"#N/A"}]
[{"$f":"'Sample Information'!A122","v":121},{"$f":"'Sample Information'!B122","v":0},"0-DNA",{"$f":"'Sample Information'!E122","v":0},{"$f":"IF(VLOOKUP($C122, 'Nanodrop Data Raw'!$C:$L, 10, FALSE)<>\"\", VLOOKUP($C122, 'Nanodrop Data Raw'!$C:$L, 10, FALSE), VLOOKUP($C122, 'Nanodrop Data Raw'!$C:$L, 2, FALSE))","v":{"$error":"#N/A"}},60,"AVE",{"$error":"#N/A"},{"$f":"VLOOKUP($C122, 'Nanodrop Data Raw'!$C:$L, 3, FALSE)","v":{"$error":"#N/A"}},{"$f":"VLOOKUP($C122, 'Nanodrop Data Raw'!$C:$L, 4, FALSE)","v":{"$error":"#N/A"}},null,null,null,null,{"$f":"'Sample Information'!$G$6","v":0},{"$f":"'Sample Information'!$G$5","v":0},null,null,{"$f":"'Sample Information'!$G$7","v":"Virus Pathogen Midi Kit, Complex_400_V4_DSP_Default_IC"},null,{"$error":"#N/A"}]
[{"$f":"'Sample Information'!A123","v":122},{"$f":"'Sample Information'!B123","v":0},"0-DNA",{"$f":"'Sample Information'!E123","v":0},{"$f":"IF(VLOOKUP($C123, 'Nanodrop Data Raw'!$C:$L, 10, FALSE)<>\"\", VLOOKUP($C123, 'Nanodrop Data Raw'!$C:$L, 10, FALSE), VLOOKUP($C123, 'Nanodrop Data Raw'!$C:$L, 2, FALSE))","v":{"$error":"#N/A"}},60,"AVE",{"$error":"#N/A"},{"$f":"VLOOKUP($C123, 'Nanodrop Data Raw'!$C:$L, 3, FALSE)","v":{"$error":"#N/A"}},{"$f":"VLOOKUP($C123, 'Nanodrop Data Raw'!$C:$L, 4, FALSE)","v":{"$error":"#N/A"}},null,null,null,null,{"$f":"'Sample Information'!$G$6","v":0},{"$f":"'Sample Information'!$G$5","v":0},null,null,{"$f":"'Sample Information'!$G$7","v":"Virus Pathogen Midi Kit, Complex_400_V4_DSP_Default_IC"},null,{"$error":"#N/A"}]
[{"$f":"'Sample Information'!A124","v":123},{"$f":"'Sample Information'!B124","v":0},"0-DNA",{"$f":"'Sample Information'!E124","v":0},{"$f":"IF(VLOOKUP($C124, 'Nanodrop Data Raw'!$C:$L, 10, FALSE)<>\"\", VLOOKUP($C124, 'Nanodrop Data Raw'!$C:$L, 10, FALSE), VLOOKUP($C124, 'Nanodrop Data Raw'!$C:$L, 2, FALSE))","v":{"$error":"#N/A"}},60,"AVE",{"$error":"#N/A"},{"$f":"VLOOKUP($C124, 'Nanodrop Data Raw'!$C:$L, 3, FALSE)","v":{"$error":"#N/A"}},{"$f":"VLOOKUP($C124, 'Nanodrop Data Raw'!$C:$L, 4, FALSE)","v":{"$error":"#N/A"}},null,null,null,null,{"$f":"'Sample Information'!$G$6","v":0},{"$f":"'Sample Information'!$G$5","v":0},null,null,{"$f":"'Sample Information'!$G$7","v":"Virus Pathogen Midi Kit, Complex_400_V4_DSP_Default_IC"},null,{"$error":"#N/A"}]
[{"$f":"'Sample Information'!A125","v":124},{"$f":"'Sample Information'!B125","v":0},"0-DNA",{"$f":"'Sample Information'!E125","v":0},{"$f":"IF(VLOOKUP($C125, 'Nanodrop Data Raw'!$C:$L, 10, FALSE)<>\"\", VLOOKUP($C125, 'Nanodrop Data Raw'!$C:$L, 10, FALSE), VLOOKUP($C125, 'Nanodrop Data Raw'!$C:$L, 2, FALSE))","v":{"$error":"#N/A"}},60,"AVE",{"$error":"#N/A"},{"$f":"VLOOKUP($C125, 'Nanodrop Data Raw'!$C:$L, 3, FALSE)","v":{"$error":"#N/A"}},{"$f":"VLOOKUP($C125, 'Nanodrop Data Raw'!$C:$L, 4, FALSE)","v":{"$error":"#N/A"}},null,null,null,null,{"$f":"'Sample Information'!$G$6","v":0},{"$f":"'Sample Information'!$G$5","v":0},null,null,{"$f":"'Sample Information'!$G$7","v":"Virus Pathogen Midi Kit, Complex_400_V4_DSP_Default_IC"},null,{"$error":"#N/A"}]
[{"$f":"'Sample Information'!A126","v":125},{"$f":"'Sample Information'!B126","v":0},"0-DNA",{"$f":"'Sample Information'!E126","v":0},{"$f":"IF(VLOOKUP($C126, 'Nanodrop Data Raw'!$C:$L, 10, FALSE)<>\"\", VLOOKUP($C126, 'Nanodrop Data Raw'!$C:$L, 10, FALSE), VLOOKUP($C126, 'Nanodrop Data Raw'!$C:$L, 2, FALSE))","v":{"$error":"#N/A"}},60,"AVE",{"$error":"#N/A"},{"$f":"VLOOKUP($C126, 'Nanodrop Data Raw'!$C:$L, 3, FALSE)","v":{"$error":"#N/A"}},{"$f":"VLOOKUP($C126, 'Nanodrop Data Raw'!$C:$L, 4, FALSE)","v":{"$error":"#N/A"}},null,null,null,null,{"$f":"'Sample Information'!$G$6","v":0},{"$f":"'Sample Information'!$G$5","v":0},null,null,{"$f":"'Sample Information'!$G$7","v":"Virus Pathogen Midi Kit, Complex_400_V4_DSP_Default_IC"},null,{"$error":"#N/A"}]
[{"$f":"'Sample Information'!A127","v":126},{"$f":"'Sample Information'!B127","v":0},"0-DNA",{"$f":"'Sample Information'!E127","v":0},{"$f":"IF(VLOOKUP($C127, 'Nanodrop Data Raw'!$C:$L, 10, FALSE)<>\"\", VLOOKUP($C127, 'Nanodrop Data Raw'!$C:$L, 10, FALSE), VLOOKUP($C127, 'Nanodrop Data Raw'!$C:$L, 2, FALSE))","v":{"$error":"#N/A"}},60,"AVE",{"$error":"#N/A"},{"$f":"VLOOKUP($C127, 'Nanodrop Data Raw'!$C:$L, 3, FALSE)","v":{"$error":"#N/A"}},{"$f":"VLOOKUP($C127, 'Nanodrop Data Raw'!$C:$L, 4, FALSE)","v":{"$error":"#N/A"}},null,null,null,null,{"$f":"'Sample Information'!$G$6","v":0},{"$f":"'Sample Information'!$G$5","v":0},null,null,{"$f":"'Sample Information'!$G$7","v":"Virus Pathogen Midi Kit, Complex_400_V4_DSP_Default_IC"},null,{"$error":"#N/A"}]
[{"$f":"'Sample Information'!A128","v":127},{"$f":"'Sample Information'!B128","v":0},"0-DNA",{"$f":"'Sample Information'!E128","v":0},{"$f":"IF(VLOOKUP($C128, 'Nanodrop Data Raw'!$C:$L, 10, FALSE)<>\"\", VLOOKUP($C128, 'Nanodrop Data Raw'!$C:$L, 10, FALSE), VLOOKUP($C128, 'Nanodrop Data Raw'!$C:$L, 2, FALSE))","v":{"$error":"#N/A"}},60,"AVE",{"$error":"#N/A"},{"$f":"VLOOKUP($C128, 'Nanodrop Data Raw'!$C:$L, 3, FALSE)","v":{"$error":"#N/A"}},{"$f":"VLOOKUP($C128, 'Nanodrop Data Raw'!$C:$L, 4, FALSE)","v":{"$error":"#N/A"}},null,null,null,null,{"$f":"'Sample Information'!$G$6","v":0},{"$f":"'Sample Information'!$G$5","v":0},null,null,{"$f":"'Sample Information'!$G$7","v":"Virus Pathogen Midi Kit, Complex_400_V4_DSP_Default_IC"},null,{"$error":"#N/A"}]
[{"$f":"'Sample Information'!A129","v":128},{"$f":"'Sample Information'!B129","v":0},"0-DNA",{"$f":"'Sample Information'!E129","v":0},{"$f":"IF(VLOOKUP($C129, 'Nanodrop Data Raw'!$C:$L, 10, FALSE)<>\"\", VLOOKUP($C129, 'Nanodrop Data Raw'!$C:$L, 10, FALSE), VLOOKUP($C129, 'Nanodrop Data Raw'!$C:$L, 2, FALSE))","v":{"$error":"#N/A"}},60,"AVE",{"$error":"#N/A"},{"$f":"VLOOKUP($C129, 'Nanodrop Data Raw'!$C:$L, 3, FALSE)","v":{"$error":"#N/A"}},{"$f":"VLOOKUP($C129, 'Nanodrop Data Raw'!$C:$L, 4, FALSE)","v":{"$error":"#N/A"}},null,null,null,null,{"$f":"'Sample Information'!$G$6","v":0},{"$f":"'Sample Information'!$G$5","v":0},null,null,{"$f":"'Sample Information'!$G$7","v":"Virus Pathogen Midi Kit, Complex_400_V4_DSP_Default_IC"},null,{"$error":"#N/A"}]
[{"$f":"'Sample Information'!A130","v":129},{"$f":"'Sample Information'!B130","v":0},"0-DNA",{"$f":"'Sample Information'!E130","v":0},{"$f":"IF(VLOOKUP($C130, 'Nanodrop Data Raw'!$C:$L, 10, FALSE)<>\"\", VLOOKUP($C130, 'Nanodrop Data Raw'!$C:$L, 10, FALSE), VLOOKUP($C130, 'Nanodrop Data Raw'!$C:$L, 2, FALSE))","v":{"$error":"#N/A"}},60,"AVE",{"$error":"#N/A"},{"$f":"VLOOKUP($C130, 'Nanodrop Data Raw'!$C:$L, 3, FALSE)","v":{"$error":"#N/A"}},{"$f":"VLOOKUP($C130, 'Nanodrop Data Raw'!$C:$L, 4, FALSE)","v":{"$error":"#N/A"}},null,null,null,null,{"$f":"'Sample Information'!$G$6","v":0},{"$f":"'Sample Information'!$G$5","v":0},null,null,{"$f":"'Sample Information'!$G$7","v":"Virus Pathogen Midi Kit, Complex_400_V4_DSP_Default_IC"},null,{"$error":"#N/A"}]
[{"$f":"'Sample Information'!A131","v":130},{"$f":"'Sample Information'!B131","v":0},{"$f":"CONCATENATE(B131,\"-DNA\")","v":"0-DNA"},{"$f":"'Sample Information'!E131","v":0},{"$f":"IF(VLOOKUP($C131, 'Nanodrop Data Raw'!$C:$L, 10, FALSE)<>\"\", VLOOKUP($C131, 'Nanodrop Data Raw'!$C:$L, 10, FALSE), VLOOKUP($C131, 'Nanodrop Data Raw'!$C:$L, 2, FALSE))","v":{"$error":"#N/A"}},60,"AVE",{"$f":"E131*F131/1000","v":{"$error":"#N/A"}},{"$f":"VLOOKUP($C131, 'Nanodrop Data Raw'!$C:$L, 3, FALSE)","v":{"$error":"#N/A"}},{"$f":"VLOOKUP($C131, 'Nanodrop Data Raw'!$C:$L, 4, FALSE)","v":{"$error":"#N/A"}},null,null,null,null,{"$f":"'Sample Information'!$G$6","v":0},{"$f":"'Sample Information'!$G$5","v":0},null,null,{"$f":"'Sample Information'!$G$7","v":"Virus Pathogen Midi Kit, Complex_400_V4_DSP_Default_IC"},null,{"$f":"$O131/$E131","v":{"$error":"#N/A"}}]
[{"$f":"'Sample Information'!A132","v":131},{"$f":"'Sample Information'!B132","v":0},"0-DNA",{"$f":"'Sample Information'!E132","v":0},{"$f":"IF(VLOOKUP($C132, 'Nanodrop Data Raw'!$C:$L, 10, FALSE)<>\"\", VLOOKUP($C132, 'Nanodrop Data Raw'!$C:$L, 10, FALSE), VLOOKUP($C132, 'Nanodrop Data Raw'!$C:$L, 2, FALSE))","v":{"$error":"#N/A"}},60,"AVE",{"$error":"#N/A"},{"$f":"VLOOKUP($C132, 'Nanodrop Data Raw'!$C:$L, 3, FALSE)","v":{"$error":"#N/A"}},{"$f":"VLOOKUP($C132, 'Nanodrop Data Raw'!$C:$L, 4, FALSE)","v":{"$error":"#N/A"}},null,null,null,null,{"$f":"'Sample Information'!$G$6","v":0},{"$f":"'Sample Information'!$G$5","v":0},null,null,{"$f":"'Sample Information'!$G$7","v":"Virus Pathogen Midi Kit, Complex_400_V4_DSP_Default_IC"},null,{"$error":"#N/A"}]
[{"$f":"'Sample Information'!A133","v":132},{"$f":"'Sample Information'!B133","v":0},"0-DNA",{"$f":"'Sample Information'!E133","v":0},{"$f":"IF(VLOOKUP($C133, 'Nanodrop Data Raw'!$C:$L, 10, FALSE)<>\"\", VLOOKUP($C133, 'Nanodrop Data Raw'!$C:$L, 10, FALSE), VLOOKUP($C133, 'Nanodrop Data Raw'!$C:$L, 2, FALSE))","v":{"$error":"#N/A"}},60,"AVE",{"$error":"#N/A"},{"$f":"VLOOKUP($C133, 'Nanodrop Data Raw'!$C:$L, 3, FALSE)","v":{"$error":"#N/A"}},{"$f":"VLOOKUP($C133, 'Nanodrop Data Raw'!$C:$L, 4, FALSE)","v":{"$error":"#N/A"}},null,null,null,null,{"$f":"'Sample Information'!$G$6","v":0},{"$f":"'Sample Information'!$G$5","v":0},null,null,{"$f":"'Sample Information'!$G$7","v":"Virus Pathogen Midi Kit, Complex_400_V4_DSP_Default_IC"},null,{"$error":"#N/A"}]
[{"$f":"'Sample Information'!A134","v":133},{"$f":"'Sample Information'!B134","v":0},"0-DNA",{"$f":"'Sample Information'!E134","v":0},{"$f":"IF(VLOOKUP($C134, 'Nanodrop Data Raw'!$C:$L, 10, FALSE)<>\"\", VLOOKUP($C134, 'Nanodrop Data Raw'!$C:$L, 10, FALSE), VLOOKUP($C134, 'Nanodrop Data Raw'!$C:$L, 2, FALSE))","v":{"$error":"#N/A"}},60,"AVE",{"$error":"#N/A"},{"$f":"VLOOKUP($C134, 'Nanodrop Data Raw'!$C:$L, 3, FALSE)","v":{"$error":"#N/A"}},{"$f":"VLOOKUP($C134, 'Nanodrop Data Raw'!$C:$L, 4, FALSE)","v":{"$error":"#N/A"}},null,null,null,null,{"$f":"'Sample Information'!$G$6","v":0},{"$f":"'Sample Information'!$G$5","v":0},null,null,{"$f":"'Sample Information'!$G$7","v":"Virus Pathogen Midi Kit, Complex_400_V4_DSP_Default_IC"},null,{"$error":"#N/A"}]
[{"$f":"'Sample Information'!A135","v":134},{"$f":"'Sample Information'!B135","v":0},"0-DNA",{"$f":"'Sample Information'!E135","v":0},{"$f":"IF(VLOOKUP($C135, 'Nanodrop Data Raw'!$C:$L, 10, FALSE)<>\"\", VLOOKUP($C135, 'Nanodrop Data Raw'!$C:$L, 10, FALSE), VLOOKUP($C135, 'Nanodrop Data Raw'!$C:$L, 2, FALSE))","v":{"$error":"#N/A"}},60,"AVE",{"$error":"#N/A"},{"$f":"VLOOKUP($C135, 'Nanodrop Data Raw'!$C:$L, 3, FALSE)","v":{"$error":"#N/A"}},{"$f":"VLOOKUP($C135, 'Nanodrop Data Raw'!$C:$L, 4, FALSE)","v":{"$error":"#N/A"}},null,null,null,null,{"$f":"'Sample Information'!$G$6","v":0},{"$f":"'Sample Information'!$G$5","v":0},null,null,{"$f":"'Sample Information'!$G$7","v":"Virus Pathogen Midi Kit, Complex_400_V4_DSP_Default_IC"},null,{"$error":"#N/A"}]
[{"$f":"'Sample Information'!A136","v":135},{"$f":"'Sample Information'!B136","v":0},"0-DNA",{"$f":"'Sample Information'!E136","v":0},{"$f":"IF(VLOOKUP($C136, 'Nanodrop Data Raw'!$C:$L, 10, FALSE)<>\"\", VLOOKUP($C136, 'Nanodrop Data Raw'!$C:$L, 10, FALSE), VLOOKUP($C136, 'Nanodrop Data Raw'!$C:$L, 2, FALSE))","v":{"$error":"#N/A"}},60,"AVE",{"$error":"#N/A"},{"$f":"VLOOKUP($C136, 'Nanodrop Data Raw'!$C:$L, 3, FALSE)","v":{"$error":"#N/A"}},{"$f":"VLOOKUP($C136, 'Nanodrop Data Raw'!$C:$L, 4, FALSE)","v":{"$error":"#N/A"}},null,null,null,null,{"$f":"'Sample Information'!$G$6","v":0},{"$f":"'Sample Information'!$G$5","v":0},null,null,{"$f":"'Sample Information'!$G$7","v":"Virus Pathogen Midi Kit, Complex_400_V4_DSP_Default_IC"},null,{"$error":"#N/A"}]
[{"$f":"'Sample Information'!A137","v":136},{"$f":"'Sample Information'!B137","v":0},"0-DNA",{"$f":"'Sample Information'!E137","v":0},{"$f":"IF(VLOOKUP($C137, 'Nanodrop Data Raw'!$C:$L, 10, FALSE)<>\"\", VLOOKUP($C137, 'Nanodrop Data Raw'!$C:$L, 10, FALSE), VLOOKUP($C137, 'Nanodrop Data Raw'!$C:$L, 2, FALSE))","v":{"$error":"#N/A"}},60,"AVE",{"$error":"#N/A"},{"$f":"VLOOKUP($C137, 'Nanodrop Data Raw'!$C:$L, 3, FALSE)","v":{"$error":"#N/A"}},{"$f":"VLOOKUP($C137, 'Nanodrop Data Raw'!$C:$L, 4, FALSE)","v":{"$error":"#N/A"}},null,null,null,null,{"$f":"'Sample Information'!$G$6","v":0},{"$f":"'Sample Information'!$G$5","v":0},null,null,{"$f":"'Sample Information'!$G$7","v":"Virus Pathogen Midi Kit, Complex_400_V4_DSP_Default_IC"},null,{"$error":"#N/A"}]
[{"$f":"'Sample Information'!A138","v":137},{"$f":"'Sample Information'!B138","v":0},"0-DNA",{"$f":"'Sample Information'!E138","v":0},{"$f":"IF(VLOOKUP($C138, 'Nanodrop Data Raw'!$C:$L, 10, FALSE)<>\"\", VLOOKUP($C138, 'Nanodrop Data Raw'!$C:$L, 10, FALSE), VLOOKUP($C138, 'Nanodrop Data Raw'!$C:$L, 2, FALSE))","v":{"$error":"#N/A"}},60,"AVE",{"$error":"#N/A"},{"$f":"VLOOKUP($C138, 'Nanodrop Data Raw'!$C:$L, 3, FALSE)","v":{"$error":"#N/A"}},{"$f":"VLOOKUP($C138, 'Nanodrop Data Raw'!$C:$L, 4, FALSE)","v":{"$error":"#N/A"}},null,null,null,null,{"$f":"'Sample Information'!$G$6","v":0},{"$f":"'Sample Information'!$G$5","v":0},null,null,{"$f":"'Sample Information'!$G$7","v":"Virus Pathogen Midi Kit, Complex_400_V4_DSP_Default_IC"},null,{"$error":"#N/A"}]
[{"$f":"'Sample Information'!A139","v":138},{"$f":"'Sample Information'!B139","v":0},"0-DNA",{"$f":"'Sample Information'!E139","v":0},{"$f":"IF(VLOOKUP($C139, 'Nanodrop Data Raw'!$C:$L, 10, FALSE)<>\"\", VLOOKUP($C139, 'Nanodrop Data Raw'!$C:$L, 10, FALSE), VLOOKUP($C139, 'Nanodrop Data Raw'!$C:$L, 2, FALSE))","v":{"$error":"#N/A"}},60,"AVE",{"$error":"#N/A"},{"$f":"VLOOKUP($C139, 'Nanodrop Data Raw'!$C:$L, 3, FALSE)","v":{"$error":"#N/A"}},{"$f":"VLOOKUP($C139, 'Nanodrop Data Raw'!$C:$L, 4, FALSE)","v":{"$error":"#N/A"}},null,null,null,null,{"$f":"'Sample Information'!$G$6","v":0},{"$f":"'Sample Information'!$G$5","v":0},null,null,{"$f":"'Sample Information'!$G$7","v":"Virus Pathogen Midi Kit, Complex_400_V4_DSP_Default_IC"},null,{"$error":"#N/A"}]
[{"$f":"'Sample Information'!A140","v":139},{"$f":"'Sample Information'!B140","v":0},"0-DNA",{"$f":"'Sample Information'!E140","v":0},{"$f":"IF(VLOOKUP($C140, 'Nanodrop Data Raw'!$C:$L, 10, FALSE)<>\"\", VLOOKUP($C140, 'Nanodrop Data Raw'!$C:$L, 10, FALSE), VLOOKUP($C140, 'Nanodrop Data Raw'!$C:$L, 2, FALSE))","v":{"$error":"#N/A"}},60,"AVE",{"$error":"#N/A"},{"$f":"VLOOKUP($C140, 'Nanodrop Data Raw'!$C:$L, 3, FALSE)","v":{"$error":"#N/A"}},{"$f":"VLOOKUP($C140, 'Nanodrop Data Raw'!$C:$L, 4, FALSE)","v":{"$error":"#N/A"}},null,null,null,null,{"$f":"'Sample Information'!$G$6","v":0},{"$f":"'Sample Information'!$G$5","v":0},null,null,{"$f":"'Sample Information'!$G$7","v":"Virus Pathogen Midi Kit, Complex_400_V4_DSP_Default_IC"},null,{"$error":"#N/A"}]
[{"$f":"'Sample Information'!A141","v":140},{"$f":"'Sample Information'!B141","v":0},"0-DNA",{"$f":"'Sample Information'!E141","v":0},{"$f":"IF(VLOOKUP($C141, 'Nanodrop Data Raw'!$C:$L, 10, FALSE)<>\"\", VLOOKUP($C141, 'Nanodrop Data Raw'!$C:$L, 10, FALSE), VLOOKUP($C141, 'Nanodrop Data Raw'!$C:$L, 2, FALSE))","v":{"$error":"#N/A"}},60,"AVE",{"$error":"#N/A"},{"$f":"VLOOKUP($C141, 'Nanodrop Data Raw'!$C:$L, 3, FALSE)","v":{"$error":"#N/A"}},{"$f":"VLOOKUP($C141, 'Nanodrop Data Raw'!$C:$L, 4, FALSE)","v":{"$error":"#N/A"}},null,null,null,null,{"$f":"'Sample Information'!$G$6","v":0},{"$f":"'Sample Information'!$G$5","v":0},null,null,{"$f":"'Sample Information'!$G$7","v":"Virus Pathogen Midi Kit, Complex_400_V4_DSP_Default_IC"},null,{"$error":"#N/A"}]
[{"$f":"'Sample Information'!A142","v":141},{"$f":"'Sample Information'!B142","v":0},"0-DNA",{"$f":"'Sample Information'!E142","v":0},{"$f":"IF(VLOOKUP($C142, 'Nanodrop Data Raw'!$C:$L, 10, FALSE)<>\"\", VLOOKUP($C142, 'Nanodrop Data Raw'!$C:$L, 10, FALSE), VLOOKUP($C142, 'Nanodrop Data Raw'!$C:$L, 2, FALSE))","v":{"$error":"#N/A"}},60,"AVE",{"$error":"#N/A"},{"$f":"VLOOKUP($C142, 'Nanodrop Data Raw'!$C:$L, 3, FALSE)","v":{"$error":"#N/A"}},{"$f":"VLOOKUP($C142, 'Nanodrop Data Raw'!$C:$L, 4, FALSE)","v":{"$error":"#N/A"}},null,null,null,null,{"$f":"'Sample Information'!$G$6","v":0},{"$f":"'Sample Information'!$G$5","v":0},null,null,{"$f":"'Sample Information'!$G$7","v":"Virus Pathogen Midi Kit, Complex_400_V4_DSP_Default_IC"},null,{"$error":"#N/A"}]
[{"$f":"'Sample Information'!A143","v":142},{"$f":"'Sample Information'!B143","v":0},"0-DNA",{"$f":"'Sample Information'!E143","v":0},{"$f":"IF(VLOOKUP($C143, 'Nanodrop Data Raw'!$C:$L, 10, FALSE)<>\"\", VLOOKUP($C143, 'Nanodrop Data Raw'!$C:$L, 10, FALSE), VLOOKUP($C143, 'Nanodrop Data Raw'!$C:$L, 2, FALSE))","v":{"$error":"#N/A"}},60,"AVE",{"$error":"#N/A"},{"$f":"VLOOKUP($C143, 'Nanodrop Data Raw'!$C:$L, 3, FALSE)","v":{"$error":"#N/A"}},{"$f":"VLOOKUP($C143, 'Nanodrop Data Raw'!$C:$L, 4, FALSE)","v":{"$error":"#N/A"}},null,null,null,null,{"$f":"'Sample Information'!$G$6","v":0},{"$f":"'Sample Information'!$G$5","v":0},null,null,{"$f":"'Sample Information'!$G$7","v":"Virus Pathogen Midi Kit, Complex_400_V4_DSP_Default_IC"},null,{"$error":"#N/A"}]
[{"$f":"'Sample Information'!A144","v":143},{"$f":"'Sample Information'!B144","v":0},"0-DNA",{"$f":"'Sample Information'!E144","v":0},{"$f":"IF(VLOOKUP($C144, 'Nanodrop Data Raw'!$C:$L, 10, FALSE)<>\"\", VLOOKUP($C144, 'Nanodrop Data Raw'!$C:$L, 10, FALSE), VLOOKUP($C144, 'Nanodrop Data Raw'!$C:$L, 2, FALSE))","v":{"$error":"#N/A"}},60,"AVE",{"$error":"#N/A"},{"$f":"VLOOKUP($C144, 'Nanodrop Data Raw'!$C:$L, 3, FALSE)","v":{"$error":"#N/A"}},{"$f":"VLOOKUP($C144, 'Nanodrop Data Raw'!$C:$L, 4, FALSE)","v":{"$error":"#N/A"}},null,null,null,null,{"$f":"'Sample Information'!$G$6","v":0},{"$f":"'Sample Information'!$G$5","v":0},null,null,{"$f":"'Sample Information'!$G$7","v":"Virus Pathogen Midi Kit, Complex_400_V4_DSP_Default_IC"},null,{"$error":"#N/A"}]
[{"$f":"'Sample Information'!A145","v":144},{"$f":"'Sample Information'!B145","v":0},"0-DNA",{"$f":"'Sample Information'!E145","v":0},{"$f":"IF(VLOOKUP($C145, 'Nanodrop Data Raw'!$C:$L, 10, FALSE)<>\"\", VLOOKUP($C145, 'Nanodrop Data Raw'!$C:$L, 10, FALSE), VLOOKUP($C145, 'Nanodrop Data Raw'!$C:$L, 2, FALSE))","v":{"$error":"#N/A"}},60,"AVE",{"$error":"#N/A"},{"$f":"VLOOKUP($C145, 'Nanodrop Data Raw'!$C:$L, 3, FALSE)","v":{"$error":"#N/A"}},{"$f":"VLOOKUP($C145, 'Nanodrop Data Raw'!$C:$L, 4, FALSE)","v":{"$error":"#N/A"}},null,null,null,null,{"$f":"'Sample Information'!$G$6","v":0},{"$f":"'Sample Information'!$G$5","v":0},null,null,{"$f":"'Sample Information'!$G$7","v":"Virus Pathogen Midi Kit, Complex_400_V4_DSP_Default_IC"},null,{"$error":"#N/A"}]
[{"$f":"'Sample Information'!A146","v":145},{"$f":"'Sample Information'!B146","v":0},"0-DNA",{"$f":"'Sample Information'!E146","v":0},{"$f":"IF(VLOOKUP($C146, 'Nanodrop Data Raw'!$C:$L, 10, FALSE)<>\"\", VLOOKUP($C146, 'Nanodrop Data Raw'!$C:$L, 10, FALSE), VLOOKUP($C146, 'Nanodrop Data Raw'!$C:$L, 2, FALSE))","v":{"$error":"#N/A"}},60,"AVE",{"$error":"#N/A"},{"$f":"VLOOKUP($C146, 'Nanodrop Data Raw'!$C:$L, 3, FALSE)","v":{"$error":"#N/A"}},{"$f":"VLOOKUP($C146, 'Nanodrop Data Raw'!$C:$L, 4, FALSE)","v":{"$error":"#N/A"}},null,null,null,null,{"$f":"'Sample Information'!$G$6","v":0},{"$f":"'Sample Information'!$G$5","v":0},null,null,{"$f":"'Sample Information'!$G$7","v":"Virus Pathogen Midi Kit, Complex_400_V4_DSP_Default_IC"},null,{"$error":"#N/A"}]
[{"$f":"'Sample Information'!A147","v":146},{"$f":"'Sample Information'!B147","v":0},"0-DNA",{"$f":"'Sample Information'!E147","v":0},{"$f":"IF(VLOOKUP($C147, 'Nanodrop Data Raw'!$C:$L, 10, FALSE)<>\"\", VLOOKUP($C147, 'Nanodrop Data Raw'!$C:$L, 10, FALSE), VLOOKUP($C147, 'Nanodrop Data Raw'!$C:$L, 2, FALSE))","v":{"$error":"#N/A"}},60,"AVE",{"$error":"#N/A"},{"$f":"VLOOKUP($C147, 'Nanodrop Data Raw'!$C:$L, 3, FALSE)","v":{"$error":"#N/A"}},{"$f":"VLOOKUP($C147, 'Nanodrop Data Raw'!$C:$L, 4, FALSE)","v":{"$error":"#N/A"}},null,null,null,null,{"$f":"'Sample Information'!$G$6","v":0},{"$f":"'Sample Information'!$G$5","v":0},null,null,{"$f":"'Sample Information'!$G$7","v":"Virus Pathogen Midi Kit, Complex_400_V4_DSP_Default_IC"},null,{"$error":"#N/A"}]
[{"$f":"'Sample Information'!A148","v":147},{"$f":"'Sample Information'!B148","v":0},"0-DNA",{"$f":"'Sample Information'!E148","v":0},{"$f":"IF(VLOOKUP($C148, 'Nanodrop Data Raw'!$C:$L, 10, FALSE)<>\"\", VLOOKUP($C148, 'Nanodrop Data Raw'!$C:$L, 10, FALSE), VLOOKUP($C148, 'Nanodrop Data Raw'!$C:$L, 2, FALSE))","v":{"$error":"#N/A"}},60,"AVE",{"$error":"#N/A"},{"$f":"VLOOKUP($C148, 'Nanodrop Data Raw'!$C:$L, 3, FALSE)","v":{"$error":"#N/A"}},{"$f":"VLOOKUP($C148, 'Nanodrop Data Raw'!$C:$L, 4, FALSE)","v":{"$error":"#N/A"}},null,null,null,null,{"$f":"'Sample Information'!$G$6","v":0},{"$f":"'Sample Information'!$G$5","v":0},null,null,{"$f":"'Sample Information'!$G$7","v":"Virus Pathogen Midi Kit, Complex_400_V4_DSP_Default_IC"},null,{"$error":"#N/A"}]
[{"$f":"'Sample Information'!A149","v":148},{"$f":"'Sample Information'!B149","v":0},"0-DNA",{"$f":"'Sample Information'!E149","v":0},{"$f":"IF(VLOOKUP($C149, 'Nanodrop Data Raw'!$C:$L, 10, FALSE)<>\"\", VLOOKUP($C149, 'Nanodrop Data Raw'!$C:$L, 10, FALSE), VLOOKUP($C149, 'Nanodrop Data Raw'!$C:$L, 2, FALSE))","v":{"$error":"#N/A"}},60,"AVE",{"$error":"#N/A"},{"$f":"VLOOKUP($C149, 'Nanodrop Data Raw'!$C:$L, 3, FALSE)","v":{"$error":"#N/A"}},{"$f":"VLOOKUP($C149, 'Nanodrop Data Raw'!$C:$L, 4, FALSE)","v":{"$error":"#N/A"}},null,null,null,null,{"$f":"'Sample Information'!$G$6","v":0},{"$f":"'Sample Information'!$G$5","v":0},null,null,{"$f":"'Sample Information'!$G$7","v":"Virus Pathogen Midi Kit, Complex_400_V4_DSP_Default_IC"},null,{"$error":"#N/A"}]
[{"$f":"'Sample Information'!A150","v":149},{"$f":"'Sample Information'!B150","v":0},"0-DNA",{"$f":"'Sample Information'!E150","v":0},{"$f":"IF(VLOOKUP($C150, 'Nanodrop Data Raw'!$C:$L, 10, FALSE)<>\"\", VLOOKUP($C150, 'Nanodrop Data Raw'!$C:$L, 10, FALSE), VLOOKUP($C150, 'Nanodrop Data Raw'!$C:$L, 2, FALSE))","v":{"$error":"#N/A"}},60,"AVE",{"$error":"#N/A"},{"$f":"VLOOKUP($C150, 'Nanodrop Data Raw'!$C:$L, 3, FALSE)","v":{"$error":"#N/A"}},{"$f":"VLOOKUP($C150, 'Nanodrop Data Raw'!$C:$L, 4, FALSE)","v":{"$error":"#N/A"}},null,null,null,null,{"$f":"'Sample Information'!$G$6","v":0},{"$f":"'Sample Information'!$G$5","v":0},null,null,{"$f":"'Sample Information'!$G$7","v":"Virus Pathogen Midi Kit, Complex_400_V4_DSP_Default_IC"},null,{"$error":"#N/A"}]
[{"$f":"'Sample Information'!A151","v":150},{"$f":"'Sample Information'!B151","v":0},"0-DNA",{"$f":"'Sample Information'!E151","v":0},{"$f":"IF(VLOOKUP($C151, 'Nanodrop Data Raw'!$C:$L, 10, FALSE)<>\"\", VLOOKUP($C151, 'Nanodrop Data Raw'!$C:$L, 10, FALSE), VLOOKUP($C151, 'Nanodrop Data Raw'!$C:$L, 2, FALSE))","v":{"$error":"#N/A"}},60,"AVE",{"$error":"#N/A"},{"$f":"VLOOKUP($C151, 'Nanodrop Data Raw'!$C:$L, 3, FALSE)","v":{"$error":"#N/A"}},{"$f":"VLOOKUP($C151, 'Nanodrop Data Raw'!$C:$L, 4, FALSE)","v":{"$error":"#N/A"}},null,null,null,null,{"$f":"'Sample Information'!$G$6","v":0},{"$f":"'Sample Information'!$G$5","v":0},null,null,{"$f":"'Sample Information'!$G$7","v":"Virus Pathogen Midi Kit, Complex_400_V4_DSP_Default_IC"},null,{"$error":"#N/A"}]
[{"$f":"'Sample Information'!A152","v":151},{"$f":"'Sample Information'!B152","v":0},"0-DNA",{"$f":"'Sample Information'!E152","v":0},{"$f":"IF(VLOOKUP($C152, 'Nanodrop Data Raw'!$C:$L, 10, FALSE)<>\"\", VLOOKUP($C152, 'Nanodrop Data Raw'!$C:$L, 10, FALSE), VLOOKUP($C152, 'Nanodrop Data Raw'!$C:$L, 2, FALSE))","v":{"$error":"#N/A"}},60,"AVE",{"$error":"#N/A"},{"$f":"VLOOKUP($C152, 'Nanodrop Data Raw'!$C:$L, 3, FALSE)","v":{"$error":"#N/A"}},{"$f":"VLOOKUP($C152, 'Nanodrop Data Raw'!$C:$L, 4, FALSE)","v":{"$error":"#N/A"}},null,null,null,null,{"$f":"'Sample Information'!$G$6","v":0},{"$f":"'Sample Information'!$G$5","v":0},null,null,{"$f":"'Sample Information'!$G$7","v":"Virus Pathogen Midi Kit, Complex_400_V4_DSP_Default_IC"},null,{"$error":"#N/A"}]
[{"$f":"'Sample Information'!A153","v":152},{"$f":"'Sample Information'!B153","v":0},"0-DNA",{"$f":"'Sample Information'!E153","v":0},{"$f":"IF(VLOOKUP($C153, 'Nanodrop Data Raw'!$C:$L, 10, FALSE)<>\"\", VLOOKUP($C153, 'Nanodrop Data Raw'!$C:$L, 10, FALSE), VLOOKUP($C153, 'Nanodrop Data Raw'!$C:$L, 2, FALSE))","v":{"$error":"#N/A"}},60,"AVE",{"$error":"#N/A"},{"$f":"VLOOKUP($C153, 'Nanodrop Data Raw'!$C:$L, 3, FALSE)","v":{"$error":"#N/A"}},{"$f":"VLOOKUP($C153, 'Nanodrop Data Raw'!$C:$L, 4, FALSE)","v":{"$error":"#N/A"}},null,null,null,null,{"$f":"'Sample Information'!$G$6","v":0},{"$f":"'Sample Information'!$G$5","v":0},null,null,{"$f":"'Sample Information'!$G$7","v":"Virus Pathogen Midi Kit, Complex_400_V4_DSP_Default_IC"},null,{"$error":"#N/A"}]
[{"$f":"'Sample Information'!A154","v":153},{"$f":"'Sample Information'!B154","v":0},"0-DNA",{"$f":"'Sample Information'!E154","v":0},{"$f":"IF(VLOOKUP($C154, 'Nanodrop Data Raw'!$C:$L, 10, FALSE)<>\"\", VLOOKUP($C154, 'Nanodrop Data Raw'!$C:$L, 10, FALSE), VLOOKUP($C154, 'Nanodrop Data Raw'!$C:$L, 2, FALSE))","v":{"$error":"#N/A"}},60,"AVE",{"$error":"#N/A"},{"$f":"VLOOKUP($C154, 'Nanodrop Data Raw'!$C:$L, 3, FALSE)","v":{"$error":"#N/A"}},{"$f":"VLOOKUP($C154, 'Nanodrop Data Raw'!$C:$L, 4, FALSE)","v":{"$error":"#N/A"}},null,null,null,null,{"$f":"'Sample Information'!$G$6","v":0},{"$f":"'Sample Information'!$G$5","v":0},null,null,{"$f":"'Sample Information'!$G$7","v":"Virus Pathogen Midi Kit, Complex_400_V4_DSP_Default_IC"},null,{"$error":"#N/A"}]
[{"$f":"'Sample Information'!A155","v":154},{"$f":"'Sample Information'!B155","v":0},"0-DNA",{"$f":"'Sample Information'!E155","v":0},{"$f":"IF(VLOOKUP($C155, 'Nanodrop Data Raw'!$C:$L, 10, FALSE)<>\"\", VLOOKUP($C155, 'Nanodrop Data Raw'!$C:$L, 10, FALSE), VLOOKUP($C155, 'Nanodrop Data Raw'!$C:$L, 2, FALSE))","v":{"$error":"#N/A"}},60,"AVE",{"$error":"#N/A"},{"$f":"VLOOKUP($C155, 'Nanodrop Data Raw'!$C:$L, 3, FALSE)","v":{"$error":"#N/A"}},{"$f":"VLOOKUP($C155, 'Nanodrop Data Raw'!$C:$L, 4, FALSE)","v":{"$error":"#N/A"}},null,null,null,null,{"$f":"'Sample Information'!$G$6","v":0},{"$f":"'Sample Information'!$G$5","v":0},null,null,{"$f":"'Sample Information'!$G$7","v":"Virus Pathogen Midi Kit, Complex_400_V4_DSP_Default_IC"},null,{"$error":"#N/A"}]
[{"$f":"'Sample Information'!A156","v":155},{"$f":"'Sample Information'!B156","v":0},"0-DNA",{"$f":"'Sample Information'!E156","v":0},{"$f":"IF(VLOOKUP($C156, 'Nanodrop Data Raw'!$C:$L, 10, FALSE)<>\"\", VLOOKUP($C156, 'Nanodrop Data Raw'!$C:$L, 10, FALSE), VLOOKUP($C156, 'Nanodrop Data Raw'!$C:$L, 2, FALSE))","v":{"$error":"#N/A"}},60,"AVE",{"$error":"#N/A"},{"$f":"VLOOKUP($C156, 'Nanodrop Data Raw'!$C:$L, 3, FALSE)","v":{"$error":"#N/A"}},{"$f":"VLOOKUP($C156, 'Nanodrop Data Raw'!$C:$L, 4, FALSE)","v":{"$error":"#N/A"}},null,null,null,null,{"$f":"'Sample Information'!$G$6","v":0},{"$f":"'Sample Information'!$G$5","v":0},null,null,{"$f":"'Sample Information'!$G$7","v":"Virus Pathogen Midi Kit, Complex_400_V4_DSP_Default_IC"},null,{"$error":"#N/A"}]
[{"$f":"'Sample Information'!A157","v":156},{"$f":"'Sample Information'!B157","v":0},"0-DNA",{"$f":"'Sample Information'!E157","v":0},{"$f":"IF(VLOOKUP($C157, 'Nanodrop Data Raw'!$C:$L, 10, FALSE)<>\"\", VLOOKUP($C157, 'Nanodrop Data Raw'!$C:$L, 10, FALSE), VLOOKUP($C157, 'Nanodrop Data Raw'!$C:$L, 2, FALSE))","v":{"$error":"#N/A"}},60,"AVE",{"$error":"#N/A"},{"$f":"VLOOKUP($C157, 'Nanodrop Data Raw'!$C:$L, 3, FALSE)","v":{"$error":"#N/A"}},{"$f":"VLOOKUP($C157, 'Nanodrop Data Raw'!$C:$L, 4, FALSE)","v":{"$error":"#N/A"}},null,null,null,null,{"$f":"'Sample Information'!$G$6","v":0},{"$f":"'Sample Information'!$G$5","v":0},null,null,{"$f":"'Sample Information'!$G$7","v":"Virus Pathogen Midi Kit, Complex_400_V4_DSP_Default_IC"},null,{"$error":"#N/A"}]
[{"$f":"'Sample Information'!A158","v":157},{"$f":"'Sample Information'!B158","v":0},"0-DNA",{"$f":"'Sample Information'!E158","v":0},{"$f":"IF(VLOOKUP($C158, 'Nanodrop Data Raw'!$C:$L, 10, FALSE)<>\"\", VLOOKUP($C158, 'Nanodrop Data Raw'!$C:$L, 10, FALSE), VLOOKUP($C158, 'Nanodrop Data Raw'!$C:$L, 2, FALSE))","v":{"$error":"#N/A"}},60,"AVE",{"$error":"#N/A"},{"$f":"VLOOKUP($C158, 'Nanodrop Data Raw'!$C:$L, 3, FALSE)","v":{"$error":"#N/A"}},{"$f":"VLOOKUP($C158, 'Nanodrop Data Raw'!$C:$L, 4, FALSE)","v":{"$error":"#N/A"}},null,null,null,null,{"$f":"'Sample Information'!$G$6","v":0},{"$f":"'Sample Information'!$G$5","v":0},null,null,{"$f":"'Sample Information'!$G$7","v":"Virus Pathogen Midi Kit, Complex_400_V4_DSP_Default_IC"},null,{"$error":"#N/A"}]
[{"$f":"'Sample Information'!A159","v":158},{"$f":"'Sample Information'!B159","v":0},"0-DNA",{"$f":"'Sample Information'!E159","v":0},{"$f":"IF(VLOOKUP($C159, 'Nanodrop Data Raw'!$C:$L, 10, FALSE)<>\"\", VLOOKUP($C159, 'Nanodrop Data Raw'!$C:$L, 10, FALSE), VLOOKUP($C159, 'Nanodrop Data Raw'!$C:$L, 2, FALSE))","v":{"$error":"#N/A"}},60,"AVE",{"$error":"#N/A"},{"$f":"VLOOKUP($C159, 'Nanodrop Data Raw'!$C:$L, 3, FALSE)","v":{"$error":"#N/A"}},{"$f":"VLOOKUP($C159, 'Nanodrop Data Raw'!$C:$L, 4, FALSE)","v":{"$error":"#N/A"}},null,null,null,null,{"$f":"'Sample Information'!$G$6","v":0},{"$f":"'Sample Information'!$G$5","v":0},null,null,{"$f":"'Sample Information'!$G$7","v":"Virus Pathogen Midi Kit, Complex_400_V4_DSP_Default_IC"},null,{"$error":"#N/A"}]
[{"$f":"'Sample Information'!A160","v":159},{"$f":"'Sample Information'!B160","v":0},"0-DNA",{"$f":"'Sample Information'!E160","v":0},{"$f":"IF(VLOOKUP($C160, 'Nanodrop Data Raw'!$C:$L, 10, FALSE)<>\"\", VLOOKUP($C160, 'Nanodrop Data Raw'!$C:$L, 10, FALSE), VLOOKUP($C160, 'Nanodrop Data Raw'!$C:$L, 2, FALSE))","v":{"$error":"#N/A"}},60,"AVE",{"$error":"#N/A"},{"$f":"VLOOKUP($C160, 'Nanodrop Data Raw'!$C:$L, 3, FALSE)","v":{"$error":"#N/A"}},{"$f":"VLOOKUP($C160, 'Nanodrop Data Raw'!$C:$L, 4, FALSE)","v":{"$error":"#N/A"}},null,null,null,null,{"$f":"'Sample Information'!$G$6","v":0},{"$f":"'Sample Information'!$G$5","v":0},null,null,{"$f":"'Sample Information'!$G$7","v":"Virus Pathogen Midi Kit, Complex_400_V4_DSP_Default_IC"},null,{"$error":"#N/A"}]
[{"$f":"'Sample Information'!A161","v":160},{"$f":"'Sample Information'!B161","v":0},"0-DNA",{"$f":"'Sample Information'!E161","v":0},{"$f":"IF(VLOOKUP($C161, 'Nanodrop Data Raw'!$C:$L, 10, FALSE)<>\"\", VLOOKUP($C161, 'Nanodrop Data Raw'!$C:$L, 10, FALSE), VLOOKUP($C161, 'Nanodrop Data Raw'!$C:$L, 2, FALSE))","v":{"$error":"#N/A"}},60,"AVE",{"$error":"#N/A"},{"$f":"VLOOKUP($C161, 'Nanodrop Data Raw'!$C:$L, 3, FALSE)","v":{"$error":"#N/A"}},{"$f":"VLOOKUP($C161, 'Nanodrop Data Raw'!$C:$L, 4, FALSE)","v":{"$error":"#N/A"}},null,null,null,null,{"$f":"'Sample Information'!$G$6","v":0},{"$f":"'Sample Information'!$G$5","v":0},null,null,{"$f":"'Sample Information'!$G$7","v":"Virus Pathogen Midi Kit, Complex_400_V4_DSP_Default_IC"},null,{"$error":"#N/A"}]
[{"$f":"'Sample Information'!A162","v":161},{"$f":"'Sample Information'!B162","v":0},"0-DNA",{"$f":"'Sample Information'!E162","v":0},{"$f":"IF(VLOOKUP($C162, 'Nanodrop Data Raw'!$C:$L, 10, FALSE)<>\"\", VLOOKUP($C162, 'Nanodrop Data Raw'!$C:$L, 10, FALSE), VLOOKUP($C162, 'Nanodrop Data Raw'!$C:$L, 2, FALSE))","v":{"$error":"#N/A"}},60,"AVE",{"$error":"#N/A"},{"$f":"VLOOKUP($C162, 'Nanodrop Data Raw'!$C:$L, 3, FALSE)","v":{"$error":"#N/A"}},{"$f":"VLOOKUP($C162, 'Nanodrop Data Raw'!$C:$L, 4, FALSE)","v":{"$error":"#N/A"}},null,null,null,null,{"$f":"'Sample Information'!$G$6","v":0},{"$f":"'Sample Information'!$G$5","v":0},null,null,{"$f":"'Sample Information'!$G$7","v":"Virus Pathogen Midi Kit, Complex_400_V4_DSP_Default_IC"},null,{"$error":"#N/A"}]
[{"$f":"'Sample Information'!A163","v":162},{"$f":"'Sample Information'!B163","v":0},"0-DNA",{"$f":"'Sample Information'!E163","v":0},{"$f":"IF(VLOOKUP($C163, 'Nanodrop Data Raw'!$C:$L, 10, FALSE)<>\"\", VLOOKUP($C163, 'Nanodrop Data Raw'!$C:$L, 10, FALSE), VLOOKUP($C163, 'Nanodrop Data Raw'!$C:$L, 2, FALSE))","v":{"$error":"#N/A"}},60,"AVE",{"$error":"#N/A"},{"$f":"VLOOKUP($C163, 'Nanodrop Data Raw'!$C:$L, 3, FALSE)","v":{"$error":"#N/A"}},{"$f":"VLOOKUP($C163, 'Nanodrop Data Raw'!$C:$L, 4, FALSE)","v":{"$error":"#N/A"}},null,null,null,null,{"$f":"'Sample Information'!$G$6","v":0},{"$f":"'Sample Information'!$G$5","v":0},null,null,{"$f":"'Sample Information'!$G$7","v":"Virus Pathogen Midi Kit, Complex_400_V4_DSP_Default_IC"},null,{"$error":"#N/A"}]
[{"$f":"'Sample Information'!A164","v":163},{"$f":"'Sample Information'!B164","v":0},"0-DNA",{"$f":"'Sample Information'!E164","v":0},{"$f":"IF(VLOOKUP($C164, 'Nanodrop Data Raw'!$C:$L, 10, FALSE)<>\"\", VLOOKUP($C164, 'Nanodrop Data Raw'!$C:$L, 10, FALSE), VLOOKUP($C164, 'Nanodrop Data Raw'!$C:$L, 2, FALSE))","v":{"$error":"#N/A"}},60,"AVE",{"$error":"#N/A"},{"$f":"VLOOKUP($C164, 'Nanodrop Data Raw'!$C:$L, 3, FALSE)","v":{"$error":"#N/A"}},{"$f":"VLOOKUP($C164, 'Nanodrop Data Raw'!$C:$L, 4, FALSE)","v":{"$error":"#N/A"}},null,null,null,null,{"$f":"'Sample Information'!$G$6","v":0},{"$f":"'Sample Information'!$G$5","v":0},null,null,{"$f":"'Sample Information'!$G$7","v":"Virus Pathogen Midi Kit, Complex_400_V4_DSP_Default_IC"},null,{"$error":"#N/A"}]
[{"$f":"'Sample Information'!A165","v":164},{"$f":"'Sample Information'!B165","v":0},"0-DNA",{"$f":"'Sample Information'!E165","v":0},{"$f":"IF(VLOOKUP($C165, 'Nanodrop Data Raw'!$C:$L, 10, FALSE)<>\"\", VLOOKUP($C165, 'Nanodrop Data Raw'!$C:$L, 10, FALSE), VLOOKUP($C165, 'Nanodrop Data Raw'!$C:$L, 2, FALSE))","v":{"$error":"#N/A"}},60,"AVE",{"$error":"#N/A"},{"$f":"VLOOKUP($C165, 'Nanodrop Data Raw'!$C:$L, 3, FALSE)","v":{"$error":"#N/A"}},{"$f":"VLOOKUP($C165, 'Nanodrop Data Raw'!$C:$L, 4, FALSE)","v":{"$error":"#N/A"}},null,null,null,null,{"$f":"'Sample Information'!$G$6","v":0},{"$f":"'Sample Information'!$G$5","v":0},null,null,{"$f":"'Sample Information'!$G$7","v":"Virus Pathogen Midi Kit, Complex_400_V4_DSP_Default_IC"},null,{"$error":"#N/A"}]
[{"$f":"'Sample Information'!A166","v":165},{"$f":"'Sample Information'!B166","v":0},"0-DNA",{"$f":"'Sample Information'!E166","v":0},{"$f":"IF(VLOOKUP($C166, 'Nanodrop Data Raw'!$C:$L, 10, FALSE)<>\"\", VLOOKUP($C166, 'Nanodrop Data Raw'!$C:$L, 10, FALSE), VLOOKUP($C166, 'Nanodrop Data Raw'!$C:$L, 2, FALSE))","v":{"$error":"#N/A"}},60,"AVE",{"$error":"#N/A"},{"$f":"VLOOKUP($C166, 'Nanodrop Data Raw'!$C:$L, 3, FALSE)","v":{"$error":"#N/A"}},{"$f":"VLOOKUP($C166, 'Nanodrop Data Raw'!$C:$L, 4, FALSE)","v":{"$error":"#N/A"}},null,null,null,null,{"$f":"'Sample Information'!$G$6","v":0},{"$f":"'Sample Information'!$G$5","v":0},null,null,{"$f":"'Sample Information'!$G$7","v":"Virus Pathogen Midi Kit, Complex_400_V4_DSP_Default_IC"},null,{"$error":"#N/A"}]
[{"$f":"'Sample Information'!A167","v":166},{"$f":"'Sample Information'!B167","v":0},"0-DNA",{"$f":"'Sample Information'!E167","v":0},{"$f":"IF(VLOOKUP($C167, 'Nanodrop Data Raw'!$C:$L, 10, FALSE)<>\"\", VLOOKUP($C167, 'Nanodrop Data Raw'!$C:$L, 10, FALSE), VLOOKUP($C167, 'Nanodrop Data Raw'!$C:$L, 2, FALSE))","v":{"$error":"#N/A"}},60,"AVE",{"$error":"#N/A"},{"$f":"VLOOKUP($C167, 'Nanodrop Data Raw'!$C:$L, 3, FALSE)","v":{"$error":"#N/A"}},{"$f":"VLOOKUP($C167, 'Nanodrop Data Raw'!$C:$L, 4, FALSE)","v":{"$error":"#N/A"}},null,null,null,null,{"$f":"'Sample Information'!$G$6","v":0},{"$f":"'Sample Information'!$G$5","v":0},null,null,{"$f":"'Sample Information'!$G$7","v":"Virus Pathogen Midi Kit, Complex_400_V4_DSP_Default_IC"},null,{"$error":"#N/A"}]
[{"$f":"'Sample Information'!A168","v":167},{"$f":"'Sample Information'!B168","v":0},"0-DNA",{"$f":"'Sample Information'!E168","v":0},{"$f":"IF(VLOOKUP($C168, 'Nanodrop Data Raw'!$C:$L, 10, FALSE)<>\"\", VLOOKUP($C168, 'Nanodrop Data Raw'!$C:$L, 10, FALSE), VLOOKUP($C168, 'Nanodrop Data Raw'!$C:$L, 2, FALSE))","v":{"$error":"#N/A"}},60,"AVE",{"$error":"#N/A"},{"$f":"VLOOKUP($C168, 'Nanodrop Data Raw'!$C:$L, 3, FALSE)","v":{"$error":"#N/A"}},{"$f":"VLOOKUP($C168, 'Nanodrop Data Raw'!$C:$L, 4, FALSE)","v":{"$error":"#N/A"}},null,null,null,null,{"$f":"'Sample Information'!$G$6","v":0},{"$f":"'Sample Information'!$G$5","v":0},null,null,{"$f":"'Sample Information'!$G$7","v":"Virus Pathogen Midi Kit, Complex_400_V4_DSP_Default_IC"},null,{"$error":"#N/A"}]
[{"$f":"'Sample Information'!A169","v":168},{"$f":"'Sample Information'!B169","v":0},"0-DNA",{"$f":"'Sample Information'!E169","v":0},{"$f":"IF(VLOOKUP($C169, 'Nanodrop Data Raw'!$C:$L, 10, FALSE)<>\"\", VLOOKUP($C169, 'Nanodrop Data Raw'!$C:$L, 10, FALSE), VLOOKUP($C169, 'Nanodrop Data Raw'!$C:$L, 2, FALSE))","v":{"$error":"#N/A"}},60,"AVE",{"$error":"#N/A"},{"$f":"VLOOKUP($C169, 'Nanodrop Data Raw'!$C:$L, 3, FALSE)","v":{"$error":"#N/A"}},{"$f":"VLOOKUP($C169, 'Nanodrop Data Raw'!$C:$L, 4, FALSE)","v":{"$error":"#N/A"}},null,null,null,null,{"$f":"'Sample Information'!$G$6","v":0},{"$f":"'Sample Information'!$G$5","v":0},null,null,{"$f":"'Sample Information'!$G$7","v":"Virus Pathogen Midi Kit, Complex_400_V4_DSP_Default_IC"},null,{"$error":"#N/A"}]
[{"$f":"'Sample Information'!A170","v":169},{"$f":"'Sample Information'!B170","v":0},"0-DNA",{"$f":"'Sample Information'!E170","v":0},{"$f":"IF(VLOOKUP($C170, 'Nanodrop Data Raw'!$C:$L, 10, FALSE)<>\"\", VLOOKUP($C170, 'Nanodrop Data Raw'!$C:$L, 10, FALSE), VLOOKUP($C170, 'Nanodrop Data Raw'!$C:$L, 2, FALSE))","v":{"$error":"#N/A"}},60,"AVE",{"$error":"#N/A"},{"$f":"VLOOKUP($C170, 'Nanodrop Data Raw'!$C:$L, 3, FALSE)","v":{"$error":"#N/A"}},{"$f":"VLOOKUP($C170, 'Nanodrop Data Raw'!$C:$L, 4, FALSE)","v":{"$error":"#N/A"}},null,null,null,null,{"$f":"'Sample Information'!$G$6","v":0},{"$f":"'Sample Information'!$G$5","v":0},null,null,{"$f":"'Sample Information'!$G$7","v":"Virus Pathogen Midi Kit, Complex_400_V4_DSP_Default_IC"},null,{"$error":"#N/A"}]
[{"$f":"'Sample Information'!A171","v":170},{"$f":"'Sample Information'!B171","v":0},"0-DNA",{"$f":"'Sample Information'!E171","v":0},{"$f":"IF(VLOOKUP($C171, 'Nanodrop Data Raw'!$C:$L, 10, FALSE)<>\"\", VLOOKUP($C171, 'Nanodrop Data Raw'!$C:$L, 10, FALSE), VLOOKUP($C171, 'Nanodrop Data Raw'!$C:$L, 2, FALSE))","v":{"$error":"#N/A"}},60,"AVE",{"$error":"#N/A"},{"$f":"VLOOKUP($C171, 'Nanodrop Data Raw'!$C:$L, 3, FALSE)","v":{"$error":"#N/A"}},{"$f":"VLOOKUP($C171, 'Nanodrop Data Raw'!$C:$L, 4, FALSE)","v":{"$error":"#N/A"}},null,null,null,null,{"$f":"'Sample Information'!$G$6","v":0},{"$f":"'Sample Information'!$G$5","v":0},null,null,{"$f":"'Sample Information'!$G$7","v":"Virus Pathogen Midi Kit, Complex_400_V4_DSP_Default_IC"},null,{"$error":"#N/A"}]
[{"$f":"'Sample Information'!A172","v":171},{"$f":"'Sample Information'!B172","v":0},"0-DNA",{"$f":"'Sample Information'!E172","v":0},{"$f":"IF(VLOOKUP($C172, 'Nanodrop Data Raw'!$C:$L, 10, FALSE)<>\"\", VLOOKUP($C172, 'Nanodrop Data Raw'!$C:$L, 10, FALSE), VLOOKUP($C172, 'Nanodrop Data Raw'!$C:$L, 2, FALSE))","v":{"$error":"#N/A"}},60,"AVE",{"$error":"#N/A"},{"$f":"VLOOKUP($C172, 'Nanodrop Data Raw'!$C:$L, 3, FALSE)","v":{"$error":"#N/A"}},{"$f":"VLOOKUP($C172, 'Nanodrop Data Raw'!$C:$L, 4, FALSE)","v":{"$error":"#N/A"}},null,null,null,null,{"$f":"'Sample Information'!$G$6","v":0},{"$f":"'Sample Information'!$G$5","v":0},null,null,{"$f":"'Sample Information'!$G$7","v":"Virus Pathogen Midi Kit, Complex_400_V4_DSP_Default_IC"},null,{"$error":"#N/A"}]
[{"$f":"'Sample Information'!A173","v":172},{"$f":"'Sample Information'!B173","v":0},"0-DNA",{"$f":"'Sample Information'!E173","v":0},{"$f":"IF(VLOOKUP($C173, 'Nanodrop Data Raw'!$C:$L, 10, FALSE)<>\"\", VLOOKUP($C173, 'Nanodrop Data Raw'!$C:$L, 10, FALSE), VLOOKUP($C173, 'Nanodrop Data Raw'!$C:$L, 2, FALSE))","v":{"$error":"#N/A"}},60,"AVE",{"$error":"#N/A"},{"$f":"VLOOKUP($C173, 'Nanodrop Data Raw'!$C:$L, 3, FALSE)","v":{"$error":"#N/A"}},{"$f":"VLOOKUP($C173, 'Nanodrop Data Raw'!$C:$L, 4, FALSE)","v":{"$error":"#N/A"}},null,null,null,null,{"$f":"'Sample Information'!$G$6","v":0},{"$f":"'Sample Information'!$G$5","v":0},null,null,{"$f":"'Sample Information'!$G$7","v":"Virus Pathogen Midi Kit, Complex_400_V4_DSP_Default_IC"},null,{"$error":"#N/A"}]
[{"$f":"'Sample Information'!A174","v":173},{"$f":"'Sample Information'!B174","v":0},"0-DNA",{"$f":"'Sample Information'!E174","v":0},{"$f":"IF(VLOOKUP($C174, 'Nanodrop Data Raw'!$C:$L, 10, FALSE)<>\"\", VLOOKUP($C174, 'Nanodrop Data Raw'!$C:$L, 10, FALSE), VLOOKUP($C174, 'Nanodrop Data Raw'!$C:$L, 2, FALSE))","v":{"$error":"#N/A"}},60,"AVE",{"$error":"#N/A"},{"$f":"VLOOKUP($C174, 'Nanodrop Data Raw'!$C:$L, 3, FALSE)","v":{"$error":"#N/A"}},{"$f":"VLOOKUP($C174, 'Nanodrop Data Raw'!$C:$L, 4, FALSE)","v":{"$error":"#N/A"}},null,null,null,null,{"$f":"'Sample Information'!$G$6","v":0},{"$f":"'Sample Information'!$G$5","v":0},null,null,{"$f":"'Sample Information'!$G$7","v":"Virus Pathogen Midi Kit, Complex_400_V4_DSP_Default_IC"},null,{"$error":"#N/A"}]
[{"$f":"'Sample Information'!A175","v":174},{"$f":"'Sample Information'!B175","v":0},"0-DNA",{"$f":"'Sample Information'!E175","v":0},{"$f":"IF(VLOOKUP($C175, 'Nanodrop Data Raw'!$C:$L, 10, FALSE)<>\"\", VLOOKUP($C175, 'Nanodrop Data Raw'!$C:$L, 10, FALSE), VLOOKUP($C175, 'Nanodrop Data Raw'!$C:$L, 2, FALSE))","v":{"$error":"#N/A"}},60,"AVE",{"$error":"#N/A"},{"$f":"VLOOKUP($C175, 'Nanodrop Data Raw'!$C:$L, 3, FALSE)","v":{"$error":"#N/A"}},{"$f":"VLOOKUP($C175, 'Nanodrop Data Raw'!$C:$L, 4, FALSE)","v":{"$error":"#N/A"}},null,null,null,null,{"$f":"'Sample Information'!$G$6","v":0},{"$f":"'Sample Information'!$G$5","v":0},null,null,{"$f":"'Sample Information'!$G$7","v":"Virus Pathogen Midi Kit, Complex_400_V4_DSP_Default_IC"},null,{"$error":"#N/A"}]
[{"$f":"'Sample Information'!A176","v":175},{"$f":"'Sample Information'!B176","v":0},"0-DNA",{"$f":"'Sample Information'!E176","v":0},{"$f":"IF(VLOOKUP($C176, 'Nanodrop Data Raw'!$C:$L, 10, FALSE)<>\"\", VLOOKUP($C176, 'Nanodrop Data Raw'!$C:$L, 10, FALSE), VLOOKUP($C176, 'Nanodrop Data Raw'!$C:$L, 2, FALSE))","v":{"$error":"#N/A"}},60,"AVE",{"$error":"#N/A"},{"$f":"VLOOKUP($C176, 'Nanodrop Data Raw'!$C:$L, 3, FALSE)","v":{"$error":"#N/A"}},{"$f":"VLOOKUP($C176, 'Nanodrop Data Raw'!$C:$L, 4, FALSE)","v":{"$error":"#N/A"}},null,null,null,null,{"$f":"'Sample Information'!$G$6","v":0},{"$f":"'Sample Information'!$G$5","v":0},null,null,{"$f":"'Sample Information'!$G$7","v":"Virus Pathogen Midi Kit, Complex_400_V4_DSP_Default_IC"},null,{"$error":"#N/A"}]
[{"$f":"'Sample Information'!A177","v":176},{"$f":"'Sample Information'!B177","v":0},"0-DNA",{"$f":"'Sample Information'!E177","v":0},{"$f":"IF(VLOOKUP($C177, 'Nanodrop Data Raw'!$C:$L, 10, FALSE)<>\"\", VLOOKUP($C177, 'Nanodrop Data Raw'!$C:$L, 10, FALSE), VLOOKUP($C177, 'Nanodrop Data Raw'!$C:$L, 2, FALSE))","v":{"$error":"#N/A"}},60,"AVE",{"$error":"#N/A"},{"$f":"VLOOKUP($C177, 'Nanodrop Data Raw'!$C:$L, 3, FALSE)","v":{"$error":"#N/A"}},{"$f":"VLOOKUP($C177, 'Nanodrop Data Raw'!$C:$L, 4, FALSE)","v":{"$error":"#N/A"}},null,null,null,null,{"$f":"'Sample Information'!$G$6","v":0},{"$f":"'Sample Information'!$G$5","v":0},null,null,{"$f":"'Sample Information'!$G$7","v":"Virus Pathogen Midi Kit, Complex_400_V4_DSP_Default_IC"},null,{"$error":"#N/A"}]
[{"$f":"'Sample Information'!A178","v":177},{"$f":"'Sample Information'!B178","v":0},"0-DNA",{"$f":"'Sample Information'!E178","v":0},{"$f":"IF(VLOOKUP($C178, 'Nanodrop Data Raw'!$C:$L, 10, FALSE)<>\"\", VLOOKUP($C178, 'Nanodrop Data Raw'!$C:$L, 10, FALSE), VLOOKUP($C178, 'Nanodrop Data Raw'!$C:$L, 2, FALSE))","v":{"$error":"#N/A"}},60,"AVE",{"$error":"#N/A"},{"$f":"VLOOKUP($C178, 'Nanodrop Data Raw'!$C:$L, 3, FALSE)","v":{"$error":"#N/A"}},{"$f":"VLOOKUP($C178, 'Nanodrop Data Raw'!$C:$L, 4, FALSE)","v":{"$error":"#N/A"}},null,null,null,null,{"$f":"'Sample Information'!$G$6","v":0},{"$f":"'Sample Information'!$G$5","v":0},null,null,{"$f":"'Sample Information'!$G$7","v":"Virus Pathogen Midi Kit, Complex_400_V4_DSP_Default_IC"},null,{"$error":"#N/A"}]
[{"$f":"'Sample Information'!A179","v":178},{"$f":"'Sample Information'!B179","v":0},"0-DNA",{"$f":"'Sample Information'!E179","v":0},{"$f":"IF(VLOOKUP($C179, 'Nanodrop Data Raw'!$C:$L, 10, FALSE)<>\"\", VLOOKUP($C179, 'Nanodrop Data Raw'!$C:$L, 10, FALSE), VLOOKUP($C179, 'Nanodrop Data Raw'!$C:$L, 2, FALSE))","v":{"$error":"#N/A"}},60,"AVE",{"$error":"#N/A"},{"$f":"VLOOKUP($C179, 'Nanodrop Data Raw'!$C:$L, 3, FALSE)","v":{"$error":"#N/A"}},{"$f":"VLOOKUP($C179, 'Nanodrop Data Raw'!$C:$L, 4, FALSE)","v":{"$error":"#N/A"}},null,null,null,null,{"$f":"'Sample Information'!$G$6","v":0},{"$f":"'Sample Information'!$G$5","v":0},null,null,{"$f":"'Sample Information'!$G$7","v":"Virus Pathogen Midi Kit, Complex_400_V4_DSP_Default_IC"},null,{"$error":"#N/A"}]
[{"$f":"'Sample Information'!A180","v":179},{"$f":"'Sample Information'!B180","v":0},"0-DNA",{"$f":"'Sample Information'!E180","v":0},{"$f":"IF(VLOOKUP($C180, 'Nanodrop Data Raw'!$C:$L, 10, FALSE)<>\"\", VLOOKUP($C180, 'Nanodrop Data Raw'!$C:$L, 10, FALSE), VLOOKUP($C180, 'Nanodrop Data Raw'!$C:$L, 2, FALSE))","v":{"$error":"#N/A"}},60,"AVE",{"$error":"#N/A"},{"$f":"VLOOKUP($C180, 'Nanodrop Data Raw'!$C:$L, 3, FALSE)","v":{"$error":"#N/A"}},{"$f":"VLOOKUP($C180, 'Nanodrop Data Raw'!$C:$L, 4, FALSE)","v":{"$error":"#N/A"}},null,null,null,null,{"$f":"'Sample Information'!$G$6","v":0},{"$f":"'Sample Information'!$G$5","v":0},null,null,{"$f":"'Sample Information'!$G$7","v":"Virus Pathogen Midi Kit, Complex_400_V4_DSP_Default_IC"},null,{"$error":"#N/A"}]
[{"$f":"'Sample Information'!A181","v":180},{"$f":"'Sample Information'!B181","v":0},"0-DNA",{"$f":"'Sample Information'!E181","v":0},{"$f":"IF(VLOOKUP($C181, 'Nanodrop Data Raw'!$C:$L, 10, FALSE)<>\"\", VLOOKUP($C181, 'Nanodrop Data Raw'!$C:$L, 10, FALSE), VLOOKUP($C181, 'Nanodrop Data Raw'!$C:$L, 2, FALSE))","v":{"$error":"#N/A"}},60,"AVE",{"$error":"#N/A"},{"$f":"VLOOKUP($C181, 'Nanodrop Data Raw'!$C:$L, 3, FALSE)","v":{"$error":"#N/A"}},{"$f":"VLOOKUP($C181, 'Nanodrop Data Raw'!$C:$L, 4, FALSE)","v":{"$error":"#N/A"}},null,null,null,null,{"$f":"'Sample Information'!$G$6","v":0},{"$f":"'Sample Information'!$G$5","v":0},null,null,{"$f":"'Sample Information'!$G$7","v":"Virus Pathogen Midi Kit, Complex_400_V4_DSP_Default_IC"},null,{"$error":"#N/A"}]
[{"$f":"'Sample Information'!A182","v":181},{"$f":"'Sample Information'!B182","v":0},"0-DNA",{"$f":"'Sample Information'!E182","v":0},{"$f":"IF(VLOOKUP($C182, 'Nanodrop Data Raw'!$C:$L, 10, FALSE)<>\"\", VLOOKUP($C182, 'Nanodrop Data Raw'!$C:$L, 10, FALSE), VLOOKUP($C182, 'Nanodrop Data Raw'!$C:$L, 2, FALSE))","v":{"$error":"#N/A"}},60,"AVE",{"$error":"#N/A"},{"$f":"VLOOKUP($C182, 'Nanodrop Data Raw'!$C:$L, 3, FALSE)","v":{"$error":"#N/A"}},{"$f":"VLOOKUP($C182, 'Nanodrop Data Raw'!$C:$L, 4, FALSE)","v":{"$error":"#N/A"}},null,null,null,null,{"$f":"'Sample Information'!$G$6","v":0},{"$f":"'Sample Information'!$G$5","v":0},null,null,{"$f":"'Sample Information'!$G$7","v":"Virus Pathogen Midi Kit, Complex_400_V4_DSP_Default_IC"},null,{"$error":"#N/A"}]
[{"$f":"'Sample Information'!A183","v":182},{"$f":"'Sample Information'!B183","v":0},"0-DNA",{"$f":"'Sample Information'!E183","v":0},{"$f":"IF(VLOOKUP($C183, 'Nanodrop Data Raw'!$C:$L, 10, FALSE)<>\"\", VLOOKUP($C183, 'Nanodrop Data Raw'!$C:$L, 10, FALSE), VLOOKUP($C183, 'Nanodrop Data Raw'!$C:$L, 2, FALSE))","v":{"$error":"#N/A"}},60,"AVE",{"$error":"#N/A"},{"$f":"VLOOKUP($C183, 'Nanodrop Data Raw'!$C:$L, 3, FALSE)","v":{"$error":"#N/A"}},{"$f":"VLOOKUP($C183, 'Nanodrop Data Raw'!$C:$L, 4, FALSE)","v":{"$error":"#N/A"}},null,null,null,null,{"$f":"'Sample Information'!$G$6","v":0},{"$f":"'Sample Information'!$G$5","v":0},null,null,{"$f":"'Sample Information'!$G$7","v":"Virus Pathogen Midi Kit, Complex_400_V4_DSP_Default_IC"},null,{"$error":"#N/A"}]
[{"$f":"'Sample Information'!A184","v":183},{"$f":"'Sample Information'!B184","v":0},"0-DNA",{"$f":"'Sample Information'!E184","v":0},{"$f":"IF(VLOOKUP($C184, 'Nanodrop Data Raw'!$C:$L, 10, FALSE)<>\"\", VLOOKUP($C184, 'Nanodrop Data Raw'!$C:$L, 10, FALSE), VLOOKUP($C184, 'Nanodrop Data Raw'!$C:$L, 2, FALSE))","v":{"$error":"#N/A"}},60,"AVE",{"$error":"#N/A"},{"$f":"VLOOKUP($C184, 'Nanodrop Data Raw'!$C:$L, 3, FALSE)","v":{"$error":"#N/A"}},{"$f":"VLOOKUP($C184, 'Nanodrop Data Raw'!$C:$L, 4, FALSE)","v":{"$error":"#N/A"}},null,null,null,null,{"$f":"'Sample Information'!$G$6","v":0},{"$f":"'Sample Information'!$G$5","v":0},null,null,{"$f":"'Sample Information'!$G$7","v":"Virus Pathogen Midi Kit, Complex_400_V4_DSP_Default_IC"},null,{"$error":"#N/A"}]
[{"$f":"'Sample Information'!A185","v":184},{"$f":"'Sample Information'!B185","v":0},"0-DNA",{"$f":"'Sample Information'!E185","v":0},{"$f":"IF(VLOOKUP($C185, 'Nanodrop Data Raw'!$C:$L, 10, FALSE)<>\"\", VLOOKUP($C185, 'Nanodrop Data Raw'!$C:$L, 10, FALSE), VLOOKUP($C185, 'Nanodrop Data Raw'!$C:$L, 2, FALSE))","v":{"$error":"#N/A"}},60,"AVE",{"$error":"#N/A"},{"$f":"VLOOKUP($C185, 'Nanodrop Data Raw'!$C:$L, 3, FALSE)","v":{"$error":"#N/A"}},{"$f":"VLOOKUP($C185, 'Nanodrop Data Raw'!$C:$L, 4, FALSE)","v":{"$error":"#N/A"}},null,null,null,null,{"$f":"'Sample Information'!$G$6","v":0},{"$f":"'Sample Information'!$G$5","v":0},null,null,{"$f":"'Sample Information'!$G$7","v":"Virus Pathogen Midi Kit, Complex_400_V4_DSP_Default_IC"},null,{"$error":"#N/A"}]
[{"$f":"'Sample Information'!A186","v":185},{"$f":"'Sample Information'!B186","v":0},"0-DNA",{"$f":"'Sample Information'!E186","v":0},{"$f":"IF(VLOOKUP($C186, 'Nanodrop Data Raw'!$C:$L, 10, FALSE)<>\"\", VLOOKUP($C186, 'Nanodrop Data Raw'!$C:$L, 10, FALSE), VLOOKUP($C186, 'Nanodrop Data Raw'!$C:$L, 2, FALSE))","v":{"$error":"#N/A"}},60,"AVE",{"$error":"#N/A"},{"$f":"VLOOKUP($C186, 'Nanodrop Data Raw'!$C:$L, 3, FALSE)","v":{"$error":"#N/A"}},{"$f":"VLOOKUP($C186, 'Nanodrop Data Raw'!$C:$L, 4, FALSE)","v":{"$error":"#N/A"}},null,null,null,null,{"$f":"'Sample Information'!$G$6","v":0},{"$f":"'Sample Information'!$G$5","v":0},null,null,{"$f":"'Sample Information'!$G$7","v":"Virus Pathogen Midi Kit, Complex_400_V4_DSP_Default_IC"},null,{"$error":"#N/A"}]
[{"$f":"'Sample Information'!A187","v":186},{"$f":"'Sample Information'!B187","v":0},"0-DNA",{"$f":"'Sample Information'!E187","v":0},{"$f":"IF(VLOOKUP($C187, 'Nanodrop Data Raw'!$C:$L, 10, FALSE)<>\"\", VLOOKUP($C187, 'Nanodrop Data Raw'!$C:$L, 10, FALSE), VLOOKUP($C187, 'Nanodrop Data Raw'!$C:$L, 2, FALSE))","v":{"$error":"#N/A"}},60,"AVE",{"$error":"#N/A"},{"$f":"VLOOKUP($C187, 'Nanodrop Data Raw'!$C:$L, 3, FALSE)","v":{"$error":"#N/A"}},{"$f":"VLOOKUP($C187, 'Nanodrop Data Raw'!$C:$L, 4, FALSE)","v":{"$error":"#N/A"}},null,null,null,null,{"$f":"'Sample Information'!$G$6","v":0},{"$f":"'Sample Information'!$G$5","v":0},null,null,{"$f":"'Sample Information'!$G$7","v":"Virus Pathogen Midi Kit, Complex_400_V4_DSP_Default_IC"},null,{"$error":"#N/A"}]
[{"$f":"'Sample Information'!A188","v":187},{"$f":"'Sample Information'!B188","v":0},"0-DNA",{"$f":"'Sample Information'!E188","v":0},{"$f":"IF(VLOOKUP($C188, 'Nanodrop Data Raw'!$C:$L, 10, FALSE)<>\"\", VLOOKUP($C188, 'Nanodrop Data Raw'!$C:$L, 10, FALSE), VLOOKUP($C188, 'Nanodrop Data Raw'!$C:$L, 2, FALSE))","v":{"$error":"#N/A"}},60,"AVE",{"$error":"#N/A"},{"$f":"VLOOKUP($C188, 'Nanodrop Data Raw'!$C:$L, 3, FALSE)","v":{"$error":"#N/A"}},{"$f":"VLOOKUP($C188, 'Nanodrop Data Raw'!$C:$L, 4, FALSE)","v":{"$error":"#N/A"}},null,null,null,null,{"$f":"'Sample Information'!$G$6","v":0},{"$f":"'Sample Information'!$G$5","v":0},null,null,{"$f":"'Sample Information'!$G$7","v":"Virus Pathogen Midi Kit, Complex_400_V4_DSP_Default_IC"},null,{"$error":"#N/A"}]
[{"$f":"'Sample Information'!A189","v":188},{"$f":"'Sample Information'!B189","v":0},"0-DNA",{"$f":"'Sample Information'!E189","v":0},{"$f":"IF(VLOOKUP($C189, 'Nanodrop Data Raw'!$C:$L, 10, FALSE)<>\"\", VLOOKUP($C189, 'Nanodrop Data Raw'!$C:$L, 10, FALSE), VLOOKUP($C189, 'Nanodrop Data Raw'!$C:$L, 2, FALSE))","v":{"$error":"#N/A"}},60,"AVE",{"$error":"#N/A"},{"$f":"VLOOKUP($C189, 'Nanodrop Data Raw'!$C:$L, 3, FALSE)","v":{"$error":"#N/A"}},{"$f":"VLOOKUP($C189, 'Nanodrop Data Raw'!$C:$L, 4, FALSE)","v":{"$error":"#N/A"}},null,null,null,null,{"$f":"'Sample Information'!$G$6","v":0},{"$f":"'Sample Information'!$G$5","v":0},null,null,{"$f":"'Sample Information'!$G$7","v":"Virus Pathogen Midi Kit, Complex_400_V4_DSP_Default_IC"},null,{"$error":"#N/A"}]
[{"$f":"'Sample Information'!A190","v":189},{"$f":"'Sample Information'!B190","v":0},"0-DNA",{"$f":"'Sample Information'!E190","v":0},{"$f":"IF(VLOOKUP($C190, 'Nanodrop Data Raw'!$C:$L, 10, FALSE)<>\"\", VLOOKUP($C190, 'Nanodrop Data Raw'!$C:$L, 10, FALSE), VLOOKUP($C190, 'Nanodrop Data Raw'!$C:$L, 2, FALSE))","v":{"$error":"#N/A"}},60,"AVE",{"$error":"#N/A"},{"$f":"VLOOKUP($C190, 'Nanodrop Data Raw'!$C:$L, 3, FALSE)","v":{"$error":"#N/A"}},{"$f":"VLOOKUP($C190, 'Nanodrop Data Raw'!$C:$L, 4, FALSE)","v":{"$error":"#N/A"}},null,null,null,null,{"$f":"'Sample Information'!$G$6","v":0},{"$f":"'Sample Information'!$G$5","v":0},null,null,{"$f":"'Sample Information'!$G$7","v":"Virus Pathogen Midi Kit, Complex_400_V4_DSP_Default_IC"},null,{"$error":"#N/A"}]
[{"$f":"'Sample Information'!A191","v":190},{"$f":"'Sample Information'!B191","v":0},"0-DNA",{"$f":"'Sample Information'!E191","v":0},{"$f":"IF(VLOOKUP($C191, 'Nanodrop Data Raw'!$C:$L, 10, FALSE)<>\"\", VLOOKUP($C191, 'Nanodrop Data Raw'!$C:$L, 10, FALSE), VLOOKUP($C191, 'Nanodrop Data Raw'!$C:$L, 2, FALSE))","v":{"$error":"#N/A"}},60,"AVE",{"$error":"#N/A"},{"$f":"VLOOKUP($C191, 'Nanodrop Data Raw'!$C:$L, 3, FALSE)","v":{"$error":"#N/A"}},{"$f":"VLOOKUP($C191, 'Nanodrop Data Raw'!$C:$L, 4, FALSE)","v":{"$error":"#N/A"}},null,null,null,null,{"$f":"'Sample Information'!$G$6","v":0},{"$f":"'Sample Information'!$G$5","v":0},null,null,{"$f":"'Sample Information'!$G$7","v":"Virus Pathogen Midi Kit, Complex_400_V4_DSP_Default_IC"},null,{"$error":"#N/A"}]
[{"$f":"'Sample Information'!A192","v":191},{"$f":"'Sample Information'!B192","v":0},"0-DNA",{"$f":"'Sample Information'!E192","v":0},{"$f":"IF(VLOOKUP($C192, 'Nanodrop Data Raw'!$C:$L, 10, FALSE)<>\"\", VLOOKUP($C192, 'Nanodrop Data Raw'!$C:$L, 10, FALSE), VLOOKUP($C192, 'Nanodrop Data Raw'!$C:$L, 2, FALSE))","v":{"$error":"#N/A"}},60,"AVE",{"$error":"#N/A"},{"$f":"VLOOKUP($C192, 'Nanodrop Data Raw'!$C:$L, 3, FALSE)","v":{"$error":"#N/A"}},{"$f":"VLOOKUP($C192, 'Nanodrop Data Raw'!$C:$L, 4, FALSE)","v":{"$error":"#N/A"}},null,null,null,null,{"$f":"'Sample Information'!$G$6","v":0},{"$f":"'Sample Information'!$G$5","v":0},null,null,{"$f":"'Sample Information'!$G$7","v":"Virus Pathogen Midi Kit, Complex_400_V4_DSP_Default_IC"},null,{"$error":"#N/A"}]
[{"$f":"'Sample Information'!A193","v":192},{"$f":"'Sample Information'!B193","v":0},"0-DNA",{"$f":"'Sample Information'!E193","v":0},{"$f":"IF(VLOOKUP($C193, 'Nanodrop Data Raw'!$C:$L, 10, FALSE)<>\"\", VLOOKUP($C193, 'Nanodrop Data Raw'!$C:$L, 10, FALSE), VLOOKUP($C193, 'Nanodrop Data Raw'!$C:$L, 2, FALSE))","v":{"$error":"#N/A"}},60,"AVE",{"$error":"#N/A"},{"$f":"VLOOKUP($C193, 'Nanodrop Data Raw'!$C:$L, 3, FALSE)","v":{"$error":"#N/A"}},{"$f":"VLOOKUP($C193, 'Nanodrop Data Raw'!$C:$L, 4, FALSE)","v":{"$error":"#N/A"}},null,null,null,null,{"$f":"'Sample Information'!$G$6","v":0},{"$f":"'Sample Information'!$G$5","v":0},null,null,{"$f":"'Sample Information'!$G$7","v":"Virus Pathogen Midi Kit, Complex_400_V4_DSP_Default_IC"},null,{"$error":"#N/A"}]
[{"$f":"'Sample Information'!A194","v":193},{"$f":"'Sample Information'!B194","v":0},"0-DNA",{"$f":"'Sample Information'!E194","v":0},{"$f":"IF(VLOOKUP($C194, 'Nanodrop Data Raw'!$C:$L, 10, FALSE)<>\"\", VLOOKUP($C194, 'Nanodrop Data Raw'!$C:$L, 10, FALSE), VLOOKUP($C194, 'Nanodrop Data Raw'!$C:$L, 2, FALSE))","v":{"$error":"#N/A"}},60,"AVE",{"$error":"#N/A"},{"$f":"VLOOKUP($C194, 'Nanodrop Data Raw'!$C:$L, 3, FALSE)","v":{"$error":"#N/A"}},{"$f":"VLOOKUP($C194, 'Nanodrop Data Raw'!$C:$L, 4, FALSE)","v":{"$error":"#N/A"}},null,null,null,null,{"$f":"'Sample Information'!$G$6","v":0},{"$f":"'Sample Information'!$G$5","v":0},null,null,{"$f":"'Sample Information'!$G$7","v":"Virus Pathogen Midi Kit, Complex_400_V4_DSP_Default_IC"},null,{"$error":"#N/A"}]
[{"$f":"'Sample Information'!A195","v":194},{"$f":"'Sample Information'!B195","v":0},{"$f":"CONCATENATE(B195,\"-DNA\")","v":"0-DNA"},{"$f":"'Sample Information'!E195","v":0},{"$f":"IF(VLOOKUP($C195, 'Nanodrop Data Raw'!$C:$L, 10, FALSE)<>\"\", VLOOKUP($C195, 'Nanodrop Data Raw'!$C:$L, 10, FALSE), VLOOKUP($C195, 'Nanodrop Data Raw'!$C:$L, 2, FALSE))","v":{"$error":"#N/A"}},60,"AVE",{"$f":"E195*F195/1000","v":{"$error":"#N/A"}},{"$f":"VLOOKUP($C195, 'Nanodrop Data Raw'!$C:$L, 3, FALSE)","v":{"$error":"#N/A"}},{"$f":"VLOOKUP($C195, 'Nanodrop Data Raw'!$C:$L, 4, FALSE)","v":{"$error":"#N/A"}},null,null,null,null,{"$f":"'Sample Information'!$G$6","v":0},{"$f":"'Sample Information'!$G$5","v":0},null,null,{"$f":"'Sample Information'!$G$7","v":"Virus Pathogen Midi Kit, Complex_400_V4_DSP_Default_IC"},null,{"$f":"$O195/$E195","v":{"$error":"#N/A"}}]
[{"$f":"'Sample Information'!A196","v":195},{"$f":"'Sample Information'!B196","v":0},"0-DNA",{"$f":"'Sample Information'!E196","v":0},{"$f":"IF(VLOOKUP($C196, 'Nanodrop Data Raw'!$C:$L, 10, FALSE)<>\"\", VLOOKUP($C196, 'Nanodrop Data Raw'!$C:$L, 10, FALSE), VLOOKUP($C196, 'Nanodrop Data Raw'!$C:$L, 2, FALSE))","v":{"$error":"#N/A"}},60,"AVE",{"$error":"#N/A"},{"$f":"VLOOKUP($C196, 'Nanodrop Data Raw'!$C:$L, 3, FALSE)","v":{"$error":"#N/A"}},{"$f":"VLOOKUP($C196, 'Nanodrop Data Raw'!$C:$L, 4, FALSE)","v":{"$error":"#N/A"}},null,null,null,null,{"$f":"'Sample Information'!$G$6","v":0},{"$f":"'Sample Information'!$G$5","v":0},null,null,{"$f":"'Sample Information'!$G$7","v":"Virus Pathogen Midi Kit, Complex_400_V4_DSP_Default_IC"},null,{"$error":"#N/A"}]
[{"$f":"'Sample Information'!A197","v":196},{"$f":"'Sample Information'!B197","v":0},"0-DNA",{"$f":"'Sample Information'!E197","v":0},{"$f":"IF(VLOOKUP($C197, 'Nanodrop Data Raw'!$C:$L, 10, FALSE)<>\"\", VLOOKUP($C197, 'Nanodrop Data Raw'!$C:$L, 10, FALSE), VLOOKUP($C197, 'Nanodrop Data Raw'!$C:$L, 2, FALSE))","v":{"$error":"#N/A"}},60,"AVE",{"$error":"#N/A"},{"$f":"VLOOKUP($C197, 'Nanodrop Data Raw'!$C:$L, 3, FALSE)","v":{"$error":"#N/A"}},{"$f":"VLOOKUP($C197, 'Nanodrop Data Raw'!$C:$L, 4, FALSE)","v":{"$error":"#N/A"}},null,null,null,null,{"$f":"'Sample Information'!$G$6","v":0},{"$f":"'Sample Information'!$G$5","v":0},null,null,{"$f":"'Sample Information'!$G$7","v":"Virus Pathogen Midi Kit, Complex_400_V4_DSP_Default_IC"},null,{"$error":"#N/A"}]
[{"$f":"'Sample Information'!A198","v":197},{"$f":"'Sample Information'!B198","v":0},"0-DNA",{"$f":"'Sample Information'!E198","v":0},{"$f":"IF(VLOOKUP($C198, 'Nanodrop Data Raw'!$C:$L, 10, FALSE)<>\"\", VLOOKUP($C198, 'Nanodrop Data Raw'!$C:$L, 10, FALSE), VLOOKUP($C198, 'Nanodrop Data Raw'!$C:$L, 2, FALSE))","v":{"$error":"#N/A"}},60,"AVE",{"$error":"#N/A"},{"$f":"VLOOKUP($C198, 'Nanodrop Data Raw'!$C:$L, 3, FALSE)","v":{"$error":"#N/A"}},{"$f":"VLOOKUP($C198, 'Nanodrop Data Raw'!$C:$L, 4, FALSE)","v":{"$error":"#N/A"}},null,null,null,null,{"$f":"'Sample Information'!$G$6","v":0},{"$f":"'Sample Information'!$G$5","v":0},null,null,{"$f":"'Sample Information'!$G$7","v":"Virus Pathogen Midi Kit, Complex_400_V4_DSP_Default_IC"},null,{"$error":"#N/A"}]
[{"$f":"'Sample Information'!A199","v":198},{"$f":"'Sample Information'!B199","v":0},"0-DNA",{"$f":"'Sample Information'!E199","v":0},{"$f":"IF(VLOOKUP($C199, 'Nanodrop Data Raw'!$C:$L, 10, FALSE)<>\"\", VLOOKUP($C199, 'Nanodrop Data Raw'!$C:$L, 10, FALSE), VLOOKUP($C199, 'Nanodrop Data Raw'!$C:$L, 2, FALSE))","v":{"$error":"#N/A"}},60,"AVE",{"$error":"#N/A"},{"$f":"VLOOKUP($C199, 'Nanodrop Data Raw'!$C:$L, 3, FALSE)","v":{"$error":"#N/A"}},{"$f":"VLOOKUP($C199, 'Nanodrop Data Raw'!$C:$L, 4, FALSE)","v":{"$error":"#N/A"}},null,null,null,null,{"$f":"'Sample Information'!$G$6","v":0},{"$f":"'Sample Information'!$G$5","v":0},null,null,{"$f":"'Sample Information'!$G$7","v":"Virus Pathogen Midi Kit, Complex_400_V4_DSP_Default_IC"},null,{"$error":"#N/A"}]
[{"$f":"'Sample Information'!A200","v":199},{"$f":"'Sample Information'!B200","v":0},"0-DNA",{"$f":"'Sample Information'!E200","v":0},{"$f":"IF(VLOOKUP($C200, 'Nanodrop Data Raw'!$C:$L, 10, FALSE)<>\"\", VLOOKUP($C200, 'Nanodrop Data Raw'!$C:$L, 10, FALSE), VLOOKUP($C200, 'Nanodrop Data Raw'!$C:$L, 2, FALSE))","v":{"$error":"#N/A"}},60,"AVE",{"$error":"#N/A"},{"$f":"VLOOKUP($C200, 'Nanodrop Data Raw'!$C:$L, 3, FALSE)","v":{"$error":"#N/A"}},{"$f":"VLOOKUP($C200, 'Nanodrop Data Raw'!$C:$L, 4, FALSE)","v":{"$error":"#N/A"}},null,null,null,null,{"$f":"'Sample Information'!$G$6","v":0},{"$f":"'Sample Information'!$G$5","v":0},null,null,{"$f":"'Sample Information'!$G$7","v":"Virus Pathogen Midi Kit, Complex_400_V4_DSP_Default_IC"},null,{"$error":"#N/A"}]
[{"$f":"'Sample Information'!A201","v":200},{"$f":"'Sample Information'!B201","v":0},"0-DNA",{"$f":"'Sample Information'!E201","v":0},{"$f":"IF(VLOOKUP($C201, 'Nanodrop Data Raw'!$C:$L, 10, FALSE)<>\"\", VLOOKUP($C201, 'Nanodrop Data Raw'!$C:$L, 10, FALSE), VLOOKUP($C201, 'Nanodrop Data Raw'!$C:$L, 2, FALSE))","v":{"$error":"#N/A"}},60,"AVE",{"$error":"#N/A"},{"$f":"VLOOKUP($C201, 'Nanodrop Data Raw'!$C:$L, 3, FALSE)","v":{"$error":"#N/A"}},{"$f":"VLOOKUP($C201, 'Nanodrop Data Raw'!$C:$L, 4, FALSE)","v":{"$error":"#N/A"}},null,null,null,null,{"$f":"'Sample Information'!$G$6","v":0},{"$f":"'Sample Information'!$G$5","v":0},null,null,{"$f":"'Sample Information'!$G$7","v":"Virus Pathogen Midi Kit, Complex_400_V4_DSP_Default_IC"},null,{"$error":"#N/A"}]
[{"$f":"'Sample Information'!A202","v":201},{"$f":"'Sample Information'!B202","v":0},"0-DNA",{"$f":"'Sample Information'!E202","v":0},{"$f":"IF(VLOOKUP($C202, 'Nanodrop Data Raw'!$C:$L, 10, FALSE)<>\"\", VLOOKUP($C202, 'Nanodrop Data Raw'!$C:$L, 10, FALSE), VLOOKUP($C202, 'Nanodrop Data Raw'!$C:$L, 2, FALSE))","v":{"$error":"#N/A"}},60,"AVE",{"$error":"#N/A"},{"$f":"VLOOKUP($C202, 'Nanodrop Data Raw'!$C:$L, 3, FALSE)","v":{"$error":"#N/A"}},{"$f":"VLOOKUP($C202, 'Nanodrop Data Raw'!$C:$L, 4, FALSE)","v":{"$error":"#N/A"}},null,null,null,null,{"$f":"'Sample Information'!$G$6","v":0},{"$f":"'Sample Information'!$G$5","v":0},null,null,{"$f":"'Sample Information'!$G$7","v":"Virus Pathogen Midi Kit, Complex_400_V4_DSP_Default_IC"},null,{"$error":"#N/A"}]
[{"$f":"'Sample Information'!A203","v":202},{"$f":"'Sample Information'!B203","v":0},"0-DNA",{"$f":"'Sample Information'!E203","v":0},{"$f":"IF(VLOOKUP($C203, 'Nanodrop Data Raw'!$C:$L, 10, FALSE)<>\"\", VLOOKUP($C203, 'Nanodrop Data Raw'!$C:$L, 10, FALSE), VLOOKUP($C203, 'Nanodrop Data Raw'!$C:$L, 2, FALSE))","v":{"$error":"#N/A"}},60,"AVE",{"$error":"#N/A"},{"$f":"VLOOKUP($C203, 'Nanodrop Data Raw'!$C:$L, 3, FALSE)","v":{"$error":"#N/A"}},{"$f":"VLOOKUP($C203, 'Nanodrop Data Raw'!$C:$L, 4, FALSE)","v":{"$error":"#N/A"}},null,null,null,null,{"$f":"'Sample Information'!$G$6","v":0},{"$f":"'Sample Information'!$G$5","v":0},null,null,{"$f":"'Sample Information'!$G$7","v":"Virus Pathogen Midi Kit, Complex_400_V4_DSP_Default_IC"},null,{"$error":"#N/A"}]
[{"$f":"'Sample Information'!A204","v":203},{"$f":"'Sample Information'!B204","v":0},"0-DNA",{"$f":"'Sample Information'!E204","v":0},{"$f":"IF(VLOOKUP($C204, 'Nanodrop Data Raw'!$C:$L, 10, FALSE)<>\"\", VLOOKUP($C204, 'Nanodrop Data Raw'!$C:$L, 10, FALSE), VLOOKUP($C204, 'Nanodrop Data Raw'!$C:$L, 2, FALSE))","v":{"$error":"#N/A"}},60,"AVE",{"$error":"#N/A"},{"$f":"VLOOKUP($C204, 'Nanodrop Data Raw'!$C:$L, 3, FALSE)","v":{"$error":"#N/A"}},{"$f":"VLOOKUP($C204, 'Nanodrop Data Raw'!$C:$L, 4, FALSE)","v":{"$error":"#N/A"}},null,null,null,null,{"$f":"'Sample Information'!$G$6","v":0},{"$f":"'Sample Information'!$G$5","v":0},null,null,{"$f":"'Sample Information'!$G$7","v":"Virus Pathogen Midi Kit, Complex_400_V4_DSP_Default_IC"},null,{"$error":"#N/A"}]
[{"$f":"'Sample Information'!A205","v":204},{"$f":"'Sample Information'!B205","v":0},"0-DNA",{"$f":"'Sample Information'!E205","v":0},{"$f":"IF(VLOOKUP($C205, 'Nanodrop Data Raw'!$C:$L, 10, FALSE)<>\"\", VLOOKUP($C205, 'Nanodrop Data Raw'!$C:$L, 10, FALSE), VLOOKUP($C205, 'Nanodrop Data Raw'!$C:$L, 2, FALSE))","v":{"$error":"#N/A"}},60,"AVE",{"$error":"#N/A"},{"$f":"VLOOKUP($C205, 'Nanodrop Data Raw'!$C:$L, 3, FALSE)","v":{"$error":"#N/A"}},{"$f":"VLOOKUP($C205, 'Nanodrop Data Raw'!$C:$L, 4, FALSE)","v":{"$error":"#N/A"}},null,null,null,null,{"$f":"'Sample Information'!$G$6","v":0},{"$f":"'Sample Information'!$G$5","v":0},null,null,{"$f":"'Sample Information'!$G$7","v":"Virus Pathogen Midi Kit, Complex_400_V4_DSP_Default_IC"},null,{"$error":"#N/A"}]
[{"$f":"'Sample Information'!A206","v":205},{"$f":"'Sample Information'!B206","v":0},"0-DNA",{"$f":"'Sample Information'!E206","v":0},{"$f":"IF(VLOOKUP($C206, 'Nanodrop Data Raw'!$C:$L, 10, FALSE)<>\"\", VLOOKUP($C206, 'Nanodrop Data Raw'!$C:$L, 10, FALSE), VLOOKUP($C206, 'Nanodrop Data Raw'!$C:$L, 2, FALSE))","v":{"$error":"#N/A"}},60,"AVE",{"$error":"#N/A"},{"$f":"VLOOKUP($C206, 'Nanodrop Data Raw'!$C:$L, 3, FALSE)","v":{"$error":"#N/A"}},{"$f":"VLOOKUP($C206, 'Nanodrop Data Raw'!$C:$L, 4, FALSE)","v":{"$error":"#N/A"}},null,null,null,null,{"$f":"'Sample Information'!$G$6","v":0},{"$f":"'Sample Information'!$G$5","v":0},null,null,{"$f":"'Sample Information'!$G$7","v":"Virus Pathogen Midi Kit, Complex_400_V4_DSP_Default_IC"},null,{"$error":"#N/A"}]
[{"$f":"'Sample Information'!A207","v":206},{"$f":"'Sample Information'!B207","v":0},"0-DNA",{"$f":"'Sample Information'!E207","v":0},{"$f":"IF(VLOOKUP($C207, 'Nanodrop Data Raw'!$C:$L, 10, FALSE)<>\"\", VLOOKUP($C207, 'Nanodrop Data Raw'!$C:$L, 10, FALSE), VLOOKUP($C207, 'Nanodrop Data Raw'!$C:$L, 2, FALSE))","v":{"$error":"#N/A"}},60,"AVE",{"$error":"#N/A"},{"$f":"VLOOKUP($C207, 'Nanodrop Data Raw'!$C:$L, 3, FALSE)","v":{"$error":"#N/A"}},{"$f":"VLOOKUP($C207, 'Nanodrop Data Raw'!$C:$L, 4, FALSE)","v":{"$error":"#N/A"}},null,null,null,null,{"$f":"'Sample Information'!$G$6","v":0},{"$f":"'Sample Information'!$G$5","v":0},null,null,{"$f":"'Sample Information'!$G$7","v":"Virus Pathogen Midi Kit, Complex_400_V4_DSP_Default_IC"},null,{"$error":"#N/A"}]
[{"$f":"'Sample Information'!A208","v":207},{"$f":"'Sample Information'!B208","v":0},"0-DNA",{"$f":"'Sample Information'!E208","v":0},{"$f":"IF(VLOOKUP($C208, 'Nanodrop Data Raw'!$C:$L, 10, FALSE)<>\"\", VLOOKUP($C208, 'Nanodrop Data Raw'!$C:$L, 10, FALSE), VLOOKUP($C208, 'Nanodrop Data Raw'!$C:$L, 2, FALSE))","v":{"$error":"#N/A"}},60,"AVE",{"$error":"#N/A"},{"$f":"VLOOKUP($C208, 'Nanodrop Data Raw'!$C:$L, 3, FALSE)","v":{"$error":"#N/A"}},{"$f":"VLOOKUP($C208, 'Nanodrop Data Raw'!$C:$L, 4, FALSE)","v":{"$error":"#N/A"}},null,null,null,null,{"$f":"'Sample Information'!$G$6","v":0},{"$f":"'Sample Information'!$G$5","v":0},null,null,{"$f":"'Sample Information'!$G$7","v":"Virus Pathogen Midi Kit, Complex_400_V4_DSP_Default_IC"},null,{"$error":"#N/A"}]
[{"$f":"'Sample Information'!A209","v":208},{"$f":"'Sample Information'!B209","v":0},"0-DNA",{"$f":"'Sample Information'!E209","v":0},{"$f":"IF(VLOOKUP($C209, 'Nanodrop Data Raw'!$C:$L, 10, FALSE)<>\"\", VLOOKUP($C209, 'Nanodrop Data Raw'!$C:$L, 10, FALSE), VLOOKUP($C209, 'Nanodrop Data Raw'!$C:$L, 2, FALSE))","v":{"$error":"#N/A"}},60,"AVE",{"$error":"#N/A"},{"$f":"VLOOKUP($C209, 'Nanodrop Data Raw'!$C:$L, 3, FALSE)","v":{"$error":"#N/A"}},{"$f":"VLOOKUP($C209, 'Nanodrop Data Raw'!$C:$L, 4, FALSE)","v":{"$error":"#N/A"}},null,null,null,null,{"$f":"'Sample Information'!$G$6","v":0},{"$f":"'Sample Information'!$G$5","v":0},null,null,{"$f":"'Sample Information'!$G$7","v":"Virus Pathogen Midi Kit, Complex_400_V4_DSP_Default_IC"},null,{"$error":"#N/A"}]
[{"$f":"'Sample Information'!A210","v":209},{"$f":"'Sample Information'!B210","v":0},"0-DNA",{"$f":"'Sample Information'!E210","v":0},{"$f":"IF(VLOOKUP($C210, 'Nanodrop Data Raw'!$C:$L, 10, FALSE)<>\"\", VLOOKUP($C210, 'Nanodrop Data Raw'!$C:$L, 10, FALSE), VLOOKUP($C210, 'Nanodrop Data Raw'!$C:$L, 2, FALSE))","v":{"$error":"#N/A"}},60,"AVE",{"$error":"#N/A"},{"$f":"VLOOKUP($C210, 'Nanodrop Data Raw'!$C:$L, 3, FALSE)","v":{"$error":"#N/A"}},{"$f":"VLOOKUP($C210, 'Nanodrop Data Raw'!$C:$L, 4, FALSE)","v":{"$error":"#N/A"}},null,null,null,null,{"$f":"'Sample Information'!$G$6","v":0},{"$f":"'Sample Information'!$G$5","v":0},null,null,{"$f":"'Sample Information'!$G$7","v":"Virus Pathogen Midi Kit, Complex_400_V4_DSP_Default_IC"},null,{"$error":"#N/A"}]
[{"$f":"'Sample Information'!A211","v":210},{"$f":"'Sample Information'!B211","v":0},"0-DNA",{"$f":"'Sample Information'!E211","v":0},{"$f":"IF(VLOOKUP($C211, 'Nanodrop Data Raw'!$C:$L, 10, FALSE)<>\"\", VLOOKUP($C211, 'Nanodrop Data Raw'!$C:$L, 10, FALSE), VLOOKUP($C211, 'Nanodrop Data Raw'!$C:$L, 2, FALSE))","v":{"$error":"#N/A"}},60,"AVE",{"$error":"#N/A"},{"$f":"VLOOKUP($C211, 'Nanodrop Data Raw'!$C:$L, 3, FALSE)","v":{"$error":"#N/A"}},{"$f":"VLOOKUP($C211, 'Nanodrop Data Raw'!$C:$L, 4, FALSE)","v":{"$error":"#N/A"}},null,null,null,null,{"$f":"'Sample Information'!$G$6","v":0},{"$f":"'Sample Information'!$G$5","v":0},null,null,{"$f":"'Sample Information'!$G$7","v":"Virus Pathogen Midi Kit, Complex_400_V4_DSP_Default_IC"},null,{"$error":"#N/A"}]
[{"$f":"'Sample Information'!A212","v":211},{"$f":"'Sample Information'!B212","v":0},"0-DNA",{"$f":"'Sample Information'!E212","v":0},{"$f":"IF(VLOOKUP($C212, 'Nanodrop Data Raw'!$C:$L, 10, FALSE)<>\"\", VLOOKUP($C212, 'Nanodrop Data Raw'!$C:$L, 10, FALSE), VLOOKUP($C212, 'Nanodrop Data Raw'!$C:$L, 2, FALSE))","v":{"$error":"#N/A"}},60,"AVE",{"$error":"#N/A"},{"$f":"VLOOKUP($C212, 'Nanodrop Data Raw'!$C:$L, 3, FALSE)","v":{"$error":"#N/A"}},{"$f":"VLOOKUP($C212, 'Nanodrop Data Raw'!$C:$L, 4, FALSE)","v":{"$error":"#N/A"}},null,null,null,null,{"$f":"'Sample Information'!$G$6","v":0},{"$f":"'Sample Information'!$G$5","v":0},null,null,{"$f":"'Sample Information'!$G$7","v":"Virus Pathogen Midi Kit, Complex_400_V4_DSP_Default_IC"},null,{"$error":"#N/A"}]
[{"$f":"'Sample Information'!A213","v":212},{"$f":"'Sample Information'!B213","v":0},"0-DNA",{"$f":"'Sample Information'!E213","v":0},{"$f":"IF(VLOOKUP($C213, 'Nanodrop Data Raw'!$C:$L, 10, FALSE)<>\"\", VLOOKUP($C213, 'Nanodrop Data Raw'!$C:$L, 10, FALSE), VLOOKUP($C213, 'Nanodrop Data Raw'!$C:$L, 2, FALSE))","v":{"$error":"#N/A"}},60,"AVE",{"$error":"#N/A"},{"$f":"VLOOKUP($C213, 'Nanodrop Data Raw'!$C:$L, 3, FALSE)","v":{"$error":"#N/A"}},{"$f":"VLOOKUP($C213, 'Nanodrop Data Raw'!$C:$L, 4, FALSE)","v":{"$error":"#N/A"}},null,null,null,null,{"$f":"'Sample Information'!$G$6","v":0},{"$f":"'Sample Information'!$G$5","v":0},null,null,{"$f":"'Sample Information'!$G$7","v":"Virus Pathogen Midi Kit, Complex_400_V4_DSP_Default_IC"},null,{"$error":"#N/A"}]
[{"$f":"'Sample Information'!A214","v":213},{"$f":"'Sample Information'!B214","v":0},"0-DNA",{"$f":"'Sample Information'!E214","v":0},{"$f":"IF(VLOOKUP($C214, 'Nanodrop Data Raw'!$C:$L, 10, FALSE)<>\"\", VLOOKUP($C214, 'Nanodrop Data Raw'!$C:$L, 10, FALSE), VLOOKUP($C214, 'Nanodrop Data Raw'!$C:$L, 2, FALSE))","v":{"$error":"#N/A"}},60,"AVE",{"$error":"#N/A"},{"$f":"VLOOKUP($C214, 'Nanodrop Data Raw'!$C:$L, 3, FALSE)","v":{"$error":"#N/A"}},{"$f":"VLOOKUP($C214, 'Nanodrop Data Raw'!$C:$L, 4, FALSE)","v":{"$error":"#N/A"}},null,null,null,null,{"$f":"'Sample Information'!$G$6","v":0},{"$f":"'Sample Information'!$G$5","v":0},null,null,{"$f":"'Sample Information'!$G$7","v":"Virus Pathogen Midi Kit, Complex_400_V4_DSP_Default_IC"},null,{"$error":"#N/A"}]
[{"$f":"'Sample Information'!A215","v":214},{"$f":"'Sample Information'!B215","v":0},"0-DNA",{"$f":"'Sample Information'!E215","v":0},{"$f":"IF(VLOOKUP($C215, 'Nanodrop Data Raw'!$C:$L, 10, FALSE)<>\"\", VLOOKUP($C215, 'Nanodrop Data Raw'!$C:$L, 10, FALSE), VLOOKUP($C215, 'Nanodrop Data Raw'!$C:$L, 2, FALSE))","v":{"$error":"#N/A"}},60,"AVE",{"$error":"#N/A"},{"$f":"VLOOKUP($C215, 'Nanodrop Data Raw'!$C:$L, 3, FALSE)","v":{"$error":"#N/A"}},{"$f":"VLOOKUP($C215, 'Nanodrop Data Raw'!$C:$L, 4, FALSE)","v":{"$error":"#N/A"}},null,null,null,null,{"$f":"'Sample Information'!$G$6","v":0},{"$f":"'Sample Information'!$G$5","v":0},null,null,{"$f":"'Sample Information'!$G$7","v":"Virus Pathogen Midi Kit, Complex_400_V4_DSP_Default_IC"},null,{"$error":"#N/A"}]
[{"$f":"'Sample Information'!A216","v":215},{"$f":"'Sample Information'!B216","v":0},"0-DNA",{"$f":"'Sample Information'!E216","v":0},{"$f":"IF(VLOOKUP($C216, 'Nanodrop Data Raw'!$C:$L, 10, FALSE)<>\"\", VLOOKUP($C216, 'Nanodrop Data Raw'!$C:$L, 10, FALSE), VLOOKUP($C216, 'Nanodrop Data Raw'!$C:$L, 2, FALSE))","v":{"$error":"#N/A"}},60,"AVE",{"$error":"#N/A"},{"$f":"VLOOKUP($C216, 'Nanodrop Data Raw'!$C:$L, 3, FALSE)","v":{"$error":"#N/A"}},{"$f":"VLOOKUP($C216, 'Nanodrop Data Raw'!$C:$L, 4, FALSE)","v":{"$error":"#N/A"}},null,null,null,null,{"$f":"'Sample Information'!$G$6","v":0},{"$f":"'Sample Information'!$G$5","v":0},null,null,{"$f":"'Sample Information'!$G$7","v":"Virus Pathogen Midi Kit, Complex_400_V4_DSP_Default_IC"},null,{"$error":"#N/A"}]
[{"$f":"'Sample Information'!A217","v":216},{"$f":"'Sample Information'!B217","v":0},"0-DNA",{"$f":"'Sample Information'!E217","v":0},{"$f":"IF(VLOOKUP($C217, 'Nanodrop Data Raw'!$C:$L, 10, FALSE)<>\"\", VLOOKUP($C217, 'Nanodrop Data Raw'!$C:$L, 10, FALSE), VLOOKUP($C217, 'Nanodrop Data Raw'!$C:$L, 2, FALSE))","v":{"$error":"#N/A"}},60,"AVE",{"$error":"#N/A"},{"$f":"VLOOKUP($C217, 'Nanodrop Data Raw'!$C:$L, 3, FALSE)","v":{"$error":"#N/A"}},{"$f":"VLOOKUP($C217, 'Nanodrop Data Raw'!$C:$L, 4, FALSE)","v":{"$error":"#N/A"}},null,null,null,null,{"$f":"'Sample Information'!$G$6","v":0},{"$f":"'Sample Information'!$G$5","v":0},null,null,{"$f":"'Sample Information'!$G$7","v":"Virus Pathogen Midi Kit, Complex_400_V4_DSP_Default_IC"},null,{"$error":"#N/A"}]
[{"$f":"'Sample Information'!A218","v":217},{"$f":"'Sample Information'!B218","v":0},"0-DNA",{"$f":"'Sample Information'!E218","v":0},{"$f":"IF(VLOOKUP($C218, 'Nanodrop Data Raw'!$C:$L, 10, FALSE)<>\"\", VLOOKUP($C218, 'Nanodrop Data Raw'!$C:$L, 10, FALSE), VLOOKUP($C218, 'Nanodrop Data Raw'!$C:$L, 2, FALSE))","v":{"$error":"#N/A"}},60,"AVE",{"$error":"#N/A"},{"$f":"VLOOKUP($C218, 'Nanodrop Data Raw'!$C:$L, 3, FALSE)","v":{"$error":"#N/A"}},{"$f":"VLOOKUP($C218, 'Nanodrop Data Raw'!$C:$L, 4, FALSE)","v":{"$error":"#N/A"}},null,null,null,null,{"$f":"'Sample Information'!$G$6","v":0},{"$f":"'Sample Information'!$G$5","v":0},null,null,{"$f":"'Sample Information'!$G$7","v":"Virus Pathogen Midi Kit, Complex_400_V4_DSP_Default_IC"},null,{"$error":"#N/A"}]
[{"$f":"'Sample Information'!A219","v":218},{"$f":"'Sample Information'!B219","v":0},"0-DNA",{"$f":"'Sample Information'!E219","v":0},{"$f":"IF(VLOOKUP($C219, 'Nanodrop Data Raw'!$C:$L, 10, FALSE)<>\"\", VLOOKUP($C219, 'Nanodrop Data Raw'!$C:$L, 10, FALSE), VLOOKUP($C219, 'Nanodrop Data Raw'!$C:$L, 2, FALSE))","v":{"$error":"#N/A"}},60,"AVE",{"$error":"#N/A"},{"$f":"VLOOKUP($C219, 'Nanodrop Data Raw'!$C:$L, 3, FALSE)","v":{"$error":"#N/A"}},{"$f":"VLOOKUP($C219, 'Nanodrop Data Raw'!$C:$L, 4, FALSE)","v":{"$error":"#N/A"}},null,null,null,null,{"$f":"'Sample Information'!$G$6","v":0},{"$f":"'Sample Information'!$G$5","v":0},null,null,{"$f":"'Sample Information'!$G$7","v":"Virus Pathogen Midi Kit, Complex_400_V4_DSP_Default_IC"},null,{"$error":"#N/A"}]
[{"$f":"'Sample Information'!A220","v":219},{"$f":"'Sample Information'!B220","v":0},"0-DNA",{"$f":"'Sample Information'!E220","v":0},{"$f":"IF(VLOOKUP($C220, 'Nanodrop Data Raw'!$C:$L, 10, FALSE)<>\"\", VLOOKUP($C220, 'Nanodrop Data Raw'!$C:$L, 10, FALSE), VLOOKUP($C220, 'Nanodrop Data Raw'!$C:$L, 2, FALSE))","v":{"$error":"#N/A"}},60,"AVE",{"$error":"#N/A"},{"$f":"VLOOKUP($C220, 'Nanodrop Data Raw'!$C:$L, 3, FALSE)","v":{"$error":"#N/A"}},{"$f":"VLOOKUP($C220, 'Nanodrop Data Raw'!$C:$L, 4, FALSE)","v":{"$error":"#N/A"}},null,null,null,null,{"$f":"'Sample Information'!$G$6","v":0},{"$f":"'Sample Information'!$G$5","v":0},null,null,{"$f":"'Sample Information'!$G$7","v":"Virus Pathogen Midi Kit, Complex_400_V4_DSP_Default_IC"},null,{"$error":"#N/A"}]
[{"$f":"'Sample Information'!A221","v":220},{"$f":"'Sample Information'!B221","v":0},"0-DNA",{"$f":"'Sample Information'!E221","v":0},{"$f":"IF(VLOOKUP($C221, 'Nanodrop Data Raw'!$C:$L, 10, FALSE)<>\"\", VLOOKUP($C221, 'Nanodrop Data Raw'!$C:$L, 10, FALSE), VLOOKUP($C221, 'Nanodrop Data Raw'!$C:$L, 2, FALSE))","v":{"$error":"#N/A"}},60,"AVE",{"$error":"#N/A"},{"$f":"VLOOKUP($C221, 'Nanodrop Data Raw'!$C:$L, 3, FALSE)","v":{"$error":"#N/A"}},{"$f":"VLOOKUP($C221, 'Nanodrop Data Raw'!$C:$L, 4, FALSE)","v":{"$error":"#N/A"}},null,null,null,null,{"$f":"'Sample Information'!$G$6","v":0},{"$f":"'Sample Information'!$G$5","v":0},null,null,{"$f":"'Sample Information'!$G$7","v":"Virus Pathogen Midi Kit, Complex_400_V4_DSP_Default_IC"},null,{"$error":"#N/A"}]
[{"$f":"'Sample Information'!A222","v":221},{"$f":"'Sample Information'!B222","v":0},"0-DNA",{"$f":"'Sample Information'!E222","v":0},{"$f":"IF(VLOOKUP($C222, 'Nanodrop Data Raw'!$C:$L, 10, FALSE)<>\"\", VLOOKUP($C222, 'Nanodrop Data Raw'!$C:$L, 10, FALSE), VLOOKUP($C222, 'Nanodrop Data Raw'!$C:$L, 2, FALSE))","v":{"$error":"#N/A"}},60,"AVE",{"$error":"#N/A"},{"$f":"VLOOKUP($C222, 'Nanodrop Data Raw'!$C:$L, 3, FALSE)","v":{"$error":"#N/A"}},{"$f":"VLOOKUP($C222, 'Nanodrop Data Raw'!$C:$L, 4, FALSE)","v":{"$error":"#N/A"}},null,null,null,null,{"$f":"'Sample Information'!$G$6","v":0},{"$f":"'Sample Information'!$G$5","v":0},null,null,{"$f":"'Sample Information'!$G$7","v":"Virus Pathogen Midi Kit, Complex_400_V4_DSP_Default_IC"},null,{"$error":"#N/A"}]
[{"$f":"'Sample Information'!A223","v":222},{"$f":"'Sample Information'!B223","v":0},"0-DNA",{"$f":"'Sample Information'!E223","v":0},{"$f":"IF(VLOOKUP($C223, 'Nanodrop Data Raw'!$C:$L, 10, FALSE)<>\"\", VLOOKUP($C223, 'Nanodrop Data Raw'!$C:$L, 10, FALSE), VLOOKUP($C223, 'Nanodrop Data Raw'!$C:$L, 2, FALSE))","v":{"$error":"#N/A"}},60,"AVE",{"$error":"#N/A"},{"$f":"VLOOKUP($C223, 'Nanodrop Data Raw'!$C:$L, 3, FALSE)","v":{"$error":"#N/A"}},{"$f":"VLOOKUP($C223, 'Nanodrop Data Raw'!$C:$L, 4, FALSE)","v":{"$error":"#N/A"}},null,null,null,null,{"$f":"'Sample Information'!$G$6","v":0},{"$f":"'Sample Information'!$G$5","v":0},null,null,{"$f":"'Sample Information'!$G$7","v":"Virus Pathogen Midi Kit, Complex_400_V4_DSP_Default_IC"},null,{"$error":"#N/A"}]
[{"$f":"'Sample Information'!A224","v":223},{"$f":"'Sample Information'!B224","v":0},"0-DNA",{"$f":"'Sample Information'!E224","v":0},{"$f":"IF(VLOOKUP($C224, 'Nanodrop Data Raw'!$C:$L, 10, FALSE)<>\"\", VLOOKUP($C224, 'Nanodrop Data Raw'!$C:$L, 10, FALSE), VLOOKUP($C224, 'Nanodrop Data Raw'!$C:$L, 2, FALSE))","v":{"$error":"#N/A"}},60,"AVE",{"$error":"#N/A"},{"$f":"VLOOKUP($C224, 'Nanodrop Data Raw'!$C:$L, 3, FALSE)","v":{"$error":"#N/A"}},{"$f":"VLOOKUP($C224, 'Nanodrop Data Raw'!$C:$L, 4, FALSE)","v":{"$error":"#N/A"}},null,null,null,null,{"$f":"'Sample Information'!$G$6","v":0},{"$f":"'Sample Information'!$G$5","v":0},null,null,{"$f":"'Sample Information'!$G$7","v":"Virus Pathogen Midi Kit, Complex_400_V4_DSP_Default_IC"},null,{"$error":"#N/A"}]
[{"$f":"'Sample Information'!A225","v":224},{"$f":"'Sample Information'!B225","v":0},"0-DNA",{"$f":"'Sample Information'!E225","v":0},{"$f":"IF(VLOOKUP($C225, 'Nanodrop Data Raw'!$C:$L, 10, FALSE)<>\"\", VLOOKUP($C225, 'Nanodrop Data Raw'!$C:$L, 10, FALSE), VLOOKUP($C225, 'Nanodrop Data Raw'!$C:$L, 2, FALSE))","v":{"$error":"#N/A"}},60,"AVE",{"$error":"#N/A"},{"$f":"VLOOKUP($C225, 'Nanodrop Data Raw'!$C:$L, 3, FALSE)","v":{"$error":"#N/A"}},{"$f":"VLOOKUP($C225, 'Nanodrop Data Raw'!$C:$L, 4, FALSE)","v":{"$error":"#N/A"}},null,null,null,null,{"$f":"'Sample Information'!$G$6","v":0},{"$f":"'Sample Information'!$G$5","v":0},null,null,{"$f":"'Sample Information'!$G$7","v":"Virus Pathogen Midi Kit, Complex_400_V4_DSP_Default_IC"},null,{"$error":"#N/A"}]
[{"$f":"'Sample Information'!A226","v":225},{"$f":"'Sample Information'!B226","v":0},"0-DNA",{"$f":"'Sample Information'!E226","v":0},{"$f":"IF(VLOOKUP($C226, 'Nanodrop Data Raw'!$C:$L, 10, FALSE)<>\"\", VLOOKUP($C226, 'Nanodrop Data Raw'!$C:$L, 10, FALSE), VLOOKUP($C226, 'Nanodrop Data Raw'!$C:$L, 2, FALSE))","v":{"$error":"#N/A"}},60,"AVE",{"$error":"#N/A"},{"$f":"VLOOKUP($C226, 'Nanodrop Data Raw'!$C:$L, 3, FALSE)","v":{"$error":"#N/A"}},{"$f":"VLOOKUP($C226, 'Nanodrop Data Raw'!$C:$L, 4, FALSE)","v":{"$error":"#N/A"}},null,null,null,null,{"$f":"'Sample Information'!$G$6","v":0},{"$f":"'Sample Information'!$G$5","v":0},null,null,{"$f":"'Sample Information'!$G$7","v":"Virus Pathogen Midi Kit, Complex_400_V4_DSP_Default_IC"},null,{"$error":"#N/A"}]
[{"$f":"'Sample Information'!A227","v":226},{"$f":"'Sample Information'!B227","v":0},"0-DNA",{"$f":"'Sample Information'!E227","v":0},{"$f":"IF(VLOOKUP($C227, 'Nanodrop Data Raw'!$C:$L, 10, FALSE)<>\"\", VLOOKUP($C227, 'Nanodrop Data Raw'!$C:$L, 10, FALSE), VLOOKUP($C227, 'Nanodrop Data Raw'!$C:$L, 2, FALSE))","v":{"$error":"#N/A"}},60,"AVE",{"$error":"#N/A"},{"$f":"VLOOKUP($C227, 'Nanodrop Data Raw'!$C:$L, 3, FALSE)","v":{"$error":"#N/A"}},{"$f":"VLOOKUP($C227, 'Nanodrop Data Raw'!$C:$L, 4, FALSE)","v":{"$error":"#N/A"}},null,null,null,null,{"$f":"'Sample Information'!$G$6","v":0},{"$f":"'Sample Information'!$G$5","v":0},null,null,{"$f":"'Sample Information'!$G$7","v":"Virus Pathogen Midi Kit, Complex_400_V4_DSP_Default_IC"},null,{"$error":"#N/A"}]
[{"$f":"'Sample Information'!A228","v":227},{"$f":"'Sample Information'!B228","v":0},"0-DNA",{"$f":"'Sample Information'!E228","v":0},{"$f":"IF(VLOOKUP($C228, 'Nanodrop Data Raw'!$C:$L, 10, FALSE)<>\"\", VLOOKUP($C228, 'Nanodrop Data Raw'!$C:$L, 10, FALSE), VLOOKUP($C228, 'Nanodrop Data Raw'!$C:$L, 2, FALSE))","v":{"$error":"#N/A"}},60,"AVE",{"$error":"#N/A"},{"$f":"VLOOKUP($C228, 'Nanodrop Data Raw'!$C:$L, 3, FALSE)","v":{"$error":"#N/A"}},{"$f":"VLOOKUP($C228, 'Nanodrop Data Raw'!$C:$L, 4, FALSE)","v":{"$error":"#N/A"}},null,null,null,null,{"$f":"'Sample Information'!$G$6","v":0},{"$f":"'Sample Information'!$G$5","v":0},null,null,{"$f":"'Sample Information'!$G$7","v":"Virus Pathogen Midi Kit, Complex_400_V4_DSP_Default_IC"},null,{"$error":"#N/A"}]
[{"$f":"'Sample Information'!A229","v":228},{"$f":"'Sample Information'!B229","v":0},"0-DNA",{"$f":"'Sample Information'!E229","v":0},{"$f":"IF(VLOOKUP($C229, 'Nanodrop Data Raw'!$C:$L, 10, FALSE)<>\"\", VLOOKUP($C229, 'Nanodrop Data Raw'!$C:$L, 10, FALSE), VLOOKUP($C229, 'Nanodrop Data Raw'!$C:$L, 2, FALSE))","v":{"$error":"#N/A"}},60,"AVE",{"$error":"#N/A"},{"$f":"VLOOKUP($C229, 'Nanodrop Data Raw'!$C:$L, 3, FALSE)","v":{"$error":"#N/A"}},{"$f":"VLOOKUP($C229, 'Nanodrop Data Raw'!$C:$L, 4, FALSE)","v":{"$error":"#N/A"}},null,null,null,null,{"$f":"'Sample Information'!$G$6","v":0},{"$f":"'Sample Information'!$G$5","v":0},null,null,{"$f":"'Sample Information'!$G$7","v":"Virus Pathogen Midi Kit, Complex_400_V4_DSP_Default_IC"},null,{"$error":"#N/A"}]
[{"$f":"'Sample Information'!A230","v":229},{"$f":"'Sample Information'!B230","v":0},"0-DNA",{"$f":"'Sample Information'!E230","v":0},{"$f":"IF(VLOOKUP($C230, 'Nanodrop Data Raw'!$C:$L, 10, FALSE)<>\"\", VLOOKUP($C230, 'Nanodrop Data Raw'!$C:$L, 10, FALSE), VLOOKUP($C230, 'Nanodrop Data Raw'!$C:$L, 2, FALSE))","v":{"$error":"#N/A"}},60,"AVE",{"$error":"#N/A"},{"$f":"VLOOKUP($C230, 'Nanodrop Data Raw'!$C:$L, 3, FALSE)","v":{"$error":"#N/A"}},{"$f":"VLOOKUP($C230, 'Nanodrop Data Raw'!$C:$L, 4, FALSE)","v":{"$error":"#N/A"}},null,null,null,null,{"$f":"'Sample Information'!$G$6","v":0},{"$f":"'Sample Information'!$G$5","v":0},null,null,{"$f":"'Sample Information'!$G$7","v":"Virus Pathogen Midi Kit, Complex_400_V4_DSP_Default_IC"},null,{"$error":"#N/A"}]
[{"$f":"'Sample Information'!A231","v":230},{"$f":"'Sample Information'!B231","v":0},"0-DNA",{"$f":"'Sample Information'!E231","v":0},{"$f":"IF(VLOOKUP($C231, 'Nanodrop Data Raw'!$C:$L, 10, FALSE)<>\"\", VLOOKUP($C231, 'Nanodrop Data Raw'!$C:$L, 10, FALSE), VLOOKUP($C231, 'Nanodrop Data Raw'!$C:$L, 2, FALSE))","v":{"$error":"#N/A"}},60,"AVE",{"$error":"#N/A"},{"$f":"VLOOKUP($C231, 'Nanodrop Data Raw'!$C:$L, 3, FALSE)","v":{"$error":"#N/A"}},{"$f":"VLOOKUP($C231, 'Nanodrop Data Raw'!$C:$L, 4, FALSE)","v":{"$error":"#N/A"}},null,null,null,null,{"$f":"'Sample Information'!$G$6","v":0},{"$f":"'Sample Information'!$G$5","v":0},null,null,{"$f":"'Sample Information'!$G$7","v":"Virus Pathogen Midi Kit, Complex_400_V4_DSP_Default_IC"},null,{"$error":"#N/A"}]
[{"$f":"'Sample Information'!A232","v":231},{"$f":"'Sample Information'!B232","v":0},"0-DNA",{"$f":"'Sample Information'!E232","v":0},{"$f":"IF(VLOOKUP($C232, 'Nanodrop Data Raw'!$C:$L, 10, FALSE)<>\"\", VLOOKUP($C232, 'Nanodrop Data Raw'!$C:$L, 10, FALSE), VLOOKUP($C232, 'Nanodrop Data Raw'!$C:$L, 2, FALSE))","v":{"$error":"#N/A"}},60,"AVE",{"$error":"#N/A"},{"$f":"VLOOKUP($C232, 'Nanodrop Data Raw'!$C:$L, 3, FALSE)","v":{"$error":"#N/A"}},{"$f":"VLOOKUP($C232, 'Nanodrop Data Raw'!$C:$L, 4, FALSE)","v":{"$error":"#N/A"}},null,null,null,null,{"$f":"'Sample Information'!$G$6","v":0},{"$f":"'Sample Information'!$G$5","v":0},null,null,{"$f":"'Sample Information'!$G$7","v":"Virus Pathogen Midi Kit, Complex_400_V4_DSP_Default_IC"},null,{"$error":"#N/A"}]
[{"$f":"'Sample Information'!A233","v":232},{"$f":"'Sample Information'!B233","v":0},"0-DNA",{"$f":"'Sample Information'!E233","v":0},{"$f":"IF(VLOOKUP($C233, 'Nanodrop Data Raw'!$C:$L, 10, FALSE)<>\"\", VLOOKUP($C233, 'Nanodrop Data Raw'!$C:$L, 10, FALSE), VLOOKUP($C233, 'Nanodrop Data Raw'!$C:$L, 2, FALSE))","v":{"$error":"#N/A"}},60,"AVE",{"$error":"#N/A"},{"$f":"VLOOKUP($C233, 'Nanodrop Data Raw'!$C:$L, 3, FALSE)","v":{"$error":"#N/A"}},{"$f":"VLOOKUP($C233, 'Nanodrop Data Raw'!$C:$L, 4, FALSE)","v":{"$error":"#N/A"}},null,null,null,null,{"$f":"'Sample Information'!$G$6","v":0},{"$f":"'Sample Information'!$G$5","v":0},null,null,{"$f":"'Sample Information'!$G$7","v":"Virus Pathogen Midi Kit, Complex_400_V4_DSP_Default_IC"},null,{"$error":"#N/A"}]
[{"$f":"'Sample Information'!A234","v":233},{"$f":"'Sample Information'!B234","v":0},"0-DNA",{"$f":"'Sample Information'!E234","v":0},{"$f":"IF(VLOOKUP($C234, 'Nanodrop Data Raw'!$C:$L, 10, FALSE)<>\"\", VLOOKUP($C234, 'Nanodrop Data Raw'!$C:$L, 10, FALSE), VLOOKUP($C234, 'Nanodrop Data Raw'!$C:$L, 2, FALSE))","v":{"$error":"#N/A"}},60,"AVE",{"$error":"#N/A"},{"$f":"VLOOKUP($C234, 'Nanodrop Data Raw'!$C:$L, 3, FALSE)","v":{"$error":"#N/A"}},{"$f":"VLOOKUP($C234, 'Nanodrop Data Raw'!$C:$L, 4, FALSE)","v":{"$error":"#N/A"}},null,null,null,null,{"$f":"'Sample Information'!$G$6","v":0},{"$f":"'Sample Information'!$G$5","v":0},null,null,{"$f":"'Sample Information'!$G$7","v":"Virus Pathogen Midi Kit, Complex_400_V4_DSP_Default_IC"},null,{"$error":"#N/A"}]
[{"$f":"'Sample Information'!A235","v":234},{"$f":"'Sample Information'!B235","v":0},"0-DNA",{"$f":"'Sample Information'!E235","v":0},{"$f":"IF(VLOOKUP($C235, 'Nanodrop Data Raw'!$C:$L, 10, FALSE)<>\"\", VLOOKUP($C235, 'Nanodrop Data Raw'!$C:$L, 10, FALSE), VLOOKUP($C235, 'Nanodrop Data Raw'!$C:$L, 2, FALSE))","v":{"$error":"#N/A"}},60,"AVE",{"$error":"#N/A"},{"$f":"VLOOKUP($C235, 'Nanodrop Data Raw'!$C:$L, 3, FALSE)","v":{"$error":"#N/A"}},{"$f":"VLOOKUP($C235, 'Nanodrop Data Raw'!$C:$L, 4, FALSE)","v":{"$error":"#N/A"}},null,null,null,null,{"$f":"'Sample Information'!$G$6","v":0},{"$f":"'Sample Information'!$G$5","v":0},null,null,{"$f":"'Sample Information'!$G$7","v":"Virus Pathogen Midi Kit, Complex_400_V4_DSP_Default_IC"},null,{"$error":"#N/A"}]
[{"$f":"'Sample Information'!A236","v":235},{"$f":"'Sample Information'!B236","v":0},"0-DNA",{"$f":"'Sample Information'!E236","v":0},{"$f":"IF(VLOOKUP($C236, 'Nanodrop Data Raw'!$C:$L, 10, FALSE)<>\"\", VLOOKUP($C236, 'Nanodrop Data Raw'!$C:$L, 10, FALSE), VLOOKUP($C236, 'Nanodrop Data Raw'!$C:$L, 2, FALSE))","v":{"$error":"#N/A"}},60,"AVE",{"$error":"#N/A"},{"$f":"VLOOKUP($C236, 'Nanodrop Data Raw'!$C:$L, 3, FALSE)","v":{"$error":"#N/A"}},{"$f":"VLOOKUP($C236, 'Nanodrop Data Raw'!$C:$L, 4, FALSE)","v":{"$error":"#N/A"}},null,null,null,null,{"$f":"'Sample Information'!$G$6","v":0},{"$f":"'Sample Information'!$G$5","v":0},null,null,{"$f":"'Sample Information'!$G$7","v":"Virus Pathogen Midi Kit, Complex_400_V4_DSP_Default_IC"},null,{"$error":"#N/A"}]
[{"$f":"'Sample Information'!A237","v":236},{"$f":"'Sample Information'!B237","v":0},"0-DNA",{"$f":"'Sample Information'!E237","v":0},{"$f":"IF(VLOOKUP($C237, 'Nanodrop Data Raw'!$C:$L, 10, FALSE)<>\"\", VLOOKUP($C237, 'Nanodrop Data Raw'!$C:$L, 10, FALSE), VLOOKUP($C237, 'Nanodrop Data Raw'!$C:$L, 2, FALSE))","v":{"$error":"#N/A"}},60,"AVE",{"$error":"#N/A"},{"$f":"VLOOKUP($C237, 'Nanodrop Data Raw'!$C:$L, 3, FALSE)","v":{"$error":"#N/A"}},{"$f":"VLOOKUP($C237, 'Nanodrop Data Raw'!$C:$L, 4, FALSE)","v":{"$error":"#N/A"}},null,null,null,null,{"$f":"'Sample Information'!$G$6","v":0},{"$f":"'Sample Information'!$G$5","v":0},null,null,{"$f":"'Sample Information'!$G$7","v":"Virus Pathogen Midi Kit, Complex_400_V4_DSP_Default_IC"},null,{"$error":"#N/A"}]
[{"$f":"'Sample Information'!A238","v":237},{"$f":"'Sample Information'!B238","v":0},"0-DNA",{"$f":"'Sample Information'!E238","v":0},{"$f":"IF(VLOOKUP($C238, 'Nanodrop Data Raw'!$C:$L, 10, FALSE)<>\"\", VLOOKUP($C238, 'Nanodrop Data Raw'!$C:$L, 10, FALSE), VLOOKUP($C238, 'Nanodrop Data Raw'!$C:$L, 2, FALSE))","v":{"$error":"#N/A"}},60,"AVE",{"$error":"#N/A"},{"$f":"VLOOKUP($C238, 'Nanodrop Data Raw'!$C:$L, 3, FALSE)","v":{"$error":"#N/A"}},{"$f":"VLOOKUP($C238, 'Nanodrop Data Raw'!$C:$L, 4, FALSE)","v":{"$error":"#N/A"}},null,null,null,null,{"$f":"'Sample Information'!$G$6","v":0},{"$f":"'Sample Information'!$G$5","v":0},null,null,{"$f":"'Sample Information'!$G$7","v":"Virus Pathogen Midi Kit, Complex_400_V4_DSP_Default_IC"},null,{"$error":"#N/A"}]
[{"$f":"'Sample Information'!A239","v":238},{"$f":"'Sample Information'!B239","v":0},"0-DNA",{"$f":"'Sample Information'!E239","v":0},{"$f":"IF(VLOOKUP($C239, 'Nanodrop Data Raw'!$C:$L, 10, FALSE)<>\"\", VLOOKUP($C239, 'Nanodrop Data Raw'!$C:$L, 10, FALSE), VLOOKUP($C239, 'Nanodrop Data Raw'!$C:$L, 2, FALSE))","v":{"$error":"#N/A"}},60,"AVE",{"$error":"#N/A"},{"$f":"VLOOKUP($C239, 'Nanodrop Data Raw'!$C:$L, 3, FALSE)","v":{"$error":"#N/A"}},{"$f":"VLOOKUP($C239, 'Nanodrop Data Raw'!$C:$L, 4, FALSE)","v":{"$error":"#N/A"}},null,null,null,null,{"$f":"'Sample Information'!$G$6","v":0},{"$f":"'Sample Information'!$G$5","v":0},null,null,{"$f":"'Sample Information'!$G$7","v":"Virus Pathogen Midi Kit, Complex_400_V4_DSP_Default_IC"},null,{"$error":"#N/A"}]
[{"$f":"'Sample Information'!A240","v":239},{"$f":"'Sample Information'!B240","v":0},"0-DNA",{"$f":"'Sample Information'!E240","v":0},{"$f":"IF(VLOOKUP($C240, 'Nanodrop Data Raw'!$C:$L, 10, FALSE)<>\"\", VLOOKUP($C240, 'Nanodrop Data Raw'!$C:$L, 10, FALSE), VLOOKUP($C240, 'Nanodrop Data Raw'!$C:$L, 2, FALSE))","v":{"$error":"#N/A"}},60,"AVE",{"$error":"#N/A"},{"$f":"VLOOKUP($C240, 'Nanodrop Data Raw'!$C:$L, 3, FALSE)","v":{"$error":"#N/A"}},{"$f":"VLOOKUP($C240, 'Nanodrop Data Raw'!$C:$L, 4, FALSE)","v":{"$error":"#N/A"}},null,null,null,null,{"$f":"'Sample Information'!$G$6","v":0},{"$f":"'Sample Information'!$G$5","v":0},null,null,{"$f":"'Sample Information'!$G$7","v":"Virus Pathogen Midi Kit, Complex_400_V4_DSP_Default_IC"},null,{"$error":"#N/A"}]
[{"$f":"'Sample Information'!A241","v":240},{"$f":"'Sample Information'!B241","v":0},"0-DNA",{"$f":"'Sample Information'!E241","v":0},{"$f":"IF(VLOOKUP($C241, 'Nanodrop Data Raw'!$C:$L, 10, FALSE)<>\"\", VLOOKUP($C241, 'Nanodrop Data Raw'!$C:$L, 10, FALSE), VLOOKUP($C241, 'Nanodrop Data Raw'!$C:$L, 2, FALSE))","v":{"$error":"#N/A"}},60,"AVE",{"$error":"#N/A"},{"$f":"VLOOKUP($C241, 'Nanodrop Data Raw'!$C:$L, 3, FALSE)","v":{"$error":"#N/A"}},{"$f":"VLOOKUP($C241, 'Nanodrop Data Raw'!$C:$L, 4, FALSE)","v":{"$error":"#N/A"}},null,null,null,null,{"$f":"'Sample Information'!$G$6","v":0},{"$f":"'Sample Information'!$G$5","v":0},null,null,{"$f":"'Sample Information'!$G$7","v":"Virus Pathogen Midi Kit, Complex_400_V4_DSP_Default_IC"},null,{"$error":"#N/A"}]
[{"$f":"'Sample Information'!A242","v":241},{"$f":"'Sample Information'!B242","v":0},"0-DNA",{"$f":"'Sample Information'!E242","v":0},{"$f":"IF(VLOOKUP($C242, 'Nanodrop Data Raw'!$C:$L, 10, FALSE)<>\"\", VLOOKUP($C242, 'Nanodrop Data Raw'!$C:$L, 10, FALSE), VLOOKUP($C242, 'Nanodrop Data Raw'!$C:$L, 2, FALSE))","v":{"$error":"#N/A"}},60,"AVE",{"$error":"#N/A"},{"$f":"VLOOKUP($C242, 'Nanodrop Data Raw'!$C:$L, 3, FALSE)","v":{"$error":"#N/A"}},{"$f":"VLOOKUP($C242, 'Nanodrop Data Raw'!$C:$L, 4, FALSE)","v":{"$error":"#N/A"}},null,null,null,null,{"$f":"'Sample Information'!$G$6","v":0},{"$f":"'Sample Information'!$G$5","v":0},null,null,{"$f":"'Sample Information'!$G$7","v":"Virus Pathogen Midi Kit, Complex_400_V4_DSP_Default_IC"},null,{"$error":"#N/A"}]
[{"$f":"'Sample Information'!A243","v":242},{"$f":"'Sample Information'!B243","v":0},"0-DNA",{"$f":"'Sample Information'!E243","v":0},{"$f":"IF(VLOOKUP($C243, 'Nanodrop Data Raw'!$C:$L, 10, FALSE)<>\"\", VLOOKUP($C243, 'Nanodrop Data Raw'!$C:$L, 10, FALSE), VLOOKUP($C243, 'Nanodrop Data Raw'!$C:$L, 2, FALSE))","v":{"$error":"#N/A"}},60,"AVE",{"$error":"#N/A"},{"$f":"VLOOKUP($C243, 'Nanodrop Data Raw'!$C:$L, 3, FALSE)","v":{"$error":"#N/A"}},{"$f":"VLOOKUP($C243, 'Nanodrop Data Raw'!$C:$L, 4, FALSE)","v":{"$error":"#N/A"}},null,null,null,null,{"$f":"'Sample Information'!$G$6","v":0},{"$f":"'Sample Information'!$G$5","v":0},null,null,{"$f":"'Sample Information'!$G$7","v":"Virus Pathogen Midi Kit, Complex_400_V4_DSP_Default_IC"},null,{"$error":"#N/A"}]
[{"$f":"'Sample Information'!A244","v":243},{"$f":"'Sample Information'!B244","v":0},"0-DNA",{"$f":"'Sample Information'!E244","v":0},{"$f":"IF(VLOOKUP($C244, 'Nanodrop Data Raw'!$C:$L, 10, FALSE)<>\"\", VLOOKUP($C244, 'Nanodrop Data Raw'!$C:$L, 10, FALSE), VLOOKUP($C244, 'Nanodrop Data Raw'!$C:$L, 2, FALSE))","v":{"$error":"#N/A"}},60,"AVE",{"$error":"#N/A"},{"$f":"VLOOKUP($C244, 'Nanodrop Data Raw'!$C:$L, 3, FALSE)","v":{"$error":"#N/A"}},{"$f":"VLOOKUP($C244, 'Nanodrop Data Raw'!$C:$L, 4, FALSE)","v":{"$error":"#N/A"}},null,null,null,null,{"$f":"'Sample Information'!$G$6","v":0},{"$f":"'Sample Information'!$G$5","v":0},null,null,{"$f":"'Sample Information'!$G$7","v":"Virus Pathogen Midi Kit, Complex_400_V4_DSP_Default_IC"},null,{"$error":"#N/A"}]
[{"$f":"'Sample Information'!A245","v":244},{"$f":"'Sample Information'!B245","v":0},"0-DNA",{"$f":"'Sample Information'!E245","v":0},{"$f":"IF(VLOOKUP($C245, 'Nanodrop Data Raw'!$C:$L, 10, FALSE)<>\"\", VLOOKUP($C245, 'Nanodrop Data Raw'!$C:$L, 10, FALSE), VLOOKUP($C245, 'Nanodrop Data Raw'!$C:$L, 2, FALSE))","v":{"$error":"#N/A"}},60,"AVE",{"$error":"#N/A"},{"$f":"VLOOKUP($C245, 'Nanodrop Data Raw'!$C:$L, 3, FALSE)","v":{"$error":"#N/A"}},{"$f":"VLOOKUP($C245, 'Nanodrop Data Raw'!$C:$L, 4, FALSE)","v":{"$error":"#N/A"}},null,null,null,null,{"$f":"'Sample Information'!$G$6","v":0},{"$f":"'Sample Information'!$G$5","v":0},null,null,{"$f":"'Sample Information'!$G$7","v":"Virus Pathogen Midi Kit, Complex_400_V4_DSP_Default_IC"},null,{"$error":"#N/A"}]
[{"$f":"'Sample Information'!A246","v":245},{"$f":"'Sample Information'!B246","v":0},"0-DNA",{"$f":"'Sample Information'!E246","v":0},{"$f":"IF(VLOOKUP($C246, 'Nanodrop Data Raw'!$C:$L, 10, FALSE)<>\"\", VLOOKUP($C246, 'Nanodrop Data Raw'!$C:$L, 10, FALSE), VLOOKUP($C246, 'Nanodrop Data Raw'!$C:$L, 2, FALSE))","v":{"$error":"#N/A"}},60,"AVE",{"$error":"#N/A"},{"$f":"VLOOKUP($C246, 'Nanodrop Data Raw'!$C:$L, 3, FALSE)","v":{"$error":"#N/A"}},{"$f":"VLOOKUP($C246, 'Nanodrop Data Raw'!$C:$L, 4, FALSE)","v":{"$error":"#N/A"}},null,null,null,null,{"$f":"'Sample Information'!$G$6","v":0},{"$f":"'Sample Information'!$G$5","v":0},null,null,{"$f":"'Sample Information'!$G$7","v":"Virus Pathogen Midi Kit, Complex_400_V4_DSP_Default_IC"},null,{"$error":"#N/A"}]
[{"$f":"'Sample Information'!A247","v":246},{"$f":"'Sample Information'!B247","v":0},"0-DNA",{"$f":"'Sample Information'!E247","v":0},{"$f":"IF(VLOOKUP($C247, 'Nanodrop Data Raw'!$C:$L, 10, FALSE)<>\"\", VLOOKUP($C247, 'Nanodrop Data Raw'!$C:$L, 10, FALSE), VLOOKUP($C247, 'Nanodrop Data Raw'!$C:$L, 2, FALSE))","v":{"$error":"#N/A"}},60,"AVE",{"$error":"#N/A"},{"$f":"VLOOKUP($C247, 'Nanodrop Data Raw'!$C:$L, 3, FALSE)","v":{"$error":"#N/A"}},{"$f":"VLOOKUP($C247, 'Nanodrop Data Raw'!$C:$L, 4, FALSE)","v":{"$error":"#N/A"}},null,null,null,null,{"$f":"'Sample Information'!$G$6","v":0},{"$f":"'Sample Information'!$G$5","v":0},null,null,{"$f":"'Sample Information'!$G$7","v":"Virus Pathogen Midi Kit, Complex_400_V4_DSP_Default_IC"},null,{"$error":"#N/A"}]
[{"$f":"'Sample Information'!A248","v":247},{"$f":"'Sample Information'!B248","v":0},"0-DNA",{"$f":"'Sample Information'!E248","v":0},{"$f":"IF(VLOOKUP($C248, 'Nanodrop Data Raw'!$C:$L, 10, FALSE)<>\"\", VLOOKUP($C248, 'Nanodrop Data Raw'!$C:$L, 10, FALSE), VLOOKUP($C248, 'Nanodrop Data Raw'!$C:$L, 2, FALSE))","v":{"$error":"#N/A"}},60,"AVE",{"$error":"#N/A"},{"$f":"VLOOKUP($C248, 'Nanodrop Data Raw'!$C:$L, 3, FALSE)","v":{"$error":"#N/A"}},{"$f":"VLOOKUP($C248, 'Nanodrop Data Raw'!$C:$L, 4, FALSE)","v":{"$error":"#N/A"}},null,null,null,null,{"$f":"'Sample Information'!$G$6","v":0},{"$f":"'Sample Information'!$G$5","v":0},null,null,{"$f":"'Sample Information'!$G$7","v":"Virus Pathogen Midi Kit, Complex_400_V4_DSP_Default_IC"},null,{"$error":"#N/A"}]
[{"$f":"'Sample Information'!A249","v":248},{"$f":"'Sample Information'!B249","v":0},"0-DNA",{"$f":"'Sample Information'!E249","v":0},{"$f":"IF(VLOOKUP($C249, 'Nanodrop Data Raw'!$C:$L, 10, FALSE)<>\"\", VLOOKUP($C249, 'Nanodrop Data Raw'!$C:$L, 10, FALSE), VLOOKUP($C249, 'Nanodrop Data Raw'!$C:$L, 2, FALSE))","v":{"$error":"#N/A"}},60,"AVE",{"$error":"#N/A"},{"$f":"VLOOKUP($C249, 'Nanodrop Data Raw'!$C:$L, 3, FALSE)","v":{"$error":"#N/A"}},{"$f":"VLOOKUP($C249, 'Nanodrop Data Raw'!$C:$L, 4, FALSE)","v":{"$error":"#N/A"}},null,null,null,null,{"$f":"'Sample Information'!$G$6","v":0},{"$f":"'Sample Information'!$G$5","v":0},null,null,{"$f":"'Sample Information'!$G$7","v":"Virus Pathogen Midi Kit, Complex_400_V4_DSP_Default_IC"},null,{"$error":"#N/A"}]
[{"$f":"'Sample Information'!A250","v":249},{"$f":"'Sample Information'!B250","v":0},"0-DNA",{"$f":"'Sample Information'!E250","v":0},{"$f":"IF(VLOOKUP($C250, 'Nanodrop Data Raw'!$C:$L, 10, FALSE)<>\"\", VLOOKUP($C250, 'Nanodrop Data Raw'!$C:$L, 10, FALSE), VLOOKUP($C250, 'Nanodrop Data Raw'!$C:$L, 2, FALSE))","v":{"$error":"#N/A"}},60,"AVE",{"$error":"#N/A"},{"$f":"VLOOKUP($C250, 'Nanodrop Data Raw'!$C:$L, 3, FALSE)","v":{"$error":"#N/A"}},{"$f":"VLOOKUP($C250, 'Nanodrop Data Raw'!$C:$L, 4, FALSE)","v":{"$error":"#N/A"}},null,null,null,null,{"$f":"'Sample Information'!$G$6","v":0},{"$f":"'Sample Information'!$G$5","v":0},null,null,{"$f":"'Sample Information'!$G$7","v":"Virus Pathogen Midi Kit, Complex_400_V4_DSP_Default_IC"},null,{"$error":"#N/A"}]
[{"$f":"'Sample Information'!A251","v":250},{"$f":"'Sample Information'!B251","v":0},"0-DNA",{"$f":"'Sample Information'!E251","v":0},{"$f":"IF(VLOOKUP($C251, 'Nanodrop Data Raw'!$C:$L, 10, FALSE)<>\"\", VLOOKUP($C251, 'Nanodrop Data Raw'!$C:$L, 10, FALSE), VLOOKUP($C251, 'Nanodrop Data Raw'!$C:$L, 2, FALSE))","v":{"$error":"#N/A"}},60,"AVE",{"$error":"#N/A"},{"$f":"VLOOKUP($C251, 'Nanodrop Data Raw'!$C:$L, 3, FALSE)","v":{"$error":"#N/A"}},{"$f":"VLOOKUP($C251, 'Nanodrop Data Raw'!$C:$L, 4, FALSE)","v":{"$error":"#N/A"}},null,null,null,null,{"$f":"'Sample Information'!$G$6","v":0},{"$f":"'Sample Information'!$G$5","v":0},null,null,{"$f":"'Sample Information'!$G$7","v":"Virus Pathogen Midi Kit, Complex_400_V4_DSP_Default_IC"},null,{"$error":"#N/A"}]
[{"$f":"'Sample Information'!A252","v":251},{"$f":"'Sample Information'!B252","v":0},"0-DNA",{"$f":"'Sample Information'!E252","v":0},{"$f":"IF(VLOOKUP($C252, 'Nanodrop Data Raw'!$C:$L, 10, FALSE)<>\"\", VLOOKUP($C252, 'Nanodrop Data Raw'!$C:$L, 10, FALSE), VLOOKUP($C252, 'Nanodrop Data Raw'!$C:$L, 2, FALSE))","v":{"$error":"#N/A"}},60,"AVE",{"$error":"#N/A"},{"$f":"VLOOKUP($C252, 'Nanodrop Data Raw'!$C:$L, 3, FALSE)","v":{"$error":"#N/A"}},{"$f":"VLOOKUP($C252, 'Nanodrop Data Raw'!$C:$L, 4, FALSE)","v":{"$error":"#N/A"}},null,null,null,null,{"$f":"'Sample Information'!$G$6","v":0},{"$f":"'Sample Information'!$G$5","v":0},null,null,{"$f":"'Sample Information'!$G$7","v":"Virus Pathogen Midi Kit, Complex_400_V4_DSP_Default_IC"},null,{"$error":"#N/A"}]
[{"$f":"'Sample Information'!A253","v":252},{"$f":"'Sample Information'!B253","v":0},"0-DNA",{"$f":"'Sample Information'!E253","v":0},{"$f":"IF(VLOOKUP($C253, 'Nanodrop Data Raw'!$C:$L, 10, FALSE)<>\"\", VLOOKUP($C253, 'Nanodrop Data Raw'!$C:$L, 10, FALSE), VLOOKUP($C253, 'Nanodrop Data Raw'!$C:$L, 2, FALSE))","v":{"$error":"#N/A"}},60,"AVE",{"$error":"#N/A"},{"$f":"VLOOKUP($C253, 'Nanodrop Data Raw'!$C:$L, 3, FALSE)","v":{"$error":"#N/A"}},{"$f":"VLOOKUP($C253, 'Nanodrop Data Raw'!$C:$L, 4, FALSE)","v":{"$error":"#N/A"}},null,null,null,null,{"$f":"'Sample Information'!$G$6","v":0},{"$f":"'Sample Information'!$G$5","v":0},null,null,{"$f":"'Sample Information'!$G$7","v":"Virus Pathogen Midi Kit, Complex_400_V4_DSP_Default_IC"},null,{"$error":"#N/A"}]
[{"$f":"'Sample Information'!A254","v":253},{"$f":"'Sample Information'!B254","v":0},"0-DNA",{"$f":"'Sample Information'!E254","v":0},{"$f":"IF(VLOOKUP($C254, 'Nanodrop Data Raw'!$C:$L, 10, FALSE)<>\"\", VLOOKUP($C254, 'Nanodrop Data Raw'!$C:$L, 10, FALSE), VLOOKUP($C254, 'Nanodrop Data Raw'!$C:$L, 2, FALSE))","v":{"$error":"#N/A"}},60,"AVE",{"$error":"#N/A"},{"$f":"VLOOKUP($C254, 'Nanodrop Data Raw'!$C:$L, 3, FALSE)","v":{"$error":"#N/A"}},{"$f":"VLOOKUP($C254, 'Nanodrop Data Raw'!$C:$L, 4, FALSE)","v":{"$error":"#N/A"}},null,null,null,null,{"$f":"'Sample Information'!$G$6","v":0},{"$f":"'Sample Information'!$G$5","v":0},null,null,{"$f":"'Sample Information'!$G$7","v":"Virus Pathogen Midi Kit, Complex_400_V4_DSP_Default_IC"},null,{"$error":"#N/A"}]
[{"$f":"'Sample Information'!A255","v":254},{"$f":"'Sample Information'!B255","v":0},"0-DNA",{"$f":"'Sample Information'!E255","v":0},{"$f":"IF(VLOOKUP($C255, 'Nanodrop Data Raw'!$C:$L, 10, FALSE)<>\"\", VLOOKUP($C255, 'Nanodrop Data Raw'!$C:$L, 10, FALSE), VLOOKUP($C255, 'Nanodrop Data Raw'!$C:$L, 2, FALSE))","v":{"$error":"#N/A"}},60,"AVE",{"$error":"#N/A"},{"$f":"VLOOKUP($C255, 'Nanodrop Data Raw'!$C:$L, 3, FALSE)","v":{"$error":"#N/A"}},{"$f":"VLOOKUP($C255, 'Nanodrop Data Raw'!$C:$L, 4, FALSE)","v":{"$error":"#N/A"}},null,null,null,null,{"$f":"'Sample Information'!$G$6","v":0},{"$f":"'Sample Information'!$G$5","v":0},null,null,{"$f":"'Sample Information'!$G$7","v":"Virus Pathogen Midi Kit, Complex_400_V4_DSP_Default_IC"},null,{"$error":"#N/A"}]
[{"$f":"'Sample Information'!A256","v":255},{"$f":"'Sample Information'!B256","v":0},"0-DNA",{"$f":"'Sample Information'!E256","v":0},{"$f":"IF(VLOOKUP($C256, 'Nanodrop Data Raw'!$C:$L, 10, FALSE)<>\"\", VLOOKUP($C256, 'Nanodrop Data Raw'!$C:$L, 10, FALSE), VLOOKUP($C256, 'Nanodrop Data Raw'!$C:$L, 2, FALSE))","v":{"$error":"#N/A"}},60,"AVE",{"$error":"#N/A"},{"$f":"VLOOKUP($C256, 'Nanodrop Data Raw'!$C:$L, 3, FALSE)","v":{"$error":"#N/A"}},{"$f":"VLOOKUP($C256, 'Nanodrop Data Raw'!$C:$L, 4, FALSE)","v":{"$error":"#N/A"}},null,null,null,null,{"$f":"'Sample Information'!$G$6","v":0},{"$f":"'Sample Information'!$G$5","v":0},null,null,{"$f":"'Sample Information'!$G$7","v":"Virus Pathogen Midi Kit, Complex_400_V4_DSP_Default_IC"},null,{"$error":"#N/A"}]
[{"$f":"'Sample Information'!A257","v":256},{"$f":"'Sample Information'!B257","v":0},"0-DNA",{"$f":"'Sample Information'!E257","v":0},{"$f":"IF(VLOOKUP($C257, 'Nanodrop Data Raw'!$C:$L, 10, FALSE)<>\"\", VLOOKUP($C257, 'Nanodrop Data Raw'!$C:$L, 10, FALSE), VLOOKUP($C257, 'Nanodrop Data Raw'!$C:$L, 2, FALSE))","v":{"$error":"#N/A"}},60,"AVE",{"$error":"#N/A"},{"$f":"VLOOKUP($C257, 'Nanodrop Data Raw'!$C:$L, 3, FALSE)","v":{"$error":"#N/A"}},{"$f":"VLOOKUP($C257, 'Nanodrop Data Raw'!$C:$L, 4, FALSE)","v":{"$error":"#N/A"}},null,null,null,null,{"$f":"'Sample Information'!$G$6","v":0},{"$f":"'Sample Information'!$G$5","v":0},null,null,{"$f":"'Sample Information'!$G$7","v":"Virus Pathogen Midi Kit, Complex_400_V4_DSP_Default_IC"},null,{"$error":"#N/A"}]
[{"$f":"'Sample Information'!A258","v":257},{"$f":"'Sample Information'!B258","v":0},"0-DNA",{"$f":"'Sample Information'!E258","v":0},{"$f":"IF(VLOOKUP($C258, 'Nanodrop Data Raw'!$C:$L, 10, FALSE)<>\"\", VLOOKUP($C258, 'Nanodrop Data Raw'!$C:$L, 10, FALSE), VLOOKUP($C258, 'Nanodrop Data Raw'!$C:$L, 2, FALSE))","v":{"$error":"#N/A"}},60,"AVE",{"$error":"#N/A"},{"$f":"VLOOKUP($C258, 'Nanodrop Data Raw'!$C:$L, 3, FALSE)","v":{"$error":"#N/A"}},{"$f":"VLOOKUP($C258, 'Nanodrop Data Raw'!$C:$L, 4, FALSE)","v":{"$error":"#N/A"}},null,null,null,null,{"$f":"'Sample Information'!$G$6","v":0},{"$f":"'Sample Information'!$G$5","v":0},null,null,{"$f":"'Sample Information'!$G$7","v":"Virus Pathogen Midi Kit, Complex_400_V4_DSP_Default_IC"},null,{"$error":"#N/A"}]
[{"$f":"'Sample Information'!A259","v":258},{"$f":"'Sample Information'!B259","v":0},{"$f":"CONCATENATE(B259,\"-DNA\")","v":"0-DNA"},{"$f":"'Sample Information'!E259","v":0},{"$f":"IF(VLOOKUP($C259, 'Nanodrop Data Raw'!$C:$L, 10, FALSE)<>\"\", VLOOKUP($C259, 'Nanodrop Data Raw'!$C:$L, 10, FALSE), VLOOKUP($C259, 'Nanodrop Data Raw'!$C:$L, 2, FALSE))","v":{"$error":"#N/A"}},60,"AVE",{"$f":"E259*F259/1000","v":{"$error":"#N/A"}},{"$f":"VLOOKUP($C259, 'Nanodrop Data Raw'!$C:$L, 3, FALSE)","v":{"$error":"#N/A"}},{"$f":"VLOOKUP($C259, 'Nanodrop Data Raw'!$C:$L, 4, FALSE)","v":{"$error":"#N/A"}},null,null,null,null,{"$f":"'Sample Information'!$G$6","v":0},{"$f":"'Sample Information'!$G$5","v":0},null,null,{"$f":"'Sample Information'!$G$7","v":"Virus Pathogen Midi Kit, Complex_400_V4_DSP_Default_IC"},null,{"$f":"$O259/$E259","v":{"$error":"#N/A"}}]
[{"$f":"'Sample Information'!A260","v":259},{"$f":"'Sample Information'!B260","v":0},"0-DNA",{"$f":"'Sample Information'!E260","v":0},{"$f":"IF(VLOOKUP($C260, 'Nanodrop Data Raw'!$C:$L, 10, FALSE)<>\"\", VLOOKUP($C260, 'Nanodrop Data Raw'!$C:$L, 10, FALSE), VLOOKUP($C260, 'Nanodrop Data Raw'!$C:$L, 2, FALSE))","v":{"$error":"#N/A"}},60,"AVE",{"$error":"#N/A"},{"$f":"VLOOKUP($C260, 'Nanodrop Data Raw'!$C:$L, 3, FALSE)","v":{"$error":"#N/A"}},{"$f":"VLOOKUP($C260, 'Nanodrop Data Raw'!$C:$L, 4, FALSE)","v":{"$error":"#N/A"}},null,null,null,null,{"$f":"'Sample Information'!$G$6","v":0},{"$f":"'Sample Information'!$G$5","v":0},null,null,{"$f":"'Sample Information'!$G$7","v":"Virus Pathogen Midi Kit, Complex_400_V4_DSP_Default_IC"},null,{"$error":"#N/A"}]
[{"$f":"'Sample Information'!A261","v":260},{"$f":"'Sample Information'!B261","v":0},"0-DNA",{"$f":"'Sample Information'!E261","v":0},{"$f":"IF(VLOOKUP($C261, 'Nanodrop Data Raw'!$C:$L, 10, FALSE)<>\"\", VLOOKUP($C261, 'Nanodrop Data Raw'!$C:$L, 10, FALSE), VLOOKUP($C261, 'Nanodrop Data Raw'!$C:$L, 2, FALSE))","v":{"$error":"#N/A"}},60,"AVE",{"$error":"#N/A"},{"$f":"VLOOKUP($C261, 'Nanodrop Data Raw'!$C:$L, 3, FALSE)","v":{"$error":"#N/A"}},{"$f":"VLOOKUP($C261, 'Nanodrop Data Raw'!$C:$L, 4, FALSE)","v":{"$error":"#N/A"}},null,null,null,null,{"$f":"'Sample Information'!$G$6","v":0},{"$f":"'Sample Information'!$G$5","v":0},null,null,{"$f":"'Sample Information'!$G$7","v":"Virus Pathogen Midi Kit, Complex_400_V4_DSP_Default_IC"},null,{"$error":"#N/A"}]
[{"$f":"'Sample Information'!A262","v":261},{"$f":"'Sample Information'!B262","v":0},"0-DNA",{"$f":"'Sample Information'!E262","v":0},{"$f":"IF(VLOOKUP($C262, 'Nanodrop Data Raw'!$C:$L, 10, FALSE)<>\"\", VLOOKUP($C262, 'Nanodrop Data Raw'!$C:$L, 10, FALSE), VLOOKUP($C262, 'Nanodrop Data Raw'!$C:$L, 2, FALSE))","v":{"$error":"#N/A"}},60,"AVE",{"$error":"#N/A"},{"$f":"VLOOKUP($C262, 'Nanodrop Data Raw'!$C:$L, 3, FALSE)","v":{"$error":"#N/A"}},{"$f":"VLOOKUP($C262, 'Nanodrop Data Raw'!$C:$L, 4, FALSE)","v":{"$error":"#N/A"}},null,null,null,null,{"$f":"'Sample Information'!$G$6","v":0},{"$f":"'Sample Information'!$G$5","v":0},null,null,{"$f":"'Sample Information'!$G$7","v":"Virus Pathogen Midi Kit, Complex_400_V4_DSP_Default_IC"},null,{"$error":"#N/A"}]
[{"$f":"'Sample Information'!A263","v":262},{"$f":"'Sample Information'!B263","v":0},"0-DNA",{"$f":"'Sample Information'!E263","v":0},{"$f":"IF(VLOOKUP($C263, 'Nanodrop Data Raw'!$C:$L, 10, FALSE)<>\"\", VLOOKUP($C263, 'Nanodrop Data Raw'!$C:$L, 10, FALSE), VLOOKUP($C263, 'Nanodrop Data Raw'!$C:$L, 2, FALSE))","v":{"$error":"#N/A"}},60,"AVE",{"$error":"#N/A"},{"$f":"VLOOKUP($C263, 'Nanodrop Data Raw'!$C:$L, 3, FALSE)","v":{"$error":"#N/A"}},{"$f":"VLOOKUP($C263, 'Nanodrop Data Raw'!$C:$L, 4, FALSE)","v":{"$error":"#N/A"}},null,null,null,null,{"$f":"'Sample Information'!$G$6","v":0},{"$f":"'Sample Information'!$G$5","v":0},null,null,{"$f":"'Sample Information'!$G$7","v":"Virus Pathogen Midi Kit, Complex_400_V4_DSP_Default_IC"},null,{"$error":"#N/A"}]
[{"$f":"'Sample Information'!A264","v":263},{"$f":"'Sample Information'!B264","v":0},"0-DNA",{"$f":"'Sample Information'!E264","v":0},{"$f":"IF(VLOOKUP($C264, 'Nanodrop Data Raw'!$C:$L, 10, FALSE)<>\"\", VLOOKUP($C264, 'Nanodrop Data Raw'!$C:$L, 10, FALSE), VLOOKUP($C264, 'Nanodrop Data Raw'!$C:$L, 2, FALSE))","v":{"$error":"#N/A"}},60,"AVE",{"$error":"#N/A"},{"$f":"VLOOKUP($C264, 'Nanodrop Data Raw'!$C:$L, 3, FALSE)","v":{"$error":"#N/A"}},{"$f":"VLOOKUP($C264, 'Nanodrop Data Raw'!$C:$L, 4, FALSE)","v":{"$error":"#N/A"}},null,null,null,null,{"$f":"'Sample Information'!$G$6","v":0},{"$f":"'Sample Information'!$G$5","v":0},null,null,{"$f":"'Sample Information'!$G$7","v":"Virus Pathogen Midi Kit, Complex_400_V4_DSP_Default_IC"},null,{"$error":"#N/A"}]
[{"$f":"'Sample Information'!A265","v":264},{"$f":"'Sample Information'!B265","v":0},"0-DNA",{"$f":"'Sample Information'!E265","v":0},{"$f":"IF(VLOOKUP($C265, 'Nanodrop Data Raw'!$C:$L, 10, FALSE)<>\"\", VLOOKUP($C265, 'Nanodrop Data Raw'!$C:$L, 10, FALSE), VLOOKUP($C265, 'Nanodrop Data Raw'!$C:$L, 2, FALSE))","v":{"$error":"#N/A"}},60,"AVE",{"$error":"#N/A"},{"$f":"VLOOKUP($C265, 'Nanodrop Data Raw'!$C:$L, 3, FALSE)","v":{"$error":"#N/A"}},{"$f":"VLOOKUP($C265, 'Nanodrop Data Raw'!$C:$L, 4, FALSE)","v":{"$error":"#N/A"}},null,null,null,null,{"$f":"'Sample Information'!$G$6","v":0},{"$f":"'Sample Information'!$G$5","v":0},null,null,{"$f":"'Sample Information'!$G$7","v":"Virus Pathogen Midi Kit, Complex_400_V4_DSP_Default_IC"},null,{"$error":"#N/A"}]
[{"$f":"'Sample Information'!A266","v":265},{"$f":"'Sample Information'!B266","v":0},"0-DNA",{"$f":"'Sample Information'!E266","v":0},{"$f":"IF(VLOOKUP($C266, 'Nanodrop Data Raw'!$C:$L, 10, FALSE)<>\"\", VLOOKUP($C266, 'Nanodrop Data Raw'!$C:$L, 10, FALSE), VLOOKUP($C266, 'Nanodrop Data Raw'!$C:$L, 2, FALSE))","v":{"$error":"#N/A"}},60,"AVE",{"$error":"#N/A"},{"$f":"VLOOKUP($C266, 'Nanodrop Data Raw'!$C:$L, 3, FALSE)","v":{"$error":"#N/A"}},{"$f":"VLOOKUP($C266, 'Nanodrop Data Raw'!$C:$L, 4, FALSE)","v":{"$error":"#N/A"}},null,null,null,null,{"$f":"'Sample Information'!$G$6","v":0},{"$f":"'Sample Information'!$G$5","v":0},null,null,{"$f":"'Sample Information'!$G$7","v":"Virus Pathogen Midi Kit, Complex_400_V4_DSP_Default_IC"},null,{"$error":"#N/A"}]
[{"$f":"'Sample Information'!A267","v":266},{"$f":"'Sample Information'!B267","v":0},"0-DNA",{"$f":"'Sample Information'!E267","v":0},{"$f":"IF(VLOOKUP($C267, 'Nanodrop Data Raw'!$C:$L, 10, FALSE)<>\"\", VLOOKUP($C267, 'Nanodrop Data Raw'!$C:$L, 10, FALSE), VLOOKUP($C267, 'Nanodrop Data Raw'!$C:$L, 2, FALSE))","v":{"$error":"#N/A"}},60,"AVE",{"$error":"#N/A"},{"$f":"VLOOKUP($C267, 'Nanodrop Data Raw'!$C:$L, 3, FALSE)","v":{"$error":"#N/A"}},{"$f":"VLOOKUP($C267, 'Nanodrop Data Raw'!$C:$L, 4, FALSE)","v":{"$error":"#N/A"}},null,null,null,null,{"$f":"'Sample Information'!$G$6","v":0},{"$f":"'Sample Information'!$G$5","v":0},null,null,{"$f":"'Sample Information'!$G$7","v":"Virus Pathogen Midi Kit, Complex_400_V4_DSP_Default_IC"},null,{"$error":"#N/A"}]
[{"$f":"'Sample Information'!A268","v":267},{"$f":"'Sample Information'!B268","v":0},"0-DNA",{"$f":"'Sample Information'!E268","v":0},{"$f":"IF(VLOOKUP($C268, 'Nanodrop Data Raw'!$C:$L, 10, FALSE)<>\"\", VLOOKUP($C268, 'Nanodrop Data Raw'!$C:$L, 10, FALSE), VLOOKUP($C268, 'Nanodrop Data Raw'!$C:$L, 2, FALSE))","v":{"$error":"#N/A"}},60,"AVE",{"$error":"#N/A"},{"$f":"VLOOKUP($C268, 'Nanodrop Data Raw'!$C:$L, 3, FALSE)","v":{"$error":"#N/A"}},{"$f":"VLOOKUP($C268, 'Nanodrop Data Raw'!$C:$L, 4, FALSE)","v":{"$error":"#N/A"}},null,null,null,null,{"$f":"'Sample Information'!$G$6","v":0},{"$f":"'Sample Information'!$G$5","v":0},null,null,{"$f":"'Sample Information'!$G$7","v":"Virus Pathogen Midi Kit, Complex_400_V4_DSP_Default_IC"},null,{"$error":"#N/A"}]
[{"$f":"'Sample Information'!A269","v":268},{"$f":"'Sample Information'!B269","v":0},"0-DNA",{"$f":"'Sample Information'!E269","v":0},{"$f":"IF(VLOOKUP($C269, 'Nanodrop Data Raw'!$C:$L, 10, FALSE)<>\"\", VLOOKUP($C269, 'Nanodrop Data Raw'!$C:$L, 10, FALSE), VLOOKUP($C269, 'Nanodrop Data Raw'!$C:$L, 2, FALSE))","v":{"$error":"#N/A"}},60,"AVE",{"$error":"#N/A"},{"$f":"VLOOKUP($C269, 'Nanodrop Data Raw'!$C:$L, 3, FALSE)","v":{"$error":"#N/A"}},{"$f":"VLOOKUP($C269, 'Nanodrop Data Raw'!$C:$L, 4, FALSE)","v":{"$error":"#N/A"}},null,null,null,null,{"$f":"'Sample Information'!$G$6","v":0},{"$f":"'Sample Information'!$G$5","v":0},null,null,{"$f":"'Sample Information'!$G$7","v":"Virus Pathogen Midi Kit, Complex_400_V4_DSP_Default_IC"},null,{"$error":"#N/A"}]
[{"$f":"'Sample Information'!A270","v":269},{"$f":"'Sample Information'!B270","v":0},"0-DNA",{"$f":"'Sample Information'!E270","v":0},{"$f":"IF(VLOOKUP($C270, 'Nanodrop Data Raw'!$C:$L, 10, FALSE)<>\"\", VLOOKUP($C270, 'Nanodrop Data Raw'!$C:$L, 10, FALSE), VLOOKUP($C270, 'Nanodrop Data Raw'!$C:$L, 2, FALSE))","v":{"$error":"#N/A"}},60,"AVE",{"$error":"#N/A"},{"$f":"VLOOKUP($C270, 'Nanodrop Data Raw'!$C:$L, 3, FALSE)","v":{"$error":"#N/A"}},{"$f":"VLOOKUP($C270, 'Nanodrop Data Raw'!$C:$L, 4, FALSE)","v":{"$error":"#N/A"}},null,null,null,null,{"$f":"'Sample Information'!$G$6","v":0},{"$f":"'Sample Information'!$G$5","v":0},null,null,{"$f":"'Sample Information'!$G$7","v":"Virus Pathogen Midi Kit, Complex_400_V4_DSP_Default_IC"},null,{"$error":"#N/A"}]
[{"$f":"'Sample Information'!A271","v":270},{"$f":"'Sample Information'!B271","v":0},"0-DNA",{"$f":"'Sample Information'!E271","v":0},{"$f":"IF(VLOOKUP($C271, 'Nanodrop Data Raw'!$C:$L, 10, FALSE)<>\"\", VLOOKUP($C271, 'Nanodrop Data Raw'!$C:$L, 10, FALSE), VLOOKUP($C271, 'Nanodrop Data Raw'!$C:$L, 2, FALSE))","v":{"$error":"#N/A"}},60,"AVE",{"$error":"#N/A"},{"$f":"VLOOKUP($C271, 'Nanodrop Data Raw'!$C:$L, 3, FALSE)","v":{"$error":"#N/A"}},{"$f":"VLOOKUP($C271, 'Nanodrop Data Raw'!$C:$L, 4, FALSE)","v":{"$error":"#N/A"}},null,null,null,null,{"$f":"'Sample Information'!$G$6","v":0},{"$f":"'Sample Information'!$G$5","v":0},null,null,{"$f":"'Sample Information'!$G$7","v":"Virus Pathogen Midi Kit, Complex_400_V4_DSP_Default_IC"},null,{"$error":"#N/A"}]
[{"$f":"'Sample Information'!A272","v":271},{"$f":"'Sample Information'!B272","v":0},"0-DNA",{"$f":"'Sample Information'!E272","v":0},{"$f":"IF(VLOOKUP($C272, 'Nanodrop Data Raw'!$C:$L, 10, FALSE)<>\"\", VLOOKUP($C272, 'Nanodrop Data Raw'!$C:$L, 10, FALSE), VLOOKUP($C272, 'Nanodrop Data Raw'!$C:$L, 2, FALSE))","v":{"$error":"#N/A"}},60,"AVE",{"$error":"#N/A"},{"$f":"VLOOKUP($C272, 'Nanodrop Data Raw'!$C:$L, 3, FALSE)","v":{"$error":"#N/A"}},{"$f":"VLOOKUP($C272, 'Nanodrop Data Raw'!$C:$L, 4, FALSE)","v":{"$error":"#N/A"}},null,null,null,null,{"$f":"'Sample Information'!$G$6","v":0},{"$f":"'Sample Information'!$G$5","v":0},null,null,{"$f":"'Sample Information'!$G$7","v":"Virus Pathogen Midi Kit, Complex_400_V4_DSP_Default_IC"},null,{"$error":"#N/A"}]
[{"$f":"'Sample Information'!A273","v":272},{"$f":"'Sample Information'!B273","v":0},"0-DNA",{"$f":"'Sample Information'!E273","v":0},{"$f":"IF(VLOOKUP($C273, 'Nanodrop Data Raw'!$C:$L, 10, FALSE)<>\"\", VLOOKUP($C273, 'Nanodrop Data Raw'!$C:$L, 10, FALSE), VLOOKUP($C273, 'Nanodrop Data Raw'!$C:$L, 2, FALSE))","v":{"$error":"#N/A"}},60,"AVE",{"$error":"#N/A"},{"$f":"VLOOKUP($C273, 'Nanodrop Data Raw'!$C:$L, 3, FALSE)","v":{"$error":"#N/A"}},{"$f":"VLOOKUP($C273, 'Nanodrop Data Raw'!$C:$L, 4, FALSE)","v":{"$error":"#N/A"}},null,null,null,null,{"$f":"'Sample Information'!$G$6","v":0},{"$f":"'Sample Information'!$G$5","v":0},null,null,{"$f":"'Sample Information'!$G$7","v":"Virus Pathogen Midi Kit, Complex_400_V4_DSP_Default_IC"},null,{"$error":"#N/A"}]
[{"$f":"'Sample Information'!A274","v":273},{"$f":"'Sample Information'!B274","v":0},"0-DNA",{"$f":"'Sample Information'!E274","v":0},{"$f":"IF(VLOOKUP($C274, 'Nanodrop Data Raw'!$C:$L, 10, FALSE)<>\"\", VLOOKUP($C274, 'Nanodrop Data Raw'!$C:$L, 10, FALSE), VLOOKUP($C274, 'Nanodrop Data Raw'!$C:$L, 2, FALSE))","v":{"$error":"#N/A"}},60,"AVE",{"$error":"#N/A"},{"$f":"VLOOKUP($C274, 'Nanodrop Data Raw'!$C:$L, 3, FALSE)","v":{"$error":"#N/A"}},{"$f":"VLOOKUP($C274, 'Nanodrop Data Raw'!$C:$L, 4, FALSE)","v":{"$error":"#N/A"}},null,null,null,null,{"$f":"'Sample Information'!$G$6","v":0},{"$f":"'Sample Information'!$G$5","v":0},null,null,{"$f":"'Sample Information'!$G$7","v":"Virus Pathogen Midi Kit, Complex_400_V4_DSP_Default_IC"},null,{"$error":"#N/A"}]
[{"$f":"'Sample Information'!A275","v":274},{"$f":"'Sample Information'!B275","v":0},"0-DNA",{"$f":"'Sample Information'!E275","v":0},{"$f":"IF(VLOOKUP($C275, 'Nanodrop Data Raw'!$C:$L, 10, FALSE)<>\"\", VLOOKUP($C275, 'Nanodrop Data Raw'!$C:$L, 10, FALSE), VLOOKUP($C275, 'Nanodrop Data Raw'!$C:$L, 2, FALSE))","v":{"$error":"#N/A"}},60,"AVE",{"$error":"#N/A"},{"$f":"VLOOKUP($C275, 'Nanodrop Data Raw'!$C:$L, 3, FALSE)","v":{"$error":"#N/A"}},{"$f":"VLOOKUP($C275, 'Nanodrop Data Raw'!$C:$L, 4, FALSE)","v":{"$error":"#N/A"}},null,null,null,null,{"$f":"'Sample Information'!$G$6","v":0},{"$f":"'Sample Information'!$G$5","v":0},null,null,{"$f":"'Sample Information'!$G$7","v":"Virus Pathogen Midi Kit, Complex_400_V4_DSP_Default_IC"},null,{"$error":"#N/A"}]
[{"$f":"'Sample Information'!A276","v":275},{"$f":"'Sample Information'!B276","v":0},"0-DNA",{"$f":"'Sample Information'!E276","v":0},{"$f":"IF(VLOOKUP($C276, 'Nanodrop Data Raw'!$C:$L, 10, FALSE)<>\"\", VLOOKUP($C276, 'Nanodrop Data Raw'!$C:$L, 10, FALSE), VLOOKUP($C276, 'Nanodrop Data Raw'!$C:$L, 2, FALSE))","v":{"$error":"#N/A"}},60,"AVE",{"$error":"#N/A"},{"$f":"VLOOKUP($C276, 'Nanodrop Data Raw'!$C:$L, 3, FALSE)","v":{"$error":"#N/A"}},{"$f":"VLOOKUP($C276, 'Nanodrop Data Raw'!$C:$L, 4, FALSE)","v":{"$error":"#N/A"}},null,null,null,null,{"$f":"'Sample Information'!$G$6","v":0},{"$f":"'Sample Information'!$G$5","v":0},null,null,{"$f":"'Sample Information'!$G$7","v":"Virus Pathogen Midi Kit, Complex_400_V4_DSP_Default_IC"},null,{"$error":"#N/A"}]
[{"$f":"'Sample Information'!A277","v":276},{"$f":"'Sample Information'!B277","v":0},"0-DNA",{"$f":"'Sample Information'!E277","v":0},{"$f":"IF(VLOOKUP($C277, 'Nanodrop Data Raw'!$C:$L, 10, FALSE)<>\"\", VLOOKUP($C277, 'Nanodrop Data Raw'!$C:$L, 10, FALSE), VLOOKUP($C277, 'Nanodrop Data Raw'!$C:$L, 2, FALSE))","v":{"$error":"#N/A"}},60,"AVE",{"$error":"#N/A"},{"$f":"VLOOKUP($C277, 'Nanodrop Data Raw'!$C:$L, 3, FALSE)","v":{"$error":"#N/A"}},{"$f":"VLOOKUP($C277, 'Nanodrop Data Raw'!$C:$L, 4, FALSE)","v":{"$error":"#N/A"}},null,null,null,null,{"$f":"'Sample Information'!$G$6","v":0},{"$f":"'Sample Information'!$G$5","v":0},null,null,{"$f":"'Sample Information'!$G$7","v":"Virus Pathogen Midi Kit, Complex_400_V4_DSP_Default_IC"},null,{"$error":"#N/A"}]
[{"$f":"'Sample Information'!A278","v":277},{"$f":"'Sample Information'!B278","v":0},"0-DNA",{"$f":"'Sample Information'!E278","v":0},{"$f":"IF(VLOOKUP($C278, 'Nanodrop Data Raw'!$C:$L, 10, FALSE)<>\"\", VLOOKUP($C278, 'Nanodrop Data Raw'!$C:$L, 10, FALSE), VLOOKUP($C278, 'Nanodrop Data Raw'!$C:$L, 2, FALSE))","v":{"$error":"#N/A"}},60,"AVE",{"$error":"#N/A"},{"$f":"VLOOKUP($C278, 'Nanodrop Data Raw'!$C:$L, 3, FALSE)","v":{"$error":"#N/A"}},{"$f":"VLOOKUP($C278, 'Nanodrop Data Raw'!$C:$L, 4, FALSE)","v":{"$error":"#N/A"}},null,null,null,null,{"$f":"'Sample Information'!$G$6","v":0},{"$f":"'Sample Information'!$G$5","v":0},null,null,{"$f":"'Sample Information'!$G$7","v":"Virus Pathogen Midi Kit, Complex_400_V4_DSP_Default_IC"},null,{"$error":"#N/A"}]
[{"$f":"'Sample Information'!A279","v":278},{"$f":"'Sample Information'!B279","v":0},"0-DNA",{"$f":"'Sample Information'!E279","v":0},{"$f":"IF(VLOOKUP($C279, 'Nanodrop Data Raw'!$C:$L, 10, FALSE)<>\"\", VLOOKUP($C279, 'Nanodrop Data Raw'!$C:$L, 10, FALSE), VLOOKUP($C279, 'Nanodrop Data Raw'!$C:$L, 2, FALSE))","v":{"$error":"#N/A"}},60,"AVE",{"$error":"#N/A"},{"$f":"VLOOKUP($C279, 'Nanodrop Data Raw'!$C:$L, 3, FALSE)","v":{"$error":"#N/A"}},{"$f":"VLOOKUP($C279, 'Nanodrop Data Raw'!$C:$L, 4, FALSE)","v":{"$error":"#N/A"}},null,null,null,null,{"$f":"'Sample Information'!$G$6","v":0},{"$f":"'Sample Information'!$G$5","v":0},null,null,{"$f":"'Sample Information'!$G$7","v":"Virus Pathogen Midi Kit, Complex_400_V4_DSP_Default_IC"},null,{"$error":"#N/A"}]
[{"$f":"'Sample Information'!A280","v":279},{"$f":"'Sample Information'!B280","v":0},"0-DNA",{"$f":"'Sample Information'!E280","v":0},{"$f":"IF(VLOOKUP($C280, 'Nanodrop Data Raw'!$C:$L, 10, FALSE)<>\"\", VLOOKUP($C280, 'Nanodrop Data Raw'!$C:$L, 10, FALSE), VLOOKUP($C280, 'Nanodrop Data Raw'!$C:$L, 2, FALSE))","v":{"$error":"#N/A"}},60,"AVE",{"$error":"#N/A"},{"$f":"VLOOKUP($C280, 'Nanodrop Data Raw'!$C:$L, 3, FALSE)","v":{"$error":"#N/A"}},{"$f":"VLOOKUP($C280, 'Nanodrop Data Raw'!$C:$L, 4, FALSE)","v":{"$error":"#N/A"}},null,null,null,null,{"$f":"'Sample Information'!$G$6","v":0},{"$f":"'Sample Information'!$G$5","v":0},null,null,{"$f":"'Sample Information'!$G$7","v":"Virus Pathogen Midi Kit, Complex_400_V4_DSP_Default_IC"},null,{"$error":"#N/A"}]
[{"$f":"'Sample Information'!A281","v":280},{"$f":"'Sample Information'!B281","v":0},"0-DNA",{"$f":"'Sample Information'!E281","v":0},{"$f":"IF(VLOOKUP($C281, 'Nanodrop Data Raw'!$C:$L, 10, FALSE)<>\"\", VLOOKUP($C281, 'Nanodrop Data Raw'!$C:$L, 10, FALSE), VLOOKUP($C281, 'Nanodrop Data Raw'!$C:$L, 2, FALSE))","v":{"$error":"#N/A"}},60,"AVE",{"$error":"#N/A"},{"$f":"VLOOKUP($C281, 'Nanodrop Data Raw'!$C:$L, 3, FALSE)","v":{"$error":"#N/A"}},{"$f":"VLOOKUP($C281, 'Nanodrop Data Raw'!$C:$L, 4, FALSE)","v":{"$error":"#N/A"}},null,null,null,null,{"$f":"'Sample Information'!$G$6","v":0},{"$f":"'Sample Information'!$G$5","v":0},null,null,{"$f":"'Sample Information'!$G$7","v":"Virus Pathogen Midi Kit, Complex_400_V4_DSP_Default_IC"},null,{"$error":"#N/A"}]
[{"$f":"'Sample Information'!A282","v":281},{"$f":"'Sample Information'!B282","v":0},"0-DNA",{"$f":"'Sample Information'!E282","v":0},{"$f":"IF(VLOOKUP($C282, 'Nanodrop Data Raw'!$C:$L, 10, FALSE)<>\"\", VLOOKUP($C282, 'Nanodrop Data Raw'!$C:$L, 10, FALSE), VLOOKUP($C282, 'Nanodrop Data Raw'!$C:$L, 2, FALSE))","v":{"$error":"#N/A"}},60,"AVE",{"$error":"#N/A"},{"$f":"VLOOKUP($C282, 'Nanodrop Data Raw'!$C:$L, 3, FALSE)","v":{"$error":"#N/A"}},{"$f":"VLOOKUP($C282, 'Nanodrop Data Raw'!$C:$L, 4, FALSE)","v":{"$error":"#N/A"}},null,null,null,null,{"$f":"'Sample Information'!$G$6","v":0},{"$f":"'Sample Information'!$G$5","v":0},null,null,{"$f":"'Sample Information'!$G$7","v":"Virus Pathogen Midi Kit, Complex_400_V4_DSP_Default_IC"},null,{"$error":"#N/A"}]
[{"$f":"'Sample Information'!A283","v":282},{"$f":"'Sample Information'!B283","v":0},"0-DNA",{"$f":"'Sample Information'!E283","v":0},{"$f":"IF(VLOOKUP($C283, 'Nanodrop Data Raw'!$C:$L, 10, FALSE)<>\"\", VLOOKUP($C283, 'Nanodrop Data Raw'!$C:$L, 10, FALSE), VLOOKUP($C283, 'Nanodrop Data Raw'!$C:$L, 2, FALSE))","v":{"$error":"#N/A"}},60,"AVE",{"$error":"#N/A"},{"$f":"VLOOKUP($C283, 'Nanodrop Data Raw'!$C:$L, 3, FALSE)","v":{"$error":"#N/A"}},{"$f":"VLOOKUP($C283, 'Nanodrop Data Raw'!$C:$L, 4, FALSE)","v":{"$error":"#N/A"}},null,null,null,null,{"$f":"'Sample Information'!$G$6","v":0},{"$f":"'Sample Information'!$G$5","v":0},null,null,{"$f":"'Sample Information'!$G$7","v":"Virus Pathogen Midi Kit, Complex_400_V4_DSP_Default_IC"},null,{"$error":"#N/A"}]
[{"$f":"'Sample Information'!A284","v":283},{"$f":"'Sample Information'!B284","v":0},"0-DNA",{"$f":"'Sample Information'!E284","v":0},{"$f":"IF(VLOOKUP($C284, 'Nanodrop Data Raw'!$C:$L, 10, FALSE)<>\"\", VLOOKUP($C284, 'Nanodrop Data Raw'!$C:$L, 10, FALSE), VLOOKUP($C284, 'Nanodrop Data Raw'!$C:$L, 2, FALSE))","v":{"$error":"#N/A"}},60,"AVE",{"$error":"#N/A"},{"$f":"VLOOKUP($C284, 'Nanodrop Data Raw'!$C:$L, 3, FALSE)","v":{"$error":"#N/A"}},{"$f":"VLOOKUP($C284, 'Nanodrop Data Raw'!$C:$L, 4, FALSE)","v":{"$error":"#N/A"}},null,null,null,null,{"$f":"'Sample Information'!$G$6","v":0},{"$f":"'Sample Information'!$G$5","v":0},null,null,{"$f":"'Sample Information'!$G$7","v":"Virus Pathogen Midi Kit, Complex_400_V4_DSP_Default_IC"},null,{"$error":"#N/A"}]
[{"$f":"'Sample Information'!A285","v":284},{"$f":"'Sample Information'!B285","v":0},"0-DNA",{"$f":"'Sample Information'!E285","v":0},{"$f":"IF(VLOOKUP($C285, 'Nanodrop Data Raw'!$C:$L, 10, FALSE)<>\"\", VLOOKUP($C285, 'Nanodrop Data Raw'!$C:$L, 10, FALSE), VLOOKUP($C285, 'Nanodrop Data Raw'!$C:$L, 2, FALSE))","v":{"$error":"#N/A"}},60,"AVE",{"$error":"#N/A"},{"$f":"VLOOKUP($C285, 'Nanodrop Data Raw'!$C:$L, 3, FALSE)","v":{"$error":"#N/A"}},{"$f":"VLOOKUP($C285, 'Nanodrop Data Raw'!$C:$L, 4, FALSE)","v":{"$error":"#N/A"}},null,null,null,null,{"$f":"'Sample Information'!$G$6","v":0},{"$f":"'Sample Information'!$G$5","v":0},null,null,{"$f":"'Sample Information'!$G$7","v":"Virus Pathogen Midi Kit, Complex_400_V4_DSP_Default_IC"},null,{"$error":"#N/A"}]
[{"$f":"'Sample Information'!A286","v":285},{"$f":"'Sample Information'!B286","v":0},"0-DNA",{"$f":"'Sample Information'!E286","v":0},{"$f":"IF(VLOOKUP($C286, 'Nanodrop Data Raw'!$C:$L, 10, FALSE)<>\"\", VLOOKUP($C286, 'Nanodrop Data Raw'!$C:$L, 10, FALSE), VLOOKUP($C286, 'Nanodrop Data Raw'!$C:$L, 2, FALSE))","v":{"$error":"#N/A"}},60,"AVE",{"$error":"#N/A"},{"$f":"VLOOKUP($C286, 'Nanodrop Data Raw'!$C:$L, 3, FALSE)","v":{"$error":"#N/A"}},{"$f":"VLOOKUP($C286, 'Nanodrop Data Raw'!$C:$L, 4, FALSE)","v":{"$error":"#N/A"}},null,null,null,null,{"$f":"'Sample Information'!$G$6","v":0},{"$f":"'Sample Information'!$G$5","v":0},null,null,{"$f":"'Sample Information'!$G$7","v":"Virus Pathogen Midi Kit, Complex_400_V4_DSP_Default_IC"},null,{"$error":"#N/A"}]
[{"$f":"'Sample Information'!A287","v":286},{"$f":"'Sample Information'!B287","v":0},"0-DNA",{"$f":"'Sample Information'!E287","v":0},{"$f":"IF(VLOOKUP($C287, 'Nanodrop Data Raw'!$C:$L, 10, FALSE)<>\"\", VLOOKUP($C287, 'Nanodrop Data Raw'!$C:$L, 10, FALSE), VLOOKUP($C287, 'Nanodrop Data Raw'!$C:$L, 2, FALSE))","v":{"$error":"#N/A"}},60,"AVE",{"$error":"#N/A"},{"$f":"VLOOKUP($C287, 'Nanodrop Data Raw'!$C:$L, 3, FALSE)","v":{"$error":"#N/A"}},{"$f":"VLOOKUP($C287, 'Nanodrop Data Raw'!$C:$L, 4, FALSE)","v":{"$error":"#N/A"}},null,null,null,null,{"$f":"'Sample Information'!$G$6","v":0},{"$f":"'Sample Information'!$G$5","v":0},null,null,{"$f":"'Sample Information'!$G$7","v":"Virus Pathogen Midi Kit, Complex_400_V4_DSP_Default_IC"},null,{"$error":"#N/A"}]
[{"$f":"'Sample Information'!A288","v":287},{"$f":"'Sample Information'!B288","v":0},"0-DNA",{"$f":"'Sample Information'!E288","v":0},{"$f":"IF(VLOOKUP($C288, 'Nanodrop Data Raw'!$C:$L, 10, FALSE)<>\"\", VLOOKUP($C288, 'Nanodrop Data Raw'!$C:$L, 10, FALSE), VLOOKUP($C288, 'Nanodrop Data Raw'!$C:$L, 2, FALSE))","v":{"$error":"#N/A"}},60,"AVE",{"$error":"#N/A"},{"$f":"VLOOKUP($C288, 'Nanodrop Data Raw'!$C:$L, 3, FALSE)","v":{"$error":"#N/A"}},{"$f":"VLOOKUP($C288, 'Nanodrop Data Raw'!$C:$L, 4, FALSE)","v":{"$error":"#N/A"}},null,null,null,null,{"$f":"'Sample Information'!$G$6","v":0},{"$f":"'Sample Information'!$G$5","v":0},null,null,{"$f":"'Sample Information'!$G$7","v":"Virus Pathogen Midi Kit, Complex_400_V4_DSP_Default_IC"},null,{"$error":"#N/A"}]
[{"$f":"'Sample Information'!A289","v":288},{"$f":"'Sample Information'!B289","v":0},"0-DNA",{"$f":"'Sample Information'!E289","v":0},{"$f":"IF(VLOOKUP($C289, 'Nanodrop Data Raw'!$C:$L, 10, FALSE)<>\"\", VLOOKUP($C289, 'Nanodrop Data Raw'!$C:$L, 10, FALSE), VLOOKUP($C289, 'Nanodrop Data Raw'!$C:$L, 2, FALSE))","v":{"$error":"#N/A"}},60,"AVE",{"$error":"#N/A"},{"$f":"VLOOKUP($C289, 'Nanodrop Data Raw'!$C:$L, 3, FALSE)","v":{"$error":"#N/A"}},{"$f":"VLOOKUP($C289, 'Nanodrop Data Raw'!$C:$L, 4, FALSE)","v":{"$error":"#N/A"}},null,null,null,null,{"$f":"'Sample Information'!$G$6","v":0},{"$f":"'Sample Information'!$G$5","v":0},null,null,{"$f":"'Sample Information'!$G$7","v":"Virus Pathogen Midi Kit, Complex_400_V4_DSP_Default_IC"},null,{"$error":"#N/A"}]
[{"$f":"'Sample Information'!A290","v":289},{"$f":"'Sample Information'!B290","v":0},"0-DNA",{"$f":"'Sample Information'!E290","v":0},{"$f":"IF(VLOOKUP($C290, 'Nanodrop Data Raw'!$C:$L, 10, FALSE)<>\"\", VLOOKUP($C290, 'Nanodrop Data Raw'!$C:$L, 10, FALSE), VLOOKUP($C290, 'Nanodrop Data Raw'!$C:$L, 2, FALSE))","v":{"$error":"#N/A"}},60,"AVE",{"$error":"#N/A"},{"$f":"VLOOKUP($C290, 'Nanodrop Data Raw'!$C:$L, 3, FALSE)","v":{"$error":"#N/A"}},{"$f":"VLOOKUP($C290, 'Nanodrop Data Raw'!$C:$L, 4, FALSE)","v":{"$error":"#N/A"}},null,null,null,null,{"$f":"'Sample Information'!$G$6","v":0},{"$f":"'Sample Information'!$G$5","v":0},null,null,{"$f":"'Sample Information'!$G$7","v":"Virus Pathogen Midi Kit, Complex_400_V4_DSP_Default_IC"},null,{"$error":"#N/A"}]
[{"$f":"'Sample Information'!A291","v":290},{"$f":"'Sample Information'!B291","v":0},"0-DNA",{"$f":"'Sample Information'!E291","v":0},{"$f":"IF(VLOOKUP($C291, 'Nanodrop Data Raw'!$C:$L, 10, FALSE)<>\"\", VLOOKUP($C291, 'Nanodrop Data Raw'!$C:$L, 10, FALSE), VLOOKUP($C291, 'Nanodrop Data Raw'!$C:$L, 2, FALSE))","v":{"$error":"#N/A"}},60,"AVE",{"$error":"#N/A"},{"$f":"VLOOKUP($C291, 'Nanodrop Data Raw'!$C:$L, 3, FALSE)","v":{"$error":"#N/A"}},{"$f":"VLOOKUP($C291, 'Nanodrop Data Raw'!$C:$L, 4, FALSE)","v":{"$error":"#N/A"}},null,null,null,null,{"$f":"'Sample Information'!$G$6","v":0},{"$f":"'Sample Information'!$G$5","v":0},null,null,{"$f":"'Sample Information'!$G$7","v":"Virus Pathogen Midi Kit, Complex_400_V4_DSP_Default_IC"},null,{"$error":"#N/A"}]
[{"$f":"'Sample Information'!A292","v":291},{"$f":"'Sample Information'!B292","v":0},"0-DNA",{"$f":"'Sample Information'!E292","v":0},{"$f":"IF(VLOOKUP($C292, 'Nanodrop Data Raw'!$C:$L, 10, FALSE)<>\"\", VLOOKUP($C292, 'Nanodrop Data Raw'!$C:$L, 10, FALSE), VLOOKUP($C292, 'Nanodrop Data Raw'!$C:$L, 2, FALSE))","v":{"$error":"#N/A"}},60,"AVE",{"$error":"#N/A"},{"$f":"VLOOKUP($C292, 'Nanodrop Data Raw'!$C:$L, 3, FALSE)","v":{"$error":"#N/A"}},{"$f":"VLOOKUP($C292, 'Nanodrop Data Raw'!$C:$L, 4, FALSE)","v":{"$error":"#N/A"}},null,null,null,null,{"$f":"'Sample Information'!$G$6","v":0},{"$f":"'Sample Information'!$G$5","v":0},null,null,{"$f":"'Sample Information'!$G$7","v":"Virus Pathogen Midi Kit, Complex_400_V4_DSP_Default_IC"},null,{"$error":"#N/A"}]
[{"$f":"'Sample Information'!A293","v":292},{"$f":"'Sample Information'!B293","v":0},"0-DNA",{"$f":"'Sample Information'!E293","v":0},{"$f":"IF(VLOOKUP($C293, 'Nanodrop Data Raw'!$C:$L, 10, FALSE)<>\"\", VLOOKUP($C293, 'Nanodrop Data Raw'!$C:$L, 10, FALSE), VLOOKUP($C293, 'Nanodrop Data Raw'!$C:$L, 2, FALSE))","v":{"$error":"#N/A"}},60,"AVE",{"$error":"#N/A"},{"$f":"VLOOKUP($C293, 'Nanodrop Data Raw'!$C:$L, 3, FALSE)","v":{"$error":"#N/A"}},{"$f":"VLOOKUP($C293, 'Nanodrop Data Raw'!$C:$L, 4, FALSE)","v":{"$error":"#N/A"}},null,null,null,null,{"$f":"'Sample Information'!$G$6","v":0},{"$f":"'Sample Information'!$G$5","v":0},null,null,{"$f":"'Sample Information'!$G$7","v":"Virus Pathogen Midi Kit, Complex_400_V4_DSP_Default_IC"},null,{"$error":"#N/A"}]
[{"$f":"'Sample Information'!A294","v":293},{"$f":"'Sample Information'!B294","v":0},"0-DNA",{"$f":"'Sample Information'!E294","v":0},{"$f":"IF(VLOOKUP($C294, 'Nanodrop Data Raw'!$C:$L, 10, FALSE)<>\"\", VLOOKUP($C294, 'Nanodrop Data Raw'!$C:$L, 10, FALSE), VLOOKUP($C294, 'Nanodrop Data Raw'!$C:$L, 2, FALSE))","v":{"$error":"#N/A"}},60,"AVE",{"$error":"#N/A"},{"$f":"VLOOKUP($C294, 'Nanodrop Data Raw'!$C:$L, 3, FALSE)","v":{"$error":"#N/A"}},{"$f":"VLOOKUP($C294, 'Nanodrop Data Raw'!$C:$L, 4, FALSE)","v":{"$error":"#N/A"}},null,null,null,null,{"$f":"'Sample Information'!$G$6","v":0},{"$f":"'Sample Information'!$G$5","v":0},null,null,{"$f":"'Sample Information'!$G$7","v":"Virus Pathogen Midi Kit, Complex_400_V4_DSP_Default_IC"},null,{"$error":"#N/A"}]
[{"$f":"'Sample Information'!A295","v":294},{"$f":"'Sample Information'!B295","v":0},"0-DNA",{"$f":"'Sample Information'!E295","v":0},{"$f":"IF(VLOOKUP($C295, 'Nanodrop Data Raw'!$C:$L, 10, FALSE)<>\"\", VLOOKUP($C295, 'Nanodrop Data Raw'!$C:$L, 10, FALSE), VLOOKUP($C295, 'Nanodrop Data Raw'!$C:$L, 2, FALSE))","v":{"$error":"#N/A"}},60,"AVE",{"$error":"#N/A"},{"$f":"VLOOKUP($C295, 'Nanodrop Data Raw'!$C:$L, 3, FALSE)","v":{"$error":"#N/A"}},{"$f":"VLOOKUP($C295, 'Nanodrop Data Raw'!$C:$L, 4, FALSE)","v":{"$error":"#N/A"}},null,null,null,null,{"$f":"'Sample Information'!$G$6","v":0},{"$f":"'Sample Information'!$G$5","v":0},null,null,{"$f":"'Sample Information'!$G$7","v":"Virus Pathogen Midi Kit, Complex_400_V4_DSP_Default_IC"},null,{"$error":"#N/A"}]
[{"$f":"'Sample Information'!A296","v":295},{"$f":"'Sample Information'!B296","v":0},"0-DNA",{"$f":"'Sample Information'!E296","v":0},{"$f":"IF(VLOOKUP($C296, 'Nanodrop Data Raw'!$C:$L, 10, FALSE)<>\"\", VLOOKUP($C296, 'Nanodrop Data Raw'!$C:$L, 10, FALSE), VLOOKUP($C296, 'Nanodrop Data Raw'!$C:$L, 2, FALSE))","v":{"$error":"#N/A"}},60,"AVE",{"$error":"#N/A"},{"$f":"VLOOKUP($C296, 'Nanodrop Data Raw'!$C:$L, 3, FALSE)","v":{"$error":"#N/A"}},{"$f":"VLOOKUP($C296, 'Nanodrop Data Raw'!$C:$L, 4, FALSE)","v":{"$error":"#N/A"}},null,null,null,null,{"$f":"'Sample Information'!$G$6","v":0},{"$f":"'Sample Information'!$G$5","v":0},null,null,{"$f":"'Sample Information'!$G$7","v":"Virus Pathogen Midi Kit, Complex_400_V4_DSP_Default_IC"},null,{"$error":"#N/A"}]
[{"$f":"'Sample Information'!A297","v":296},{"$f":"'Sample Information'!B297","v":0},"0-DNA",{"$f":"'Sample Information'!E297","v":0},{"$f":"IF(VLOOKUP($C297, 'Nanodrop Data Raw'!$C:$L, 10, FALSE)<>\"\", VLOOKUP($C297, 'Nanodrop Data Raw'!$C:$L, 10, FALSE), VLOOKUP($C297, 'Nanodrop Data Raw'!$C:$L, 2, FALSE))","v":{"$error":"#N/A"}},60,"AVE",{"$error":"#N/A"},{"$f":"VLOOKUP($C297, 'Nanodrop Data Raw'!$C:$L, 3, FALSE)","v":{"$error":"#N/A"}},{"$f":"VLOOKUP($C297, 'Nanodrop Data Raw'!$C:$L, 4, FALSE)","v":{"$error":"#N/A"}},null,null,null,null,{"$f":"'Sample Information'!$G$6","v":0},{"$f":"'Sample Information'!$G$5","v":0},null,null,{"$f":"'Sample Information'!$G$7","v":"Virus Pathogen Midi Kit, Complex_400_V4_DSP_Default_IC"},null,{"$error":"#N/A"}]
[{"$f":"'Sample Information'!A298","v":297},{"$f":"'Sample Information'!B298","v":0},"0-DNA",{"$f":"'Sample Information'!E298","v":0},{"$f":"IF(VLOOKUP($C298, 'Nanodrop Data Raw'!$C:$L, 10, FALSE)<>\"\", VLOOKUP($C298, 'Nanodrop Data Raw'!$C:$L, 10, FALSE), VLOOKUP($C298, 'Nanodrop Data Raw'!$C:$L, 2, FALSE))","v":{"$error":"#N/A"}},60,"AVE",{"$error":"#N/A"},{"$f":"VLOOKUP($C298, 'Nanodrop Data Raw'!$C:$L, 3, FALSE)","v":{"$error":"#N/A"}},{"$f":"VLOOKUP($C298, 'Nanodrop Data Raw'!$C:$L, 4, FALSE)","v":{"$error":"#N/A"}},null,null,null,null,{"$f":"'Sample Information'!$G$6","v":0},{"$f":"'Sample Information'!$G$5","v":0},null,null,{"$f":"'Sample Information'!$G$7","v":"Virus Pathogen Midi Kit, Complex_400_V4_DSP_Default_IC"},null,{"$error":"#N/A"}]
[{"$f":"'Sample Information'!A299","v":298},{"$f":"'Sample Information'!B299","v":0},"0-DNA",{"$f":"'Sample Information'!E299","v":0},{"$f":"IF(VLOOKUP($C299, 'Nanodrop Data Raw'!$C:$L, 10, FALSE)<>\"\", VLOOKUP($C299, 'Nanodrop Data Raw'!$C:$L, 10, FALSE), VLOOKUP($C299, 'Nanodrop Data Raw'!$C:$L, 2, FALSE))","v":{"$error":"#N/A"}},60,"AVE",{"$error":"#N/A"},{"$f":"VLOOKUP($C299, 'Nanodrop Data Raw'!$C:$L, 3, FALSE)","v":{"$error":"#N/A"}},{"$f":"VLOOKUP($C299, 'Nanodrop Data Raw'!$C:$L, 4, FALSE)","v":{"$error":"#N/A"}},null,null,null,null,{"$f":"'Sample Information'!$G$6","v":0},{"$f":"'Sample Information'!$G$5","v":0},null,null,{"$f":"'Sample Information'!$G$7","v":"Virus Pathogen Midi Kit, Complex_400_V4_DSP_Default_IC"},null,{"$error":"#N/A"}]
[{"$f":"'Sample Information'!A300","v":299},{"$f":"'Sample Information'!B300","v":0},"0-DNA",{"$f":"'Sample Information'!E300","v":0},{"$f":"IF(VLOOKUP($C300, 'Nanodrop Data Raw'!$C:$L, 10, FALSE)<>\"\", VLOOKUP($C300, 'Nanodrop Data Raw'!$C:$L, 10, FALSE), VLOOKUP($C300, 'Nanodrop Data Raw'!$C:$L, 2, FALSE))","v":{"$error":"#N/A"}},60,"AVE",{"$error":"#N/A"},{"$f":"VLOOKUP($C300, 'Nanodrop Data Raw'!$C:$L, 3, FALSE)","v":{"$error":"#N/A"}},{"$f":"VLOOKUP($C300, 'Nanodrop Data Raw'!$C:$L, 4, FALSE)","v":{"$error":"#N/A"}},null,null,null,null,{"$f":"'Sample Information'!$G$6","v":0},{"$f":"'Sample Information'!$G$5","v":0},null,null,{"$f":"'Sample Information'!$G$7","v":"Virus Pathogen Midi Kit, Complex_400_V4_DSP_Default_IC"},null,{"$error":"#N/A"}]
[{"$f":"'Sample Information'!A301","v":300},{"$f":"'Sample Information'!B301","v":0},"0-DNA",{"$f":"'Sample Information'!E301","v":0},{"$f":"IF(VLOOKUP($C301, 'Nanodrop Data Raw'!$C:$L, 10, FALSE)<>\"\", VLOOKUP($C301, 'Nanodrop Data Raw'!$C:$L, 10, FALSE), VLOOKUP($C301, 'Nanodrop Data Raw'!$C:$L, 2, FALSE))","v":{"$error":"#N/A"}},60,"AVE",{"$error":"#N/A"},{"$f":"VLOOKUP($C301, 'Nanodrop Data Raw'!$C:$L, 3, FALSE)","v":{"$error":"#N/A"}},{"$f":"VLOOKUP($C301, 'Nanodrop Data Raw'!$C:$L, 4, FALSE)","v":{"$error":"#N/A"}},null,null,null,null,{"$f":"'Sample Information'!$G$6","v":0},{"$f":"'Sample Information'!$G$5","v":0},null,null,{"$f":"'Sample Information'!$G$7","v":"Virus Pathogen Midi Kit, Complex_400_V4_DSP_Default_IC"},null,{"$error":"#N/A"}]
[{"$f":"'Sample Information'!A302","v":301},{"$f":"'Sample Information'!B302","v":0},"0-DNA",{"$f":"'Sample Information'!E302","v":0},{"$f":"IF(VLOOKUP($C302, 'Nanodrop Data Raw'!$C:$L, 10, FALSE)<>\"\", VLOOKUP($C302, 'Nanodrop Data Raw'!$C:$L, 10, FALSE), VLOOKUP($C302, 'Nanodrop Data Raw'!$C:$L, 2, FALSE))","v":{"$error":"#N/A"}},60,"AVE",{"$error":"#N/A"},{"$f":"VLOOKUP($C302, 'Nanodrop Data Raw'!$C:$L, 3, FALSE)","v":{"$error":"#N/A"}},{"$f":"VLOOKUP($C302, 'Nanodrop Data Raw'!$C:$L, 4, FALSE)","v":{"$error":"#N/A"}},null,null,null,null,{"$f":"'Sample Information'!$G$6","v":0},{"$f":"'Sample Information'!$G$5","v":0},null,null,{"$f":"'Sample Information'!$G$7","v":"Virus Pathogen Midi Kit, Complex_400_V4_DSP_Default_IC"},null,{"$error":"#N/A"}]
[{"$f":"'Sample Information'!A303","v":302},{"$f":"'Sample Information'!B303","v":0},"0-DNA",{"$f":"'Sample Information'!E303","v":0},{"$f":"IF(VLOOKUP($C303, 'Nanodrop Data Raw'!$C:$L, 10, FALSE)<>\"\", VLOOKUP($C303, 'Nanodrop Data Raw'!$C:$L, 10, FALSE), VLOOKUP($C303, 'Nanodrop Data Raw'!$C:$L, 2, FALSE))","v":{"$error":"#N/A"}},60,"AVE",{"$error":"#N/A"},{"$f":"VLOOKUP($C303, 'Nanodrop Data Raw'!$C:$L, 3, FALSE)","v":{"$error":"#N/A"}},{"$f":"VLOOKUP($C303, 'Nanodrop Data Raw'!$C:$L, 4, FALSE)","v":{"$error":"#N/A"}},null,null,null,null,{"$f":"'Sample Information'!$G$6","v":0},{"$f":"'Sample Information'!$G$5","v":0},null,null,{"$f":"'Sample Information'!$G$7","v":"Virus Pathogen Midi Kit, Complex_400_V4_DSP_Default_IC"},null,{"$error":"#N/A"}]
[{"$f":"'Sample Information'!A304","v":303},{"$f":"'Sample Information'!B304","v":0},"0-DNA",{"$f":"'Sample Information'!E304","v":0},{"$f":"IF(VLOOKUP($C304, 'Nanodrop Data Raw'!$C:$L, 10, FALSE)<>\"\", VLOOKUP($C304, 'Nanodrop Data Raw'!$C:$L, 10, FALSE), VLOOKUP($C304, 'Nanodrop Data Raw'!$C:$L, 2, FALSE))","v":{"$error":"#N/A"}},60,"AVE",{"$error":"#N/A"},{"$f":"VLOOKUP($C304, 'Nanodrop Data Raw'!$C:$L, 3, FALSE)","v":{"$error":"#N/A"}},{"$f":"VLOOKUP($C304, 'Nanodrop Data Raw'!$C:$L, 4, FALSE)","v":{"$error":"#N/A"}},null,null,null,null,{"$f":"'Sample Information'!$G$6","v":0},{"$f":"'Sample Information'!$G$5","v":0},null,null,{"$f":"'Sample Information'!$G$7","v":"Virus Pathogen Midi Kit, Complex_400_V4_DSP_Default_IC"},null,{"$error":"#N/A"}]
[{"$f":"'Sample Information'!A305","v":304},{"$f":"'Sample Information'!B305","v":0},"0-DNA",{"$f":"'Sample Information'!E305","v":0},{"$f":"IF(VLOOKUP($C305, 'Nanodrop Data Raw'!$C:$L, 10, FALSE)<>\"\", VLOOKUP($C305, 'Nanodrop Data Raw'!$C:$L, 10, FALSE), VLOOKUP($C305, 'Nanodrop Data Raw'!$C:$L, 2, FALSE))","v":{"$error":"#N/A"}},60,"AVE",{"$error":"#N/A"},{"$f":"VLOOKUP($C305, 'Nanodrop Data Raw'!$C:$L, 3, FALSE)","v":{"$error":"#N/A"}},{"$f":"VLOOKUP($C305, 'Nanodrop Data Raw'!$C:$L, 4, FALSE)","v":{"$error":"#N/A"}},null,null,null,null,{"$f":"'Sample Information'!$G$6","v":0},{"$f":"'Sample Information'!$G$5","v":0},null,null,{"$f":"'Sample Information'!$G$7","v":"Virus Pathogen Midi Kit, Complex_400_V4_DSP_Default_IC"},null,{"$error":"#N/A"}]
[{"$f":"'Sample Information'!A306","v":305},{"$f":"'Sample Information'!B306","v":0},"0-DNA",{"$f":"'Sample Information'!E306","v":0},{"$f":"IF(VLOOKUP($C306, 'Nanodrop Data Raw'!$C:$L, 10, FALSE)<>\"\", VLOOKUP($C306, 'Nanodrop Data Raw'!$C:$L, 10, FALSE), VLOOKUP($C306, 'Nanodrop Data Raw'!$C:$L, 2, FALSE))","v":{"$error":"#N/A"}},60,"AVE",{"$error":"#N/A"},{"$f":"VLOOKUP($C306, 'Nanodrop Data Raw'!$C:$L, 3, FALSE)","v":{"$error":"#N/A"}},{"$f":"VLOOKUP($C306, 'Nanodrop Data Raw'!$C:$L, 4, FALSE)","v":{"$error":"#N/A"}},null,null,null,null,{"$f":"'Sample Information'!$G$6","v":0},{"$f":"'Sample Information'!$G$5","v":0},null,null,{"$f":"'Sample Information'!$G$7","v":"Virus Pathogen Midi Kit, Complex_400_V4_DSP_Default_IC"},null,{"$error":"#N/A"}]
[{"$f":"'Sample Information'!A307","v":306},{"$f":"'Sample Information'!B307","v":0},"0-DNA",{"$f":"'Sample Information'!E307","v":0},{"$f":"IF(VLOOKUP($C307, 'Nanodrop Data Raw'!$C:$L, 10, FALSE)<>\"\", VLOOKUP($C307, 'Nanodrop Data Raw'!$C:$L, 10, FALSE), VLOOKUP($C307, 'Nanodrop Data Raw'!$C:$L, 2, FALSE))","v":{"$error":"#N/A"}},60,"AVE",{"$error":"#N/A"},{"$f":"VLOOKUP($C307, 'Nanodrop Data Raw'!$C:$L, 3, FALSE)","v":{"$error":"#N/A"}},{"$f":"VLOOKUP($C307, 'Nanodrop Data Raw'!$C:$L, 4, FALSE)","v":{"$error":"#N/A"}},null,null,null,null,{"$f":"'Sample Information'!$G$6","v":0},{"$f":"'Sample Information'!$G$5","v":0},null,null,{"$f":"'Sample Information'!$G$7","v":"Virus Pathogen Midi Kit, Complex_400_V4_DSP_Default_IC"},null,{"$error":"#N/A"}]
[{"$f":"'Sample Information'!A308","v":307},{"$f":"'Sample Information'!B308","v":0},"0-DNA",{"$f":"'Sample Information'!E308","v":0},{"$f":"IF(VLOOKUP($C308, 'Nanodrop Data Raw'!$C:$L, 10, FALSE)<>\"\", VLOOKUP($C308, 'Nanodrop Data Raw'!$C:$L, 10, FALSE), VLOOKUP($C308, 'Nanodrop Data Raw'!$C:$L, 2, FALSE))","v":{"$error":"#N/A"}},60,"AVE",{"$error":"#N/A"},{"$f":"VLOOKUP($C308, 'Nanodrop Data Raw'!$C:$L, 3, FALSE)","v":{"$error":"#N/A"}},{"$f":"VLOOKUP($C308, 'Nanodrop Data Raw'!$C:$L, 4, FALSE)","v":{"$error":"#N/A"}},null,null,null,null,{"$f":"'Sample Information'!$G$6","v":0},{"$f":"'Sample Information'!$G$5","v":0},null,null,{"$f":"'Sample Information'!$G$7","v":"Virus Pathogen Midi Kit, Complex_400_V4_DSP_Default_IC"},null,{"$error":"#N/A"}]
[{"$f":"'Sample Information'!A309","v":308},{"$f":"'Sample Information'!B309","v":0},"0-DNA",{"$f":"'Sample Information'!E309","v":0},{"$f":"IF(VLOOKUP($C309, 'Nanodrop Data Raw'!$C:$L, 10, FALSE)<>\"\", VLOOKUP($C309, 'Nanodrop Data Raw'!$C:$L, 10, FALSE), VLOOKUP($C309, 'Nanodrop Data Raw'!$C:$L, 2, FALSE))","v":{"$error":"#N/A"}},60,"AVE",{"$error":"#N/A"},{"$f":"VLOOKUP($C309, 'Nanodrop Data Raw'!$C:$L, 3, FALSE)","v":{"$error":"#N/A"}},{"$f":"VLOOKUP($C309, 'Nanodrop Data Raw'!$C:$L, 4, FALSE)","v":{"$error":"#N/A"}},null,null,null,null,{"$f":"'Sample Information'!$G$6","v":0},{"$f":"'Sample Information'!$G$5","v":0},null,null,{"$f":"'Sample Information'!$G$7","v":"Virus Pathogen Midi Kit, Complex_400_V4_DSP_Default_IC"},null,{"$error":"#N/A"}]
[{"$f":"'Sample Information'!A310","v":309},{"$f":"'Sample Information'!B310","v":0},"0-DNA",{"$f":"'Sample Information'!E310","v":0},{"$f":"IF(VLOOKUP($C310, 'Nanodrop Data Raw'!$C:$L, 10, FALSE)<>\"\", VLOOKUP($C310, 'Nanodrop Data Raw'!$C:$L, 10, FALSE), VLOOKUP($C310, 'Nanodrop Data Raw'!$C:$L, 2, FALSE))","v":{"$error":"#N/A"}},60,"AVE",{"$error":"#N/A"},{"$f":"VLOOKUP($C310, 'Nanodrop Data Raw'!$C:$L, 3, FALSE)","v":{"$error":"#N/A"}},{"$f":"VLOOKUP($C310, 'Nanodrop Data Raw'!$C:$L, 4, FALSE)","v":{"$error":"#N/A"}},null,null,null,null,{"$f":"'Sample Information'!$G$6","v":0},{"$f":"'Sample Information'!$G$5","v":0},null,null,{"$f":"'Sample Information'!$G$7","v":"Virus Pathogen Midi Kit, Complex_400_V4_DSP_Default_IC"},null,{"$error":"#N/A"}]
[{"$f":"'Sample Information'!A311","v":310},{"$f":"'Sample Information'!B311","v":0},"0-DNA",{"$f":"'Sample Information'!E311","v":0},{"$f":"IF(VLOOKUP($C311, 'Nanodrop Data Raw'!$C:$L, 10, FALSE)<>\"\", VLOOKUP($C311, 'Nanodrop Data Raw'!$C:$L, 10, FALSE), VLOOKUP($C311, 'Nanodrop Data Raw'!$C:$L, 2, FALSE))","v":{"$error":"#N/A"}},60,"AVE",{"$error":"#N/A"},{"$f":"VLOOKUP($C311, 'Nanodrop Data Raw'!$C:$L, 3, FALSE)","v":{"$error":"#N/A"}},{"$f":"VLOOKUP($C311, 'Nanodrop Data Raw'!$C:$L, 4, FALSE)","v":{"$error":"#N/A"}},null,null,null,null,{"$f":"'Sample Information'!$G$6","v":0},{"$f":"'Sample Information'!$G$5","v":0},null,null,{"$f":"'Sample Information'!$G$7","v":"Virus Pathogen Midi Kit, Complex_400_V4_DSP_Default_IC"},null,{"$error":"#N/A"}]
[{"$f":"'Sample Information'!A312","v":311},{"$f":"'Sample Information'!B312","v":0},"0-DNA",{"$f":"'Sample Information'!E312","v":0},{"$f":"IF(VLOOKUP($C312, 'Nanodrop Data Raw'!$C:$L, 10, FALSE)<>\"\", VLOOKUP($C312, 'Nanodrop Data Raw'!$C:$L, 10, FALSE), VLOOKUP($C312, 'Nanodrop Data Raw'!$C:$L, 2, FALSE))","v":{"$error":"#N/A"}},60,"AVE",{"$error":"#N/A"},{"$f":"VLOOKUP($C312, 'Nanodrop Data Raw'!$C:$L, 3, FALSE)","v":{"$error":"#N/A"}},{"$f":"VLOOKUP($C312, 'Nanodrop Data Raw'!$C:$L, 4, FALSE)","v":{"$error":"#N/A"}},null,null,null,null,{"$f":"'Sample Information'!$G$6","v":0},{"$f":"'Sample Information'!$G$5","v":0},null,null,{"$f":"'Sample Information'!$G$7","v":"Virus Pathogen Midi Kit, Complex_400_V4_DSP_Default_IC"},null,{"$error":"#N/A"}]
[{"$f":"'Sample Information'!A313","v":312},{"$f":"'Sample Information'!B313","v":0},"0-DNA",{"$f":"'Sample Information'!E313","v":0},{"$f":"IF(VLOOKUP($C313, 'Nanodrop Data Raw'!$C:$L, 10, FALSE)<>\"\", VLOOKUP($C313, 'Nanodrop Data Raw'!$C:$L, 10, FALSE), VLOOKUP($C313, 'Nanodrop Data Raw'!$C:$L, 2, FALSE))","v":{"$error":"#N/A"}},60,"AVE",{"$error":"#N/A"},{"$f":"VLOOKUP($C313, 'Nanodrop Data Raw'!$C:$L, 3, FALSE)","v":{"$error":"#N/A"}},{"$f":"VLOOKUP($C313, 'Nanodrop Data Raw'!$C:$L, 4, FALSE)","v":{"$error":"#N/A"}},null,null,null,null,{"$f":"'Sample Information'!$G$6","v":0},{"$f":"'Sample Information'!$G$5","v":0},null,null,{"$f":"'Sample Information'!$G$7","v":"Virus Pathogen Midi Kit, Complex_400_V4_DSP_Default_IC"},null,{"$error":"#N/A"}]
[{"$f":"'Sample Information'!A314","v":313},{"$f":"'Sample Information'!B314","v":0},"0-DNA",{"$f":"'Sample Information'!E314","v":0},{"$f":"IF(VLOOKUP($C314, 'Nanodrop Data Raw'!$C:$L, 10, FALSE)<>\"\", VLOOKUP($C314, 'Nanodrop Data Raw'!$C:$L, 10, FALSE), VLOOKUP($C314, 'Nanodrop Data Raw'!$C:$L, 2, FALSE))","v":{"$error":"#N/A"}},60,"AVE",{"$error":"#N/A"},{"$f":"VLOOKUP($C314, 'Nanodrop Data Raw'!$C:$L, 3, FALSE)","v":{"$error":"#N/A"}},{"$f":"VLOOKUP($C314, 'Nanodrop Data Raw'!$C:$L, 4, FALSE)","v":{"$error":"#N/A"}},null,null,null,null,{"$f":"'Sample Information'!$G$6","v":0},{"$f":"'Sample Information'!$G$5","v":0},null,null,{"$f":"'Sample Information'!$G$7","v":"Virus Pathogen Midi Kit, Complex_400_V4_DSP_Default_IC"},null,{"$error":"#N/A"}]
[{"$f":"'Sample Information'!A315","v":314},{"$f":"'Sample Information'!B315","v":0},"0-DNA",{"$f":"'Sample Information'!E315","v":0},{"$f":"IF(VLOOKUP($C315, 'Nanodrop Data Raw'!$C:$L, 10, FALSE)<>\"\", VLOOKUP($C315, 'Nanodrop Data Raw'!$C:$L, 10, FALSE), VLOOKUP($C315, 'Nanodrop Data Raw'!$C:$L, 2, FALSE))","v":{"$error":"#N/A"}},60,"AVE",{"$error":"#N/A"},{"$f":"VLOOKUP($C315, 'Nanodrop Data Raw'!$C:$L, 3, FALSE)","v":{"$error":"#N/A"}},{"$f":"VLOOKUP($C315, 'Nanodrop Data Raw'!$C:$L, 4, FALSE)","v":{"$error":"#N/A"}},null,null,null,null,{"$f":"'Sample Information'!$G$6","v":0},{"$f":"'Sample Information'!$G$5","v":0},null,null,{"$f":"'Sample Information'!$G$7","v":"Virus Pathogen Midi Kit, Complex_400_V4_DSP_Default_IC"},null,{"$error":"#N/A"}]
[{"$f":"'Sample Information'!A316","v":315},{"$f":"'Sample Information'!B316","v":0},"0-DNA",{"$f":"'Sample Information'!E316","v":0},{"$f":"IF(VLOOKUP($C316, 'Nanodrop Data Raw'!$C:$L, 10, FALSE)<>\"\", VLOOKUP($C316, 'Nanodrop Data Raw'!$C:$L, 10, FALSE), VLOOKUP($C316, 'Nanodrop Data Raw'!$C:$L, 2, FALSE))","v":{"$error":"#N/A"}},60,"AVE",{"$error":"#N/A"},{"$f":"VLOOKUP($C316, 'Nanodrop Data Raw'!$C:$L, 3, FALSE)","v":{"$error":"#N/A"}},{"$f":"VLOOKUP($C316, 'Nanodrop Data Raw'!$C:$L, 4, FALSE)","v":{"$error":"#N/A"}},null,null,null,null,{"$f":"'Sample Information'!$G$6","v":0},{"$f":"'Sample Information'!$G$5","v":0},null,null,{"$f":"'Sample Information'!$G$7","v":"Virus Pathogen Midi Kit, Complex_400_V4_DSP_Default_IC"},null,{"$error":"#N/A"}]
[{"$f":"'Sample Information'!A317","v":316},{"$f":"'Sample Information'!B317","v":0},"0-DNA",{"$f":"'Sample Information'!E317","v":0},{"$f":"IF(VLOOKUP($C317, 'Nanodrop Data Raw'!$C:$L, 10, FALSE)<>\"\", VLOOKUP($C317, 'Nanodrop Data Raw'!$C:$L, 10, FALSE), VLOOKUP($C317, 'Nanodrop Data Raw'!$C:$L, 2, FALSE))","v":{"$error":"#N/A"}},60,"AVE",{"$error":"#N/A"},{"$f":"VLOOKUP($C317, 'Nanodrop Data Raw'!$C:$L, 3, FALSE)","v":{"$error":"#N/A"}},{"$f":"VLOOKUP($C317, 'Nanodrop Data Raw'!$C:$L, 4, FALSE)","v":{"$error":"#N/A"}},null,null,null,null,{"$f":"'Sample Information'!$G$6","v":0},{"$f":"'Sample Information'!$G$5","v":0},null,null,{"$f":"'Sample Information'!$G$7","v":"Virus Pathogen Midi Kit, Complex_400_V4_DSP_Default_IC"},null,{"$error":"#N/A"}]
[{"$f":"'Sample Information'!A318","v":317},{"$f":"'Sample Information'!B318","v":0},"0-DNA",{"$f":"'Sample Information'!E318","v":0},{"$f":"IF(VLOOKUP($C318, 'Nanodrop Data Raw'!$C:$L, 10, FALSE)<>\"\", VLOOKUP($C318, 'Nanodrop Data Raw'!$C:$L, 10, FALSE), VLOOKUP($C318, 'Nanodrop Data Raw'!$C:$L, 2, FALSE))","v":{"$error":"#N/A"}},60,"AVE",{"$error":"#N/A"},{"$f":"VLOOKUP($C318, 'Nanodrop Data Raw'!$C:$L, 3, FALSE)","v":{"$error":"#N/A"}},{"$f":"VLOOKUP($C318, 'Nanodrop Data Raw'!$C:$L, 4, FALSE)","v":{"$error":"#N/A"}},null,null,null,null,{"$f":"'Sample Information'!$G$6","v":0},{"$f":"'Sample Information'!$G$5","v":0},null,null,{"$f":"'Sample Information'!$G$7","v":"Virus Pathogen Midi Kit, Complex_400_V4_DSP_Default_IC"},null,{"$error":"#N/A"}]
[{"$f":"'Sample Information'!A319","v":318},{"$f":"'Sample Information'!B319","v":0},"0-DNA",{"$f":"'Sample Information'!E319","v":0},{"$f":"IF(VLOOKUP($C319, 'Nanodrop Data Raw'!$C:$L, 10, FALSE)<>\"\", VLOOKUP($C319, 'Nanodrop Data Raw'!$C:$L, 10, FALSE), VLOOKUP($C319, 'Nanodrop Data Raw'!$C:$L, 2, FALSE))","v":{"$error":"#N/A"}},60,"AVE",{"$error":"#N/A"},{"$f":"VLOOKUP($C319, 'Nanodrop Data Raw'!$C:$L, 3, FALSE)","v":{"$error":"#N/A"}},{"$f":"VLOOKUP($C319, 'Nanodrop Data Raw'!$C:$L, 4, FALSE)","v":{"$error":"#N/A"}},null,null,null,null,{"$f":"'Sample Information'!$G$6","v":0},{"$f":"'Sample Information'!$G$5","v":0},null,null,{"$f":"'Sample Information'!$G$7","v":"Virus Pathogen Midi Kit, Complex_400_V4_DSP_Default_IC"},null,{"$error":"#N/A"}]
[{"$f":"'Sample Information'!A320","v":319},{"$f":"'Sample Information'!B320","v":0},"0-DNA",{"$f":"'Sample Information'!E320","v":0},{"$f":"IF(VLOOKUP($C320, 'Nanodrop Data Raw'!$C:$L, 10, FALSE)<>\"\", VLOOKUP($C320, 'Nanodrop Data Raw'!$C:$L, 10, FALSE), VLOOKUP($C320, 'Nanodrop Data Raw'!$C:$L, 2, FALSE))","v":{"$error":"#N/A"}},60,"AVE",{"$error":"#N/A"},{"$f":"VLOOKUP($C320, 'Nanodrop Data Raw'!$C:$L, 3, FALSE)","v":{"$error":"#N/A"}},{"$f":"VLOOKUP($C320, 'Nanodrop Data Raw'!$C:$L, 4, FALSE)","v":{"$error":"#N/A"}},null,null,null,null,{"$f":"'Sample Information'!$G$6","v":0},{"$f":"'Sample Information'!$G$5","v":0},null,null,{"$f":"'Sample Information'!$G$7","v":"Virus Pathogen Midi Kit, Complex_400_V4_DSP_Default_IC"},null,{"$error":"#N/A"}]
[{"$f":"'Sample Information'!A321","v":320},{"$f":"'Sample Information'!B321","v":0},"0-DNA",{"$f":"'Sample Information'!E321","v":0},{"$f":"IF(VLOOKUP($C321, 'Nanodrop Data Raw'!$C:$L, 10, FALSE)<>\"\", VLOOKUP($C321, 'Nanodrop Data Raw'!$C:$L, 10, FALSE), VLOOKUP($C321, 'Nanodrop Data Raw'!$C:$L, 2, FALSE))","v":{"$error":"#N/A"}},60,"AVE",{"$error":"#N/A"},{"$f":"VLOOKUP($C321, 'Nanodrop Data Raw'!$C:$L, 3, FALSE)","v":{"$error":"#N/A"}},{"$f":"VLOOKUP($C321, 'Nanodrop Data Raw'!$C:$L, 4, FALSE)","v":{"$error":"#N/A"}},null,null,null,null,{"$f":"'Sample Information'!$G$6","v":0},{"$f":"'Sample Information'!$G$5","v":0},null,null,{"$f":"'Sample Information'!$G$7","v":"Virus Pathogen Midi Kit, Complex_400_V4_DSP_Default_IC"},null,{"$error":"#N/A"}]
[{"$f":"'Sample Information'!A322","v":321},{"$f":"'Sample Information'!B322","v":0},"0-DNA",{"$f":"'Sample Information'!E322","v":0},{"$f":"IF(VLOOKUP($C322, 'Nanodrop Data Raw'!$C:$L, 10, FALSE)<>\"\", VLOOKUP($C322, 'Nanodrop Data Raw'!$C:$L, 10, FALSE), VLOOKUP($C322, 'Nanodrop Data Raw'!$C:$L, 2, FALSE))","v":{"$error":"#N/A"}},60,"AVE",{"$error":"#N/A"},{"$f":"VLOOKUP($C322, 'Nanodrop Data Raw'!$C:$L, 3, FALSE)","v":{"$error":"#N/A"}},{"$f":"VLOOKUP($C322, 'Nanodrop Data Raw'!$C:$L, 4, FALSE)","v":{"$error":"#N/A"}},null,null,null,null,{"$f":"'Sample Information'!$G$6","v":0},{"$f":"'Sample Information'!$G$5","v":0},null,null,{"$f":"'Sample Information'!$G$7","v":"Virus Pathogen Midi Kit, Complex_400_V4_DSP_Default_IC"},null,{"$error":"#N/A"}]
[{"$f":"'Sample Information'!A323","v":322},{"$f":"'Sample Information'!B323","v":0},{"$f":"CONCATENATE(B323,\"-DNA\")","v":"0-DNA"},{"$f":"'Sample Information'!E323","v":0},{"$f":"IF(VLOOKUP($C323, 'Nanodrop Data Raw'!$C:$L, 10, FALSE)<>\"\", VLOOKUP($C323, 'Nanodrop Data Raw'!$C:$L, 10, FALSE), VLOOKUP($C323, 'Nanodrop Data Raw'!$C:$L, 2, FALSE))","v":{"$error":"#N/A"}},60,"AVE",{"$f":"E323*F323/1000","v":{"$error":"#N/A"}},{"$f":"VLOOKUP($C323, 'Nanodrop Data Raw'!$C:$L, 3, FALSE)","v":{"$error":"#N/A"}},{"$f":"VLOOKUP($C323, 'Nanodrop Data Raw'!$C:$L, 4, FALSE)","v":{"$error":"#N/A"}},null,null,null,null,{"$f":"'Sample Information'!$G$6","v":0},{"$f":"'Sample Information'!$G$5","v":0},null,null,{"$f":"'Sample Information'!$G$7","v":"Virus Pathogen Midi Kit, Complex_400_V4_DSP_Default_IC"},null,{"$f":"$O323/$E323","v":{"$error":"#N/A"}}]
[{"$f":"'Sample Information'!A324","v":323},{"$f":"'Sample Information'!B324","v":0},"0-DNA",{"$f":"'Sample Information'!E324","v":0},{"$f":"IF(VLOOKUP($C324, 'Nanodrop Data Raw'!$C:$L, 10, FALSE)<>\"\", VLOOKUP($C324, 'Nanodrop Data Raw'!$C:$L, 10, FALSE), VLOOKUP($C324, 'Nanodrop Data Raw'!$C:$L, 2, FALSE))","v":{"$error":"#N/A"}},60,"AVE",{"$error":"#N/A"},{"$f":"VLOOKUP($C324, 'Nanodrop Data Raw'!$C:$L, 3, FALSE)","v":{"$error":"#N/A"}},{"$f":"VLOOKUP($C324, 'Nanodrop Data Raw'!$C:$L, 4, FALSE)","v":{"$error":"#N/A"}},null,null,null,null,{"$f":"'Sample Information'!$G$6","v":0},{"$f":"'Sample Information'!$G$5","v":0},null,null,{"$f":"'Sample Information'!$G$7","v":"Virus Pathogen Midi Kit, Complex_400_V4_DSP_Default_IC"},null,{"$error":"#N/A"}]
[{"$f":"'Sample Information'!A325","v":324},{"$f":"'Sample Information'!B325","v":0},"0-DNA",{"$f":"'Sample Information'!E325","v":0},{"$f":"IF(VLOOKUP($C325, 'Nanodrop Data Raw'!$C:$L, 10, FALSE)<>\"\", VLOOKUP($C325, 'Nanodrop Data Raw'!$C:$L, 10, FALSE), VLOOKUP($C325, 'Nanodrop Data Raw'!$C:$L, 2, FALSE))","v":{"$error":"#N/A"}},60,"AVE",{"$error":"#N/A"},{"$f":"VLOOKUP($C325, 'Nanodrop Data Raw'!$C:$L, 3, FALSE)","v":{"$error":"#N/A"}},{"$f":"VLOOKUP($C325, 'Nanodrop Data Raw'!$C:$L, 4, FALSE)","v":{"$error":"#N/A"}},null,null,null,null,{"$f":"'Sample Information'!$G$6","v":0},{"$f":"'Sample Information'!$G$5","v":0},null,null,{"$f":"'Sample Information'!$G$7","v":"Virus Pathogen Midi Kit, Complex_400_V4_DSP_Default_IC"},null,{"$error":"#N/A"}]
[{"$f":"'Sample Information'!A326","v":325},{"$f":"'Sample Information'!B326","v":0},"0-DNA",{"$f":"'Sample Information'!E326","v":0},{"$f":"IF(VLOOKUP($C326, 'Nanodrop Data Raw'!$C:$L, 10, FALSE)<>\"\", VLOOKUP($C326, 'Nanodrop Data Raw'!$C:$L, 10, FALSE), VLOOKUP($C326, 'Nanodrop Data Raw'!$C:$L, 2, FALSE))","v":{"$error":"#N/A"}},60,"AVE",{"$error":"#N/A"},{"$f":"VLOOKUP($C326, 'Nanodrop Data Raw'!$C:$L, 3, FALSE)","v":{"$error":"#N/A"}},{"$f":"VLOOKUP($C326, 'Nanodrop Data Raw'!$C:$L, 4, FALSE)","v":{"$error":"#N/A"}},null,null,null,null,{"$f":"'Sample Information'!$G$6","v":0},{"$f":"'Sample Information'!$G$5","v":0},null,null,{"$f":"'Sample Information'!$G$7","v":"Virus Pathogen Midi Kit, Complex_400_V4_DSP_Default_IC"},null,{"$error":"#N/A"}]
[{"$f":"'Sample Information'!A327","v":326},{"$f":"'Sample Information'!B327","v":0},"0-DNA",{"$f":"'Sample Information'!E327","v":0},{"$f":"IF(VLOOKUP($C327, 'Nanodrop Data Raw'!$C:$L, 10, FALSE)<>\"\", VLOOKUP($C327, 'Nanodrop Data Raw'!$C:$L, 10, FALSE), VLOOKUP($C327, 'Nanodrop Data Raw'!$C:$L, 2, FALSE))","v":{"$error":"#N/A"}},60,"AVE",{"$error":"#N/A"},{"$f":"VLOOKUP($C327, 'Nanodrop Data Raw'!$C:$L, 3, FALSE)","v":{"$error":"#N/A"}},{"$f":"VLOOKUP($C327, 'Nanodrop Data Raw'!$C:$L, 4, FALSE)","v":{"$error":"#N/A"}},null,null,null,null,{"$f":"'Sample Information'!$G$6","v":0},{"$f":"'Sample Information'!$G$5","v":0},null,null,{"$f":"'Sample Information'!$G$7","v":"Virus Pathogen Midi Kit, Complex_400_V4_DSP_Default_IC"},null,{"$error":"#N/A"}]
[{"$f":"'Sample Information'!A328","v":327},{"$f":"'Sample Information'!B328","v":0},"0-DNA",{"$f":"'Sample Information'!E328","v":0},{"$f":"IF(VLOOKUP($C328, 'Nanodrop Data Raw'!$C:$L, 10, FALSE)<>\"\", VLOOKUP($C328, 'Nanodrop Data Raw'!$C:$L, 10, FALSE), VLOOKUP($C328, 'Nanodrop Data Raw'!$C:$L, 2, FALSE))","v":{"$error":"#N/A"}},60,"AVE",{"$error":"#N/A"},{"$f":"VLOOKUP($C328, 'Nanodrop Data Raw'!$C:$L, 3, FALSE)","v":{"$error":"#N/A"}},{"$f":"VLOOKUP($C328, 'Nanodrop Data Raw'!$C:$L, 4, FALSE)","v":{"$error":"#N/A"}},null,null,null,null,{"$f":"'Sample Information'!$G$6","v":0},{"$f":"'Sample Information'!$G$5","v":0},null,null,{"$f":"'Sample Information'!$G$7","v":"Virus Pathogen Midi Kit, Complex_400_V4_DSP_Default_IC"},null,{"$error":"#N/A"}]
[{"$f":"'Sample Information'!A329","v":328},{"$f":"'Sample Information'!B329","v":0},"0-DNA",{"$f":"'Sample Information'!E329","v":0},{"$f":"IF(VLOOKUP($C329, 'Nanodrop Data Raw'!$C:$L, 10, FALSE)<>\"\", VLOOKUP($C329, 'Nanodrop Data Raw'!$C:$L, 10, FALSE), VLOOKUP($C329, 'Nanodrop Data Raw'!$C:$L, 2, FALSE))","v":{"$error":"#N/A"}},60,"AVE",{"$error":"#N/A"},{"$f":"VLOOKUP($C329, 'Nanodrop Data Raw'!$C:$L, 3, FALSE)","v":{"$error":"#N/A"}},{"$f":"VLOOKUP($C329, 'Nanodrop Data Raw'!$C:$L, 4, FALSE)","v":{"$error":"#N/A"}},null,null,null,null,{"$f":"'Sample Information'!$G$6","v":0},{"$f":"'Sample Information'!$G$5","v":0},null,null,{"$f":"'Sample Information'!$G$7","v":"Virus Pathogen Midi Kit, Complex_400_V4_DSP_Default_IC"},null,{"$error":"#N/A"}]
[{"$f":"'Sample Information'!A330","v":329},{"$f":"'Sample Information'!B330","v":0},"0-DNA",{"$f":"'Sample Information'!E330","v":0},{"$f":"IF(VLOOKUP($C330, 'Nanodrop Data Raw'!$C:$L, 10, FALSE)<>\"\", VLOOKUP($C330, 'Nanodrop Data Raw'!$C:$L, 10, FALSE), VLOOKUP($C330, 'Nanodrop Data Raw'!$C:$L, 2, FALSE))","v":{"$error":"#N/A"}},60,"AVE",{"$error":"#N/A"},{"$f":"VLOOKUP($C330, 'Nanodrop Data Raw'!$C:$L, 3, FALSE)","v":{"$error":"#N/A"}},{"$f":"VLOOKUP($C330, 'Nanodrop Data Raw'!$C:$L, 4, FALSE)","v":{"$error":"#N/A"}},null,null,null,null,{"$f":"'Sample Information'!$G$6","v":0},{"$f":"'Sample Information'!$G$5","v":0},null,null,{"$f":"'Sample Information'!$G$7","v":"Virus Pathogen Midi Kit, Complex_400_V4_DSP_Default_IC"},null,{"$error":"#N/A"}]
[{"$f":"'Sample Information'!A331","v":330},{"$f":"'Sample Information'!B331","v":0},"0-DNA",{"$f":"'Sample Information'!E331","v":0},{"$f":"IF(VLOOKUP($C331, 'Nanodrop Data Raw'!$C:$L, 10, FALSE)<>\"\", VLOOKUP($C331, 'Nanodrop Data Raw'!$C:$L, 10, FALSE), VLOOKUP($C331, 'Nanodrop Data Raw'!$C:$L, 2, FALSE))","v":{"$error":"#N/A"}},60,"AVE",{"$error":"#N/A"},{"$f":"VLOOKUP($C331, 'Nanodrop Data Raw'!$C:$L, 3, FALSE)","v":{"$error":"#N/A"}},{"$f":"VLOOKUP($C331, 'Nanodrop Data Raw'!$C:$L, 4, FALSE)","v":{"$error":"#N/A"}},null,null,null,null,{"$f":"'Sample Information'!$G$6","v":0},{"$f":"'Sample Information'!$G$5","v":0},null,null,{"$f":"'Sample Information'!$G$7","v":"Virus Pathogen Midi Kit, Complex_400_V4_DSP_Default_IC"},null,{"$error":"#N/A"}]
[{"$f":"'Sample Information'!A332","v":331},{"$f":"'Sample Information'!B332","v":0},"0-DNA",{"$f":"'Sample Information'!E332","v":0},{"$f":"IF(VLOOKUP($C332, 'Nanodrop Data Raw'!$C:$L, 10, FALSE)<>\"\", VLOOKUP($C332, 'Nanodrop Data Raw'!$C:$L, 10, FALSE), VLOOKUP($C332, 'Nanodrop Data Raw'!$C:$L, 2, FALSE))","v":{"$error":"#N/A"}},60,"AVE",{"$error":"#N/A"},{"$f":"VLOOKUP($C332, 'Nanodrop Data Raw'!$C:$L, 3, FALSE)","v":{"$error":"#N/A"}},{"$f":"VLOOKUP($C332, 'Nanodrop Data Raw'!$C:$L, 4, FALSE)","v":{"$error":"#N/A"}},null,null,null,null,{"$f":"'Sample Information'!$G$6","v":0},{"$f":"'Sample Information'!$G$5","v":0},null,null,{"$f":"'Sample Information'!$G$7","v":"Virus Pathogen Midi Kit, Complex_400_V4_DSP_Default_IC"},null,{"$error":"#N/A"}]
[{"$f":"'Sample Information'!A333","v":332},{"$f":"'Sample Information'!B333","v":0},"0-DNA",{"$f":"'Sample Information'!E333","v":0},{"$f":"IF(VLOOKUP($C333, 'Nanodrop Data Raw'!$C:$L, 10, FALSE)<>\"\", VLOOKUP($C333, 'Nanodrop Data Raw'!$C:$L, 10, FALSE), VLOOKUP($C333, 'Nanodrop Data Raw'!$C:$L, 2, FALSE))","v":{"$error":"#N/A"}},60,"AVE",{"$error":"#N/A"},{"$f":"VLOOKUP($C333, 'Nanodrop Data Raw'!$C:$L, 3, FALSE)","v":{"$error":"#N/A"}},{"$f":"VLOOKUP($C333, 'Nanodrop Data Raw'!$C:$L, 4, FALSE)","v":{"$error":"#N/A"}},null,null,null,null,{"$f":"'Sample Information'!$G$6","v":0},{"$f":"'Sample Information'!$G$5","v":0},null,null,{"$f":"'Sample Information'!$G$7","v":"Virus Pathogen Midi Kit, Complex_400_V4_DSP_Default_IC"},null,{"$error":"#N/A"}]
[{"$f":"'Sample Information'!A334","v":333},{"$f":"'Sample Information'!B334","v":0},"0-DNA",{"$f":"'Sample Information'!E334","v":0},{"$f":"IF(VLOOKUP($C334, 'Nanodrop Data Raw'!$C:$L, 10, FALSE)<>\"\", VLOOKUP($C334, 'Nanodrop Data Raw'!$C:$L, 10, FALSE), VLOOKUP($C334, 'Nanodrop Data Raw'!$C:$L, 2, FALSE))","v":{"$error":"#N/A"}},60,"AVE",{"$error":"#N/A"},{"$f":"VLOOKUP($C334, 'Nanodrop Data Raw'!$C:$L, 3, FALSE)","v":{"$error":"#N/A"}},{"$f":"VLOOKUP($C334, 'Nanodrop Data Raw'!$C:$L, 4, FALSE)","v":{"$error":"#N/A"}},null,null,null,null,{"$f":"'Sample Information'!$G$6","v":0},{"$f":"'Sample Information'!$G$5","v":0},null,null,{"$f":"'Sample Information'!$G$7","v":"Virus Pathogen Midi Kit, Complex_400_V4_DSP_Default_IC"},null,{"$error":"#N/A"}]
[{"$f":"'Sample Information'!A335","v":334},{"$f":"'Sample Information'!B335","v":0},"0-DNA",{"$f":"'Sample Information'!E335","v":0},{"$f":"IF(VLOOKUP($C335, 'Nanodrop Data Raw'!$C:$L, 10, FALSE)<>\"\", VLOOKUP($C335, 'Nanodrop Data Raw'!$C:$L, 10, FALSE), VLOOKUP($C335, 'Nanodrop Data Raw'!$C:$L, 2, FALSE))","v":{"$error":"#N/A"}},60,"AVE",{"$error":"#N/A"},{"$f":"VLOOKUP($C335, 'Nanodrop Data Raw'!$C:$L, 3, FALSE)","v":{"$error":"#N/A"}},{"$f":"VLOOKUP($C335, 'Nanodrop Data Raw'!$C:$L, 4, FALSE)","v":{"$error":"#N/A"}},null,null,null,null,{"$f":"'Sample Information'!$G$6","v":0},{"$f":"'Sample Information'!$G$5","v":0},null,null,{"$f":"'Sample Information'!$G$7","v":"Virus Pathogen Midi Kit, Complex_400_V4_DSP_Default_IC"},null,{"$error":"#N/A"}]
[{"$f":"'Sample Information'!A336","v":335},{"$f":"'Sample Information'!B336","v":0},"0-DNA",{"$f":"'Sample Information'!E336","v":0},{"$f":"IF(VLOOKUP($C336, 'Nanodrop Data Raw'!$C:$L, 10, FALSE)<>\"\", VLOOKUP($C336, 'Nanodrop Data Raw'!$C:$L, 10, FALSE), VLOOKUP($C336, 'Nanodrop Data Raw'!$C:$L, 2, FALSE))","v":{"$error":"#N/A"}},60,"AVE",{"$error":"#N/A"},{"$f":"VLOOKUP($C336, 'Nanodrop Data Raw'!$C:$L, 3, FALSE)","v":{"$error":"#N/A"}},{"$f":"VLOOKUP($C336, 'Nanodrop Data Raw'!$C:$L, 4, FALSE)","v":{"$error":"#N/A"}},null,null,null,null,{"$f":"'Sample Information'!$G$6","v":0},{"$f":"'Sample Information'!$G$5","v":0},null,null,{"$f":"'Sample Information'!$G$7","v":"Virus Pathogen Midi Kit, Complex_400_V4_DSP_Default_IC"},null,{"$error":"#N/A"}]
[{"$f":"'Sample Information'!A337","v":336},{"$f":"'Sample Information'!B337","v":0},"0-DNA",{"$f":"'Sample Information'!E337","v":0},{"$f":"IF(VLOOKUP($C337, 'Nanodrop Data Raw'!$C:$L, 10, FALSE)<>\"\", VLOOKUP($C337, 'Nanodrop Data Raw'!$C:$L, 10, FALSE), VLOOKUP($C337, 'Nanodrop Data Raw'!$C:$L, 2, FALSE))","v":{"$error":"#N/A"}},60,"AVE",{"$error":"#N/A"},{"$f":"VLOOKUP($C337, 'Nanodrop Data Raw'!$C:$L, 3, FALSE)","v":{"$error":"#N/A"}},{"$f":"VLOOKUP($C337, 'Nanodrop Data Raw'!$C:$L, 4, FALSE)","v":{"$error":"#N/A"}},null,null,null,null,{"$f":"'Sample Information'!$G$6","v":0},{"$f":"'Sample Information'!$G$5","v":0},null,null,{"$f":"'Sample Information'!$G$7","v":"Virus Pathogen Midi Kit, Complex_400_V4_DSP_Default_IC"},null,{"$error":"#N/A"}]
[{"$f":"'Sample Information'!A338","v":337},{"$f":"'Sample Information'!B338","v":0},"0-DNA",{"$f":"'Sample Information'!E338","v":0},{"$f":"IF(VLOOKUP($C338, 'Nanodrop Data Raw'!$C:$L, 10, FALSE)<>\"\", VLOOKUP($C338, 'Nanodrop Data Raw'!$C:$L, 10, FALSE), VLOOKUP($C338, 'Nanodrop Data Raw'!$C:$L, 2, FALSE))","v":{"$error":"#N/A"}},60,"AVE",{"$error":"#N/A"},{"$f":"VLOOKUP($C338, 'Nanodrop Data Raw'!$C:$L, 3, FALSE)","v":{"$error":"#N/A"}},{"$f":"VLOOKUP($C338, 'Nanodrop Data Raw'!$C:$L, 4, FALSE)","v":{"$error":"#N/A"}},null,null,null,null,{"$f":"'Sample Information'!$G$6","v":0},{"$f":"'Sample Information'!$G$5","v":0},null,null,{"$f":"'Sample Information'!$G$7","v":"Virus Pathogen Midi Kit, Complex_400_V4_DSP_Default_IC"},null,{"$error":"#N/A"}]
[{"$f":"'Sample Information'!A339","v":338},{"$f":"'Sample Information'!B339","v":0},"0-DNA",{"$f":"'Sample Information'!E339","v":0},{"$f":"IF(VLOOKUP($C339, 'Nanodrop Data Raw'!$C:$L, 10, FALSE)<>\"\", VLOOKUP($C339, 'Nanodrop Data Raw'!$C:$L, 10, FALSE), VLOOKUP($C339, 'Nanodrop Data Raw'!$C:$L, 2, FALSE))","v":{"$error":"#N/A"}},60,"AVE",{"$error":"#N/A"},{"$f":"VLOOKUP($C339, 'Nanodrop Data Raw'!$C:$L, 3, FALSE)","v":{"$error":"#N/A"}},{"$f":"VLOOKUP($C339, 'Nanodrop Data Raw'!$C:$L, 4, FALSE)","v":{"$error":"#N/A"}},null,null,null,null,{"$f":"'Sample Information'!$G$6","v":0},{"$f":"'Sample Information'!$G$5","v":0},null,null,{"$f":"'Sample Information'!$G$7","v":"Virus Pathogen Midi Kit, Complex_400_V4_DSP_Default_IC"},null,{"$error":"#N/A"}]
[{"$f":"'Sample Information'!A340","v":339},{"$f":"'Sample Information'!B340","v":0},"0-DNA",{"$f":"'Sample Information'!E340","v":0},{"$f":"IF(VLOOKUP($C340, 'Nanodrop Data Raw'!$C:$L, 10, FALSE)<>\"\", VLOOKUP($C340, 'Nanodrop Data Raw'!$C:$L, 10, FALSE), VLOOKUP($C340, 'Nanodrop Data Raw'!$C:$L, 2, FALSE))","v":{"$error":"#N/A"}},60,"AVE",{"$error":"#N/A"},{"$f":"VLOOKUP($C340, 'Nanodrop Data Raw'!$C:$L, 3, FALSE)","v":{"$error":"#N/A"}},{"$f":"VLOOKUP($C340, 'Nanodrop Data Raw'!$C:$L, 4, FALSE)","v":{"$error":"#N/A"}},null,null,null,null,{"$f":"'Sample Information'!$G$6","v":0},{"$f":"'Sample Information'!$G$5","v":0},null,null,{"$f":"'Sample Information'!$G$7","v":"Virus Pathogen Midi Kit, Complex_400_V4_DSP_Default_IC"},null,{"$error":"#N/A"}]
[{"$f":"'Sample Information'!A341","v":340},{"$f":"'Sample Information'!B341","v":0},"0-DNA",{"$f":"'Sample Information'!E341","v":0},{"$f":"IF(VLOOKUP($C341, 'Nanodrop Data Raw'!$C:$L, 10, FALSE)<>\"\", VLOOKUP($C341, 'Nanodrop Data Raw'!$C:$L, 10, FALSE), VLOOKUP($C341, 'Nanodrop Data Raw'!$C:$L, 2, FALSE))","v":{"$error":"#N/A"}},60,"AVE",{"$error":"#N/A"},{"$f":"VLOOKUP($C341, 'Nanodrop Data Raw'!$C:$L, 3, FALSE)","v":{"$error":"#N/A"}},{"$f":"VLOOKUP($C341, 'Nanodrop Data Raw'!$C:$L, 4, FALSE)","v":{"$error":"#N/A"}},null,null,null,null,{"$f":"'Sample Information'!$G$6","v":0},{"$f":"'Sample Information'!$G$5","v":0},null,null,{"$f":"'Sample Information'!$G$7","v":"Virus Pathogen Midi Kit, Complex_400_V4_DSP_Default_IC"},null,{"$error":"#N/A"}]
[{"$f":"'Sample Information'!A342","v":341},{"$f":"'Sample Information'!B342","v":0},"0-DNA",{"$f":"'Sample Information'!E342","v":0},{"$f":"IF(VLOOKUP($C342, 'Nanodrop Data Raw'!$C:$L, 10, FALSE)<>\"\", VLOOKUP($C342, 'Nanodrop Data Raw'!$C:$L, 10, FALSE), VLOOKUP($C342, 'Nanodrop Data Raw'!$C:$L, 2, FALSE))","v":{"$error":"#N/A"}},60,"AVE",{"$error":"#N/A"},{"$f":"VLOOKUP($C342, 'Nanodrop Data Raw'!$C:$L, 3, FALSE)","v":{"$error":"#N/A"}},{"$f":"VLOOKUP($C342, 'Nanodrop Data Raw'!$C:$L, 4, FALSE)","v":{"$error":"#N/A"}},null,null,null,null,{"$f":"'Sample Information'!$G$6","v":0},{"$f":"'Sample Information'!$G$5","v":0},null,null,{"$f":"'Sample Information'!$G$7","v":"Virus Pathogen Midi Kit, Complex_400_V4_DSP_Default_IC"},null,{"$error":"#N/A"}]
[{"$f":"'Sample Information'!A343","v":342},{"$f":"'Sample Information'!B343","v":0},"0-DNA",{"$f":"'Sample Information'!E343","v":0},{"$f":"IF(VLOOKUP($C343, 'Nanodrop Data Raw'!$C:$L, 10, FALSE)<>\"\", VLOOKUP($C343, 'Nanodrop Data Raw'!$C:$L, 10, FALSE), VLOOKUP($C343, 'Nanodrop Data Raw'!$C:$L, 2, FALSE))","v":{"$error":"#N/A"}},60,"AVE",{"$error":"#N/A"},{"$f":"VLOOKUP($C343, 'Nanodrop Data Raw'!$C:$L, 3, FALSE)","v":{"$error":"#N/A"}},{"$f":"VLOOKUP($C343, 'Nanodrop Data Raw'!$C:$L, 4, FALSE)","v":{"$error":"#N/A"}},null,null,null,null,{"$f":"'Sample Information'!$G$6","v":0},{"$f":"'Sample Information'!$G$5","v":0},null,null,{"$f":"'Sample Information'!$G$7","v":"Virus Pathogen Midi Kit, Complex_400_V4_DSP_Default_IC"},null,{"$error":"#N/A"}]
[{"$f":"'Sample Information'!A344","v":343},{"$f":"'Sample Information'!B344","v":0},"0-DNA",{"$f":"'Sample Information'!E344","v":0},{"$f":"IF(VLOOKUP($C344, 'Nanodrop Data Raw'!$C:$L, 10, FALSE)<>\"\", VLOOKUP($C344, 'Nanodrop Data Raw'!$C:$L, 10, FALSE), VLOOKUP($C344, 'Nanodrop Data Raw'!$C:$L, 2, FALSE))","v":{"$error":"#N/A"}},60,"AVE",{"$error":"#N/A"},{"$f":"VLOOKUP($C344, 'Nanodrop Data Raw'!$C:$L, 3, FALSE)","v":{"$error":"#N/A"}},{"$f":"VLOOKUP($C344, 'Nanodrop Data Raw'!$C:$L, 4, FALSE)","v":{"$error":"#N/A"}},null,null,null,null,{"$f":"'Sample Information'!$G$6","v":0},{"$f":"'Sample Information'!$G$5","v":0},null,null,{"$f":"'Sample Information'!$G$7","v":"Virus Pathogen Midi Kit, Complex_400_V4_DSP_Default_IC"},null,{"$error":"#N/A"}]
[{"$f":"'Sample Information'!A345","v":344},{"$f":"'Sample Information'!B345","v":0},"0-DNA",{"$f":"'Sample Information'!E345","v":0},{"$f":"IF(VLOOKUP($C345, 'Nanodrop Data Raw'!$C:$L, 10, FALSE)<>\"\", VLOOKUP($C345, 'Nanodrop Data Raw'!$C:$L, 10, FALSE), VLOOKUP($C345, 'Nanodrop Data Raw'!$C:$L, 2, FALSE))","v":{"$error":"#N/A"}},60,"AVE",{"$error":"#N/A"},{"$f":"VLOOKUP($C345, 'Nanodrop Data Raw'!$C:$L, 3, FALSE)","v":{"$error":"#N/A"}},{"$f":"VLOOKUP($C345, 'Nanodrop Data Raw'!$C:$L, 4, FALSE)","v":{"$error":"#N/A"}},null,null,null,null,{"$f":"'Sample Information'!$G$6","v":0},{"$f":"'Sample Information'!$G$5","v":0},null,null,{"$f":"'Sample Information'!$G$7","v":"Virus Pathogen Midi Kit, Complex_400_V4_DSP_Default_IC"},null,{"$error":"#N/A"}]
[{"$f":"'Sample Information'!A346","v":345},{"$f":"'Sample Information'!B346","v":0},"0-DNA",{"$f":"'Sample Information'!E346","v":0},{"$f":"IF(VLOOKUP($C346, 'Nanodrop Data Raw'!$C:$L, 10, FALSE)<>\"\", VLOOKUP($C346, 'Nanodrop Data Raw'!$C:$L, 10, FALSE), VLOOKUP($C346, 'Nanodrop Data Raw'!$C:$L, 2, FALSE))","v":{"$error":"#N/A"}},60,"AVE",{"$error":"#N/A"},{"$f":"VLOOKUP($C346, 'Nanodrop Data Raw'!$C:$L, 3, FALSE)","v":{"$error":"#N/A"}},{"$f":"VLOOKUP($C346, 'Nanodrop Data Raw'!$C:$L, 4, FALSE)","v":{"$error":"#N/A"}},null,null,null,null,{"$f":"'Sample Information'!$G$6","v":0},{"$f":"'Sample Information'!$G$5","v":0},null,null,{"$f":"'Sample Information'!$G$7","v":"Virus Pathogen Midi Kit, Complex_400_V4_DSP_Default_IC"},null,{"$error":"#N/A"}]
[{"$f":"'Sample Information'!A347","v":346},{"$f":"'Sample Information'!B347","v":0},"0-DNA",{"$f":"'Sample Information'!E347","v":0},{"$f":"IF(VLOOKUP($C347, 'Nanodrop Data Raw'!$C:$L, 10, FALSE)<>\"\", VLOOKUP($C347, 'Nanodrop Data Raw'!$C:$L, 10, FALSE), VLOOKUP($C347, 'Nanodrop Data Raw'!$C:$L, 2, FALSE))","v":{"$error":"#N/A"}},60,"AVE",{"$error":"#N/A"},{"$f":"VLOOKUP($C347, 'Nanodrop Data Raw'!$C:$L, 3, FALSE)","v":{"$error":"#N/A"}},{"$f":"VLOOKUP($C347, 'Nanodrop Data Raw'!$C:$L, 4, FALSE)","v":{"$error":"#N/A"}},null,null,null,null,{"$f":"'Sample Information'!$G$6","v":0},{"$f":"'Sample Information'!$G$5","v":0},null,null,{"$f":"'Sample Information'!$G$7","v":"Virus Pathogen Midi Kit, Complex_400_V4_DSP_Default_IC"},null,{"$error":"#N/A"}]
[{"$f":"'Sample Information'!A348","v":347},{"$f":"'Sample Information'!B348","v":0},"0-DNA",{"$f":"'Sample Information'!E348","v":0},{"$f":"IF(VLOOKUP($C348, 'Nanodrop Data Raw'!$C:$L, 10, FALSE)<>\"\", VLOOKUP($C348, 'Nanodrop Data Raw'!$C:$L, 10, FALSE), VLOOKUP($C348, 'Nanodrop Data Raw'!$C:$L, 2, FALSE))","v":{"$error":"#N/A"}},60,"AVE",{"$error":"#N/A"},{"$f":"VLOOKUP($C348, 'Nanodrop Data Raw'!$C:$L, 3, FALSE)","v":{"$error":"#N/A"}},{"$f":"VLOOKUP($C348, 'Nanodrop Data Raw'!$C:$L, 4, FALSE)","v":{"$error":"#N/A"}},null,null,null,null,{"$f":"'Sample Information'!$G$6","v":0},{"$f":"'Sample Information'!$G$5","v":0},null,null,{"$f":"'Sample Information'!$G$7","v":"Virus Pathogen Midi Kit, Complex_400_V4_DSP_Default_IC"},null,{"$error":"#N/A"}]
[{"$f":"'Sample Information'!A349","v":348},{"$f":"'Sample Information'!B349","v":0},"0-DNA",{"$f":"'Sample Information'!E349","v":0},{"$f":"IF(VLOOKUP($C349, 'Nanodrop Data Raw'!$C:$L, 10, FALSE)<>\"\", VLOOKUP($C349, 'Nanodrop Data Raw'!$C:$L, 10, FALSE), VLOOKUP($C349, 'Nanodrop Data Raw'!$C:$L, 2, FALSE))","v":{"$error":"#N/A"}},60,"AVE",{"$error":"#N/A"},{"$f":"VLOOKUP($C349, 'Nanodrop Data Raw'!$C:$L, 3, FALSE)","v":{"$error":"#N/A"}},{"$f":"VLOOKUP($C349, 'Nanodrop Data Raw'!$C:$L, 4, FALSE)","v":{"$error":"#N/A"}},null,null,null,null,{"$f":"'Sample Information'!$G$6","v":0},{"$f":"'Sample Information'!$G$5","v":0},null,null,{"$f":"'Sample Information'!$G$7","v":"Virus Pathogen Midi Kit, Complex_400_V4_DSP_Default_IC"},null,{"$error":"#N/A"}]
[{"$f":"'Sample Information'!A350","v":349},{"$f":"'Sample Information'!B350","v":0},"0-DNA",{"$f":"'Sample Information'!E350","v":0},{"$f":"IF(VLOOKUP($C350, 'Nanodrop Data Raw'!$C:$L, 10, FALSE)<>\"\", VLOOKUP($C350, 'Nanodrop Data Raw'!$C:$L, 10, FALSE), VLOOKUP($C350, 'Nanodrop Data Raw'!$C:$L, 2, FALSE))","v":{"$error":"#N/A"}},60,"AVE",{"$error":"#N/A"},{"$f":"VLOOKUP($C350, 'Nanodrop Data Raw'!$C:$L, 3, FALSE)","v":{"$error":"#N/A"}},{"$f":"VLOOKUP($C350, 'Nanodrop Data Raw'!$C:$L, 4, FALSE)","v":{"$error":"#N/A"}},null,null,null,null,{"$f":"'Sample Information'!$G$6","v":0},{"$f":"'Sample Information'!$G$5","v":0},null,null,{"$f":"'Sample Information'!$G$7","v":"Virus Pathogen Midi Kit, Complex_400_V4_DSP_Default_IC"},null,{"$error":"#N/A"}]
[{"$f":"'Sample Information'!A351","v":350},{"$f":"'Sample Information'!B351","v":0},"0-DNA",{"$f":"'Sample Information'!E351","v":0},{"$f":"IF(VLOOKUP($C351, 'Nanodrop Data Raw'!$C:$L, 10, FALSE)<>\"\", VLOOKUP($C351, 'Nanodrop Data Raw'!$C:$L, 10, FALSE), VLOOKUP($C351, 'Nanodrop Data Raw'!$C:$L, 2, FALSE))","v":{"$error":"#N/A"}},60,"AVE",{"$error":"#N/A"},{"$f":"VLOOKUP($C351, 'Nanodrop Data Raw'!$C:$L, 3, FALSE)","v":{"$error":"#N/A"}},{"$f":"VLOOKUP($C351, 'Nanodrop Data Raw'!$C:$L, 4, FALSE)","v":{"$error":"#N/A"}},null,null,null,null,{"$f":"'Sample Information'!$G$6","v":0},{"$f":"'Sample Information'!$G$5","v":0},null,null,{"$f":"'Sample Information'!$G$7","v":"Virus Pathogen Midi Kit, Complex_400_V4_DSP_Default_IC"},null,{"$error":"#N/A"}]
[{"$f":"'Sample Information'!A352","v":351},{"$f":"'Sample Information'!B352","v":0},"0-DNA",{"$f":"'Sample Information'!E352","v":0},{"$f":"IF(VLOOKUP($C352, 'Nanodrop Data Raw'!$C:$L, 10, FALSE)<>\"\", VLOOKUP($C352, 'Nanodrop Data Raw'!$C:$L, 10, FALSE), VLOOKUP($C352, 'Nanodrop Data Raw'!$C:$L, 2, FALSE))","v":{"$error":"#N/A"}},60,"AVE",{"$error":"#N/A"},{"$f":"VLOOKUP($C352, 'Nanodrop Data Raw'!$C:$L, 3, FALSE)","v":{"$error":"#N/A"}},{"$f":"VLOOKUP($C352, 'Nanodrop Data Raw'!$C:$L, 4, FALSE)","v":{"$error":"#N/A"}},null,null,null,null,{"$f":"'Sample Information'!$G$6","v":0},{"$f":"'Sample Information'!$G$5","v":0},null,null,{"$f":"'Sample Information'!$G$7","v":"Virus Pathogen Midi Kit, Complex_400_V4_DSP_Default_IC"},null,{"$error":"#N/A"}]
[{"$f":"'Sample Information'!A353","v":352},{"$f":"'Sample Information'!B353","v":0},"0-DNA",{"$f":"'Sample Information'!E353","v":0},{"$f":"IF(VLOOKUP($C353, 'Nanodrop Data Raw'!$C:$L, 10, FALSE)<>\"\", VLOOKUP($C353, 'Nanodrop Data Raw'!$C:$L, 10, FALSE), VLOOKUP($C353, 'Nanodrop Data Raw'!$C:$L, 2, FALSE))","v":{"$error":"#N/A"}},60,"AVE",{"$error":"#N/A"},{"$f":"VLOOKUP($C353, 'Nanodrop Data Raw'!$C:$L, 3, FALSE)","v":{"$error":"#N/A"}},{"$f":"VLOOKUP($C353, 'Nanodrop Data Raw'!$C:$L, 4, FALSE)","v":{"$error":"#N/A"}},null,null,null,null,{"$f":"'Sample Information'!$G$6","v":0},{"$f":"'Sample Information'!$G$5","v":0},null,null,{"$f":"'Sample Information'!$G$7","v":"Virus Pathogen Midi Kit, Complex_400_V4_DSP_Default_IC"},null,{"$error":"#N/A"}]
[{"$f":"'Sample Information'!A354","v":353},{"$f":"'Sample Information'!B354","v":0},"0-DNA",{"$f":"'Sample Information'!E354","v":0},{"$f":"IF(VLOOKUP($C354, 'Nanodrop Data Raw'!$C:$L, 10, FALSE)<>\"\", VLOOKUP($C354, 'Nanodrop Data Raw'!$C:$L, 10, FALSE), VLOOKUP($C354, 'Nanodrop Data Raw'!$C:$L, 2, FALSE))","v":{"$error":"#N/A"}},60,"AVE",{"$error":"#N/A"},{"$f":"VLOOKUP($C354, 'Nanodrop Data Raw'!$C:$L, 3, FALSE)","v":{"$error":"#N/A"}},{"$f":"VLOOKUP($C354, 'Nanodrop Data Raw'!$C:$L, 4, FALSE)","v":{"$error":"#N/A"}},null,null,null,null,{"$f":"'Sample Information'!$G$6","v":0},{"$f":"'Sample Information'!$G$5","v":0},null,null,{"$f":"'Sample Information'!$G$7","v":"Virus Pathogen Midi Kit, Complex_400_V4_DSP_Default_IC"},null,{"$error":"#N/A"}]
[{"$f":"'Sample Information'!A355","v":354},{"$f":"'Sample Information'!B355","v":0},"0-DNA",{"$f":"'Sample Information'!E355","v":0},{"$f":"IF(VLOOKUP($C355, 'Nanodrop Data Raw'!$C:$L, 10, FALSE)<>\"\", VLOOKUP($C355, 'Nanodrop Data Raw'!$C:$L, 10, FALSE), VLOOKUP($C355, 'Nanodrop Data Raw'!$C:$L, 2, FALSE))","v":{"$error":"#N/A"}},60,"AVE",{"$error":"#N/A"},{"$f":"VLOOKUP($C355, 'Nanodrop Data Raw'!$C:$L, 3, FALSE)","v":{"$error":"#N/A"}},{"$f":"VLOOKUP($C355, 'Nanodrop Data Raw'!$C:$L, 4, FALSE)","v":{"$error":"#N/A"}},null,null,null,null,{"$f":"'Sample Information'!$G$6","v":0},{"$f":"'Sample Information'!$G$5","v":0},null,null,{"$f":"'Sample Information'!$G$7","v":"Virus Pathogen Midi Kit, Complex_400_V4_DSP_Default_IC"},null,{"$error":"#N/A"}]
[{"$f":"'Sample Information'!A356","v":355},{"$f":"'Sample Information'!B356","v":0},"0-DNA",{"$f":"'Sample Information'!E356","v":0},{"$f":"IF(VLOOKUP($C356, 'Nanodrop Data Raw'!$C:$L, 10, FALSE)<>\"\", VLOOKUP($C356, 'Nanodrop Data Raw'!$C:$L, 10, FALSE), VLOOKUP($C356, 'Nanodrop Data Raw'!$C:$L, 2, FALSE))","v":{"$error":"#N/A"}},60,"AVE",{"$error":"#N/A"},{"$f":"VLOOKUP($C356, 'Nanodrop Data Raw'!$C:$L, 3, FALSE)","v":{"$error":"#N/A"}},{"$f":"VLOOKUP($C356, 'Nanodrop Data Raw'!$C:$L, 4, FALSE)","v":{"$error":"#N/A"}},null,null,null,null,{"$f":"'Sample Information'!$G$6","v":0},{"$f":"'Sample Information'!$G$5","v":0},null,null,{"$f":"'Sample Information'!$G$7","v":"Virus Pathogen Midi Kit, Complex_400_V4_DSP_Default_IC"},null,{"$error":"#N/A"}]
[{"$f":"'Sample Information'!A357","v":356},{"$f":"'Sample Information'!B357","v":0},"0-DNA",{"$f":"'Sample Information'!E357","v":0},{"$f":"IF(VLOOKUP($C357, 'Nanodrop Data Raw'!$C:$L, 10, FALSE)<>\"\", VLOOKUP($C357, 'Nanodrop Data Raw'!$C:$L, 10, FALSE), VLOOKUP($C357, 'Nanodrop Data Raw'!$C:$L, 2, FALSE))","v":{"$error":"#N/A"}},60,"AVE",{"$error":"#N/A"},{"$f":"VLOOKUP($C357, 'Nanodrop Data Raw'!$C:$L, 3, FALSE)","v":{"$error":"#N/A"}},{"$f":"VLOOKUP($C357, 'Nanodrop Data Raw'!$C:$L, 4, FALSE)","v":{"$error":"#N/A"}},null,null,null,null,{"$f":"'Sample Information'!$G$6","v":0},{"$f":"'Sample Information'!$G$5","v":0},null,null,{"$f":"'Sample Information'!$G$7","v":"Virus Pathogen Midi Kit, Complex_400_V4_DSP_Default_IC"},null,{"$error":"#N/A"}]
[{"$f":"'Sample Information'!A358","v":357},{"$f":"'Sample Information'!B358","v":0},"0-DNA",{"$f":"'Sample Information'!E358","v":0},{"$f":"IF(VLOOKUP($C358, 'Nanodrop Data Raw'!$C:$L, 10, FALSE)<>\"\", VLOOKUP($C358, 'Nanodrop Data Raw'!$C:$L, 10, FALSE), VLOOKUP($C358, 'Nanodrop Data Raw'!$C:$L, 2, FALSE))","v":{"$error":"#N/A"}},60,"AVE",{"$error":"#N/A"},{"$f":"VLOOKUP($C358, 'Nanodrop Data Raw'!$C:$L, 3, FALSE)","v":{"$error":"#N/A"}},{"$f":"VLOOKUP($C358, 'Nanodrop Data Raw'!$C:$L, 4, FALSE)","v":{"$error":"#N/A"}},null,null,null,null,{"$f":"'Sample Information'!$G$6","v":0},{"$f":"'Sample Information'!$G$5","v":0},null,null,{"$f":"'Sample Information'!$G$7","v":"Virus Pathogen Midi Kit, Complex_400_V4_DSP_Default_IC"},null,{"$error":"#N/A"}]
[{"$f":"'Sample Information'!A359","v":358},{"$f":"'Sample Information'!B359","v":0},"0-DNA",{"$f":"'Sample Information'!E359","v":0},{"$f":"IF(VLOOKUP($C359, 'Nanodrop Data Raw'!$C:$L, 10, FALSE)<>\"\", VLOOKUP($C359, 'Nanodrop Data Raw'!$C:$L, 10, FALSE), VLOOKUP($C359, 'Nanodrop Data Raw'!$C:$L, 2, FALSE))","v":{"$error":"#N/A"}},60,"AVE",{"$error":"#N/A"},{"$f":"VLOOKUP($C359, 'Nanodrop Data Raw'!$C:$L, 3, FALSE)","v":{"$error":"#N/A"}},{"$f":"VLOOKUP($C359, 'Nanodrop Data Raw'!$C:$L, 4, FALSE)","v":{"$error":"#N/A"}},null,null,null,null,{"$f":"'Sample Information'!$G$6","v":0},{"$f":"'Sample Information'!$G$5","v":0},null,null,{"$f":"'Sample Information'!$G$7","v":"Virus Pathogen Midi Kit, Complex_400_V4_DSP_Default_IC"},null,{"$error":"#N/A"}]
[{"$f":"'Sample Information'!A360","v":359},{"$f":"'Sample Information'!B360","v":0},"0-DNA",{"$f":"'Sample Information'!E360","v":0},{"$f":"IF(VLOOKUP($C360, 'Nanodrop Data Raw'!$C:$L, 10, FALSE)<>\"\", VLOOKUP($C360, 'Nanodrop Data Raw'!$C:$L, 10, FALSE), VLOOKUP($C360, 'Nanodrop Data Raw'!$C:$L, 2, FALSE))","v":{"$error":"#N/A"}},60,"AVE",{"$error":"#N/A"},{"$f":"VLOOKUP($C360, 'Nanodrop Data Raw'!$C:$L, 3, FALSE)","v":{"$error":"#N/A"}},{"$f":"VLOOKUP($C360, 'Nanodrop Data Raw'!$C:$L, 4, FALSE)","v":{"$error":"#N/A"}},null,null,null,null,{"$f":"'Sample Information'!$G$6","v":0},{"$f":"'Sample Information'!$G$5","v":0},null,null,{"$f":"'Sample Information'!$G$7","v":"Virus Pathogen Midi Kit, Complex_400_V4_DSP_Default_IC"},null,{"$error":"#N/A"}]
[{"$f":"'Sample Information'!A361","v":360},{"$f":"'Sample Information'!B361","v":0},"0-DNA",{"$f":"'Sample Information'!E361","v":0},{"$f":"IF(VLOOKUP($C361, 'Nanodrop Data Raw'!$C:$L, 10, FALSE)<>\"\", VLOOKUP($C361, 'Nanodrop Data Raw'!$C:$L, 10, FALSE), VLOOKUP($C361, 'Nanodrop Data Raw'!$C:$L, 2, FALSE))","v":{"$error":"#N/A"}},60,"AVE",{"$error":"#N/A"},{"$f":"VLOOKUP($C361, 'Nanodrop Data Raw'!$C:$L, 3, FALSE)","v":{"$error":"#N/A"}},{"$f":"VLOOKUP($C361, 'Nanodrop Data Raw'!$C:$L, 4, FALSE)","v":{"$error":"#N/A"}},null,null,null,null,{"$f":"'Sample Information'!$G$6","v":0},{"$f":"'Sample Information'!$G$5","v":0},null,null,{"$f":"'Sample Information'!$G$7","v":"Virus Pathogen Midi Kit, Complex_400_V4_DSP_Default_IC"},null,{"$error":"#N/A"}]
[{"$f":"'Sample Information'!A362","v":361},{"$f":"'Sample Information'!B362","v":0},"0-DNA",{"$f":"'Sample Information'!E362","v":0},{"$f":"IF(VLOOKUP($C362, 'Nanodrop Data Raw'!$C:$L, 10, FALSE)<>\"\", VLOOKUP($C362, 'Nanodrop Data Raw'!$C:$L, 10, FALSE), VLOOKUP($C362, 'Nanodrop Data Raw'!$C:$L, 2, FALSE))","v":{"$error":"#N/A"}},60,"AVE",{"$error":"#N/A"},{"$f":"VLOOKUP($C362, 'Nanodrop Data Raw'!$C:$L, 3, FALSE)","v":{"$error":"#N/A"}},{"$f":"VLOOKUP($C362, 'Nanodrop Data Raw'!$C:$L, 4, FALSE)","v":{"$error":"#N/A"}},null,null,null,null,{"$f":"'Sample Information'!$G$6","v":0},{"$f":"'Sample Information'!$G$5","v":0},null,null,{"$f":"'Sample Information'!$G$7","v":"Virus Pathogen Midi Kit, Complex_400_V4_DSP_Default_IC"},null,{"$error":"#N/A"}]
[{"$f":"'Sample Information'!A363","v":362},{"$f":"'Sample Information'!B363","v":0},"0-DNA",{"$f":"'Sample Information'!E363","v":0},{"$f":"IF(VLOOKUP($C363, 'Nanodrop Data Raw'!$C:$L, 10, FALSE)<>\"\", VLOOKUP($C363, 'Nanodrop Data Raw'!$C:$L, 10, FALSE), VLOOKUP($C363, 'Nanodrop Data Raw'!$C:$L, 2, FALSE))","v":{"$error":"#N/A"}},60,"AVE",{"$error":"#N/A"},{"$f":"VLOOKUP($C363, 'Nanodrop Data Raw'!$C:$L, 3, FALSE)","v":{"$error":"#N/A"}},{"$f":"VLOOKUP($C363, 'Nanodrop Data Raw'!$C:$L, 4, FALSE)","v":{"$error":"#N/A"}},null,null,null,null,{"$f":"'Sample Information'!$G$6","v":0},{"$f":"'Sample Information'!$G$5","v":0},null,null,{"$f":"'Sample Information'!$G$7","v":"Virus Pathogen Midi Kit, Complex_400_V4_DSP_Default_IC"},null,{"$error":"#N/A"}]
[{"$f":"'Sample Information'!A364","v":363},{"$f":"'Sample Information'!B364","v":0},"0-DNA",{"$f":"'Sample Information'!E364","v":0},{"$f":"IF(VLOOKUP($C364, 'Nanodrop Data Raw'!$C:$L, 10, FALSE)<>\"\", VLOOKUP($C364, 'Nanodrop Data Raw'!$C:$L, 10, FALSE), VLOOKUP($C364, 'Nanodrop Data Raw'!$C:$L, 2, FALSE))","v":{"$error":"#N/A"}},60,"AVE",{"$error":"#N/A"},{"$f":"VLOOKUP($C364, 'Nanodrop Data Raw'!$C:$L, 3, FALSE)","v":{"$error":"#N/A"}},{"$f":"VLOOKUP($C364, 'Nanodrop Data Raw'!$C:$L, 4, FALSE)","v":{"$error":"#N/A"}},null,null,null,null,{"$f":"'Sample Information'!$G$6","v":0},{"$f":"'Sample Information'!$G$5","v":0},null,null,{"$f":"'Sample Information'!$G$7","v":"Virus Pathogen Midi Kit, Complex_400_V4_DSP_Default_IC"},null,{"$error":"#N/A"}]
[{"$f":"'Sample Information'!A365","v":364},{"$f":"'Sample Information'!B365","v":0},"0-DNA",{"$f":"'Sample Information'!E365","v":0},{"$f":"IF(VLOOKUP($C365, 'Nanodrop Data Raw'!$C:$L, 10, FALSE)<>\"\", VLOOKUP($C365, 'Nanodrop Data Raw'!$C:$L, 10, FALSE), VLOOKUP($C365, 'Nanodrop Data Raw'!$C:$L, 2, FALSE))","v":{"$error":"#N/A"}},60,"AVE",{"$error":"#N/A"},{"$f":"VLOOKUP($C365, 'Nanodrop Data Raw'!$C:$L, 3, FALSE)","v":{"$error":"#N/A"}},{"$f":"VLOOKUP($C365, 'Nanodrop Data Raw'!$C:$L, 4, FALSE)","v":{"$error":"#N/A"}},null,null,null,null,{"$f":"'Sample Information'!$G$6","v":0},{"$f":"'Sample Information'!$G$5","v":0},null,null,{"$f":"'Sample Information'!$G$7","v":"Virus Pathogen Midi Kit, Complex_400_V4_DSP_Default_IC"},null,{"$error":"#N/A"}]
[{"$f":"'Sample Information'!A366","v":365},{"$f":"'Sample Information'!B366","v":0},"0-DNA",{"$f":"'Sample Information'!E366","v":0},{"$f":"IF(VLOOKUP($C366, 'Nanodrop Data Raw'!$C:$L, 10, FALSE)<>\"\", VLOOKUP($C366, 'Nanodrop Data Raw'!$C:$L, 10, FALSE), VLOOKUP($C366, 'Nanodrop Data Raw'!$C:$L, 2, FALSE))","v":{"$error":"#N/A"}},60,"AVE",{"$error":"#N/A"},{"$f":"VLOOKUP($C366, 'Nanodrop Data Raw'!$C:$L, 3, FALSE)","v":{"$error":"#N/A"}},{"$f":"VLOOKUP($C366, 'Nanodrop Data Raw'!$C:$L, 4, FALSE)","v":{"$error":"#N/A"}},null,null,null,null,{"$f":"'Sample Information'!$G$6","v":0},{"$f":"'Sample Information'!$G$5","v":0},null,null,{"$f":"'Sample Information'!$G$7","v":"Virus Pathogen Midi Kit, Complex_400_V4_DSP_Default_IC"},null,{"$error":"#N/A"}]
[{"$f":"'Sample Information'!A367","v":366},{"$f":"'Sample Information'!B367","v":0},"0-DNA",{"$f":"'Sample Information'!E367","v":0},{"$f":"IF(VLOOKUP($C367, 'Nanodrop Data Raw'!$C:$L, 10, FALSE)<>\"\", VLOOKUP($C367, 'Nanodrop Data Raw'!$C:$L, 10, FALSE), VLOOKUP($C367, 'Nanodrop Data Raw'!$C:$L, 2, FALSE))","v":{"$error":"#N/A"}},60,"AVE",{"$error":"#N/A"},{"$f":"VLOOKUP($C367, 'Nanodrop Data Raw'!$C:$L, 3, FALSE)","v":{"$error":"#N/A"}},{"$f":"VLOOKUP($C367, 'Nanodrop Data Raw'!$C:$L, 4, FALSE)","v":{"$error":"#N/A"}},null,null,null,null,{"$f":"'Sample Information'!$G$6","v":0},{"$f":"'Sample Information'!$G$5","v":0},null,null,{"$f":"'Sample Information'!$G$7","v":"Virus Pathogen Midi Kit, Complex_400_V4_DSP_Default_IC"},null,{"$error":"#N/A"}]
[{"$f":"'Sample Information'!A368","v":367},{"$f":"'Sample Information'!B368","v":0},"0-DNA",{"$f":"'Sample Information'!E368","v":0},{"$f":"IF(VLOOKUP($C368, 'Nanodrop Data Raw'!$C:$L, 10, FALSE)<>\"\", VLOOKUP($C368, 'Nanodrop Data Raw'!$C:$L, 10, FALSE), VLOOKUP($C368, 'Nanodrop Data Raw'!$C:$L, 2, FALSE))","v":{"$error":"#N/A"}},60,"AVE",{"$error":"#N/A"},{"$f":"VLOOKUP($C368, 'Nanodrop Data Raw'!$C:$L, 3, FALSE)","v":{"$error":"#N/A"}},{"$f":"VLOOKUP($C368, 'Nanodrop Data Raw'!$C:$L, 4, FALSE)","v":{"$error":"#N/A"}},null,null,null,null,{"$f":"'Sample Information'!$G$6","v":0},{"$f":"'Sample Information'!$G$5","v":0},null,null,{"$f":"'Sample Information'!$G$7","v":"Virus Pathogen Midi Kit, Complex_400_V4_DSP_Default_IC"},null,{"$error":"#N/A"}]
[{"$f":"'Sample Information'!A369","v":368},{"$f":"'Sample Information'!B369","v":0},"0-DNA",{"$f":"'Sample Information'!E369","v":0},{"$f":"IF(VLOOKUP($C369, 'Nanodrop Data Raw'!$C:$L, 10, FALSE)<>\"\", VLOOKUP($C369, 'Nanodrop Data Raw'!$C:$L, 10, FALSE), VLOOKUP($C369, 'Nanodrop Data Raw'!$C:$L, 2, FALSE))","v":{"$error":"#N/A"}},60,"AVE",{"$error":"#N/A"},{"$f":"VLOOKUP($C369, 'Nanodrop Data Raw'!$C:$L, 3, FALSE)","v":{"$error":"#N/A"}},{"$f":"VLOOKUP($C369, 'Nanodrop Data Raw'!$C:$L, 4, FALSE)","v":{"$error":"#N/A"}},null,null,null,null,{"$f":"'Sample Information'!$G$6","v":0},{"$f":"'Sample Information'!$G$5","v":0},null,null,{"$f":"'Sample Information'!$G$7","v":"Virus Pathogen Midi Kit, Complex_400_V4_DSP_Default_IC"},null,{"$error":"#N/A"}]
[{"$f":"'Sample Information'!A370","v":369},{"$f":"'Sample Information'!B370","v":0},"0-DNA",{"$f":"'Sample Information'!E370","v":0},{"$f":"IF(VLOOKUP($C370, 'Nanodrop Data Raw'!$C:$L, 10, FALSE)<>\"\", VLOOKUP($C370, 'Nanodrop Data Raw'!$C:$L, 10, FALSE), VLOOKUP($C370, 'Nanodrop Data Raw'!$C:$L, 2, FALSE))","v":{"$error":"#N/A"}},60,"AVE",{"$error":"#N/A"},{"$f":"VLOOKUP($C370, 'Nanodrop Data Raw'!$C:$L, 3, FALSE)","v":{"$error":"#N/A"}},{"$f":"VLOOKUP($C370, 'Nanodrop Data Raw'!$C:$L, 4, FALSE)","v":{"$error":"#N/A"}},null,null,null,null,{"$f":"'Sample Information'!$G$6","v":0},{"$f":"'Sample Information'!$G$5","v":0},null,null,{"$f":"'Sample Information'!$G$7","v":"Virus Pathogen Midi Kit, Complex_400_V4_DSP_Default_IC"},null,{"$error":"#N/A"}]
[{"$f":"'Sample Information'!A371","v":370},{"$f":"'Sample Information'!B371","v":0},"0-DNA",{"$f":"'Sample Information'!E371","v":0},{"$f":"IF(VLOOKUP($C371, 'Nanodrop Data Raw'!$C:$L, 10, FALSE)<>\"\", VLOOKUP($C371, 'Nanodrop Data Raw'!$C:$L, 10, FALSE), VLOOKUP($C371, 'Nanodrop Data Raw'!$C:$L, 2, FALSE))","v":{"$error":"#N/A"}},60,"AVE",{"$error":"#N/A"},{"$f":"VLOOKUP($C371, 'Nanodrop Data Raw'!$C:$L, 3, FALSE)","v":{"$error":"#N/A"}},{"$f":"VLOOKUP($C371, 'Nanodrop Data Raw'!$C:$L, 4, FALSE)","v":{"$error":"#N/A"}},null,null,null,null,{"$f":"'Sample Information'!$G$6","v":0},{"$f":"'Sample Information'!$G$5","v":0},null,null,{"$f":"'Sample Information'!$G$7","v":"Virus Pathogen Midi Kit, Complex_400_V4_DSP_Default_IC"},null,{"$error":"#N/A"}]
[{"$f":"'Sample Information'!A372","v":371},{"$f":"'Sample Information'!B372","v":0},"0-DNA",{"$f":"'Sample Information'!E372","v":0},{"$f":"IF(VLOOKUP($C372, 'Nanodrop Data Raw'!$C:$L, 10, FALSE)<>\"\", VLOOKUP($C372, 'Nanodrop Data Raw'!$C:$L, 10, FALSE), VLOOKUP($C372, 'Nanodrop Data Raw'!$C:$L, 2, FALSE))","v":{"$error":"#N/A"}},60,"AVE",{"$error":"#N/A"},{"$f":"VLOOKUP($C372, 'Nanodrop Data Raw'!$C:$L, 3, FALSE)","v":{"$error":"#N/A"}},{"$f":"VLOOKUP($C372, 'Nanodrop Data Raw'!$C:$L, 4, FALSE)","v":{"$error":"#N/A"}},null,null,null,null,{"$f":"'Sample Information'!$G$6","v":0},{"$f":"'Sample Information'!$G$5","v":0},null,null,{"$f":"'Sample Information'!$G$7","v":"Virus Pathogen Midi Kit, Complex_400_V4_DSP_Default_IC"},null,{"$error":"#N/A"}]
[{"$f":"'Sample Information'!A373","v":372},{"$f":"'Sample Information'!B373","v":0},"0-DNA",{"$f":"'Sample Information'!E373","v":0},{"$f":"IF(VLOOKUP($C373, 'Nanodrop Data Raw'!$C:$L, 10, FALSE)<>\"\", VLOOKUP($C373, 'Nanodrop Data Raw'!$C:$L, 10, FALSE), VLOOKUP($C373, 'Nanodrop Data Raw'!$C:$L, 2, FALSE))","v":{"$error":"#N/A"}},60,"AVE",{"$error":"#N/A"},{"$f":"VLOOKUP($C373, 'Nanodrop Data Raw'!$C:$L, 3, FALSE)","v":{"$error":"#N/A"}},{"$f":"VLOOKUP($C373, 'Nanodrop Data Raw'!$C:$L, 4, FALSE)","v":{"$error":"#N/A"}},null,null,null,null,{"$f":"'Sample Information'!$G$6","v":0},{"$f":"'Sample Information'!$G$5","v":0},null,null,{"$f":"'Sample Information'!$G$7","v":"Virus Pathogen Midi Kit, Complex_400_V4_DSP_Default_IC"},null,{"$error":"#N/A"}]
[{"$f":"'Sample Information'!A374","v":373},{"$f":"'Sample Information'!B374","v":0},"0-DNA",{"$f":"'Sample Information'!E374","v":0},{"$f":"IF(VLOOKUP($C374, 'Nanodrop Data Raw'!$C:$L, 10, FALSE)<>\"\", VLOOKUP($C374, 'Nanodrop Data Raw'!$C:$L, 10, FALSE), VLOOKUP($C374, 'Nanodrop Data Raw'!$C:$L, 2, FALSE))","v":{"$error":"#N/A"}},60,"AVE",{"$error":"#N/A"},{"$f":"VLOOKUP($C374, 'Nanodrop Data Raw'!$C:$L, 3, FALSE)","v":{"$error":"#N/A"}},{"$f":"VLOOKUP($C374, 'Nanodrop Data Raw'!$C:$L, 4, FALSE)","v":{"$error":"#N/A"}},null,null,null,null,{"$f":"'Sample Information'!$G$6","v":0},{"$f":"'Sample Information'!$G$5","v":0},null,null,{"$f":"'Sample Information'!$G$7","v":"Virus Pathogen Midi Kit, Complex_400_V4_DSP_Default_IC"},null,{"$error":"#N/A"}]
[{"$f":"'Sample Information'!A375","v":374},{"$f":"'Sample Information'!B375","v":0},"0-DNA",{"$f":"'Sample Information'!E375","v":0},{"$f":"IF(VLOOKUP($C375, 'Nanodrop Data Raw'!$C:$L, 10, FALSE)<>\"\", VLOOKUP($C375, 'Nanodrop Data Raw'!$C:$L, 10, FALSE), VLOOKUP($C375, 'Nanodrop Data Raw'!$C:$L, 2, FALSE))","v":{"$error":"#N/A"}},60,"AVE",{"$error":"#N/A"},{"$f":"VLOOKUP($C375, 'Nanodrop Data Raw'!$C:$L, 3, FALSE)","v":{"$error":"#N/A"}},{"$f":"VLOOKUP($C375, 'Nanodrop Data Raw'!$C:$L, 4, FALSE)","v":{"$error":"#N/A"}},null,null,null,null,{"$f":"'Sample Information'!$G$6","v":0},{"$f":"'Sample Information'!$G$5","v":0},null,null,{"$f":"'Sample Information'!$G$7","v":"Virus Pathogen Midi Kit, Complex_400_V4_DSP_Default_IC"},null,{"$error":"#N/A"}]
[{"$f":"'Sample Information'!A376","v":375},{"$f":"'Sample Information'!B376","v":0},"0-DNA",{"$f":"'Sample Information'!E376","v":0},{"$f":"IF(VLOOKUP($C376, 'Nanodrop Data Raw'!$C:$L, 10, FALSE)<>\"\", VLOOKUP($C376, 'Nanodrop Data Raw'!$C:$L, 10, FALSE), VLOOKUP($C376, 'Nanodrop Data Raw'!$C:$L, 2, FALSE))","v":{"$error":"#N/A"}},60,"AVE",{"$error":"#N/A"},{"$f":"VLOOKUP($C376, 'Nanodrop Data Raw'!$C:$L, 3, FALSE)","v":{"$error":"#N/A"}},{"$f":"VLOOKUP($C376, 'Nanodrop Data Raw'!$C:$L, 4, FALSE)","v":{"$error":"#N/A"}},null,null,null,null,{"$f":"'Sample Information'!$G$6","v":0},{"$f":"'Sample Information'!$G$5","v":0},null,null,{"$f":"'Sample Information'!$G$7","v":"Virus Pathogen Midi Kit, Complex_400_V4_DSP_Default_IC"},null,{"$error":"#N/A"}]
[{"$f":"'Sample Information'!A377","v":376},{"$f":"'Sample Information'!B377","v":0},"0-DNA",{"$f":"'Sample Information'!E377","v":0},{"$f":"IF(VLOOKUP($C377, 'Nanodrop Data Raw'!$C:$L, 10, FALSE)<>\"\", VLOOKUP($C377, 'Nanodrop Data Raw'!$C:$L, 10, FALSE), VLOOKUP($C377, 'Nanodrop Data Raw'!$C:$L, 2, FALSE))","v":{"$error":"#N/A"}},60,"AVE",{"$error":"#N/A"},{"$f":"VLOOKUP($C377, 'Nanodrop Data Raw'!$C:$L, 3, FALSE)","v":{"$error":"#N/A"}},{"$f":"VLOOKUP($C377, 'Nanodrop Data Raw'!$C:$L, 4, FALSE)","v":{"$error":"#N/A"}},null,null,null,null,{"$f":"'Sample Information'!$G$6","v":0},{"$f":"'Sample Information'!$G$5","v":0},null,null,{"$f":"'Sample Information'!$G$7","v":"Virus Pathogen Midi Kit, Complex_400_V4_DSP_Default_IC"},null,{"$error":"#N/A"}]
[{"$f":"'Sample Information'!A378","v":377},{"$f":"'Sample Information'!B378","v":0},"0-DNA",{"$f":"'Sample Information'!E378","v":0},{"$f":"IF(VLOOKUP($C378, 'Nanodrop Data Raw'!$C:$L, 10, FALSE)<>\"\", VLOOKUP($C378, 'Nanodrop Data Raw'!$C:$L, 10, FALSE), VLOOKUP($C378, 'Nanodrop Data Raw'!$C:$L, 2, FALSE))","v":{"$error":"#N/A"}},60,"AVE",{"$error":"#N/A"},{"$f":"VLOOKUP($C378, 'Nanodrop Data Raw'!$C:$L, 3, FALSE)","v":{"$error":"#N/A"}},{"$f":"VLOOKUP($C378, 'Nanodrop Data Raw'!$C:$L, 4, FALSE)","v":{"$error":"#N/A"}},null,null,null,null,{"$f":"'Sample Information'!$G$6","v":0},{"$f":"'Sample Information'!$G$5","v":0},null,null,{"$f":"'Sample Information'!$G$7","v":"Virus Pathogen Midi Kit, Complex_400_V4_DSP_Default_IC"},null,{"$error":"#N/A"}]
[{"$f":"'Sample Information'!A379","v":378},{"$f":"'Sample Information'!B379","v":0},"0-DNA",{"$f":"'Sample Information'!E379","v":0},{"$f":"IF(VLOOKUP($C379, 'Nanodrop Data Raw'!$C:$L, 10, FALSE)<>\"\", VLOOKUP($C379, 'Nanodrop Data Raw'!$C:$L, 10, FALSE), VLOOKUP($C379, 'Nanodrop Data Raw'!$C:$L, 2, FALSE))","v":{"$error":"#N/A"}},60,"AVE",{"$error":"#N/A"},{"$f":"VLOOKUP($C379, 'Nanodrop Data Raw'!$C:$L, 3, FALSE)","v":{"$error":"#N/A"}},{"$f":"VLOOKUP($C379, 'Nanodrop Data Raw'!$C:$L, 4, FALSE)","v":{"$error":"#N/A"}},null,null,null,null,{"$f":"'Sample Information'!$G$6","v":0},{"$f":"'Sample Information'!$G$5","v":0},null,null,{"$f":"'Sample Information'!$G$7","v":"Virus Pathogen Midi Kit, Complex_400_V4_DSP_Default_IC"},null,{"$error":"#N/A"}]
[{"$f":"'Sample Information'!A380","v":379},{"$f":"'Sample Information'!B380","v":0},"0-DNA",{"$f":"'Sample Information'!E380","v":0},{"$f":"IF(VLOOKUP($C380, 'Nanodrop Data Raw'!$C:$L, 10, FALSE)<>\"\", VLOOKUP($C380, 'Nanodrop Data Raw'!$C:$L, 10, FALSE), VLOOKUP($C380, 'Nanodrop Data Raw'!$C:$L, 2, FALSE))","v":{"$error":"#N/A"}},60,"AVE",{"$error":"#N/A"},{"$f":"VLOOKUP($C380, 'Nanodrop Data Raw'!$C:$L, 3, FALSE)","v":{"$error":"#N/A"}},{"$f":"VLOOKUP($C380, 'Nanodrop Data Raw'!$C:$L, 4, FALSE)","v":{"$error":"#N/A"}},null,null,null,null,{"$f":"'Sample Information'!$G$6","v":0},{"$f":"'Sample Information'!$G$5","v":0},null,null,{"$f":"'Sample Information'!$G$7","v":"Virus Pathogen Midi Kit, Complex_400_V4_DSP_Default_IC"},null,{"$error":"#N/A"}]
[{"$f":"'Sample Information'!A381","v":380},{"$f":"'Sample Information'!B381","v":0},"0-DNA",{"$f":"'Sample Information'!E381","v":0},{"$f":"IF(VLOOKUP($C381, 'Nanodrop Data Raw'!$C:$L, 10, FALSE)<>\"\", VLOOKUP($C381, 'Nanodrop Data Raw'!$C:$L, 10, FALSE), VLOOKUP($C381, 'Nanodrop Data Raw'!$C:$L, 2, FALSE))","v":{"$error":"#N/A"}},60,"AVE",{"$error":"#N/A"},{"$f":"VLOOKUP($C381, 'Nanodrop Data Raw'!$C:$L, 3, FALSE)","v":{"$error":"#N/A"}},{"$f":"VLOOKUP($C381, 'Nanodrop Data Raw'!$C:$L, 4, FALSE)","v":{"$error":"#N/A"}},null,null,null,null,{"$f":"'Sample Information'!$G$6","v":0},{"$f":"'Sample Information'!$G$5","v":0},null,null,{"$f":"'Sample Information'!$G$7","v":"Virus Pathogen Midi Kit, Complex_400_V4_DSP_Default_IC"},null,{"$error":"#N/A"}]
[{"$f":"'Sample Information'!A382","v":381},{"$f":"'Sample Information'!B382","v":0},"0-DNA",{"$f":"'Sample Information'!E382","v":0},{"$f":"IF(VLOOKUP($C382, 'Nanodrop Data Raw'!$C:$L, 10, FALSE)<>\"\", VLOOKUP($C382, 'Nanodrop Data Raw'!$C:$L, 10, FALSE), VLOOKUP($C382, 'Nanodrop Data Raw'!$C:$L, 2, FALSE))","v":{"$error":"#N/A"}},60,"AVE",{"$error":"#N/A"},{"$f":"VLOOKUP($C382, 'Nanodrop Data Raw'!$C:$L, 3, FALSE)","v":{"$error":"#N/A"}},{"$f":"VLOOKUP($C382, 'Nanodrop Data Raw'!$C:$L, 4, FALSE)","v":{"$error":"#N/A"}},null,null,null,null,{"$f":"'Sample Information'!$G$6","v":0},{"$f":"'Sample Information'!$G$5","v":0},null,null,{"$f":"'Sample Information'!$G$7","v":"Virus Pathogen Midi Kit, Complex_400_V4_DSP_Default_IC"},null,{"$error":"#N/A"}]
[{"$f":"'Sample Information'!A383","v":382},{"$f":"'Sample Information'!B383","v":0},"0-DNA",{"$f":"'Sample Information'!E383","v":0},{"$f":"IF(VLOOKUP($C383, 'Nanodrop Data Raw'!$C:$L, 10, FALSE)<>\"\", VLOOKUP($C383, 'Nanodrop Data Raw'!$C:$L, 10, FALSE), VLOOKUP($C383, 'Nanodrop Data Raw'!$C:$L, 2, FALSE))","v":{"$error":"#N/A"}},60,"AVE",{"$error":"#N/A"},{"$f":"VLOOKUP($C383, 'Nanodrop Data Raw'!$C:$L, 3, FALSE)","v":{"$error":"#N/A"}},{"$f":"VLOOKUP($C383, 'Nanodrop Data Raw'!$C:$L, 4, FALSE)","v":{"$error":"#N/A"}},null,null,null,null,{"$f":"'Sample Information'!$G$6","v":0},{"$f":"'Sample Information'!$G$5","v":0},null,null,{"$f":"'Sample Information'!$G$7","v":"Virus Pathogen Midi Kit, Complex_400_V4_DSP_Default_IC"},null,{"$error":"#N/A"}]
[{"$f":"'Sample Information'!A384","v":383},{"$f":"'Sample Information'!B384","v":0},"0-DNA",{"$f":"'Sample Information'!E384","v":0},{"$f":"IF(VLOOKUP($C384, 'Nanodrop Data Raw'!$C:$L, 10, FALSE)<>\"\", VLOOKUP($C384, 'Nanodrop Data Raw'!$C:$L, 10, FALSE), VLOOKUP($C384, 'Nanodrop Data Raw'!$C:$L, 2, FALSE))","v":{"$error":"#N/A"}},60,"AVE",{"$error":"#N/A"},{"$f":"VLOOKUP($C384, 'Nanodrop Data Raw'!$C:$L, 3, FALSE)","v":{"$error":"#N/A"}},{"$f":"VLOOKUP($C384, 'Nanodrop Data Raw'!$C:$L, 4, FALSE)","v":{"$error":"#N/A"}},null,null,null,null,{"$f":"'Sample Information'!$G$6","v":0},{"$f":"'Sample Information'!$G$5","v":0},null,null,{"$f":"'Sample Information'!$G$7","v":"Virus Pathogen Midi Kit, Complex_400_V4_DSP_Default_IC"},null,{"$error":"#N/A"}]
[{"$f":"'Sample Information'!A385","v":384},{"$f":"'Sample Information'!B385","v":0},"0-DNA",{"$f":"'Sample Information'!E385","v":0},{"$f":"IF(VLOOKUP($C385, 'Nanodrop Data Raw'!$C:$L, 10, FALSE)<>\"\", VLOOKUP($C385, 'Nanodrop Data Raw'!$C:$L, 10, FALSE), VLOOKUP($C385, 'Nanodrop Data Raw'!$C:$L, 2, FALSE))","v":{"$error":"#N/A"}},60,"AVE",{"$error":"#N/A"},{"$f":"VLOOKUP($C385, 'Nanodrop Data Raw'!$C:$L, 3, FALSE)","v":{"$error":"#N/A"}},{"$f":"VLOOKUP($C385, 'Nanodrop Data Raw'!$C:$L, 4, FALSE)","v":{"$error":"#N/A"}},null,null,null,null,{"$f":"'Sample Information'!$G$6","v":0},{"$f":"'Sample Information'!$G$5","v":0},null,null,{"$f":"'Sample Information'!$G$7","v":"Virus Pathogen Midi Kit, Complex_400_V4_DSP_Default_IC"},null,{"$error":"#N/A"}]
[{"$f":"'Sample Information'!A386","v":385},{"$f":"'Sample Information'!B386","v":0},"0-DNA",{"$f":"'Sample Information'!E386","v":0},{"$f":"IF(VLOOKUP($C386, 'Nanodrop Data Raw'!$C:$L, 10, FALSE)<>\"\", VLOOKUP($C386, 'Nanodrop Data Raw'!$C:$L, 10, FALSE), VLOOKUP($C386, 'Nanodrop Data Raw'!$C:$L, 2, FALSE))","v":{"$error":"#N/A"}},60,"AVE",{"$error":"#N/A"},{"$f":"VLOOKUP($C386, 'Nanodrop Data Raw'!$C:$L, 3, FALSE)","v":{"$error":"#N/A"}},{"$f":"VLOOKUP($C386, 'Nanodrop Data Raw'!$C:$L, 4, FALSE)","v":{"$error":"#N/A"}},null,null,null,null,{"$f":"'Sample Information'!$G$6","v":0},{"$f":"'Sample Information'!$G$5","v":0},null,null,{"$f":"'Sample Information'!$G$7","v":"Virus Pathogen Midi Kit, Complex_400_V4_DSP_Default_IC"},null,{"$error":"#N/A"}]
[{"$f":"'Sample Information'!A387","v":386},{"$f":"'Sample Information'!B387","v":0},{"$f":"CONCATENATE(B387,\"-DNA\")","v":"0-DNA"},{"$f":"'Sample Information'!E387","v":0},{"$f":"IF(VLOOKUP($C387, 'Nanodrop Data Raw'!$C:$L, 10, FALSE)<>\"\", VLOOKUP($C387, 'Nanodrop Data Raw'!$C:$L, 10, FALSE), VLOOKUP($C387, 'Nanodrop Data Raw'!$C:$L, 2, FALSE))","v":{"$error":"#N/A"}},60,"AVE",{"$f":"E387*F387/1000","v":{"$error":"#N/A"}},{"$f":"VLOOKUP($C387, 'Nanodrop Data Raw'!$C:$L, 3, FALSE)","v":{"$error":"#N/A"}},{"$f":"VLOOKUP($C387, 'Nanodrop Data Raw'!$C:$L, 4, FALSE)","v":{"$error":"#N/A"}},null,null,null,null,{"$f":"'Sample Information'!$G$6","v":0},{"$f":"'Sample Information'!$G$5","v":0},null,null,{"$f":"'Sample Information'!$G$7","v":"Virus Pathogen Midi Kit, Complex_400_V4_DSP_Default_IC"},null,{"$f":"$O387/$E387","v":{"$error":"#N/A"}}]
[{"$f":"'Sample Information'!A388","v":387},{"$f":"'Sample Information'!B388","v":0},"0-DNA",{"$f":"'Sample Information'!E388","v":0},{"$f":"IF(VLOOKUP($C388, 'Nanodrop Data Raw'!$C:$L, 10, FALSE)<>\"\", VLOOKUP($C388, 'Nanodrop Data Raw'!$C:$L, 10, FALSE), VLOOKUP($C388, 'Nanodrop Data Raw'!$C:$L, 2, FALSE))","v":{"$error":"#N/A"}},60,"AVE",{"$error":"#N/A"},{"$f":"VLOOKUP($C388, 'Nanodrop Data Raw'!$C:$L, 3, FALSE)","v":{"$error":"#N/A"}},{"$f":"VLOOKUP($C388, 'Nanodrop Data Raw'!$C:$L, 4, FALSE)","v":{"$error":"#N/A"}},null,null,null,null,{"$f":"'Sample Information'!$G$6","v":0},{"$f":"'Sample Information'!$G$5","v":0},null,null,{"$f":"'Sample Information'!$G$7","v":"Virus Pathogen Midi Kit, Complex_400_V4_DSP_Default_IC"},null,{"$error":"#N/A"}]
[{"$f":"'Sample Information'!A389","v":388},{"$f":"'Sample Information'!B389","v":0},"0-DNA",{"$f":"'Sample Information'!E389","v":0},{"$f":"IF(VLOOKUP($C389, 'Nanodrop Data Raw'!$C:$L, 10, FALSE)<>\"\", VLOOKUP($C389, 'Nanodrop Data Raw'!$C:$L, 10, FALSE), VLOOKUP($C389, 'Nanodrop Data Raw'!$C:$L, 2, FALSE))","v":{"$error":"#N/A"}},60,"AVE",{"$error":"#N/A"},{"$f":"VLOOKUP($C389, 'Nanodrop Data Raw'!$C:$L, 3, FALSE)","v":{"$error":"#N/A"}},{"$f":"VLOOKUP($C389, 'Nanodrop Data Raw'!$C:$L, 4, FALSE)","v":{"$error":"#N/A"}},null,null,null,null,{"$f":"'Sample Information'!$G$6","v":0},{"$f":"'Sample Information'!$G$5","v":0},null,null,{"$f":"'Sample Information'!$G$7","v":"Virus Pathogen Midi Kit, Complex_400_V4_DSP_Default_IC"},null,{"$error":"#N/A"}]
[{"$f":"'Sample Information'!A390","v":389},{"$f":"'Sample Information'!B390","v":0},"0-DNA",{"$f":"'Sample Information'!E390","v":0},{"$f":"IF(VLOOKUP($C390, 'Nanodrop Data Raw'!$C:$L, 10, FALSE)<>\"\", VLOOKUP($C390, 'Nanodrop Data Raw'!$C:$L, 10, FALSE), VLOOKUP($C390, 'Nanodrop Data Raw'!$C:$L, 2, FALSE))","v":{"$error":"#N/A"}},60,"AVE",{"$error":"#N/A"},{"$f":"VLOOKUP($C390, 'Nanodrop Data Raw'!$C:$L, 3, FALSE)","v":{"$error":"#N/A"}},{"$f":"VLOOKUP($C390, 'Nanodrop Data Raw'!$C:$L, 4, FALSE)","v":{"$error":"#N/A"}},null,null,null,null,{"$f":"'Sample Information'!$G$6","v":0},{"$f":"'Sample Information'!$G$5","v":0},null,null,{"$f":"'Sample Information'!$G$7","v":"Virus Pathogen Midi Kit, Complex_400_V4_DSP_Default_IC"},null,{"$error":"#N/A"}]
[{"$f":"'Sample Information'!A391","v":390},{"$f":"'Sample Information'!B391","v":0},"0-DNA",{"$f":"'Sample Information'!E391","v":0},{"$f":"IF(VLOOKUP($C391, 'Nanodrop Data Raw'!$C:$L, 10, FALSE)<>\"\", VLOOKUP($C391, 'Nanodrop Data Raw'!$C:$L, 10, FALSE), VLOOKUP($C391, 'Nanodrop Data Raw'!$C:$L, 2, FALSE))","v":{"$error":"#N/A"}},60,"AVE",{"$error":"#N/A"},{"$f":"VLOOKUP($C391, 'Nanodrop Data Raw'!$C:$L, 3, FALSE)","v":{"$error":"#N/A"}},{"$f":"VLOOKUP($C391, 'Nanodrop Data Raw'!$C:$L, 4, FALSE)","v":{"$error":"#N/A"}},null,null,null,null,{"$f":"'Sample Information'!$G$6","v":0},{"$f":"'Sample Information'!$G$5","v":0},null,null,{"$f":"'Sample Information'!$G$7","v":"Virus Pathogen Midi Kit, Complex_400_V4_DSP_Default_IC"},null,{"$error":"#N/A"}]
[{"$f":"'Sample Information'!A392","v":391},{"$f":"'Sample Information'!B392","v":0},"0-DNA",{"$f":"'Sample Information'!E392","v":0},{"$f":"IF(VLOOKUP($C392, 'Nanodrop Data Raw'!$C:$L, 10, FALSE)<>\"\", VLOOKUP($C392, 'Nanodrop Data Raw'!$C:$L, 10, FALSE), VLOOKUP($C392, 'Nanodrop Data Raw'!$C:$L, 2, FALSE))","v":{"$error":"#N/A"}},60,"AVE",{"$error":"#N/A"},{"$f":"VLOOKUP($C392, 'Nanodrop Data Raw'!$C:$L, 3, FALSE)","v":{"$error":"#N/A"}},{"$f":"VLOOKUP($C392, 'Nanodrop Data Raw'!$C:$L, 4, FALSE)","v":{"$error":"#N/A"}},null,null,null,null,{"$f":"'Sample Information'!$G$6","v":0},{"$f":"'Sample Information'!$G$5","v":0},null,null,{"$f":"'Sample Information'!$G$7","v":"Virus Pathogen Midi Kit, Complex_400_V4_DSP_Default_IC"},null,{"$error":"#N/A"}]
[{"$f":"'Sample Information'!A393","v":392},{"$f":"'Sample Information'!B393","v":0},"0-DNA",{"$f":"'Sample Information'!E393","v":0},{"$f":"IF(VLOOKUP($C393, 'Nanodrop Data Raw'!$C:$L, 10, FALSE)<>\"\", VLOOKUP($C393, 'Nanodrop Data Raw'!$C:$L, 10, FALSE), VLOOKUP($C393, 'Nanodrop Data Raw'!$C:$L, 2, FALSE))","v":{"$error":"#N/A"}},60,"AVE",{"$error":"#N/A"},{"$f":"VLOOKUP($C393, 'Nanodrop Data Raw'!$C:$L, 3, FALSE)","v":{"$error":"#N/A"}},{"$f":"VLOOKUP($C393, 'Nanodrop Data Raw'!$C:$L, 4, FALSE)","v":{"$error":"#N/A"}},null,null,null,null,{"$f":"'Sample Information'!$G$6","v":0},{"$f":"'Sample Information'!$G$5","v":0},null,null,{"$f":"'Sample Information'!$G$7","v":"Virus Pathogen Midi Kit, Complex_400_V4_DSP_Default_IC"},null,{"$error":"#N/A"}]
[{"$f":"'Sample Information'!A394","v":393},{"$f":"'Sample Information'!B394","v":0},"0-DNA",{"$f":"'Sample Information'!E394","v":0},{"$f":"IF(VLOOKUP($C394, 'Nanodrop Data Raw'!$C:$L, 10, FALSE)<>\"\", VLOOKUP($C394, 'Nanodrop Data Raw'!$C:$L, 10, FALSE), VLOOKUP($C394, 'Nanodrop Data Raw'!$C:$L, 2, FALSE))","v":{"$error":"#N/A"}},60,"AVE",{"$error":"#N/A"},{"$f":"VLOOKUP($C394, 'Nanodrop Data Raw'!$C:$L, 3, FALSE)","v":{"$error":"#N/A"}},{"$f":"VLOOKUP($C394, 'Nanodrop Data Raw'!$C:$L, 4, FALSE)","v":{"$error":"#N/A"}},null,null,null,null,{"$f":"'Sample Information'!$G$6","v":0},{"$f":"'Sample Information'!$G$5","v":0},null,null,{"$f":"'Sample Information'!$G$7","v":"Virus Pathogen Midi Kit, Complex_400_V4_DSP_Default_IC"},null,{"$error":"#N/A"}]
[{"$f":"'Sample Information'!A395","v":394},{"$f":"'Sample Information'!B395","v":0},"0-DNA",{"$f":"'Sample Information'!E395","v":0},{"$f":"IF(VLOOKUP($C395, 'Nanodrop Data Raw'!$C:$L, 10, FALSE)<>\"\", VLOOKUP($C395, 'Nanodrop Data Raw'!$C:$L, 10, FALSE), VLOOKUP($C395, 'Nanodrop Data Raw'!$C:$L, 2, FALSE))","v":{"$error":"#N/A"}},60,"AVE",{"$error":"#N/A"},{"$f":"VLOOKUP($C395, 'Nanodrop Data Raw'!$C:$L, 3, FALSE)","v":{"$error":"#N/A"}},{"$f":"VLOOKUP($C395, 'Nanodrop Data Raw'!$C:$L, 4, FALSE)","v":{"$error":"#N/A"}},null,null,null,null,{"$f":"'Sample Information'!$G$6","v":0},{"$f":"'Sample Information'!$G$5","v":0},null,null,{"$f":"'Sample Information'!$G$7","v":"Virus Pathogen Midi Kit, Complex_400_V4_DSP_Default_IC"},null,{"$error":"#N/A"}]
[{"$f":"'Sample Information'!A396","v":395},{"$f":"'Sample Information'!B396","v":0},"0-DNA",{"$f":"'Sample Information'!E396","v":0},{"$f":"IF(VLOOKUP($C396, 'Nanodrop Data Raw'!$C:$L, 10, FALSE)<>\"\", VLOOKUP($C396, 'Nanodrop Data Raw'!$C:$L, 10, FALSE), VLOOKUP($C396, 'Nanodrop Data Raw'!$C:$L, 2, FALSE))","v":{"$error":"#N/A"}},60,"AVE",{"$error":"#N/A"},{"$f":"VLOOKUP($C396, 'Nanodrop Data Raw'!$C:$L, 3, FALSE)","v":{"$error":"#N/A"}},{"$f":"VLOOKUP($C396, 'Nanodrop Data Raw'!$C:$L, 4, FALSE)","v":{"$error":"#N/A"}},null,null,null,null,{"$f":"'Sample Information'!$G$6","v":0},{"$f":"'Sample Information'!$G$5","v":0},null,null,{"$f":"'Sample Information'!$G$7","v":"Virus Pathogen Midi Kit, Complex_400_V4_DSP_Default_IC"},null,{"$error":"#N/A"}]
[{"$f":"'Sample Information'!A397","v":396},{"$f":"'Sample Information'!B397","v":0},"0-DNA",{"$f":"'Sample Information'!E397","v":0},{"$f":"IF(VLOOKUP($C397, 'Nanodrop Data Raw'!$C:$L, 10, FALSE)<>\"\", VLOOKUP($C397, 'Nanodrop Data Raw'!$C:$L, 10, FALSE), VLOOKUP($C397, 'Nanodrop Data Raw'!$C:$L, 2, FALSE))","v":{"$error":"#N/A"}},60,"AVE",{"$error":"#N/A"},{"$f":"VLOOKUP($C397, 'Nanodrop Data Raw'!$C:$L, 3, FALSE)","v":{"$error":"#N/A"}},{"$f":"VLOOKUP($C397, 'Nanodrop Data Raw'!$C:$L, 4, FALSE)","v":{"$error":"#N/A"}},null,null,null,null,{"$f":"'Sample Information'!$G$6","v":0},{"$f":"'Sample Information'!$G$5","v":0},null,null,{"$f":"'Sample Information'!$G$7","v":"Virus Pathogen Midi Kit, Complex_400_V4_DSP_Default_IC"},null,{"$error":"#N/A"}]
[{"$f":"'Sample Information'!A398","v":397},{"$f":"'Sample Information'!B398","v":0},"0-DNA",{"$f":"'Sample Information'!E398","v":0},{"$f":"IF(VLOOKUP($C398, 'Nanodrop Data Raw'!$C:$L, 10, FALSE)<>\"\", VLOOKUP($C398, 'Nanodrop Data Raw'!$C:$L, 10, FALSE), VLOOKUP($C398, 'Nanodrop Data Raw'!$C:$L, 2, FALSE))","v":{"$error":"#N/A"}},60,"AVE",{"$error":"#N/A"},{"$f":"VLOOKUP($C398, 'Nanodrop Data Raw'!$C:$L, 3, FALSE)","v":{"$error":"#N/A"}},{"$f":"VLOOKUP($C398, 'Nanodrop Data Raw'!$C:$L, 4, FALSE)","v":{"$error":"#N/A"}},null,null,null,null,{"$f":"'Sample Information'!$G$6","v":0},{"$f":"'Sample Information'!$G$5","v":0},null,null,{"$f":"'Sample Information'!$G$7","v":"Virus Pathogen Midi Kit, Complex_400_V4_DSP_Default_IC"},null,{"$error":"#N/A"}]
[{"$f":"'Sample Information'!A399","v":398},{"$f":"'Sample Information'!B399","v":0},"0-DNA",{"$f":"'Sample Information'!E399","v":0},{"$f":"IF(VLOOKUP($C399, 'Nanodrop Data Raw'!$C:$L, 10, FALSE)<>\"\", VLOOKUP($C399, 'Nanodrop Data Raw'!$C:$L, 10, FALSE), VLOOKUP($C399, 'Nanodrop Data Raw'!$C:$L, 2, FALSE))","v":{"$error":"#N/A"}},60,"AVE",{"$error":"#N/A"},{"$f":"VLOOKUP($C399, 'Nanodrop Data Raw'!$C:$L, 3, FALSE)","v":{"$error":"#N/A"}},{"$f":"VLOOKUP($C399, 'Nanodrop Data Raw'!$C:$L, 4, FALSE)","v":{"$error":"#N/A"}},null,null,null,null,{"$f":"'Sample Information'!$G$6","v":0},{"$f":"'Sample Information'!$G$5","v":0},null,null,{"$f":"'Sample Information'!$G$7","v":"Virus Pathogen Midi Kit, Complex_400_V4_DSP_Default_IC"},null,{"$error":"#N/A"}]
[{"$f":"'Sample Information'!A400","v":399},{"$f":"'Sample Information'!B400","v":0},"0-DNA",{"$f":"'Sample Information'!E400","v":0},{"$f":"IF(VLOOKUP($C400, 'Nanodrop Data Raw'!$C:$L, 10, FALSE)<>\"\", VLOOKUP($C400, 'Nanodrop Data Raw'!$C:$L, 10, FALSE), VLOOKUP($C400, 'Nanodrop Data Raw'!$C:$L, 2, FALSE))","v":{"$error":"#N/A"}},60,"AVE",{"$error":"#N/A"},{"$f":"VLOOKUP($C400, 'Nanodrop Data Raw'!$C:$L, 3, FALSE)","v":{"$error":"#N/A"}},{"$f":"VLOOKUP($C400, 'Nanodrop Data Raw'!$C:$L, 4, FALSE)","v":{"$error":"#N/A"}},null,null,null,null,{"$f":"'Sample Information'!$G$6","v":0},{"$f":"'Sample Information'!$G$5","v":0},null,null,{"$f":"'Sample Information'!$G$7","v":"Virus Pathogen Midi Kit, Complex_400_V4_DSP_Default_IC"},null,{"$error":"#N/A"}]
[{"$f":"'Sample Information'!A401","v":400},{"$f":"'Sample Information'!B401","v":0},"0-DNA",{"$f":"'Sample Information'!E401","v":0},{"$f":"IF(VLOOKUP($C401, 'Nanodrop Data Raw'!$C:$L, 10, FALSE)<>\"\", VLOOKUP($C401, 'Nanodrop Data Raw'!$C:$L, 10, FALSE), VLOOKUP($C401, 'Nanodrop Data Raw'!$C:$L, 2, FALSE))","v":{"$error":"#N/A"}},60,"AVE",{"$error":"#N/A"},{"$f":"VLOOKUP($C401, 'Nanodrop Data Raw'!$C:$L, 3, FALSE)","v":{"$error":"#N/A"}},{"$f":"VLOOKUP($C401, 'Nanodrop Data Raw'!$C:$L, 4, FALSE)","v":{"$error":"#N/A"}},null,null,null,null,{"$f":"'Sample Information'!$G$6","v":0},{"$f":"'Sample Information'!$G$5","v":0},null,null,{"$f":"'Sample Information'!$G$7","v":"Virus Pathogen Midi Kit, Complex_400_V4_DSP_Default_IC"},null,{"$error":"#N/A"}]
[{"$f":"'Sample Information'!A402","v":401},{"$f":"'Sample Information'!B402","v":0},"0-DNA",{"$f":"'Sample Information'!E402","v":0},{"$f":"IF(VLOOKUP($C402, 'Nanodrop Data Raw'!$C:$L, 10, FALSE)<>\"\", VLOOKUP($C402, 'Nanodrop Data Raw'!$C:$L, 10, FALSE), VLOOKUP($C402, 'Nanodrop Data Raw'!$C:$L, 2, FALSE))","v":{"$error":"#N/A"}},60,"AVE",{"$error":"#N/A"},{"$f":"VLOOKUP($C402, 'Nanodrop Data Raw'!$C:$L, 3, FALSE)","v":{"$error":"#N/A"}},{"$f":"VLOOKUP($C402, 'Nanodrop Data Raw'!$C:$L, 4, FALSE)","v":{"$error":"#N/A"}},null,null,null,null,{"$f":"'Sample Information'!$G$6","v":0},{"$f":"'Sample Information'!$G$5","v":0},null,null,{"$f":"'Sample Information'!$G$7","v":"Virus Pathogen Midi Kit, Complex_400_V4_DSP_Default_IC"},null,{"$error":"#N/A"}]
[{"$f":"'Sample Information'!A403","v":402},{"$f":"'Sample Information'!B403","v":0},"0-DNA",{"$f":"'Sample Information'!E403","v":0},{"$f":"IF(VLOOKUP($C403, 'Nanodrop Data Raw'!$C:$L, 10, FALSE)<>\"\", VLOOKUP($C403, 'Nanodrop Data Raw'!$C:$L, 10, FALSE), VLOOKUP($C403, 'Nanodrop Data Raw'!$C:$L, 2, FALSE))","v":{"$error":"#N/A"}},60,"AVE",{"$error":"#N/A"},{"$f":"VLOOKUP($C403, 'Nanodrop Data Raw'!$C:$L, 3, FALSE)","v":{"$error":"#N/A"}},{"$f":"VLOOKUP($C403, 'Nanodrop Data Raw'!$C:$L, 4, FALSE)","v":{"$error":"#N/A"}},null,null,null,null,{"$f":"'Sample Information'!$G$6","v":0},{"$f":"'Sample Information'!$G$5","v":0},null,null,{"$f":"'Sample Information'!$G$7","v":"Virus Pathogen Midi Kit, Complex_400_V4_DSP_Default_IC"},null,{"$error":"#N/A"}]
[{"$f":"'Sample Information'!A404","v":403},{"$f":"'Sample Information'!B404","v":0},"0-DNA",{"$f":"'Sample Information'!E404","v":0},{"$f":"IF(VLOOKUP($C404, 'Nanodrop Data Raw'!$C:$L, 10, FALSE)<>\"\", VLOOKUP($C404, 'Nanodrop Data Raw'!$C:$L, 10, FALSE), VLOOKUP($C404, 'Nanodrop Data Raw'!$C:$L, 2, FALSE))","v":{"$error":"#N/A"}},60,"AVE",{"$error":"#N/A"},{"$f":"VLOOKUP($C404, 'Nanodrop Data Raw'!$C:$L, 3, FALSE)","v":{"$error":"#N/A"}},{"$f":"VLOOKUP($C404, 'Nanodrop Data Raw'!$C:$L, 4, FALSE)","v":{"$error":"#N/A"}},null,null,null,null,{"$f":"'Sample Information'!$G$6","v":0},{"$f":"'Sample Information'!$G$5","v":0},null,null,{"$f":"'Sample Information'!$G$7","v":"Virus Pathogen Midi Kit, Complex_400_V4_DSP_Default_IC"},null,{"$error":"#N/A"}]
[{"$f":"'Sample Information'!A405","v":404},{"$f":"'Sample Information'!B405","v":0},"0-DNA",{"$f":"'Sample Information'!E405","v":0},{"$f":"IF(VLOOKUP($C405, 'Nanodrop Data Raw'!$C:$L, 10, FALSE)<>\"\", VLOOKUP($C405, 'Nanodrop Data Raw'!$C:$L, 10, FALSE), VLOOKUP($C405, 'Nanodrop Data Raw'!$C:$L, 2, FALSE))","v":{"$error":"#N/A"}},60,"AVE",{"$error":"#N/A"},{"$f":"VLOOKUP($C405, 'Nanodrop Data Raw'!$C:$L, 3, FALSE)","v":{"$error":"#N/A"}},{"$f":"VLOOKUP($C405, 'Nanodrop Data Raw'!$C:$L, 4, FALSE)","v":{"$error":"#N/A"}},null,null,null,null,{"$f":"'Sample Information'!$G$6","v":0},{"$f":"'Sample Information'!$G$5","v":0},null,null,{"$f":"'Sample Information'!$G$7","v":"Virus Pathogen Midi Kit, Complex_400_V4_DSP_Default_IC"},null,{"$error":"#N/A"}]
[{"$f":"'Sample Information'!A406","v":405},{"$f":"'Sample Information'!B406","v":0},"0-DNA",{"$f":"'Sample Information'!E406","v":0},{"$f":"IF(VLOOKUP($C406, 'Nanodrop Data Raw'!$C:$L, 10, FALSE)<>\"\", VLOOKUP($C406, 'Nanodrop Data Raw'!$C:$L, 10, FALSE), VLOOKUP($C406, 'Nanodrop Data Raw'!$C:$L, 2, FALSE))","v":{"$error":"#N/A"}},60,"AVE",{"$error":"#N/A"},{"$f":"VLOOKUP($C406, 'Nanodrop Data Raw'!$C:$L, 3, FALSE)","v":{"$error":"#N/A"}},{"$f":"VLOOKUP($C406, 'Nanodrop Data Raw'!$C:$L, 4, FALSE)","v":{"$error":"#N/A"}},null,null,null,null,{"$f":"'Sample Information'!$G$6","v":0},{"$f":"'Sample Information'!$G$5","v":0},null,null,{"$f":"'Sample Information'!$G$7","v":"Virus Pathogen Midi Kit, Complex_400_V4_DSP_Default_IC"},null,{"$error":"#N/A"}]
[{"$f":"'Sample Information'!A407","v":406},{"$f":"'Sample Information'!B407","v":0},"0-DNA",{"$f":"'Sample Information'!E407","v":0},{"$f":"IF(VLOOKUP($C407, 'Nanodrop Data Raw'!$C:$L, 10, FALSE)<>\"\", VLOOKUP($C407, 'Nanodrop Data Raw'!$C:$L, 10, FALSE), VLOOKUP($C407, 'Nanodrop Data Raw'!$C:$L, 2, FALSE))","v":{"$error":"#N/A"}},60,"AVE",{"$error":"#N/A"},{"$f":"VLOOKUP($C407, 'Nanodrop Data Raw'!$C:$L, 3, FALSE)","v":{"$error":"#N/A"}},{"$f":"VLOOKUP($C407, 'Nanodrop Data Raw'!$C:$L, 4, FALSE)","v":{"$error":"#N/A"}},null,null,null,null,{"$f":"'Sample Information'!$G$6","v":0},{"$f":"'Sample Information'!$G$5","v":0},null,null,{"$f":"'Sample Information'!$G$7","v":"Virus Pathogen Midi Kit, Complex_400_V4_DSP_Default_IC"},null,{"$error":"#N/A"}]
[{"$f":"'Sample Information'!A408","v":407},{"$f":"'Sample Information'!B408","v":0},"0-DNA",{"$f":"'Sample Information'!E408","v":0},{"$f":"IF(VLOOKUP($C408, 'Nanodrop Data Raw'!$C:$L, 10, FALSE)<>\"\", VLOOKUP($C408, 'Nanodrop Data Raw'!$C:$L, 10, FALSE), VLOOKUP($C408, 'Nanodrop Data Raw'!$C:$L, 2, FALSE))","v":{"$error":"#N/A"}},60,"AVE",{"$error":"#N/A"},{"$f":"VLOOKUP($C408, 'Nanodrop Data Raw'!$C:$L, 3, FALSE)","v":{"$error":"#N/A"}},{"$f":"VLOOKUP($C408, 'Nanodrop Data Raw'!$C:$L, 4, FALSE)","v":{"$error":"#N/A"}},null,null,null,null,{"$f":"'Sample Information'!$G$6","v":0},{"$f":"'Sample Information'!$G$5","v":0},null,null,{"$f":"'Sample Information'!$G$7","v":"Virus Pathogen Midi Kit, Complex_400_V4_DSP_Default_IC"},null,{"$error":"#N/A"}]
[{"$f":"'Sample Information'!A409","v":408},{"$f":"'Sample Information'!B409","v":0},"0-DNA",{"$f":"'Sample Information'!E409","v":0},{"$f":"IF(VLOOKUP($C409, 'Nanodrop Data Raw'!$C:$L, 10, FALSE)<>\"\", VLOOKUP($C409, 'Nanodrop Data Raw'!$C:$L, 10, FALSE), VLOOKUP($C409, 'Nanodrop Data Raw'!$C:$L, 2, FALSE))","v":{"$error":"#N/A"}},60,"AVE",{"$error":"#N/A"},{"$f":"VLOOKUP($C409, 'Nanodrop Data Raw'!$C:$L, 3, FALSE)","v":{"$error":"#N/A"}},{"$f":"VLOOKUP($C409, 'Nanodrop Data Raw'!$C:$L, 4, FALSE)","v":{"$error":"#N/A"}},null,null,null,null,{"$f":"'Sample Information'!$G$6","v":0},{"$f":"'Sample Information'!$G$5","v":0},null,null,{"$f":"'Sample Information'!$G$7","v":"Virus Pathogen Midi Kit, Complex_400_V4_DSP_Default_IC"},null,{"$error":"#N/A"}]
[{"$f":"'Sample Information'!A410","v":409},{"$f":"'Sample Information'!B410","v":0},"0-DNA",{"$f":"'Sample Information'!E410","v":0},{"$f":"IF(VLOOKUP($C410, 'Nanodrop Data Raw'!$C:$L, 10, FALSE)<>\"\", VLOOKUP($C410, 'Nanodrop Data Raw'!$C:$L, 10, FALSE), VLOOKUP($C410, 'Nanodrop Data Raw'!$C:$L, 2, FALSE))","v":{"$error":"#N/A"}},60,"AVE",{"$error":"#N/A"},{"$f":"VLOOKUP($C410, 'Nanodrop Data Raw'!$C:$L, 3, FALSE)","v":{"$error":"#N/A"}},{"$f":"VLOOKUP($C410, 'Nanodrop Data Raw'!$C:$L, 4, FALSE)","v":{"$error":"#N/A"}},null,null,null,null,{"$f":"'Sample Information'!$G$6","v":0},{"$f":"'Sample Information'!$G$5","v":0},null,null,{"$f":"'Sample Information'!$G$7","v":"Virus Pathogen Midi Kit, Complex_400_V4_DSP_Default_IC"},null,{"$error":"#N/A"}]
[{"$f":"'Sample Information'!A411","v":410},{"$f":"'Sample Information'!B411","v":0},"0-DNA",{"$f":"'Sample Information'!E411","v":0},{"$f":"IF(VLOOKUP($C411, 'Nanodrop Data Raw'!$C:$L, 10, FALSE)<>\"\", VLOOKUP($C411, 'Nanodrop Data Raw'!$C:$L, 10, FALSE), VLOOKUP($C411, 'Nanodrop Data Raw'!$C:$L, 2, FALSE))","v":{"$error":"#N/A"}},60,"AVE",{"$error":"#N/A"},{"$f":"VLOOKUP($C411, 'Nanodrop Data Raw'!$C:$L, 3, FALSE)","v":{"$error":"#N/A"}},{"$f":"VLOOKUP($C411, 'Nanodrop Data Raw'!$C:$L, 4, FALSE)","v":{"$error":"#N/A"}},null,null,null,null,{"$f":"'Sample Information'!$G$6","v":0},{"$f":"'Sample Information'!$G$5","v":0},null,null,{"$f":"'Sample Information'!$G$7","v":"Virus Pathogen Midi Kit, Complex_400_V4_DSP_Default_IC"},null,{"$error":"#N/A"}]
[{"$f":"'Sample Information'!A412","v":411},{"$f":"'Sample Information'!B412","v":0},"0-DNA",{"$f":"'Sample Information'!E412","v":0},{"$f":"IF(VLOOKUP($C412, 'Nanodrop Data Raw'!$C:$L, 10, FALSE)<>\"\", VLOOKUP($C412, 'Nanodrop Data Raw'!$C:$L, 10, FALSE), VLOOKUP($C412, 'Nanodrop Data Raw'!$C:$L, 2, FALSE))","v":{"$error":"#N/A"}},60,"AVE",{"$error":"#N/A"},{"$f":"VLOOKUP($C412, 'Nanodrop Data Raw'!$C:$L, 3, FALSE)","v":{"$error":"#N/A"}},{"$f":"VLOOKUP($C412, 'Nanodrop Data Raw'!$C:$L, 4, FALSE)","v":{"$error":"#N/A"}},null,null,null,null,{"$f":"'Sample Information'!$G$6","v":0},{"$f":"'Sample Information'!$G$5","v":0},null,null,{"$f":"'Sample Information'!$G$7","v":"Virus Pathogen Midi Kit, Complex_400_V4_DSP_Default_IC"},null,{"$error":"#N/A"}]
[{"$f":"'Sample Information'!A413","v":412},{"$f":"'Sample Information'!B413","v":0},"0-DNA",{"$f":"'Sample Information'!E413","v":0},{"$f":"IF(VLOOKUP($C413, 'Nanodrop Data Raw'!$C:$L, 10, FALSE)<>\"\", VLOOKUP($C413, 'Nanodrop Data Raw'!$C:$L, 10, FALSE), VLOOKUP($C413, 'Nanodrop Data Raw'!$C:$L, 2, FALSE))","v":{"$error":"#N/A"}},60,"AVE",{"$error":"#N/A"},{"$f":"VLOOKUP($C413, 'Nanodrop Data Raw'!$C:$L, 3, FALSE)","v":{"$error":"#N/A"}},{"$f":"VLOOKUP($C413, 'Nanodrop Data Raw'!$C:$L, 4, FALSE)","v":{"$error":"#N/A"}},null,null,null,null,{"$f":"'Sample Information'!$G$6","v":0},{"$f":"'Sample Information'!$G$5","v":0},null,null,{"$f":"'Sample Information'!$G$7","v":"Virus Pathogen Midi Kit, Complex_400_V4_DSP_Default_IC"},null,{"$error":"#N/A"}]
[{"$f":"'Sample Information'!A414","v":413},{"$f":"'Sample Information'!B414","v":0},"0-DNA",{"$f":"'Sample Information'!E414","v":0},{"$f":"IF(VLOOKUP($C414, 'Nanodrop Data Raw'!$C:$L, 10, FALSE)<>\"\", VLOOKUP($C414, 'Nanodrop Data Raw'!$C:$L, 10, FALSE), VLOOKUP($C414, 'Nanodrop Data Raw'!$C:$L, 2, FALSE))","v":{"$error":"#N/A"}},60,"AVE",{"$error":"#N/A"},{"$f":"VLOOKUP($C414, 'Nanodrop Data Raw'!$C:$L, 3, FALSE)","v":{"$error":"#N/A"}},{"$f":"VLOOKUP($C414, 'Nanodrop Data Raw'!$C:$L, 4, FALSE)","v":{"$error":"#N/A"}},null,null,null,null,{"$f":"'Sample Information'!$G$6","v":0},{"$f":"'Sample Information'!$G$5","v":0},null,null,{"$f":"'Sample Information'!$G$7","v":"Virus Pathogen Midi Kit, Complex_400_V4_DSP_Default_IC"},null,{"$error":"#N/A"}]
[{"$f":"'Sample Information'!A415","v":414},{"$f":"'Sample Information'!B415","v":0},"0-DNA",{"$f":"'Sample Information'!E415","v":0},{"$f":"IF(VLOOKUP($C415, 'Nanodrop Data Raw'!$C:$L, 10, FALSE)<>\"\", VLOOKUP($C415, 'Nanodrop Data Raw'!$C:$L, 10, FALSE), VLOOKUP($C415, 'Nanodrop Data Raw'!$C:$L, 2, FALSE))","v":{"$error":"#N/A"}},60,"AVE",{"$error":"#N/A"},{"$f":"VLOOKUP($C415, 'Nanodrop Data Raw'!$C:$L, 3, FALSE)","v":{"$error":"#N/A"}},{"$f":"VLOOKUP($C415, 'Nanodrop Data Raw'!$C:$L, 4, FALSE)","v":{"$error":"#N/A"}},null,null,null,null,{"$f":"'Sample Information'!$G$6","v":0},{"$f":"'Sample Information'!$G$5","v":0},null,null,{"$f":"'Sample Information'!$G$7","v":"Virus Pathogen Midi Kit, Complex_400_V4_DSP_Default_IC"},null,{"$error":"#N/A"}]
[{"$f":"'Sample Information'!A416","v":415},{"$f":"'Sample Information'!B416","v":0},"0-DNA",{"$f":"'Sample Information'!E416","v":0},{"$f":"IF(VLOOKUP($C416, 'Nanodrop Data Raw'!$C:$L, 10, FALSE)<>\"\", VLOOKUP($C416, 'Nanodrop Data Raw'!$C:$L, 10, FALSE), VLOOKUP($C416, 'Nanodrop Data Raw'!$C:$L, 2, FALSE))","v":{"$error":"#N/A"}},60,"AVE",{"$error":"#N/A"},{"$f":"VLOOKUP($C416, 'Nanodrop Data Raw'!$C:$L, 3, FALSE)","v":{"$error":"#N/A"}},{"$f":"VLOOKUP($C416, 'Nanodrop Data Raw'!$C:$L, 4, FALSE)","v":{"$error":"#N/A"}},null,null,null,null,{"$f":"'Sample Information'!$G$6","v":0},{"$f":"'Sample Information'!$G$5","v":0},null,null,{"$f":"'Sample Information'!$G$7","v":"Virus Pathogen Midi Kit, Complex_400_V4_DSP_Default_IC"},null,{"$error":"#N/A"}]
[{"$f":"'Sample Information'!A417","v":416},{"$f":"'Sample Information'!B417","v":0},"0-DNA",{"$f":"'Sample Information'!E417","v":0},{"$f":"IF(VLOOKUP($C417, 'Nanodrop Data Raw'!$C:$L, 10, FALSE)<>\"\", VLOOKUP($C417, 'Nanodrop Data Raw'!$C:$L, 10, FALSE), VLOOKUP($C417, 'Nanodrop Data Raw'!$C:$L, 2, FALSE))","v":{"$error":"#N/A"}},60,"AVE",{"$error":"#N/A"},{"$f":"VLOOKUP($C417, 'Nanodrop Data Raw'!$C:$L, 3, FALSE)","v":{"$error":"#N/A"}},{"$f":"VLOOKUP($C417, 'Nanodrop Data Raw'!$C:$L, 4, FALSE)","v":{"$error":"#N/A"}},null,null,null,null,{"$f":"'Sample Information'!$G$6","v":0},{"$f":"'Sample Information'!$G$5","v":0},null,null,{"$f":"'Sample Information'!$G$7","v":"Virus Pathogen Midi Kit, Complex_400_V4_DSP_Default_IC"},null,{"$error":"#N/A"}]
[{"$f":"'Sample Information'!A418","v":417},{"$f":"'Sample Information'!B418","v":0},"0-DNA",{"$f":"'Sample Information'!E418","v":0},{"$f":"IF(VLOOKUP($C418, 'Nanodrop Data Raw'!$C:$L, 10, FALSE)<>\"\", VLOOKUP($C418, 'Nanodrop Data Raw'!$C:$L, 10, FALSE), VLOOKUP($C418, 'Nanodrop Data Raw'!$C:$L, 2, FALSE))","v":{"$error":"#N/A"}},60,"AVE",{"$error":"#N/A"},{"$f":"VLOOKUP($C418, 'Nanodrop Data Raw'!$C:$L, 3, FALSE)","v":{"$error":"#N/A"}},{"$f":"VLOOKUP($C418, 'Nanodrop Data Raw'!$C:$L, 4, FALSE)","v":{"$error":"#N/A"}},null,null,null,null,{"$f":"'Sample Information'!$G$6","v":0},{"$f":"'Sample Information'!$G$5","v":0},null,null,{"$f":"'Sample Information'!$G$7","v":"Virus Pathogen Midi Kit, Complex_400_V4_DSP_Default_IC"},null,{"$error":"#N/A"}]
[{"$f":"'Sample Information'!A419","v":418},{"$f":"'Sample Information'!B419","v":0},{"$f":"CONCATENATE(B419,\"-DNA\")","v":"0-DNA"},{"$f":"'Sample Information'!E419","v":0},{"$f":"IF(VLOOKUP($C419, 'Nanodrop Data Raw'!$C:$L, 10, FALSE)<>\"\", VLOOKUP($C419, 'Nanodrop Data Raw'!$C:$L, 10, FALSE), VLOOKUP($C419, 'Nanodrop Data Raw'!$C:$L, 2, FALSE))","v":{"$error":"#N/A"}},60,"AVE",{"$f":"E419*F419/1000","v":{"$error":"#N/A"}},{"$f":"VLOOKUP($C419, 'Nanodrop Data Raw'!$C:$L, 3, FALSE)","v":{"$error":"#N/A"}},{"$f":"VLOOKUP($C419, 'Nanodrop Data Raw'!$C:$L, 4, FALSE)","v":{"$error":"#N/A"}},null,null,null,null,{"$f":"'Sample Information'!$G$6","v":0},{"$f":"'Sample Information'!$G$5","v":0},null,null,{"$f":"'Sample Information'!$G$7","v":"Virus Pathogen Midi Kit, Complex_400_V4_DSP_Default_IC"},null,{"$error":"#N/A"}]
[{"$f":"'Sample Information'!A420","v":419},{"$f":"'Sample Information'!B420","v":0},"0-DNA",{"$f":"'Sample Information'!E420","v":0},{"$f":"IF(VLOOKUP($C420, 'Nanodrop Data Raw'!$C:$L, 10, FALSE)<>\"\", VLOOKUP($C420, 'Nanodrop Data Raw'!$C:$L, 10, FALSE), VLOOKUP($C420, 'Nanodrop Data Raw'!$C:$L, 2, FALSE))","v":{"$error":"#N/A"}},60,"AVE",{"$error":"#N/A"},{"$f":"VLOOKUP($C420, 'Nanodrop Data Raw'!$C:$L, 3, FALSE)","v":{"$error":"#N/A"}},{"$f":"VLOOKUP($C420, 'Nanodrop Data Raw'!$C:$L, 4, FALSE)","v":{"$error":"#N/A"}},null,null,null,null,{"$f":"'Sample Information'!$G$6","v":0},{"$f":"'Sample Information'!$G$5","v":0},null,null,{"$f":"'Sample Information'!$G$7","v":"Virus Pathogen Midi Kit, Complex_400_V4_DSP_Default_IC"},null,{"$error":"#N/A"}]
[{"$f":"'Sample Information'!A421","v":420},{"$f":"'Sample Information'!B421","v":0},"0-DNA",{"$f":"'Sample Information'!E421","v":0},{"$f":"IF(VLOOKUP($C421, 'Nanodrop Data Raw'!$C:$L, 10, FALSE)<>\"\", VLOOKUP($C421, 'Nanodrop Data Raw'!$C:$L, 10, FALSE), VLOOKUP($C421, 'Nanodrop Data Raw'!$C:$L, 2, FALSE))","v":{"$error":"#N/A"}},60,"AVE",{"$error":"#N/A"},{"$f":"VLOOKUP($C421, 'Nanodrop Data Raw'!$C:$L, 3, FALSE)","v":{"$error":"#N/A"}},{"$f":"VLOOKUP($C421, 'Nanodrop Data Raw'!$C:$L, 4, FALSE)","v":{"$error":"#N/A"}},null,null,null,null,{"$f":"'Sample Information'!$G$6","v":0},{"$f":"'Sample Information'!$G$5","v":0},null,null,{"$f":"'Sample Information'!$G$7","v":"Virus Pathogen Midi Kit, Complex_400_V4_DSP_Default_IC"},null,{"$error":"#N/A"}]
[{"$f":"'Sample Information'!A422","v":421},{"$f":"'Sample Information'!B422","v":0},"0-DNA",{"$f":"'Sample Information'!E422","v":0},{"$f":"IF(VLOOKUP($C422, 'Nanodrop Data Raw'!$C:$L, 10, FALSE)<>\"\", VLOOKUP($C422, 'Nanodrop Data Raw'!$C:$L, 10, FALSE), VLOOKUP($C422, 'Nanodrop Data Raw'!$C:$L, 2, FALSE))","v":{"$error":"#N/A"}},60,"AVE",{"$error":"#N/A"},{"$f":"VLOOKUP($C422, 'Nanodrop Data Raw'!$C:$L, 3, FALSE)","v":{"$error":"#N/A"}},{"$f":"VLOOKUP($C422, 'Nanodrop Data Raw'!$C:$L, 4, FALSE)","v":{"$error":"#N/A"}},null,null,null,null,{"$f":"'Sample Information'!$G$6","v":0},{"$f":"'Sample Information'!$G$5","v":0},null,null,{"$f":"'Sample Information'!$G$7","v":"Virus Pathogen Midi Kit, Complex_400_V4_DSP_Default_IC"},null,{"$error":"#N/A"}]
[{"$f":"'Sample Information'!A423","v":422},{"$f":"'Sample Information'!B423","v":0},"0-DNA",{"$f":"'Sample Information'!E423","v":0},{"$f":"IF(VLOOKUP($C423, 'Nanodrop Data Raw'!$C:$L, 10, FALSE)<>\"\", VLOOKUP($C423, 'Nanodrop Data Raw'!$C:$L, 10, FALSE), VLOOKUP($C423, 'Nanodrop Data Raw'!$C:$L, 2, FALSE))","v":{"$error":"#N/A"}},60,"AVE",{"$error":"#N/A"},{"$f":"VLOOKUP($C423, 'Nanodrop Data Raw'!$C:$L, 3, FALSE)","v":{"$error":"#N/A"}},{"$f":"VLOOKUP($C423, 'Nanodrop Data Raw'!$C:$L, 4, FALSE)","v":{"$error":"#N/A"}},null,null,null,null,{"$f":"'Sample Information'!$G$6","v":0},{"$f":"'Sample Information'!$G$5","v":0},null,null,{"$f":"'Sample Information'!$G$7","v":"Virus Pathogen Midi Kit, Complex_400_V4_DSP_Default_IC"},null,{"$error":"#N/A"}]
[{"$f":"'Sample Information'!A424","v":423},{"$f":"'Sample Information'!B424","v":0},"0-DNA",{"$f":"'Sample Information'!E424","v":0},{"$f":"IF(VLOOKUP($C424, 'Nanodrop Data Raw'!$C:$L, 10, FALSE)<>\"\", VLOOKUP($C424, 'Nanodrop Data Raw'!$C:$L, 10, FALSE), VLOOKUP($C424, 'Nanodrop Data Raw'!$C:$L, 2, FALSE))","v":{"$error":"#N/A"}},60,"AVE",{"$error":"#N/A"},{"$f":"VLOOKUP($C424, 'Nanodrop Data Raw'!$C:$L, 3, FALSE)","v":{"$error":"#N/A"}},{"$f":"VLOOKUP($C424, 'Nanodrop Data Raw'!$C:$L, 4, FALSE)","v":{"$error":"#N/A"}},null,null,null,null,{"$f":"'Sample Information'!$G$6","v":0},{"$f":"'Sample Information'!$G$5","v":0},null,null,{"$f":"'Sample Information'!$G$7","v":"Virus Pathogen Midi Kit, Complex_400_V4_DSP_Default_IC"},null,{"$error":"#N/A"}]
[{"$f":"'Sample Information'!A425","v":424},{"$f":"'Sample Information'!B425","v":0},"0-DNA",{"$f":"'Sample Information'!E425","v":0},{"$f":"IF(VLOOKUP($C425, 'Nanodrop Data Raw'!$C:$L, 10, FALSE)<>\"\", VLOOKUP($C425, 'Nanodrop Data Raw'!$C:$L, 10, FALSE), VLOOKUP($C425, 'Nanodrop Data Raw'!$C:$L, 2, FALSE))","v":{"$error":"#N/A"}},60,"AVE",{"$error":"#N/A"},{"$f":"VLOOKUP($C425, 'Nanodrop Data Raw'!$C:$L, 3, FALSE)","v":{"$error":"#N/A"}},{"$f":"VLOOKUP($C425, 'Nanodrop Data Raw'!$C:$L, 4, FALSE)","v":{"$error":"#N/A"}},null,null,null,null,{"$f":"'Sample Information'!$G$6","v":0},{"$f":"'Sample Information'!$G$5","v":0},null,null,{"$f":"'Sample Information'!$G$7","v":"Virus Pathogen Midi Kit, Complex_400_V4_DSP_Default_IC"},null,{"$error":"#N/A"}]
[{"$f":"'Sample Information'!A426","v":425},{"$f":"'Sample Information'!B426","v":0},"0-DNA",{"$f":"'Sample Information'!E426","v":0},{"$f":"IF(VLOOKUP($C426, 'Nanodrop Data Raw'!$C:$L, 10, FALSE)<>\"\", VLOOKUP($C426, 'Nanodrop Data Raw'!$C:$L, 10, FALSE), VLOOKUP($C426, 'Nanodrop Data Raw'!$C:$L, 2, FALSE))","v":{"$error":"#N/A"}},60,"AVE",{"$error":"#N/A"},{"$f":"VLOOKUP($C426, 'Nanodrop Data Raw'!$C:$L, 3, FALSE)","v":{"$error":"#N/A"}},{"$f":"VLOOKUP($C426, 'Nanodrop Data Raw'!$C:$L, 4, FALSE)","v":{"$error":"#N/A"}},null,null,null,null,{"$f":"'Sample Information'!$G$6","v":0},{"$f":"'Sample Information'!$G$5","v":0},null,null,{"$f":"'Sample Information'!$G$7","v":"Virus Pathogen Midi Kit, Complex_400_V4_DSP_Default_IC"},null,{"$error":"#N/A"}]
[{"$f":"'Sample Information'!A427","v":426},{"$f":"'Sample Information'!B427","v":0},"0-DNA",{"$f":"'Sample Information'!E427","v":0},{"$f":"IF(VLOOKUP($C427, 'Nanodrop Data Raw'!$C:$L, 10, FALSE)<>\"\", VLOOKUP($C427, 'Nanodrop Data Raw'!$C:$L, 10, FALSE), VLOOKUP($C427, 'Nanodrop Data Raw'!$C:$L, 2, FALSE))","v":{"$error":"#N/A"}},60,"AVE",{"$error":"#N/A"},{"$f":"VLOOKUP($C427, 'Nanodrop Data Raw'!$C:$L, 3, FALSE)","v":{"$error":"#N/A"}},{"$f":"VLOOKUP($C427, 'Nanodrop Data Raw'!$C:$L, 4, FALSE)","v":{"$error":"#N/A"}},null,null,null,null,{"$f":"'Sample Information'!$G$6","v":0},{"$f":"'Sample Information'!$G$5","v":0},null,null,{"$f":"'Sample Information'!$G$7","v":"Virus Pathogen Midi Kit, Complex_400_V4_DSP_Default_IC"},null,{"$error":"#N/A"}]
[{"$f":"'Sample Information'!A428","v":427},{"$f":"'Sample Information'!B428","v":0},"0-DNA",{"$f":"'Sample Information'!E428","v":0},{"$f":"IF(VLOOKUP($C428, 'Nanodrop Data Raw'!$C:$L, 10, FALSE)<>\"\", VLOOKUP($C428, 'Nanodrop Data Raw'!$C:$L, 10, FALSE), VLOOKUP($C428, 'Nanodrop Data Raw'!$C:$L, 2, FALSE))","v":{"$error":"#N/A"}},60,"AVE",{"$error":"#N/A"},{"$f":"VLOOKUP($C428, 'Nanodrop Data Raw'!$C:$L, 3, FALSE)","v":{"$error":"#N/A"}},{"$f":"VLOOKUP($C428, 'Nanodrop Data Raw'!$C:$L, 4, FALSE)","v":{"$error":"#N/A"}},null,null,null,null,{"$f":"'Sample Information'!$G$6","v":0},{"$f":"'Sample Information'!$G$5","v":0},null,null,{"$f":"'Sample Information'!$G$7","v":"Virus Pathogen Midi Kit, Complex_400_V4_DSP_Default_IC"},null,{"$error":"#N/A"}]
[{"$f":"'Sample Information'!A429","v":428},{"$f":"'Sample Information'!B429","v":0},"0-DNA",{"$f":"'Sample Information'!E429","v":0},{"$f":"IF(VLOOKUP($C429, 'Nanodrop Data Raw'!$C:$L, 10, FALSE)<>\"\", VLOOKUP($C429, 'Nanodrop Data Raw'!$C:$L, 10, FALSE), VLOOKUP($C429, 'Nanodrop Data Raw'!$C:$L, 2, FALSE))","v":{"$error":"#N/A"}},60,"AVE",{"$error":"#N/A"},{"$f":"VLOOKUP($C429, 'Nanodrop Data Raw'!$C:$L, 3, FALSE)","v":{"$error":"#N/A"}},{"$f":"VLOOKUP($C429, 'Nanodrop Data Raw'!$C:$L, 4, FALSE)","v":{"$error":"#N/A"}},null,null,null,null,{"$f":"'Sample Information'!$G$6","v":0},{"$f":"'Sample Information'!$G$5","v":0},null,null,{"$f":"'Sample Information'!$G$7","v":"Virus Pathogen Midi Kit, Complex_400_V4_DSP_Default_IC"},null,{"$error":"#N/A"}]
[{"$f":"'Sample Information'!A430","v":429},{"$f":"'Sample Information'!B430","v":0},"0-DNA",{"$f":"'Sample Information'!E430","v":0},{"$f":"IF(VLOOKUP($C430, 'Nanodrop Data Raw'!$C:$L, 10, FALSE)<>\"\", VLOOKUP($C430, 'Nanodrop Data Raw'!$C:$L, 10, FALSE), VLOOKUP($C430, 'Nanodrop Data Raw'!$C:$L, 2, FALSE))","v":{"$error":"#N/A"}},60,"AVE",{"$error":"#N/A"},{"$f":"VLOOKUP($C430, 'Nanodrop Data Raw'!$C:$L, 3, FALSE)","v":{"$error":"#N/A"}},{"$f":"VLOOKUP($C430, 'Nanodrop Data Raw'!$C:$L, 4, FALSE)","v":{"$error":"#N/A"}},null,null,null,null,{"$f":"'Sample Information'!$G$6","v":0},{"$f":"'Sample Information'!$G$5","v":0},null,null,{"$f":"'Sample Information'!$G$7","v":"Virus Pathogen Midi Kit, Complex_400_V4_DSP_Default_IC"},null,{"$error":"#N/A"}]
[{"$f":"'Sample Information'!A431","v":430},{"$f":"'Sample Information'!B431","v":0},"0-DNA",{"$f":"'Sample Information'!E431","v":0},{"$f":"IF(VLOOKUP($C431, 'Nanodrop Data Raw'!$C:$L, 10, FALSE)<>\"\", VLOOKUP($C431, 'Nanodrop Data Raw'!$C:$L, 10, FALSE), VLOOKUP($C431, 'Nanodrop Data Raw'!$C:$L, 2, FALSE))","v":{"$error":"#N/A"}},60,"AVE",{"$error":"#N/A"},{"$f":"VLOOKUP($C431, 'Nanodrop Data Raw'!$C:$L, 3, FALSE)","v":{"$error":"#N/A"}},{"$f":"VLOOKUP($C431, 'Nanodrop Data Raw'!$C:$L, 4, FALSE)","v":{"$error":"#N/A"}},null,null,null,null,{"$f":"'Sample Information'!$G$6","v":0},{"$f":"'Sample Information'!$G$5","v":0},null,null,{"$f":"'Sample Information'!$G$7","v":"Virus Pathogen Midi Kit, Complex_400_V4_DSP_Default_IC"},null,{"$error":"#N/A"}]
[{"$f":"'Sample Information'!A432","v":431},{"$f":"'Sample Information'!B432","v":0},"0-DNA",{"$f":"'Sample Information'!E432","v":0},{"$f":"IF(VLOOKUP($C432, 'Nanodrop Data Raw'!$C:$L, 10, FALSE)<>\"\", VLOOKUP($C432, 'Nanodrop Data Raw'!$C:$L, 10, FALSE), VLOOKUP($C432, 'Nanodrop Data Raw'!$C:$L, 2, FALSE))","v":{"$error":"#N/A"}},60,"AVE",{"$error":"#N/A"},{"$f":"VLOOKUP($C432, 'Nanodrop Data Raw'!$C:$L, 3, FALSE)","v":{"$error":"#N/A"}},{"$f":"VLOOKUP($C432, 'Nanodrop Data Raw'!$C:$L, 4, FALSE)","v":{"$error":"#N/A"}},null,null,null,null,{"$f":"'Sample Information'!$G$6","v":0},{"$f":"'Sample Information'!$G$5","v":0},null,null,{"$f":"'Sample Information'!$G$7","v":"Virus Pathogen Midi Kit, Complex_400_V4_DSP_Default_IC"},null,{"$error":"#N/A"}]
[{"$f":"'Sample Information'!A433","v":432},{"$f":"'Sample Information'!B433","v":0},"0-DNA",{"$f":"'Sample Information'!E433","v":0},{"$f":"IF(VLOOKUP($C433, 'Nanodrop Data Raw'!$C:$L, 10, FALSE)<>\"\", VLOOKUP($C433, 'Nanodrop Data Raw'!$C:$L, 10, FALSE), VLOOKUP($C433, 'Nanodrop Data Raw'!$C:$L, 2, FALSE))","v":{"$error":"#N/A"}},60,"AVE",{"$error":"#N/A"},{"$f":"VLOOKUP($C433, 'Nanodrop Data Raw'!$C:$L, 3, FALSE)","v":{"$error":"#N/A"}},{"$f":"VLOOKUP($C433, 'Nanodrop Data Raw'!$C:$L, 4, FALSE)","v":{"$error":"#N/A"}},null,null,null,null,{"$f":"'Sample Information'!$G$6","v":0},{"$f":"'Sample Information'!$G$5","v":0},null,null,{"$f":"'Sample Information'!$G$7","v":"Virus Pathogen Midi Kit, Complex_400_V4_DSP_Default_IC"},null,{"$error":"#N/A"}]
[{"$f":"'Sample Information'!A434","v":433},{"$f":"'Sample Information'!B434","v":0},"0-DNA",{"$f":"'Sample Information'!E434","v":0},{"$f":"IF(VLOOKUP($C434, 'Nanodrop Data Raw'!$C:$L, 10, FALSE)<>\"\", VLOOKUP($C434, 'Nanodrop Data Raw'!$C:$L, 10, FALSE), VLOOKUP($C434, 'Nanodrop Data Raw'!$C:$L, 2, FALSE))","v":{"$error":"#N/A"}},60,"AVE",{"$error":"#N/A"},{"$f":"VLOOKUP($C434, 'Nanodrop Data Raw'!$C:$L, 3, FALSE)","v":{"$error":"#N/A"}},{"$f":"VLOOKUP($C434, 'Nanodrop Data Raw'!$C:$L, 4, FALSE)","v":{"$error":"#N/A"}},null,null,null,null,{"$f":"'Sample Information'!$G$6","v":0},{"$f":"'Sample Information'!$G$5","v":0},null,null,{"$f":"'Sample Information'!$G$7","v":"Virus Pathogen Midi Kit, Complex_400_V4_DSP_Default_IC"},null,{"$error":"#N/A"}]
[{"$f":"'Sample Information'!A435","v":434},{"$f":"'Sample Information'!B435","v":0},"0-DNA",{"$f":"'Sample Information'!E435","v":0},{"$f":"IF(VLOOKUP($C435, 'Nanodrop Data Raw'!$C:$L, 10, FALSE)<>\"\", VLOOKUP($C435, 'Nanodrop Data Raw'!$C:$L, 10, FALSE), VLOOKUP($C435, 'Nanodrop Data Raw'!$C:$L, 2, FALSE))","v":{"$error":"#N/A"}},60,"AVE",{"$error":"#N/A"},{"$f":"VLOOKUP($C435, 'Nanodrop Data Raw'!$C:$L, 3, FALSE)","v":{"$error":"#N/A"}},{"$f":"VLOOKUP($C435, 'Nanodrop Data Raw'!$C:$L, 4, FALSE)","v":{"$error":"#N/A"}},null,null,null,null,{"$f":"'Sample Information'!$G$6","v":0},{"$f":"'Sample Information'!$G$5","v":0},null,null,{"$f":"'Sample Information'!$G$7","v":"Virus Pathogen Midi Kit, Complex_400_V4_DSP_Default_IC"},null,{"$error":"#N/A"}]
[{"$f":"'Sample Information'!A436","v":435},{"$f":"'Sample Information'!B436","v":0},"0-DNA",{"$f":"'Sample Information'!E436","v":0},{"$f":"IF(VLOOKUP($C436, 'Nanodrop Data Raw'!$C:$L, 10, FALSE)<>\"\", VLOOKUP($C436, 'Nanodrop Data Raw'!$C:$L, 10, FALSE), VLOOKUP($C436, 'Nanodrop Data Raw'!$C:$L, 2, FALSE))","v":{"$error":"#N/A"}},60,"AVE",{"$error":"#N/A"},{"$f":"VLOOKUP($C436, 'Nanodrop Data Raw'!$C:$L, 3, FALSE)","v":{"$error":"#N/A"}},{"$f":"VLOOKUP($C436, 'Nanodrop Data Raw'!$C:$L, 4, FALSE)","v":{"$error":"#N/A"}},null,null,null,null,{"$f":"'Sample Information'!$G$6","v":0},{"$f":"'Sample Information'!$G$5","v":0},null,null,{"$f":"'Sample Information'!$G$7","v":"Virus Pathogen Midi Kit, Complex_400_V4_DSP_Default_IC"},null,{"$error":"#N/A"}]
[{"$f":"'Sample Information'!A437","v":436},{"$f":"'Sample Information'!B437","v":0},"0-DNA",{"$f":"'Sample Information'!E437","v":0},{"$f":"IF(VLOOKUP($C437, 'Nanodrop Data Raw'!$C:$L, 10, FALSE)<>\"\", VLOOKUP($C437, 'Nanodrop Data Raw'!$C:$L, 10, FALSE), VLOOKUP($C437, 'Nanodrop Data Raw'!$C:$L, 2, FALSE))","v":{"$error":"#N/A"}},60,"AVE",{"$error":"#N/A"},{"$f":"VLOOKUP($C437, 'Nanodrop Data Raw'!$C:$L, 3, FALSE)","v":{"$error":"#N/A"}},{"$f":"VLOOKUP($C437, 'Nanodrop Data Raw'!$C:$L, 4, FALSE)","v":{"$error":"#N/A"}},null,null,null,null,{"$f":"'Sample Information'!$G$6","v":0},{"$f":"'Sample Information'!$G$5","v":0},null,null,{"$f":"'Sample Information'!$G$7","v":"Virus Pathogen Midi Kit, Complex_400_V4_DSP_Default_IC"},null,{"$error":"#N/A"}]
[{"$f":"'Sample Information'!A438","v":437},{"$f":"'Sample Information'!B438","v":0},"0-DNA",{"$f":"'Sample Information'!E438","v":0},{"$f":"IF(VLOOKUP($C438, 'Nanodrop Data Raw'!$C:$L, 10, FALSE)<>\"\", VLOOKUP($C438, 'Nanodrop Data Raw'!$C:$L, 10, FALSE), VLOOKUP($C438, 'Nanodrop Data Raw'!$C:$L, 2, FALSE))","v":{"$error":"#N/A"}},60,"AVE",{"$error":"#N/A"},{"$f":"VLOOKUP($C438, 'Nanodrop Data Raw'!$C:$L, 3, FALSE)","v":{"$error":"#N/A"}},{"$f":"VLOOKUP($C438, 'Nanodrop Data Raw'!$C:$L, 4, FALSE)","v":{"$error":"#N/A"}},null,null,null,null,{"$f":"'Sample Information'!$G$6","v":0},{"$f":"'Sample Information'!$G$5","v":0},null,null,{"$f":"'Sample Information'!$G$7","v":"Virus Pathogen Midi Kit, Complex_400_V4_DSP_Default_IC"},null,{"$error":"#N/A"}]
[{"$f":"'Sample Information'!A439","v":438},{"$f":"'Sample Information'!B439","v":0},"0-DNA",{"$f":"'Sample Information'!E439","v":0},{"$f":"IF(VLOOKUP($C439, 'Nanodrop Data Raw'!$C:$L, 10, FALSE)<>\"\", VLOOKUP($C439, 'Nanodrop Data Raw'!$C:$L, 10, FALSE), VLOOKUP($C439, 'Nanodrop Data Raw'!$C:$L, 2, FALSE))","v":{"$error":"#N/A"}},60,"AVE",{"$error":"#N/A"},{"$f":"VLOOKUP($C439, 'Nanodrop Data Raw'!$C:$L, 3, FALSE)","v":{"$error":"#N/A"}},{"$f":"VLOOKUP($C439, 'Nanodrop Data Raw'!$C:$L, 4, FALSE)","v":{"$error":"#N/A"}},null,null,null,null,{"$f":"'Sample Information'!$G$6","v":0},{"$f":"'Sample Information'!$G$5","v":0},null,null,{"$f":"'Sample Information'!$G$7","v":"Virus Pathogen Midi Kit, Complex_400_V4_DSP_Default_IC"},null,{"$error":"#N/A"}]
[{"$f":"'Sample Information'!A440","v":439},{"$f":"'Sample Information'!B440","v":0},"0-DNA",{"$f":"'Sample Information'!E440","v":0},{"$f":"IF(VLOOKUP($C440, 'Nanodrop Data Raw'!$C:$L, 10, FALSE)<>\"\", VLOOKUP($C440, 'Nanodrop Data Raw'!$C:$L, 10, FALSE), VLOOKUP($C440, 'Nanodrop Data Raw'!$C:$L, 2, FALSE))","v":{"$error":"#N/A"}},60,"AVE",{"$error":"#N/A"},{"$f":"VLOOKUP($C440, 'Nanodrop Data Raw'!$C:$L, 3, FALSE)","v":{"$error":"#N/A"}},{"$f":"VLOOKUP($C440, 'Nanodrop Data Raw'!$C:$L, 4, FALSE)","v":{"$error":"#N/A"}},null,null,null,null,{"$f":"'Sample Information'!$G$6","v":0},{"$f":"'Sample Information'!$G$5","v":0},null,null,{"$f":"'Sample Information'!$G$7","v":"Virus Pathogen Midi Kit, Complex_400_V4_DSP_Default_IC"},null,{"$error":"#N/A"}]
[{"$f":"'Sample Information'!A441","v":440},{"$f":"'Sample Information'!B441","v":0},"0-DNA",{"$f":"'Sample Information'!E441","v":0},{"$f":"IF(VLOOKUP($C441, 'Nanodrop Data Raw'!$C:$L, 10, FALSE)<>\"\", VLOOKUP($C441, 'Nanodrop Data Raw'!$C:$L, 10, FALSE), VLOOKUP($C441, 'Nanodrop Data Raw'!$C:$L, 2, FALSE))","v":{"$error":"#N/A"}},60,"AVE",{"$error":"#N/A"},{"$f":"VLOOKUP($C441, 'Nanodrop Data Raw'!$C:$L, 3, FALSE)","v":{"$error":"#N/A"}},{"$f":"VLOOKUP($C441, 'Nanodrop Data Raw'!$C:$L, 4, FALSE)","v":{"$error":"#N/A"}},null,null,null,null,{"$f":"'Sample Information'!$G$6","v":0},{"$f":"'Sample Information'!$G$5","v":0},null,null,{"$f":"'Sample Information'!$G$7","v":"Virus Pathogen Midi Kit, Complex_400_V4_DSP_Default_IC"},null,{"$error":"#N/A"}]
[{"$f":"'Sample Information'!A442","v":441},{"$f":"'Sample Information'!B442","v":0},"0-DNA",{"$f":"'Sample Information'!E442","v":0},{"$f":"IF(VLOOKUP($C442, 'Nanodrop Data Raw'!$C:$L, 10, FALSE)<>\"\", VLOOKUP($C442, 'Nanodrop Data Raw'!$C:$L, 10, FALSE), VLOOKUP($C442, 'Nanodrop Data Raw'!$C:$L, 2, FALSE))","v":{"$error":"#N/A"}},60,"AVE",{"$error":"#N/A"},{"$f":"VLOOKUP($C442, 'Nanodrop Data Raw'!$C:$L, 3, FALSE)","v":{"$error":"#N/A"}},{"$f":"VLOOKUP($C442, 'Nanodrop Data Raw'!$C:$L, 4, FALSE)","v":{"$error":"#N/A"}},null,null,null,null,{"$f":"'Sample Information'!$G$6","v":0},{"$f":"'Sample Information'!$G$5","v":0},null,null,{"$f":"'Sample Information'!$G$7","v":"Virus Pathogen Midi Kit, Complex_400_V4_DSP_Default_IC"},null,{"$error":"#N/A"}]
[{"$f":"'Sample Information'!A443","v":442},{"$f":"'Sample Information'!B443","v":0},"0-DNA",{"$f":"'Sample Information'!E443","v":0},{"$f":"IF(VLOOKUP($C443, 'Nanodrop Data Raw'!$C:$L, 10, FALSE)<>\"\", VLOOKUP($C443, 'Nanodrop Data Raw'!$C:$L, 10, FALSE), VLOOKUP($C443, 'Nanodrop Data Raw'!$C:$L, 2, FALSE))","v":{"$error":"#N/A"}},60,"AVE",{"$error":"#N/A"},{"$f":"VLOOKUP($C443, 'Nanodrop Data Raw'!$C:$L, 3, FALSE)","v":{"$error":"#N/A"}},{"$f":"VLOOKUP($C443, 'Nanodrop Data Raw'!$C:$L, 4, FALSE)","v":{"$error":"#N/A"}},null,null,null,null,{"$f":"'Sample Information'!$G$6","v":0},{"$f":"'Sample Information'!$G$5","v":0},null,null,{"$f":"'Sample Information'!$G$7","v":"Virus Pathogen Midi Kit, Complex_400_V4_DSP_Default_IC"},null,{"$error":"#N/A"}]
[{"$f":"'Sample Information'!A444","v":443},{"$f":"'Sample Information'!B444","v":0},"0-DNA",{"$f":"'Sample Information'!E444","v":0},{"$f":"IF(VLOOKUP($C444, 'Nanodrop Data Raw'!$C:$L, 10, FALSE)<>\"\", VLOOKUP($C444, 'Nanodrop Data Raw'!$C:$L, 10, FALSE), VLOOKUP($C444, 'Nanodrop Data Raw'!$C:$L, 2, FALSE))","v":{"$error":"#N/A"}},60,"AVE",{"$error":"#N/A"},{"$f":"VLOOKUP($C444, 'Nanodrop Data Raw'!$C:$L, 3, FALSE)","v":{"$error":"#N/A"}},{"$f":"VLOOKUP($C444, 'Nanodrop Data Raw'!$C:$L, 4, FALSE)","v":{"$error":"#N/A"}},null,null,null,null,{"$f":"'Sample Information'!$G$6","v":0},{"$f":"'Sample Information'!$G$5","v":0},null,null,{"$f":"'Sample Information'!$G$7","v":"Virus Pathogen Midi Kit, Complex_400_V4_DSP_Default_IC"},null,{"$error":"#N/A"}]
[{"$f":"'Sample Information'!A445","v":444},{"$f":"'Sample Information'!B445","v":0},"0-DNA",{"$f":"'Sample Information'!E445","v":0},{"$f":"IF(VLOOKUP($C445, 'Nanodrop Data Raw'!$C:$L, 10, FALSE)<>\"\", VLOOKUP($C445, 'Nanodrop Data Raw'!$C:$L, 10, FALSE), VLOOKUP($C445, 'Nanodrop Data Raw'!$C:$L, 2, FALSE))","v":{"$error":"#N/A"}},60,"AVE",{"$error":"#N/A"},{"$f":"VLOOKUP($C445, 'Nanodrop Data Raw'!$C:$L, 3, FALSE)","v":{"$error":"#N/A"}},{"$f":"VLOOKUP($C445, 'Nanodrop Data Raw'!$C:$L, 4, FALSE)","v":{"$error":"#N/A"}},null,null,null,null,{"$f":"'Sample Information'!$G$6","v":0},{"$f":"'Sample Information'!$G$5","v":0},null,null,{"$f":"'Sample Information'!$G$7","v":"Virus Pathogen Midi Kit, Complex_400_V4_DSP_Default_IC"},null,{"$error":"#N/A"}]
[{"$f":"'Sample Information'!A446","v":445},{"$f":"'Sample Information'!B446","v":0},"0-DNA",{"$f":"'Sample Information'!E446","v":0},{"$f":"IF(VLOOKUP($C446, 'Nanodrop Data Raw'!$C:$L, 10, FALSE)<>\"\", VLOOKUP($C446, 'Nanodrop Data Raw'!$C:$L, 10, FALSE), VLOOKUP($C446, 'Nanodrop Data Raw'!$C:$L, 2, FALSE))","v":{"$error":"#N/A"}},60,"AVE",{"$error":"#N/A"},{"$f":"VLOOKUP($C446, 'Nanodrop Data Raw'!$C:$L, 3, FALSE)","v":{"$error":"#N/A"}},{"$f":"VLOOKUP($C446, 'Nanodrop Data Raw'!$C:$L, 4, FALSE)","v":{"$error":"#N/A"}},null,null,null,null,{"$f":"'Sample Information'!$G$6","v":0},{"$f":"'Sample Information'!$G$5","v":0},null,null,{"$f":"'Sample Information'!$G$7","v":"Virus Pathogen Midi Kit, Complex_400_V4_DSP_Default_IC"},null,{"$error":"#N/A"}]
[{"$f":"'Sample Information'!A447","v":446},{"$f":"'Sample Information'!B447","v":0},"0-DNA",{"$f":"'Sample Information'!E447","v":0},{"$f":"IF(VLOOKUP($C447, 'Nanodrop Data Raw'!$C:$L, 10, FALSE)<>\"\", VLOOKUP($C447, 'Nanodrop Data Raw'!$C:$L, 10, FALSE), VLOOKUP($C447, 'Nanodrop Data Raw'!$C:$L, 2, FALSE))","v":{"$error":"#N/A"}},60,"AVE",{"$error":"#N/A"},{"$f":"VLOOKUP($C447, 'Nanodrop Data Raw'!$C:$L, 3, FALSE)","v":{"$error":"#N/A"}},{"$f":"VLOOKUP($C447, 'Nanodrop Data Raw'!$C:$L, 4, FALSE)","v":{"$error":"#N/A"}},null,null,null,null,{"$f":"'Sample Information'!$G$6","v":0},{"$f":"'Sample Information'!$G$5","v":0},null,null,{"$f":"'Sample Information'!$G$7","v":"Virus Pathogen Midi Kit, Complex_400_V4_DSP_Default_IC"},null,{"$error":"#N/A"}]
[{"$f":"'Sample Information'!A448","v":447},{"$f":"'Sample Information'!B448","v":0},"0-DNA",{"$f":"'Sample Information'!E448","v":0},{"$f":"IF(VLOOKUP($C448, 'Nanodrop Data Raw'!$C:$L, 10, FALSE)<>\"\", VLOOKUP($C448, 'Nanodrop Data Raw'!$C:$L, 10, FALSE), VLOOKUP($C448, 'Nanodrop Data Raw'!$C:$L, 2, FALSE))","v":{"$error":"#N/A"}},60,"AVE",{"$error":"#N/A"},{"$f":"VLOOKUP($C448, 'Nanodrop Data Raw'!$C:$L, 3, FALSE)","v":{"$error":"#N/A"}},{"$f":"VLOOKUP($C448, 'Nanodrop Data Raw'!$C:$L, 4, FALSE)","v":{"$error":"#N/A"}},null,null,null,null,{"$f":"'Sample Information'!$G$6","v":0},{"$f":"'Sample Information'!$G$5","v":0},null,null,{"$f":"'Sample Information'!$G$7","v":"Virus Pathogen Midi Kit, Complex_400_V4_DSP_Default_IC"},null,{"$error":"#N/A"}]
[{"$f":"'Sample Information'!A449","v":448},{"$f":"'Sample Information'!B449","v":0},"0-DNA",{"$f":"'Sample Information'!E449","v":0},{"$f":"IF(VLOOKUP($C449, 'Nanodrop Data Raw'!$C:$L, 10, FALSE)<>\"\", VLOOKUP($C449, 'Nanodrop Data Raw'!$C:$L, 10, FALSE), VLOOKUP($C449, 'Nanodrop Data Raw'!$C:$L, 2, FALSE))","v":{"$error":"#N/A"}},60,"AVE",{"$error":"#N/A"},{"$f":"VLOOKUP($C449, 'Nanodrop Data Raw'!$C:$L, 3, FALSE)","v":{"$error":"#N/A"}},{"$f":"VLOOKUP($C449, 'Nanodrop Data Raw'!$C:$L, 4, FALSE)","v":{"$error":"#N/A"}},null,null,null,null,{"$f":"'Sample Information'!$G$6","v":0},{"$f":"'Sample Information'!$G$5","v":0},null,null,{"$f":"'Sample Information'!$G$7","v":"Virus Pathogen Midi Kit, Complex_400_V4_DSP_Default_IC"},null,{"$error":"#N/A"}]
[{"$f":"'Sample Information'!A450","v":449},{"$f":"'Sample Information'!B450","v":0},"0-DNA",{"$f":"'Sample Information'!E450","v":0},{"$f":"IF(VLOOKUP($C450, 'Nanodrop Data Raw'!$C:$L, 10, FALSE)<>\"\", VLOOKUP($C450, 'Nanodrop Data Raw'!$C:$L, 10, FALSE), VLOOKUP($C450, 'Nanodrop Data Raw'!$C:$L, 2, FALSE))","v":{"$error":"#N/A"}},60,"AVE",{"$error":"#N/A"},{"$f":"VLOOKUP($C450, 'Nanodrop Data Raw'!$C:$L, 3, FALSE)","v":{"$error":"#N/A"}},{"$f":"VLOOKUP($C450, 'Nanodrop Data Raw'!$C:$L, 4, FALSE)","v":{"$error":"#N/A"}},null,null,null,null,{"$f":"'Sample Information'!$G$6","v":0},{"$f":"'Sample Information'!$G$5","v":0},null,null,{"$f":"'Sample Information'!$G$7","v":"Virus Pathogen Midi Kit, Complex_400_V4_DSP_Default_IC"},null,{"$error":"#N/A"}]
[{"$f":"'Sample Information'!A451","v":450},{"$f":"'Sample Information'!B451","v":0},"0-DNA",{"$f":"'Sample Information'!E451","v":0},{"$f":"IF(VLOOKUP($C451, 'Nanodrop Data Raw'!$C:$L, 10, FALSE)<>\"\", VLOOKUP($C451, 'Nanodrop Data Raw'!$C:$L, 10, FALSE), VLOOKUP($C451, 'Nanodrop Data Raw'!$C:$L, 2, FALSE))","v":{"$error":"#N/A"}},60,"AVE",{"$error":"#N/A"},{"$f":"VLOOKUP($C451, 'Nanodrop Data Raw'!$C:$L, 3, FALSE)","v":{"$error":"#N/A"}},{"$f":"VLOOKUP($C451, 'Nanodrop Data Raw'!$C:$L, 4, FALSE)","v":{"$error":"#N/A"}},null,null,null,null,{"$f":"'Sample Information'!$G$6","v":0},{"$f":"'Sample Information'!$G$5","v":0},null,null,{"$f":"'Sample Information'!$G$7","v":"Virus Pathogen Midi Kit, Complex_400_V4_DSP_Default_IC"},null,{"$f":"$O451/$E451","v":{"$error":"#N/A"}}]
[{"$f":"'Sample Information'!A452","v":451},{"$f":"'Sample Information'!B452","v":0},"0-DNA",{"$f":"'Sample Information'!E452","v":0},{"$f":"IF(VLOOKUP($C452, 'Nanodrop Data Raw'!$C:$L, 10, FALSE)<>\"\", VLOOKUP($C452, 'Nanodrop Data Raw'!$C:$L, 10, FALSE), VLOOKUP($C452, 'Nanodrop Data Raw'!$C:$L, 2, FALSE))","v":{"$error":"#N/A"}},60,"AVE",{"$error":"#N/A"},{"$f":"VLOOKUP($C452, 'Nanodrop Data Raw'!$C:$L, 3, FALSE)","v":{"$error":"#N/A"}},{"$f":"VLOOKUP($C452, 'Nanodrop Data Raw'!$C:$L, 4, FALSE)","v":{"$error":"#N/A"}},null,null,null,null,{"$f":"'Sample Information'!$G$6","v":0},{"$f":"'Sample Information'!$G$5","v":0},null,null,{"$f":"'Sample Information'!$G$7","v":"Virus Pathogen Midi Kit, Complex_400_V4_DSP_Default_IC"},null,{"$error":"#N/A"}]
[{"$f":"'Sample Information'!A453","v":452},{"$f":"'Sample Information'!B453","v":0},"0-DNA",{"$f":"'Sample Information'!E453","v":0},{"$f":"IF(VLOOKUP($C453, 'Nanodrop Data Raw'!$C:$L, 10, FALSE)<>\"\", VLOOKUP($C453, 'Nanodrop Data Raw'!$C:$L, 10, FALSE), VLOOKUP($C453, 'Nanodrop Data Raw'!$C:$L, 2, FALSE))","v":{"$error":"#N/A"}},60,"AVE",{"$error":"#N/A"},{"$f":"VLOOKUP($C453, 'Nanodrop Data Raw'!$C:$L, 3, FALSE)","v":{"$error":"#N/A"}},{"$f":"VLOOKUP($C453, 'Nanodrop Data Raw'!$C:$L, 4, FALSE)","v":{"$error":"#N/A"}},null,null,null,null,{"$f":"'Sample Information'!$G$6","v":0},{"$f":"'Sample Information'!$G$5","v":0},null,null,{"$f":"'Sample Information'!$G$7","v":"Virus Pathogen Midi Kit, Complex_400_V4_DSP_Default_IC"},null,{"$error":"#N/A"}]
[{"$f":"'Sample Information'!A454","v":453},{"$f":"'Sample Information'!B454","v":0},"0-DNA",{"$f":"'Sample Information'!E454","v":0},{"$f":"IF(VLOOKUP($C454, 'Nanodrop Data Raw'!$C:$L, 10, FALSE)<>\"\", VLOOKUP($C454, 'Nanodrop Data Raw'!$C:$L, 10, FALSE), VLOOKUP($C454, 'Nanodrop Data Raw'!$C:$L, 2, FALSE))","v":{"$error":"#N/A"}},60,"AVE",{"$error":"#N/A"},{"$f":"VLOOKUP($C454, 'Nanodrop Data Raw'!$C:$L, 3, FALSE)","v":{"$error":"#N/A"}},{"$f":"VLOOKUP($C454, 'Nanodrop Data Raw'!$C:$L, 4, FALSE)","v":{"$error":"#N/A"}},null,null,null,null,{"$f":"'Sample Information'!$G$6","v":0},{"$f":"'Sample Information'!$G$5","v":0},null,null,{"$f":"'Sample Information'!$G$7","v":"Virus Pathogen Midi Kit, Complex_400_V4_DSP_Default_IC"},null,{"$error":"#N/A"}]
[{"$f":"'Sample Information'!A455","v":454},{"$f":"'Sample Information'!B455","v":0},"0-DNA",{"$f":"'Sample Information'!E455","v":0},{"$f":"IF(VLOOKUP($C455, 'Nanodrop Data Raw'!$C:$L, 10, FALSE)<>\"\", VLOOKUP($C455, 'Nanodrop Data Raw'!$C:$L, 10, FALSE), VLOOKUP($C455, 'Nanodrop Data Raw'!$C:$L, 2, FALSE))","v":{"$error":"#N/A"}},60,"AVE",{"$error":"#N/A"},{"$f":"VLOOKUP($C455, 'Nanodrop Data Raw'!$C:$L, 3, FALSE)","v":{"$error":"#N/A"}},{"$f":"VLOOKUP($C455, 'Nanodrop Data Raw'!$C:$L, 4, FALSE)","v":{"$error":"#N/A"}},null,null,null,null,{"$f":"'Sample Information'!$G$6","v":0},{"$f":"'Sample Information'!$G$5","v":0},null,null,{"$f":"'Sample Information'!$G$7","v":"Virus Pathogen Midi Kit, Complex_400_V4_DSP_Default_IC"},null,{"$error":"#N/A"}]
[{"$f":"'Sample Information'!A456","v":455},{"$f":"'Sample Information'!B456","v":0},"0-DNA",{"$f":"'Sample Information'!E456","v":0},{"$f":"IF(VLOOKUP($C456, 'Nanodrop Data Raw'!$C:$L, 10, FALSE)<>\"\", VLOOKUP($C456, 'Nanodrop Data Raw'!$C:$L, 10, FALSE), VLOOKUP($C456, 'Nanodrop Data Raw'!$C:$L, 2, FALSE))","v":{"$error":"#N/A"}},60,"AVE",{"$error":"#N/A"},{"$f":"VLOOKUP($C456, 'Nanodrop Data Raw'!$C:$L, 3, FALSE)","v":{"$error":"#N/A"}},{"$f":"VLOOKUP($C456, 'Nanodrop Data Raw'!$C:$L, 4, FALSE)","v":{"$error":"#N/A"}},null,null,null,null,{"$f":"'Sample Information'!$G$6","v":0},{"$f":"'Sample Information'!$G$5","v":0},null,null,{"$f":"'Sample Information'!$G$7","v":"Virus Pathogen Midi Kit, Complex_400_V4_DSP_Default_IC"},null,{"$error":"#N/A"}]
[{"$f":"'Sample Information'!A457","v":456},{"$f":"'Sample Information'!B457","v":0},"0-DNA",{"$f":"'Sample Information'!E457","v":0},{"$f":"IF(VLOOKUP($C457, 'Nanodrop Data Raw'!$C:$L, 10, FALSE)<>\"\", VLOOKUP($C457, 'Nanodrop Data Raw'!$C:$L, 10, FALSE), VLOOKUP($C457, 'Nanodrop Data Raw'!$C:$L, 2, FALSE))","v":{"$error":"#N/A"}},60,"AVE",{"$error":"#N/A"},{"$f":"VLOOKUP($C457, 'Nanodrop Data Raw'!$C:$L, 3, FALSE)","v":{"$error":"#N/A"}},{"$f":"VLOOKUP($C457, 'Nanodrop Data Raw'!$C:$L, 4, FALSE)","v":{"$error":"#N/A"}},null,null,null,null,{"$f":"'Sample Information'!$G$6","v":0},{"$f":"'Sample Information'!$G$5","v":0},null,null,{"$f":"'Sample Information'!$G$7","v":"Virus Pathogen Midi Kit, Complex_400_V4_DSP_Default_IC"},null,{"$error":"#N/A"}]
[{"$f":"'Sample Information'!A458","v":457},{"$f":"'Sample Information'!B458","v":0},"0-DNA",{"$f":"'Sample Information'!E458","v":0},{"$f":"IF(VLOOKUP($C458, 'Nanodrop Data Raw'!$C:$L, 10, FALSE)<>\"\", VLOOKUP($C458, 'Nanodrop Data Raw'!$C:$L, 10, FALSE), VLOOKUP($C458, 'Nanodrop Data Raw'!$C:$L, 2, FALSE))","v":{"$error":"#N/A"}},60,"AVE",{"$error":"#N/A"},{"$f":"VLOOKUP($C458, 'Nanodrop Data Raw'!$C:$L, 3, FALSE)","v":{"$error":"#N/A"}},{"$f":"VLOOKUP($C458, 'Nanodrop Data Raw'!$C:$L, 4, FALSE)","v":{"$error":"#N/A"}},null,null,null,null,{"$f":"'Sample Information'!$G$6","v":0},{"$f":"'Sample Information'!$G$5","v":0},null,null,{"$f":"'Sample Information'!$G$7","v":"Virus Pathogen Midi Kit, Complex_400_V4_DSP_Default_IC"},null,{"$error":"#N/A"}]
[{"$f":"'Sample Information'!A459","v":458},{"$f":"'Sample Information'!B459","v":0},"0-DNA",{"$f":"'Sample Information'!E459","v":0},{"$f":"IF(VLOOKUP($C459, 'Nanodrop Data Raw'!$C:$L, 10, FALSE)<>\"\", VLOOKUP($C459, 'Nanodrop Data Raw'!$C:$L, 10, FALSE), VLOOKUP($C459, 'Nanodrop Data Raw'!$C:$L, 2, FALSE))","v":{"$error":"#N/A"}},60,"AVE",{"$error":"#N/A"},{"$f":"VLOOKUP($C459, 'Nanodrop Data Raw'!$C:$L, 3, FALSE)","v":{"$error":"#N/A"}},{"$f":"VLOOKUP($C459, 'Nanodrop Data Raw'!$C:$L, 4, FALSE)","v":{"$error":"#N/A"}},null,null,null,null,{"$f":"'Sample Information'!$G$6","v":0},{"$f":"'Sample Information'!$G$5","v":0},null,null,{"$f":"'Sample Information'!$G$7","v":"Virus Pathogen Midi Kit, Complex_400_V4_DSP_Default_IC"},null,{"$error":"#N/A"}]
[{"$f":"'Sample Information'!A460","v":459},{"$f":"'Sample Information'!B460","v":0},"0-DNA",{"$f":"'Sample Information'!E460","v":0},{"$f":"IF(VLOOKUP($C460, 'Nanodrop Data Raw'!$C:$L, 10, FALSE)<>\"\", VLOOKUP($C460, 'Nanodrop Data Raw'!$C:$L, 10, FALSE), VLOOKUP($C460, 'Nanodrop Data Raw'!$C:$L, 2, FALSE))","v":{"$error":"#N/A"}},60,"AVE",{"$error":"#N/A"},{"$f":"VLOOKUP($C460, 'Nanodrop Data Raw'!$C:$L, 3, FALSE)","v":{"$error":"#N/A"}},{"$f":"VLOOKUP($C460, 'Nanodrop Data Raw'!$C:$L, 4, FALSE)","v":{"$error":"#N/A"}},null,null,null,null,{"$f":"'Sample Information'!$G$6","v":0},{"$f":"'Sample Information'!$G$5","v":0},null,null,{"$f":"'Sample Information'!$G$7","v":"Virus Pathogen Midi Kit, Complex_400_V4_DSP_Default_IC"},null,{"$error":"#N/A"}]
[{"$f":"'Sample Information'!A461","v":460},{"$f":"'Sample Information'!B461","v":0},"0-DNA",{"$f":"'Sample Information'!E461","v":0},{"$f":"IF(VLOOKUP($C461, 'Nanodrop Data Raw'!$C:$L, 10, FALSE)<>\"\", VLOOKUP($C461, 'Nanodrop Data Raw'!$C:$L, 10, FALSE), VLOOKUP($C461, 'Nanodrop Data Raw'!$C:$L, 2, FALSE))","v":{"$error":"#N/A"}},60,"AVE",{"$error":"#N/A"},{"$f":"VLOOKUP($C461, 'Nanodrop Data Raw'!$C:$L, 3, FALSE)","v":{"$error":"#N/A"}},{"$f":"VLOOKUP($C461, 'Nanodrop Data Raw'!$C:$L, 4, FALSE)","v":{"$error":"#N/A"}},null,null,null,null,{"$f":"'Sample Information'!$G$6","v":0},{"$f":"'Sample Information'!$G$5","v":0},null,null,{"$f":"'Sample Information'!$G$7","v":"Virus Pathogen Midi Kit, Complex_400_V4_DSP_Default_IC"},null,{"$error":"#N/A"}]
[{"$f":"'Sample Information'!A462","v":461},{"$f":"'Sample Information'!B462","v":0},"0-DNA",{"$f":"'Sample Information'!E462","v":0},{"$f":"IF(VLOOKUP($C462, 'Nanodrop Data Raw'!$C:$L, 10, FALSE)<>\"\", VLOOKUP($C462, 'Nanodrop Data Raw'!$C:$L, 10, FALSE), VLOOKUP($C462, 'Nanodrop Data Raw'!$C:$L, 2, FALSE))","v":{"$error":"#N/A"}},60,"AVE",{"$error":"#N/A"},{"$f":"VLOOKUP($C462, 'Nanodrop Data Raw'!$C:$L, 3, FALSE)","v":{"$error":"#N/A"}},{"$f":"VLOOKUP($C462, 'Nanodrop Data Raw'!$C:$L, 4, FALSE)","v":{"$error":"#N/A"}},null,null,null,null,{"$f":"'Sample Information'!$G$6","v":0},{"$f":"'Sample Information'!$G$5","v":0},null,null,{"$f":"'Sample Information'!$G$7","v":"Virus Pathogen Midi Kit, Complex_400_V4_DSP_Default_IC"},null,{"$error":"#N/A"}]
[{"$f":"'Sample Information'!A463","v":462},{"$f":"'Sample Information'!B463","v":0},"0-DNA",{"$f":"'Sample Information'!E463","v":0},{"$f":"IF(VLOOKUP($C463, 'Nanodrop Data Raw'!$C:$L, 10, FALSE)<>\"\", VLOOKUP($C463, 'Nanodrop Data Raw'!$C:$L, 10, FALSE), VLOOKUP($C463, 'Nanodrop Data Raw'!$C:$L, 2, FALSE))","v":{"$error":"#N/A"}},60,"AVE",{"$error":"#N/A"},{"$f":"VLOOKUP($C463, 'Nanodrop Data Raw'!$C:$L, 3, FALSE)","v":{"$error":"#N/A"}},{"$f":"VLOOKUP($C463, 'Nanodrop Data Raw'!$C:$L, 4, FALSE)","v":{"$error":"#N/A"}},null,null,null,null,{"$f":"'Sample Information'!$G$6","v":0},{"$f":"'Sample Information'!$G$5","v":0},null,null,{"$f":"'Sample Information'!$G$7","v":"Virus Pathogen Midi Kit, Complex_400_V4_DSP_Default_IC"},null,{"$error":"#N/A"}]
[{"$f":"'Sample Information'!A464","v":463},{"$f":"'Sample Information'!B464","v":0},"0-DNA",{"$f":"'Sample Information'!E464","v":0},{"$f":"IF(VLOOKUP($C464, 'Nanodrop Data Raw'!$C:$L, 10, FALSE)<>\"\", VLOOKUP($C464, 'Nanodrop Data Raw'!$C:$L, 10, FALSE), VLOOKUP($C464, 'Nanodrop Data Raw'!$C:$L, 2, FALSE))","v":{"$error":"#N/A"}},60,"AVE",{"$error":"#N/A"},{"$f":"VLOOKUP($C464, 'Nanodrop Data Raw'!$C:$L, 3, FALSE)","v":{"$error":"#N/A"}},{"$f":"VLOOKUP($C464, 'Nanodrop Data Raw'!$C:$L, 4, FALSE)","v":{"$error":"#N/A"}},null,null,null,null,{"$f":"'Sample Information'!$G$6","v":0},{"$f":"'Sample Information'!$G$5","v":0},null,null,{"$f":"'Sample Information'!$G$7","v":"Virus Pathogen Midi Kit, Complex_400_V4_DSP_Default_IC"},null,{"$error":"#N/A"}]
[{"$f":"'Sample Information'!A465","v":464},{"$f":"'Sample Information'!B465","v":0},"0-DNA",{"$f":"'Sample Information'!E465","v":0},{"$f":"IF(VLOOKUP($C465, 'Nanodrop Data Raw'!$C:$L, 10, FALSE)<>\"\", VLOOKUP($C465, 'Nanodrop Data Raw'!$C:$L, 10, FALSE), VLOOKUP($C465, 'Nanodrop Data Raw'!$C:$L, 2, FALSE))","v":{"$error":"#N/A"}},60,"AVE",{"$error":"#N/A"},{"$f":"VLOOKUP($C465, 'Nanodrop Data Raw'!$C:$L, 3, FALSE)","v":{"$error":"#N/A"}},{"$f":"VLOOKUP($C465, 'Nanodrop Data Raw'!$C:$L, 4, FALSE)","v":{"$error":"#N/A"}},null,null,null,null,{"$f":"'Sample Information'!$G$6","v":0},{"$f":"'Sample Information'!$G$5","v":0},null,null,{"$f":"'Sample Information'!$G$7","v":"Virus Pathogen Midi Kit, Complex_400_V4_DSP_Default_IC"},null,{"$error":"#N/A"}]
[{"$f":"'Sample Information'!A466","v":465},{"$f":"'Sample Information'!B466","v":0},"0-DNA",{"$f":"'Sample Information'!E466","v":0},{"$f":"IF(VLOOKUP($C466, 'Nanodrop Data Raw'!$C:$L, 10, FALSE)<>\"\", VLOOKUP($C466, 'Nanodrop Data Raw'!$C:$L, 10, FALSE), VLOOKUP($C466, 'Nanodrop Data Raw'!$C:$L, 2, FALSE))","v":{"$error":"#N/A"}},60,"AVE",{"$error":"#N/A"},{"$f":"VLOOKUP($C466, 'Nanodrop Data Raw'!$C:$L, 3, FALSE)","v":{"$error":"#N/A"}},{"$f":"VLOOKUP($C466, 'Nanodrop Data Raw'!$C:$L, 4, FALSE)","v":{"$error":"#N/A"}},null,null,null,null,{"$f":"'Sample Information'!$G$6","v":0},{"$f":"'Sample Information'!$G$5","v":0},null,null,{"$f":"'Sample Information'!$G$7","v":"Virus Pathogen Midi Kit, Complex_400_V4_DSP_Default_IC"},null,{"$error":"#N/A"}]
[{"$f":"'Sample Information'!A467","v":466},{"$f":"'Sample Information'!B467","v":0},"0-DNA",{"$f":"'Sample Information'!E467","v":0},{"$f":"IF(VLOOKUP($C467, 'Nanodrop Data Raw'!$C:$L, 10, FALSE)<>\"\", VLOOKUP($C467, 'Nanodrop Data Raw'!$C:$L, 10, FALSE), VLOOKUP($C467, 'Nanodrop Data Raw'!$C:$L, 2, FALSE))","v":{"$error":"#N/A"}},60,"AVE",{"$error":"#N/A"},{"$f":"VLOOKUP($C467, 'Nanodrop Data Raw'!$C:$L, 3, FALSE)","v":{"$error":"#N/A"}},{"$f":"VLOOKUP($C467, 'Nanodrop Data Raw'!$C:$L, 4, FALSE)","v":{"$error":"#N/A"}},null,null,null,null,{"$f":"'Sample Information'!$G$6","v":0},{"$f":"'Sample Information'!$G$5","v":0},null,null,{"$f":"'Sample Information'!$G$7","v":"Virus Pathogen Midi Kit, Complex_400_V4_DSP_Default_IC"},null,{"$error":"#N/A"}]
[{"$f":"'Sample Information'!A468","v":467},{"$f":"'Sample Information'!B468","v":0},"0-DNA",{"$f":"'Sample Information'!E468","v":0},{"$f":"IF(VLOOKUP($C468, 'Nanodrop Data Raw'!$C:$L, 10, FALSE)<>\"\", VLOOKUP($C468, 'Nanodrop Data Raw'!$C:$L, 10, FALSE), VLOOKUP($C468, 'Nanodrop Data Raw'!$C:$L, 2, FALSE))","v":{"$error":"#N/A"}},60,"AVE",{"$error":"#N/A"},{"$f":"VLOOKUP($C468, 'Nanodrop Data Raw'!$C:$L, 3, FALSE)","v":{"$error":"#N/A"}},{"$f":"VLOOKUP($C468, 'Nanodrop Data Raw'!$C:$L, 4, FALSE)","v":{"$error":"#N/A"}},null,null,null,null,{"$f":"'Sample Information'!$G$6","v":0},{"$f":"'Sample Information'!$G$5","v":0},null,null,{"$f":"'Sample Information'!$G$7","v":"Virus Pathogen Midi Kit, Complex_400_V4_DSP_Default_IC"},null,{"$error":"#N/A"}]
[{"$f":"'Sample Information'!A469","v":468},{"$f":"'Sample Information'!B469","v":0},"0-DNA",{"$f":"'Sample Information'!E469","v":0},{"$f":"IF(VLOOKUP($C469, 'Nanodrop Data Raw'!$C:$L, 10, FALSE)<>\"\", VLOOKUP($C469, 'Nanodrop Data Raw'!$C:$L, 10, FALSE), VLOOKUP($C469, 'Nanodrop Data Raw'!$C:$L, 2, FALSE))","v":{"$error":"#N/A"}},60,"AVE",{"$error":"#N/A"},{"$f":"VLOOKUP($C469, 'Nanodrop Data Raw'!$C:$L, 3, FALSE)","v":{"$error":"#N/A"}},{"$f":"VLOOKUP($C469, 'Nanodrop Data Raw'!$C:$L, 4, FALSE)","v":{"$error":"#N/A"}},null,null,null,null,{"$f":"'Sample Information'!$G$6","v":0},{"$f":"'Sample Information'!$G$5","v":0},null,null,{"$f":"'Sample Information'!$G$7","v":"Virus Pathogen Midi Kit, Complex_400_V4_DSP_Default_IC"},null,{"$error":"#N/A"}]
[{"$f":"'Sample Information'!A470","v":469},{"$f":"'Sample Information'!B470","v":0},"0-DNA",{"$f":"'Sample Information'!E470","v":0},{"$f":"IF(VLOOKUP($C470, 'Nanodrop Data Raw'!$C:$L, 10, FALSE)<>\"\", VLOOKUP($C470, 'Nanodrop Data Raw'!$C:$L, 10, FALSE), VLOOKUP($C470, 'Nanodrop Data Raw'!$C:$L, 2, FALSE))","v":{"$error":"#N/A"}},60,"AVE",{"$error":"#N/A"},{"$f":"VLOOKUP($C470, 'Nanodrop Data Raw'!$C:$L, 3, FALSE)","v":{"$error":"#N/A"}},{"$f":"VLOOKUP($C470, 'Nanodrop Data Raw'!$C:$L, 4, FALSE)","v":{"$error":"#N/A"}},null,null,null,null,{"$f":"'Sample Information'!$G$6","v":0},{"$f":"'Sample Information'!$G$5","v":0},null,null,{"$f":"'Sample Information'!$G$7","v":"Virus Pathogen Midi Kit, Complex_400_V4_DSP_Default_IC"},null,{"$error":"#N/A"}]
[{"$f":"'Sample Information'!A471","v":470},{"$f":"'Sample Information'!B471","v":0},"0-DNA",{"$f":"'Sample Information'!E471","v":0},{"$f":"IF(VLOOKUP($C471, 'Nanodrop Data Raw'!$C:$L, 10, FALSE)<>\"\", VLOOKUP($C471, 'Nanodrop Data Raw'!$C:$L, 10, FALSE), VLOOKUP($C471, 'Nanodrop Data Raw'!$C:$L, 2, FALSE))","v":{"$error":"#N/A"}},60,"AVE",{"$error":"#N/A"},{"$f":"VLOOKUP($C471, 'Nanodrop Data Raw'!$C:$L, 3, FALSE)","v":{"$error":"#N/A"}},{"$f":"VLOOKUP($C471, 'Nanodrop Data Raw'!$C:$L, 4, FALSE)","v":{"$error":"#N/A"}},null,null,null,null,{"$f":"'Sample Information'!$G$6","v":0},{"$f":"'Sample Information'!$G$5","v":0},null,null,{"$f":"'Sample Information'!$G$7","v":"Virus Pathogen Midi Kit, Complex_400_V4_DSP_Default_IC"},null,{"$error":"#N/A"}]
[{"$f":"'Sample Information'!A472","v":471},{"$f":"'Sample Information'!B472","v":0},"0-DNA",{"$f":"'Sample Information'!E472","v":0},{"$f":"IF(VLOOKUP($C472, 'Nanodrop Data Raw'!$C:$L, 10, FALSE)<>\"\", VLOOKUP($C472, 'Nanodrop Data Raw'!$C:$L, 10, FALSE), VLOOKUP($C472, 'Nanodrop Data Raw'!$C:$L, 2, FALSE))","v":{"$error":"#N/A"}},60,"AVE",{"$error":"#N/A"},{"$f":"VLOOKUP($C472, 'Nanodrop Data Raw'!$C:$L, 3, FALSE)","v":{"$error":"#N/A"}},{"$f":"VLOOKUP($C472, 'Nanodrop Data Raw'!$C:$L, 4, FALSE)","v":{"$error":"#N/A"}},null,null,null,null,{"$f":"'Sample Information'!$G$6","v":0},{"$f":"'Sample Information'!$G$5","v":0},null,null,{"$f":"'Sample Information'!$G$7","v":"Virus Pathogen Midi Kit, Complex_400_V4_DSP_Default_IC"},null,{"$error":"#N/A"}]
[{"$f":"'Sample Information'!A473","v":472},{"$f":"'Sample Information'!B473","v":0},"0-DNA",{"$f":"'Sample Information'!E473","v":0},{"$f":"IF(VLOOKUP($C473, 'Nanodrop Data Raw'!$C:$L, 10, FALSE)<>\"\", VLOOKUP($C473, 'Nanodrop Data Raw'!$C:$L, 10, FALSE), VLOOKUP($C473, 'Nanodrop Data Raw'!$C:$L, 2, FALSE))","v":{"$error":"#N/A"}},60,"AVE",{"$error":"#N/A"},{"$f":"VLOOKUP($C473, 'Nanodrop Data Raw'!$C:$L, 3, FALSE)","v":{"$error":"#N/A"}},{"$f":"VLOOKUP($C473, 'Nanodrop Data Raw'!$C:$L, 4, FALSE)","v":{"$error":"#N/A"}},null,null,null,null,{"$f":"'Sample Information'!$G$6","v":0},{"$f":"'Sample Information'!$G$5","v":0},null,null,{"$f":"'Sample Information'!$G$7","v":"Virus Pathogen Midi Kit, Complex_400_V4_DSP_Default_IC"},null,{"$error":"#N/A"}]
[{"$f":"'Sample Information'!A474","v":473},{"$f":"'Sample Information'!B474","v":0},"0-DNA",{"$f":"'Sample Information'!E474","v":0},{"$f":"IF(VLOOKUP($C474, 'Nanodrop Data Raw'!$C:$L, 10, FALSE)<>\"\", VLOOKUP($C474, 'Nanodrop Data Raw'!$C:$L, 10, FALSE), VLOOKUP($C474, 'Nanodrop Data Raw'!$C:$L, 2, FALSE))","v":{"$error":"#N/A"}},60,"AVE",{"$error":"#N/A"},{"$f":"VLOOKUP($C474, 'Nanodrop Data Raw'!$C:$L, 3, FALSE)","v":{"$error":"#N/A"}},{"$f":"VLOOKUP($C474, 'Nanodrop Data Raw'!$C:$L, 4, FALSE)","v":{"$error":"#N/A"}},null,null,null,null,{"$f":"'Sample Information'!$G$6","v":0},{"$f":"'Sample Information'!$G$5","v":0},null,null,{"$f":"'Sample Information'!$G$7","v":"Virus Pathogen Midi Kit, Complex_400_V4_DSP_Default_IC"},null,{"$error":"#N/A"}]
[{"$f":"'Sample Information'!A475","v":474},{"$f":"'Sample Information'!B475","v":0},"0-DNA",{"$f":"'Sample Information'!E475","v":0},{"$f":"IF(VLOOKUP($C475, 'Nanodrop Data Raw'!$C:$L, 10, FALSE)<>\"\", VLOOKUP($C475, 'Nanodrop Data Raw'!$C:$L, 10, FALSE), VLOOKUP($C475, 'Nanodrop Data Raw'!$C:$L, 2, FALSE))","v":{"$error":"#N/A"}},60,"AVE",{"$error":"#N/A"},{"$f":"VLOOKUP($C475, 'Nanodrop Data Raw'!$C:$L, 3, FALSE)","v":{"$error":"#N/A"}},{"$f":"VLOOKUP($C475, 'Nanodrop Data Raw'!$C:$L, 4, FALSE)","v":{"$error":"#N/A"}},null,null,null,null,{"$f":"'Sample Information'!$G$6","v":0},{"$f":"'Sample Information'!$G$5","v":0},null,null,{"$f":"'Sample Information'!$G$7","v":"Virus Pathogen Midi Kit, Complex_400_V4_DSP_Default_IC"},null,{"$error":"#N/A"}]
[{"$f":"'Sample Information'!A476","v":475},{"$f":"'Sample Information'!B476","v":0},"0-DNA",{"$f":"'Sample Information'!E476","v":0},{"$f":"IF(VLOOKUP($C476, 'Nanodrop Data Raw'!$C:$L, 10, FALSE)<>\"\", VLOOKUP($C476, 'Nanodrop Data Raw'!$C:$L, 10, FALSE), VLOOKUP($C476, 'Nanodrop Data Raw'!$C:$L, 2, FALSE))","v":{"$error":"#N/A"}},60,"AVE",{"$error":"#N/A"},{"$f":"VLOOKUP($C476, 'Nanodrop Data Raw'!$C:$L, 3, FALSE)","v":{"$error":"#N/A"}},{"$f":"VLOOKUP($C476, 'Nanodrop Data Raw'!$C:$L, 4, FALSE)","v":{"$error":"#N/A"}},null,null,null,null,{"$f":"'Sample Information'!$G$6","v":0},{"$f":"'Sample Information'!$G$5","v":0},null,null,{"$f":"'Sample Information'!$G$7","v":"Virus Pathogen Midi Kit, Complex_400_V4_DSP_Default_IC"},null,{"$error":"#N/A"}]
[{"$f":"'Sample Information'!A477","v":476},{"$f":"'Sample Information'!B477","v":0},"0-DNA",{"$f":"'Sample Information'!E477","v":0},{"$f":"IF(VLOOKUP($C477, 'Nanodrop Data Raw'!$C:$L, 10, FALSE)<>\"\", VLOOKUP($C477, 'Nanodrop Data Raw'!$C:$L, 10, FALSE), VLOOKUP($C477, 'Nanodrop Data Raw'!$C:$L, 2, FALSE))","v":{"$error":"#N/A"}},60,"AVE",{"$error":"#N/A"},{"$f":"VLOOKUP($C477, 'Nanodrop Data Raw'!$C:$L, 3, FALSE)","v":{"$error":"#N/A"}},{"$f":"VLOOKUP($C477, 'Nanodrop Data Raw'!$C:$L, 4, FALSE)","v":{"$error":"#N/A"}},null,null,null,null,{"$f":"'Sample Information'!$G$6","v":0},{"$f":"'Sample Information'!$G$5","v":0},null,null,{"$f":"'Sample Information'!$G$7","v":"Virus Pathogen Midi Kit, Complex_400_V4_DSP_Default_IC"},null,{"$error":"#N/A"}]
[{"$f":"'Sample Information'!A478","v":477},{"$f":"'Sample Information'!B478","v":0},"0-DNA",{"$f":"'Sample Information'!E478","v":0},{"$f":"IF(VLOOKUP($C478, 'Nanodrop Data Raw'!$C:$L, 10, FALSE)<>\"\", VLOOKUP($C478, 'Nanodrop Data Raw'!$C:$L, 10, FALSE), VLOOKUP($C478, 'Nanodrop Data Raw'!$C:$L, 2, FALSE))","v":{"$error":"#N/A"}},60,"AVE",{"$error":"#N/A"},{"$f":"VLOOKUP($C478, 'Nanodrop Data Raw'!$C:$L, 3, FALSE)","v":{"$error":"#N/A"}},{"$f":"VLOOKUP($C478, 'Nanodrop Data Raw'!$C:$L, 4, FALSE)","v":{"$error":"#N/A"}},null,null,null,null,{"$f":"'Sample Information'!$G$6","v":0},{"$f":"'Sample Information'!$G$5","v":0},null,null,{"$f":"'Sample Information'!$G$7","v":"Virus Pathogen Midi Kit, Complex_400_V4_DSP_Default_IC"},null,{"$error":"#N/A"}]
[{"$f":"'Sample Information'!A479","v":478},{"$f":"'Sample Information'!B479","v":0},"0-DNA",{"$f":"'Sample Information'!E479","v":0},{"$f":"IF(VLOOKUP($C479, 'Nanodrop Data Raw'!$C:$L, 10, FALSE)<>\"\", VLOOKUP($C479, 'Nanodrop Data Raw'!$C:$L, 10, FALSE), VLOOKUP($C479, 'Nanodrop Data Raw'!$C:$L, 2, FALSE))","v":{"$error":"#N/A"}},60,"AVE",{"$error":"#N/A"},{"$f":"VLOOKUP($C479, 'Nanodrop Data Raw'!$C:$L, 3, FALSE)","v":{"$error":"#N/A"}},{"$f":"VLOOKUP($C479, 'Nanodrop Data Raw'!$C:$L, 4, FALSE)","v":{"$error":"#N/A"}},null,null,null,null,{"$f":"'Sample Information'!$G$6","v":0},{"$f":"'Sample Information'!$G$5","v":0},null,null,{"$f":"'Sample Information'!$G$7","v":"Virus Pathogen Midi Kit, Complex_400_V4_DSP_Default_IC"},null,{"$error":"#N/A"}]
[{"$f":"'Sample Information'!A480","v":479},{"$f":"'Sample Information'!B480","v":0},"0-DNA",{"$f":"'Sample Information'!E480","v":0},{"$f":"IF(VLOOKUP($C480, 'Nanodrop Data Raw'!$C:$L, 10, FALSE)<>\"\", VLOOKUP($C480, 'Nanodrop Data Raw'!$C:$L, 10, FALSE), VLOOKUP($C480, 'Nanodrop Data Raw'!$C:$L, 2, FALSE))","v":{"$error":"#N/A"}},60,"AVE",{"$error":"#N/A"},{"$f":"VLOOKUP($C480, 'Nanodrop Data Raw'!$C:$L, 3, FALSE)","v":{"$error":"#N/A"}},{"$f":"VLOOKUP($C480, 'Nanodrop Data Raw'!$C:$L, 4, FALSE)","v":{"$error":"#N/A"}},null,null,null,null,{"$f":"'Sample Information'!$G$6","v":0},{"$f":"'Sample Information'!$G$5","v":0},null,null,{"$f":"'Sample Information'!$G$7","v":"Virus Pathogen Midi Kit, Complex_400_V4_DSP_Default_IC"},null,{"$error":"#N/A"}]
[{"$f":"'Sample Information'!A481","v":480},{"$f":"'Sample Information'!B481","v":0},"0-DNA",{"$f":"'Sample Information'!E481","v":0},{"$f":"IF(VLOOKUP($C481, 'Nanodrop Data Raw'!$C:$L, 10, FALSE)<>\"\", VLOOKUP($C481, 'Nanodrop Data Raw'!$C:$L, 10, FALSE), VLOOKUP($C481, 'Nanodrop Data Raw'!$C:$L, 2, FALSE))","v":{"$error":"#N/A"}},60,"AVE",{"$error":"#N/A"},{"$f":"VLOOKUP($C481, 'Nanodrop Data Raw'!$C:$L, 3, FALSE)","v":{"$error":"#N/A"}},{"$f":"VLOOKUP($C481, 'Nanodrop Data Raw'!$C:$L, 4, FALSE)","v":{"$error":"#N/A"}},null,null,null,null,{"$f":"'Sample Information'!$G$6","v":0},{"$f":"'Sample Information'!$G$5","v":0},null,null,{"$f":"'Sample Information'!$G$7","v":"Virus Pathogen Midi Kit, Complex_400_V4_DSP_Default_IC"},null,{"$error":"#N/A"}]
[{"$f":"'Sample Information'!A482","v":481},{"$f":"'Sample Information'!B482","v":0},"0-DNA",{"$f":"'Sample Information'!E482","v":0},{"$f":"IF(VLOOKUP($C482, 'Nanodrop Data Raw'!$C:$L, 10, FALSE)<>\"\", VLOOKUP($C482, 'Nanodrop Data Raw'!$C:$L, 10, FALSE), VLOOKUP($C482, 'Nanodrop Data Raw'!$C:$L, 2, FALSE))","v":{"$error":"#N/A"}},60,"AVE",{"$error":"#N/A"},{"$f":"VLOOKUP($C482, 'Nanodrop Data Raw'!$C:$L, 3, FALSE)","v":{"$error":"#N/A"}},{"$f":"VLOOKUP($C482, 'Nanodrop Data Raw'!$C:$L, 4, FALSE)","v":{"$error":"#N/A"}},null,null,null,null,{"$f":"'Sample Information'!$G$6","v":0},{"$f":"'Sample Information'!$G$5","v":0},null,null,{"$f":"'Sample Information'!$G$7","v":"Virus Pathogen Midi Kit, Complex_400_V4_DSP_Default_IC"},null,{"$error":"#N/A"}]
[{"$f":"'Sample Information'!A483","v":482},{"$f":"'Sample Information'!B483","v":0},{"$f":"CONCATENATE(B483,\"-DNA\")","v":"0-DNA"},{"$f":"'Sample Information'!E483","v":0},{"$f":"IF(VLOOKUP($C483, 'Nanodrop Data Raw'!$C:$L, 10, FALSE)<>\"\", VLOOKUP($C483, 'Nanodrop Data Raw'!$C:$L, 10, FALSE), VLOOKUP($C483, 'Nanodrop Data Raw'!$C:$L, 2, FALSE))","v":{"$error":"#N/A"}},60,"AVE",{"$f":"E483*F483/1000","v":{"$error":"#N/A"}},{"$f":"VLOOKUP($C483, 'Nanodrop Data Raw'!$C:$L, 3, FALSE)","v":{"$error":"#N/A"}},{"$f":"VLOOKUP($C483, 'Nanodrop Data Raw'!$C:$L, 4, FALSE)","v":{"$error":"#N/A"}},null,null,null,null,{"$f":"'Sample Information'!$G$6","v":0},{"$f":"'Sample Information'!$G$5","v":0},null,null,{"$f":"'Sample Information'!$G$7","v":"Virus Pathogen Midi Kit, Complex_400_V4_DSP_Default_IC"},null,{"$error":"#N/A"}]
[{"$f":"'Sample Information'!A484","v":483},{"$f":"'Sample Information'!B484","v":0},"0-DNA",{"$f":"'Sample Information'!E484","v":0},{"$f":"IF(VLOOKUP($C484, 'Nanodrop Data Raw'!$C:$L, 10, FALSE)<>\"\", VLOOKUP($C484, 'Nanodrop Data Raw'!$C:$L, 10, FALSE), VLOOKUP($C484, 'Nanodrop Data Raw'!$C:$L, 2, FALSE))","v":{"$error":"#N/A"}},60,"AVE",{"$error":"#N/A"},{"$f":"VLOOKUP($C484, 'Nanodrop Data Raw'!$C:$L, 3, FALSE)","v":{"$error":"#N/A"}},{"$f":"VLOOKUP($C484, 'Nanodrop Data Raw'!$C:$L, 4, FALSE)","v":{"$error":"#N/A"}},null,null,null,null,{"$f":"'Sample Information'!$G$6","v":0},{"$f":"'Sample Information'!$G$5","v":0},null,null,{"$f":"'Sample Information'!$G$7","v":"Virus Pathogen Midi Kit, Complex_400_V4_DSP_Default_IC"},null,{"$error":"#N/A"}]
[{"$f":"'Sample Information'!A485","v":484},{"$f":"'Sample Information'!B485","v":0},"0-DNA",{"$f":"'Sample Information'!E485","v":0},{"$f":"IF(VLOOKUP($C485, 'Nanodrop Data Raw'!$C:$L, 10, FALSE)<>\"\", VLOOKUP($C485, 'Nanodrop Data Raw'!$C:$L, 10, FALSE), VLOOKUP($C485, 'Nanodrop Data Raw'!$C:$L, 2, FALSE))","v":{"$error":"#N/A"}},60,"AVE",{"$error":"#N/A"},{"$f":"VLOOKUP($C485, 'Nanodrop Data Raw'!$C:$L, 3, FALSE)","v":{"$error":"#N/A"}},{"$f":"VLOOKUP($C485, 'Nanodrop Data Raw'!$C:$L, 4, FALSE)","v":{"$error":"#N/A"}},null,null,null,null,{"$f":"'Sample Information'!$G$6","v":0},{"$f":"'Sample Information'!$G$5","v":0},null,null,{"$f":"'Sample Information'!$G$7","v":"Virus Pathogen Midi Kit, Complex_400_V4_DSP_Default_IC"},null,{"$error":"#N/A"}]
[{"$f":"'Sample Information'!A486","v":485},{"$f":"'Sample Information'!B486","v":0},"0-DNA",{"$f":"'Sample Information'!E486","v":0},{"$f":"IF(VLOOKUP($C486, 'Nanodrop Data Raw'!$C:$L, 10, FALSE)<>\"\", VLOOKUP($C486, 'Nanodrop Data Raw'!$C:$L, 10, FALSE), VLOOKUP($C486, 'Nanodrop Data Raw'!$C:$L, 2, FALSE))","v":{"$error":"#N/A"}},60,"AVE",{"$error":"#N/A"},{"$f":"VLOOKUP($C486, 'Nanodrop Data Raw'!$C:$L, 3, FALSE)","v":{"$error":"#N/A"}},{"$f":"VLOOKUP($C486, 'Nanodrop Data Raw'!$C:$L, 4, FALSE)","v":{"$error":"#N/A"}},null,null,null,null,{"$f":"'Sample Information'!$G$6","v":0},{"$f":"'Sample Information'!$G$5","v":0},null,null,{"$f":"'Sample Information'!$G$7","v":"Virus Pathogen Midi Kit, Complex_400_V4_DSP_Default_IC"},null,{"$error":"#N/A"}]
[{"$f":"'Sample Information'!A487","v":486},{"$f":"'Sample Information'!B487","v":0},"0-DNA",{"$f":"'Sample Information'!E487","v":0},{"$f":"IF(VLOOKUP($C487, 'Nanodrop Data Raw'!$C:$L, 10, FALSE)<>\"\", VLOOKUP($C487, 'Nanodrop Data Raw'!$C:$L, 10, FALSE), VLOOKUP($C487, 'Nanodrop Data Raw'!$C:$L, 2, FALSE))","v":{"$error":"#N/A"}},60,"AVE",{"$error":"#N/A"},{"$f":"VLOOKUP($C487, 'Nanodrop Data Raw'!$C:$L, 3, FALSE)","v":{"$error":"#N/A"}},{"$f":"VLOOKUP($C487, 'Nanodrop Data Raw'!$C:$L, 4, FALSE)","v":{"$error":"#N/A"}},null,null,null,null,{"$f":"'Sample Information'!$G$6","v":0},{"$f":"'Sample Information'!$G$5","v":0},null,null,{"$f":"'Sample Information'!$G$7","v":"Virus Pathogen Midi Kit, Complex_400_V4_DSP_Default_IC"},null,{"$error":"#N/A"}]
[{"$f":"'Sample Information'!A488","v":487},{"$f":"'Sample Information'!B488","v":0},"0-DNA",{"$f":"'Sample Information'!E488","v":0},{"$f":"IF(VLOOKUP($C488, 'Nanodrop Data Raw'!$C:$L, 10, FALSE)<>\"\", VLOOKUP($C488, 'Nanodrop Data Raw'!$C:$L, 10, FALSE), VLOOKUP($C488, 'Nanodrop Data Raw'!$C:$L, 2, FALSE))","v":{"$error":"#N/A"}},60,"AVE",{"$error":"#N/A"},{"$f":"VLOOKUP($C488, 'Nanodrop Data Raw'!$C:$L, 3, FALSE)","v":{"$error":"#N/A"}},{"$f":"VLOOKUP($C488, 'Nanodrop Data Raw'!$C:$L, 4, FALSE)","v":{"$error":"#N/A"}},null,null,null,null,{"$f":"'Sample Information'!$G$6","v":0},{"$f":"'Sample Information'!$G$5","v":0},null,null,{"$f":"'Sample Information'!$G$7","v":"Virus Pathogen Midi Kit, Complex_400_V4_DSP_Default_IC"},null,{"$error":"#N/A"}]
[{"$f":"'Sample Information'!A489","v":488},{"$f":"'Sample Information'!B489","v":0},"0-DNA",{"$f":"'Sample Information'!E489","v":0},{"$f":"IF(VLOOKUP($C489, 'Nanodrop Data Raw'!$C:$L, 10, FALSE)<>\"\", VLOOKUP($C489, 'Nanodrop Data Raw'!$C:$L, 10, FALSE), VLOOKUP($C489, 'Nanodrop Data Raw'!$C:$L, 2, FALSE))","v":{"$error":"#N/A"}},60,"AVE",{"$error":"#N/A"},{"$f":"VLOOKUP($C489, 'Nanodrop Data Raw'!$C:$L, 3, FALSE)","v":{"$error":"#N/A"}},{"$f":"VLOOKUP($C489, 'Nanodrop Data Raw'!$C:$L, 4, FALSE)","v":{"$error":"#N/A"}},null,null,null,null,{"$f":"'Sample Information'!$G$6","v":0},{"$f":"'Sample Information'!$G$5","v":0},null,null,{"$f":"'Sample Information'!$G$7","v":"Virus Pathogen Midi Kit, Complex_400_V4_DSP_Default_IC"},null,{"$error":"#N/A"}]
[{"$f":"'Sample Information'!A490","v":489},{"$f":"'Sample Information'!B490","v":0},"0-DNA",{"$f":"'Sample Information'!E490","v":0},{"$f":"IF(VLOOKUP($C490, 'Nanodrop Data Raw'!$C:$L, 10, FALSE)<>\"\", VLOOKUP($C490, 'Nanodrop Data Raw'!$C:$L, 10, FALSE), VLOOKUP($C490, 'Nanodrop Data Raw'!$C:$L, 2, FALSE))","v":{"$error":"#N/A"}},60,"AVE",{"$error":"#N/A"},{"$f":"VLOOKUP($C490, 'Nanodrop Data Raw'!$C:$L, 3, FALSE)","v":{"$error":"#N/A"}},{"$f":"VLOOKUP($C490, 'Nanodrop Data Raw'!$C:$L, 4, FALSE)","v":{"$error":"#N/A"}},null,null,null,null,{"$f":"'Sample Information'!$G$6","v":0},{"$f":"'Sample Information'!$G$5","v":0},null,null,{"$f":"'Sample Information'!$G$7","v":"Virus Pathogen Midi Kit, Complex_400_V4_DSP_Default_IC"},null,{"$error":"#N/A"}]
[{"$f":"'Sample Information'!A491","v":490},{"$f":"'Sample Information'!B491","v":0},"0-DNA",{"$f":"'Sample Information'!E491","v":0},{"$f":"IF(VLOOKUP($C491, 'Nanodrop Data Raw'!$C:$L, 10, FALSE)<>\"\", VLOOKUP($C491, 'Nanodrop Data Raw'!$C:$L, 10, FALSE), VLOOKUP($C491, 'Nanodrop Data Raw'!$C:$L, 2, FALSE))","v":{"$error":"#N/A"}},60,"AVE",{"$error":"#N/A"},{"$f":"VLOOKUP($C491, 'Nanodrop Data Raw'!$C:$L, 3, FALSE)","v":{"$error":"#N/A"}},{"$f":"VLOOKUP($C491, 'Nanodrop Data Raw'!$C:$L, 4, FALSE)","v":{"$error":"#N/A"}},null,null,null,null,{"$f":"'Sample Information'!$G$6","v":0},{"$f":"'Sample Information'!$G$5","v":0},null,null,{"$f":"'Sample Information'!$G$7","v":"Virus Pathogen Midi Kit, Complex_400_V4_DSP_Default_IC"},null,{"$error":"#N/A"}]
[{"$f":"'Sample Information'!A492","v":491},{"$f":"'Sample Information'!B492","v":0},"0-DNA",{"$f":"'Sample Information'!E492","v":0},{"$f":"IF(VLOOKUP($C492, 'Nanodrop Data Raw'!$C:$L, 10, FALSE)<>\"\", VLOOKUP($C492, 'Nanodrop Data Raw'!$C:$L, 10, FALSE), VLOOKUP($C492, 'Nanodrop Data Raw'!$C:$L, 2, FALSE))","v":{"$error":"#N/A"}},60,"AVE",{"$error":"#N/A"},{"$f":"VLOOKUP($C492, 'Nanodrop Data Raw'!$C:$L, 3, FALSE)","v":{"$error":"#N/A"}},{"$f":"VLOOKUP($C492, 'Nanodrop Data Raw'!$C:$L, 4, FALSE)","v":{"$error":"#N/A"}},null,null,null,null,{"$f":"'Sample Information'!$G$6","v":0},{"$f":"'Sample Information'!$G$5","v":0},null,null,{"$f":"'Sample Information'!$G$7","v":"Virus Pathogen Midi Kit, Complex_400_V4_DSP_Default_IC"},null,{"$error":"#N/A"}]
[{"$f":"'Sample Information'!A493","v":492},{"$f":"'Sample Information'!B493","v":0},"0-DNA",{"$f":"'Sample Information'!E493","v":0},{"$f":"IF(VLOOKUP($C493, 'Nanodrop Data Raw'!$C:$L, 10, FALSE)<>\"\", VLOOKUP($C493, 'Nanodrop Data Raw'!$C:$L, 10, FALSE), VLOOKUP($C493, 'Nanodrop Data Raw'!$C:$L, 2, FALSE))","v":{"$error":"#N/A"}},60,"AVE",{"$error":"#N/A"},{"$f":"VLOOKUP($C493, 'Nanodrop Data Raw'!$C:$L, 3, FALSE)","v":{"$error":"#N/A"}},{"$f":"VLOOKUP($C493, 'Nanodrop Data Raw'!$C:$L, 4, FALSE)","v":{"$error":"#N/A"}},null,null,null,null,{"$f":"'Sample Information'!$G$6","v":0},{"$f":"'Sample Information'!$G$5","v":0},null,null,{"$f":"'Sample Information'!$G$7","v":"Virus Pathogen Midi Kit, Complex_400_V4_DSP_Default_IC"},null,{"$error":"#N/A"}]
[{"$f":"'Sample Information'!A494","v":493},{"$f":"'Sample Information'!B494","v":0},"0-DNA",{"$f":"'Sample Information'!E494","v":0},{"$f":"IF(VLOOKUP($C494, 'Nanodrop Data Raw'!$C:$L, 10, FALSE)<>\"\", VLOOKUP($C494, 'Nanodrop Data Raw'!$C:$L, 10, FALSE), VLOOKUP($C494, 'Nanodrop Data Raw'!$C:$L, 2, FALSE))","v":{"$error":"#N/A"}},60,"AVE",{"$error":"#N/A"},{"$f":"VLOOKUP($C494, 'Nanodrop Data Raw'!$C:$L, 3, FALSE)","v":{"$error":"#N/A"}},{"$f":"VLOOKUP($C494, 'Nanodrop Data Raw'!$C:$L, 4, FALSE)","v":{"$error":"#N/A"}},null,null,null,null,{"$f":"'Sample Information'!$G$6","v":0},{"$f":"'Sample Information'!$G$5","v":0},null,null,{"$f":"'Sample Information'!$G$7","v":"Virus Pathogen Midi Kit, Complex_400_V4_DSP_Default_IC"},null,{"$error":"#N/A"}]
[{"$f":"'Sample Information'!A495","v":494},{"$f":"'Sample Information'!B495","v":0},"0-DNA",{"$f":"'Sample Information'!E495","v":0},{"$f":"IF(VLOOKUP($C495, 'Nanodrop Data Raw'!$C:$L, 10, FALSE)<>\"\", VLOOKUP($C495, 'Nanodrop Data Raw'!$C:$L, 10, FALSE), VLOOKUP($C495, 'Nanodrop Data Raw'!$C:$L, 2, FALSE))","v":{"$error":"#N/A"}},60,"AVE",{"$error":"#N/A"},{"$f":"VLOOKUP($C495, 'Nanodrop Data Raw'!$C:$L, 3, FALSE)","v":{"$error":"#N/A"}},{"$f":"VLOOKUP($C495, 'Nanodrop Data Raw'!$C:$L, 4, FALSE)","v":{"$error":"#N/A"}},null,null,null,null,{"$f":"'Sample Information'!$G$6","v":0},{"$f":"'Sample Information'!$G$5","v":0},null,null,{"$f":"'Sample Information'!$G$7","v":"Virus Pathogen Midi Kit, Complex_400_V4_DSP_Default_IC"},null,{"$error":"#N/A"}]
[{"$f":"'Sample Information'!A496","v":495},{"$f":"'Sample Information'!B496","v":0},"0-DNA",{"$f":"'Sample Information'!E496","v":0},{"$f":"IF(VLOOKUP($C496, 'Nanodrop Data Raw'!$C:$L, 10, FALSE)<>\"\", VLOOKUP($C496, 'Nanodrop Data Raw'!$C:$L, 10, FALSE), VLOOKUP($C496, 'Nanodrop Data Raw'!$C:$L, 2, FALSE))","v":{"$error":"#N/A"}},60,"AVE",{"$error":"#N/A"},{"$f":"VLOOKUP($C496, 'Nanodrop Data Raw'!$C:$L, 3, FALSE)","v":{"$error":"#N/A"}},{"$f":"VLOOKUP($C496, 'Nanodrop Data Raw'!$C:$L, 4, FALSE)","v":{"$error":"#N/A"}},null,null,null,null,{"$f":"'Sample Information'!$G$6","v":0},{"$f":"'Sample Information'!$G$5","v":0},null,null,{"$f":"'Sample Information'!$G$7","v":"Virus Pathogen Midi Kit, Complex_400_V4_DSP_Default_IC"},null,{"$error":"#N/A"}]
[{"$f":"'Sample Information'!A497","v":496},{"$f":"'Sample Information'!B497","v":0},"0-DNA",{"$f":"'Sample Information'!E497","v":0},{"$f":"IF(VLOOKUP($C497, 'Nanodrop Data Raw'!$C:$L, 10, FALSE)<>\"\", VLOOKUP($C497, 'Nanodrop Data Raw'!$C:$L, 10, FALSE), VLOOKUP($C497, 'Nanodrop Data Raw'!$C:$L, 2, FALSE))","v":{"$error":"#N/A"}},60,"AVE",{"$error":"#N/A"},{"$f":"VLOOKUP($C497, 'Nanodrop Data Raw'!$C:$L, 3, FALSE)","v":{"$error":"#N/A"}},{"$f":"VLOOKUP($C497, 'Nanodrop Data Raw'!$C:$L, 4, FALSE)","v":{"$error":"#N/A"}},null,null,null,null,{"$f":"'Sample Information'!$G$6","v":0},{"$f":"'Sample Information'!$G$5","v":0},null,null,{"$f":"'Sample Information'!$G$7","v":"Virus Pathogen Midi Kit, Complex_400_V4_DSP_Default_IC"},null,{"$error":"#N/A"}]
[{"$f":"'Sample Information'!A498","v":497},{"$f":"'Sample Information'!B498","v":0},"0-DNA",{"$f":"'Sample Information'!E498","v":0},{"$f":"IF(VLOOKUP($C498, 'Nanodrop Data Raw'!$C:$L, 10, FALSE)<>\"\", VLOOKUP($C498, 'Nanodrop Data Raw'!$C:$L, 10, FALSE), VLOOKUP($C498, 'Nanodrop Data Raw'!$C:$L, 2, FALSE))","v":{"$error":"#N/A"}},60,"AVE",{"$error":"#N/A"},{"$f":"VLOOKUP($C498, 'Nanodrop Data Raw'!$C:$L, 3, FALSE)","v":{"$error":"#N/A"}},{"$f":"VLOOKUP($C498, 'Nanodrop Data Raw'!$C:$L, 4, FALSE)","v":{"$error":"#N/A"}},null,null,null,null,{"$f":"'Sample Information'!$G$6","v":0},{"$f":"'Sample Information'!$G$5","v":0},null,null,{"$f":"'Sample Information'!$G$7","v":"Virus Pathogen Midi Kit, Complex_400_V4_DSP_Default_IC"},null,{"$error":"#N/A"}]
[{"$f":"'Sample Information'!A499","v":498},{"$f":"'Sample Information'!B499","v":0},"0-DNA",{"$f":"'Sample Information'!E499","v":0},{"$f":"IF(VLOOKUP($C499, 'Nanodrop Data Raw'!$C:$L, 10, FALSE)<>\"\", VLOOKUP($C499, 'Nanodrop Data Raw'!$C:$L, 10, FALSE), VLOOKUP($C499, 'Nanodrop Data Raw'!$C:$L, 2, FALSE))","v":{"$error":"#N/A"}},60,"AVE",{"$error":"#N/A"},{"$f":"VLOOKUP($C499, 'Nanodrop Data Raw'!$C:$L, 3, FALSE)","v":{"$error":"#N/A"}},{"$f":"VLOOKUP($C499, 'Nanodrop Data Raw'!$C:$L, 4, FALSE)","v":{"$error":"#N/A"}},null,null,null,null,{"$f":"'Sample Information'!$G$6","v":0},{"$f":"'Sample Information'!$G$5","v":0},null,null,{"$f":"'Sample Information'!$G$7","v":"Virus Pathogen Midi Kit, Complex_400_V4_DSP_Default_IC"},null,{"$error":"#N/A"}]
[{"$f":"'Sample Information'!A500","v":499},{"$f":"'Sample Information'!B500","v":0},"0-DNA",{"$f":"'Sample Information'!E500","v":0},{"$f":"IF(VLOOKUP($C500, 'Nanodrop Data Raw'!$C:$L, 10, FALSE)<>\"\", VLOOKUP($C500, 'Nanodrop Data Raw'!$C:$L, 10, FALSE), VLOOKUP($C500, 'Nanodrop Data Raw'!$C:$L, 2, FALSE))","v":{"$error":"#N/A"}},60,"AVE",{"$error":"#N/A"},{"$f":"VLOOKUP($C500, 'Nanodrop Data Raw'!$C:$L, 3, FALSE)","v":{"$error":"#N/A"}},{"$f":"VLOOKUP($C500, 'Nanodrop Data Raw'!$C:$L, 4, FALSE)","v":{"$error":"#N/A"}},null,null,null,null,{"$f":"'Sample Information'!$G$6","v":0},{"$f":"'Sample Information'!$G$5","v":0},null,null,{"$f":"'Sample Information'!$G$7","v":"Virus Pathogen Midi Kit, Complex_400_V4_DSP_Default_IC"},null,{"$error":"#N/A"}]
[{"$f":"'Sample Information'!A501","v":500},{"$f":"'Sample Information'!B501","v":0},"0-DNA",{"$f":"'Sample Information'!E501","v":0},{"$f":"IF(VLOOKUP($C501, 'Nanodrop Data Raw'!$C:$L, 10, FALSE)<>\"\", VLOOKUP($C501, 'Nanodrop Data Raw'!$C:$L, 10, FALSE), VLOOKUP($C501, 'Nanodrop Data Raw'!$C:$L, 2, FALSE))","v":{"$error":"#N/A"}},60,"AVE",{"$error":"#N/A"},{"$f":"VLOOKUP($C501, 'Nanodrop Data Raw'!$C:$L, 3, FALSE)","v":{"$error":"#N/A"}},{"$f":"VLOOKUP($C501, 'Nanodrop Data Raw'!$C:$L, 4, FALSE)","v":{"$error":"#N/A"}},null,null,null,null,{"$f":"'Sample Information'!$G$6","v":0},{"$f":"'Sample Information'!$G$5","v":0},null,null,{"$f":"'Sample Information'!$G$7","v":"Virus Pathogen Midi Kit, Complex_400_V4_DSP_Default_IC"},null,{"$error":"#N/A"}]

{"sheet":"Sample_Type","index":5,"n_rows":8,"n_cols":1,"rows_kept":8,"cut":false,"hidden":true,"merged":[]}
["Bacteria culture"]
["Buccal Swab"]
["Buffy Coat"]
["Saliva"]
["Serum"]
["Stool"]
["Tissue"]
["Whole Blood"]

{"sheet":"Extraction Protocol","index":6,"n_rows":8,"n_cols":1,"rows_kept":8,"cut":false,"hidden":true,"merged":[]}
["DSP Circulating DNA Kit, circDNA_4000_DSP"]
["DSP DNA Midi Kit, Blood_1000_V7_DSP "]
["DSP DNA Midi Kit, Blood_400_V6_DSP "]
["DSP DNA Mini Kit, DNA_BC_200_V7_DSP"]
["DSP DNA Mini Kit, DNA_Blood_200_V7_DSP"]
["QIAamp DNA Mini Kit"]
["Rneasy Mini Kit"]
["Virus Pathogen Midi Kit, Complex_400_V4_DSP_Default_IC"]

{"sheet":"Gel Photo","index":7,"n_rows":621,"n_cols":26,"rows_kept":621,"cut":false,"hidden":true,"merged":[]}
[]
[null,null,null,null,null,null,null,null,null,null,null,"Gel 1",null,null,null,null,null,null,null,null,null,"Dilution Plate 1"]
[null,null,null,null,null,null,null,null,null,null,null,"Lane","Well","Sample no.","Sample_ID","Reference_ID","DNA conc. (ng/ul)","Amount loaded (ng)","Water(ul)","Sample(ul)",null,"Well","Sample no.","Water(ul)","Sample(ul)","Reference ID"]
[null,null,null,null,null,null,null,null,null,null,null,"M",null,null,"Fermentas FastRuler High Range DNA Ladder","-","-",20,null,null,null,"A01",{"$f":"VLOOKUP($V4, $M$3:$T$55, 2, FALSE)","v":1},{"$f":"VLOOKUP($V4, $M$3:$T$55, 7, FALSE)","v":{"$error":"#N/A"}},{"$f":"VLOOKUP($V4, $M$3:$T$55, 8, FALSE)","v":{"$error":"#N/A"}},{"$f":"VLOOKUP($V4, $M$3:$T$55, 4, FALSE)","v":0}]
[null,null,null,null,null,null,null,null,null,null,null,1,"A01",{"$f":"'Processing Record'!A2","v":1},{"$f":"'Processing Record'!C2","v":"0-DNA"},{"$f":"'Processing Record'!Q2","v":0},{"$f":"'Processing Record'!E2","v":{"$error":"#N/A"}},{"$f":"(Q5*T5/(S5+T5))*20","v":{"$error":"#N/A"}},{"$f":"ROUND(Q5*T5/50*20-T5,0)","v":{"$error":"#N/A"}},{"$f":"ROUNDUP(50/Q5,0)","v":{"$error":"#N/A"}},null,"A02",3,{"$error":"#N/A"},{"$error":"#N/A"},0]
[null,null,null,null,null,null,null,null,null,null,null,2,"B01",{"$f":"'Processing Record'!A3","v":2},{"$f":"'Processing Record'!C3","v":"0-DNA"},{"$f":"'Processing Record'!Q3","v":0},{"$f":"'Processing Record'!E3","v":{"$error":"#N/A"}},{"$f":"(Q6*T6/(S6+T6))*20","v":{"$error":"#N/A"}},{"$f":"ROUND(Q6*T6/50*20-T6,0)","v":{"$error":"#N/A"}},{"$f":"ROUNDUP(50/Q6,0)","v":{"$error":"#N/A"}},null,"A03",5,{"$error":"#N/A"},{"$error":"#N/A"},0]
[null,null,null,null,null,null,null,null,null,null,null,3,"A02",{"$f":"'Processing Record'!A4","v":3},{"$f":"'Processing Record'!C4","v":"0-DNA"},{"$f":"'Processing Record'!Q4","v":0},{"$f":"'Processing Record'!E4","v":{"$error":"#N/A"}},{"$error":"#N/A"},{"$error":"#N/A"},{"$error":"#N/A"},null,"A04",7,{"$error":"#N/A"},{"$error":"#N/A"},0]
[null,null,null,null,null,null,null,null,null,null,null,4,"B02",{"$f":"'Processing Record'!A5","v":4},{"$f":"'Processing Record'!C5","v":"0-DNA"},{"$f":"'Processing Record'!Q5","v":0},{"$f":"'Processing Record'!E5","v":{"$error":"#N/A"}},{"$error":"#N/A"},{"$error":"#N/A"},{"$error":"#N/A"},null,"A05",9,{"$error":"#N/A"},{"$error":"#N/A"},0]
[null,null,null,null,null,null,null,null,null,null,null,5,"A03",{"$f":"'Processing Record'!A6","v":5},{"$f":"'Processing Record'!C6","v":"0-DNA"},{"$f":"'Processing Record'!Q6","v":0},{"$f":"'Processing Record'!E6","v":{"$error":"#N/A"}},{"$error":"#N/A"},{"$error":"#N/A"},{"$error":"#N/A"},null,"A06",11,{"$error":"#N/A"},{"$error":"#N/A"},0]
[null,null,null,null,null,null,null,null,null,null,null,6,"B03",{"$f":"'Processing Record'!A7","v":6},{"$f":"'Processing Record'!C7","v":"0-DNA"},{"$f":"'Processing Record'!Q7","v":0},{"$f":"'Processing Record'!E7","v":{"$error":"#N/A"}},{"$error":"#N/A"},{"$error":"#N/A"},{"$error":"#N/A"},null,"B01",2,{"$error":"#N/A"},{"$error":"#N/A"},0]
[null,null,null,null,null,null,null,null,null,null,null,7,"A04",{"$f":"'Processing Record'!A8","v":7},{"$f":"'Processing Record'!C8","v":"0-DNA"},{"$f":"'Processing Record'!Q8","v":0},{"$f":"'Processing Record'!E8","v":{"$error":"#N/A"}},{"$error":"#N/A"},{"$error":"#N/A"},{"$error":"#N/A"},null,"B02",4,{"$error":"#N/A"},{"$error":"#N/A"},0]
[null,null,null,null,null,null,null,null,null,null,null,8,"B04",{"$f":"'Processing Record'!A9","v":8},{"$f":"'Processing Record'!C9","v":"0-DNA"},{"$f":"'Processing Record'!Q9","v":0},{"$f":"'Processing Record'!E9","v":{"$error":"#N/A"}},{"$error":"#N/A"},{"$error":"#N/A"},{"$error":"#N/A"},null,"B03",6,{"$error":"#N/A"},{"$error":"#N/A"},0]
[null,null,null,null,null,null,null,null,null,null,null,9,"A05",{"$f":"'Processing Record'!A10","v":9},{"$f":"'Processing Record'!C10","v":"0-DNA"},{"$f":"'Processing Record'!Q10","v":0},{"$f":"'Processing Record'!E10","v":{"$error":"#N/A"}},{"$error":"#N/A"},{"$error":"#N/A"},{"$error":"#N/A"},null,"B04",8,{"$error":"#N/A"},{"$error":"#N/A"},0]
[null,null,null,null,null,null,null,null,null,null,null,10,"B05",{"$f":"'Processing Record'!A11","v":10},{"$f":"'Processing Record'!C11","v":"0-DNA"},{"$f":"'Processing Record'!Q11","v":0},{"$f":"'Processing Record'!E11","v":{"$error":"#N/A"}},{"$error":"#N/A"},{"$error":"#N/A"},{"$error":"#N/A"},null,"B05",10,{"$error":"#N/A"},{"$error":"#N/A"},0]
[null,null,null,null,null,null,null,null,null,null,null,11,"A06",{"$f":"'Processing Record'!A12","v":11},{"$f":"'Processing Record'!C12","v":"0-DNA"},{"$f":"'Processing Record'!Q12","v":0},{"$f":"'Processing Record'!E12","v":{"$error":"#N/A"}},{"$error":"#N/A"},{"$error":"#N/A"},{"$error":"#N/A"},null,"B06",12,{"$error":"#N/A"},{"$error":"#N/A"},0]
[null,null,null,null,null,null,null,null,null,null,null,12,"B06",{"$f":"'Processing Record'!A13","v":12},{"$f":"'Processing Record'!C13","v":"0-DNA"},{"$f":"'Processing Record'!Q13","v":0},{"$f":"'Processing Record'!E13","v":{"$error":"#N/A"}},{"$error":"#N/A"},{"$error":"#N/A"},{"$error":"#N/A"},null,"C01",13,{"$error":"#N/A"},{"$error":"#N/A"},0]
[null,null,null,null,null,null,null,null,null,null,null,13,"C01",{"$f":"'Processing Record'!A14","v":13},{"$f":"'Processing Record'!C14","v":"0-DNA"},{"$f":"'Processing Record'!Q14","v":0},{"$f":"'Processing Record'!E14","v":{"$error":"#N/A"}},{"$error":"#N/A"},{"$error":"#N/A"},{"$error":"#N/A"},null,"C02",15,{"$error":"#N/A"},{"$error":"#N/A"},0]
[null,null,null,null,null,null,null,null,null,null,null,14,"D01",{"$f":"'Processing Record'!A15","v":14},{"$f":"'Processing Record'!C15","v":"0-DNA"},{"$f":"'Processing Record'!Q15","v":0},{"$f":"'Processing Record'!E15","v":{"$error":"#N/A"}},{"$error":"#N/A"},{"$error":"#N/A"},{"$error":"#N/A"},null,"C03",17,{"$error":"#N/A"},{"$error":"#N/A"},0]
[null,null,null,null,null,null,null,null,null,null,null,15,"C02",{"$f":"'Processing Record'!A16","v":15},{"$f":"'Processing Record'!C16","v":"0-DNA"},{"$f":"'Processing Record'!Q16","v":0},{"$f":"'Processing Record'!E16","v":{"$error":"#N/A"}},{"$error":"#N/A"},{"$error":"#N/A"},{"$error":"#N/A"},null,"C04",19,{"$error":"#N/A"},{"$error":"#N/A"},0]
[null,null,null,null,null,null,null,null,null,null,null,16,"D02",{"$f":"'Processing Record'!A17","v":16},{"$f":"'Processing Record'!C17","v":"0-DNA"},{"$f":"'Processing Record'!Q17","v":0},{"$f":"'Processing Record'!E17","v":{"$error":"#N/A"}},{"$error":"#N/A"},{"$error":"#N/A"},{"$error":"#N/A"},null,"C05",21,{"$error":"#N/A"},{"$error":"#N/A"},0]
[null,null,null,null,null,null,null,null,null,null,null,17,"C03",{"$f":"'Processing Record'!A18","v":17},{"$f":"'Processing Record'!C18","v":"0-DNA"},{"$f":"'Processing Record'!Q18","v":0},{"$f":"'Processing Record'!E18","v":{"$error":"#N/A"}},{"$error":"#N/A"},{"$error":"#N/A"},{"$error":"#N/A"},null,"C06",23,{"$error":"#N/A"},{"$error":"#N/A"},0]
[null,null,null,null,null,null,null,null,null,null,null,18,"D03",{"$f":"'Processing Record'!A19","v":18},{"$f":"'Processing Record'!C19","v":"0-DNA"},{"$f":"'Processing Record'!Q19","v":0},{"$f":"'Processing Record'!E19","v":{"$error":"#N/A"}},{"$error":"#N/A"},{"$error":"#N/A"},{"$error":"#N/A"},null,"D01",14,{"$error":"#N/A"},{"$error":"#N/A"},0]
[null,null,null,null,null,null,null,null,null,null,null,19,"C04",{"$f":"'Processing Record'!A20","v":19},{"$f":"'Processing Record'!C20","v":"0-DNA"},{"$f":"'Processing Record'!Q20","v":0},{"$f":"'Processing Record'!E20","v":{"$error":"#N/A"}},{"$error":"#N/A"},{"$error":"#N/A"},{"$error":"#N/A"},null,"D02",16,{"$error":"#N/A"},{"$error":"#N/A"},0]
[null,null,null,null,null,null,null,null,null,null,null,20,"D04",{"$f":"'Processing Record'!A21","v":20},{"$f":"'Processing Record'!C21","v":"0-DNA"},{"$f":"'Processing Record'!Q21","v":0},{"$f":"'Processing Record'!E21","v":{"$error":"#N/A"}},{"$error":"#N/A"},{"$error":"#N/A"},{"$error":"#N/A"},null,"D03",18,{"$error":"#N/A"},{"$error":"#N/A"},0]
[null,null,null,null,null,null,null,null,null,null,null,21,"C05",{"$f":"'Processing Record'!A22","v":21},{"$f":"'Processing Record'!C22","v":"0-DNA"},{"$f":"'Processing Record'!Q22","v":0},{"$f":"'Processing Record'!E22","v":{"$error":"#N/A"}},{"$error":"#N/A"},{"$error":"#N/A"},{"$error":"#N/A"},null,"D04",20,{"$error":"#N/A"},{"$error":"#N/A"},0]
[null,null,null,null,null,null,null,null,null,null,null,22,"D05",{"$f":"'Processing Record'!A23","v":22},{"$f":"'Processing Record'!C23","v":"0-DNA"},{"$f":"'Processing Record'!Q23","v":0},{"$f":"'Processing Record'!E23","v":{"$error":"#N/A"}},{"$error":"#N/A"},{"$error":"#N/A"},{"$error":"#N/A"},null,"D05",22,{"$error":"#N/A"},{"$error":"#N/A"},0]
[null,null,null,null,null,null,null,null,null,null,null,23,"C06",{"$f":"'Processing Record'!A24","v":23},{"$f":"'Processing Record'!C24","v":"0-DNA"},{"$f":"'Processing Record'!Q24","v":0},{"$f":"'Processing Record'!E24","v":{"$error":"#N/A"}},{"$error":"#N/A"},{"$error":"#N/A"},{"$error":"#N/A"},null,"D06",24,{"$error":"#N/A"},{"$error":"#N/A"},0]
[null,null,null,null,null,null,null,null,null,null,null,24,"D06",{"$f":"'Processing Record'!A25","v":24},{"$f":"'Processing Record'!C25","v":"0-DNA"},{"$f":"'Processing Record'!Q25","v":0},{"$f":"'Processing Record'!E25","v":{"$error":"#N/A"}},{"$error":"#N/A"},{"$error":"#N/A"},{"$error":"#N/A"},null,"E01",25,{"$error":"#N/A"},{"$error":"#N/A"},0]
[null,null,null,null,null,null,null,null,null,null,null,"M",null,null,"Fermentas FastRuler High Range DNA Ladder","-",null,20,null,null,null,"E02",27,{"$error":"#N/A"},{"$error":"#N/A"},0]
[null,null,null,null,null,null,null,null,null,null,null,"M",null,null,"Fermentas FastRuler High Range DNA Ladder","-",null,20,null,null,null,"E03",29,{"$error":"#N/A"},{"$error":"#N/A"},0]
[null,null,null,null,null,null,null,null,null,null,null,25,"E01",{"$f":"'Processing Record'!A26","v":25},{"$f":"'Processing Record'!C26","v":"0-DNA"},{"$f":"'Processing Record'!Q26","v":0},{"$f":"'Processing Record'!J26","v":{"$error":"#N/A"}},{"$f":"(Q31*T31/(S31+T31))*20","v":{"$error":"#N/A"}},{"$f":"ROUND(Q31*T31/50*20-T31,0)","v":{"$error":"#N/A"}},{"$f":"ROUNDUP(50/Q31,0)","v":{"$error":"#N/A"}},null,"E04",31,{"$error":"#N/A"},{"$error":"#N/A"},0]
[null,null,null,null,null,null,null,null,null,null,null,26,"F01",{"$f":"'Processing Record'!A27","v":26},{"$f":"'Processing Record'!C27","v":"0-DNA"},{"$f":"'Processing Record'!Q27","v":0},{"$f":"'Processing Record'!J27","v":{"$error":"#N/A"}},{"$f":"(Q32*T32/(S32+T32))*20","v":{"$error":"#N/A"}},{"$f":"ROUND(Q32*T32/50*20-T32,0)","v":{"$error":"#N/A"}},{"$f":"ROUNDUP(50/Q32,0)","v":{"$error":"#N/A"}},null,"E05",33,{"$error":"#N/A"},{"$error":"#N/A"},0]
[null,null,null,null,null,null,null,null,null,null,null,27,"E02",{"$f":"'Processing Record'!A28","v":27},{"$f":"'Processing Record'!C28","v":"0-DNA"},{"$f":"'Processing Record'!Q28","v":0},{"$f":"'Processing Record'!J28","v":{"$error":"#N/A"}},{"$error":"#N/A"},{"$error":"#N/A"},{"$error":"#N/A"},null,"E06",35,{"$error":"#N/A"},{"$error":"#N/A"},0]
[null,null,null,null,null,null,null,null,null,null,null,28,"F02",{"$f":"'Processing Record'!A29","v":28},{"$f":"'Processing Record'!C29","v":"0-DNA"},{"$f":"'Processing Record'!Q29","v":0},{"$f":"'Processing Record'!J29","v":{"$error":"#N/A"}},{"$error":"#N/A"},{"$error":"#N/A"},{"$error":"#N/A"},null,"F01",26,{"$error":"#N/A"},{"$error":"#N/A"},0]
[null,null,null,null,null,null,null,null,null,null,null,29,"E03",{"$f":"'Processing Record'!A30","v":29},{"$f":"'Processing Record'!C30","v":"0-DNA"},{"$f":"'Processing Record'!Q30","v":0},{"$f":"'Processing Record'!J30","v":{"$error":"#N/A"}},{"$error":"#N/A"},{"$error":"#N/A"},{"$error":"#N/A"},null,"F02",28,{"$error":"#N/A"},{"$error":"#N/A"},0]
[null,null,null,null,null,null,null,null,null,null,null,30,"F03",{"$f":"'Processing Record'!A31","v":30},{"$f":"'Processing Record'!C31","v":"0-DNA"},{"$f":"'Processing Record'!Q31","v":0},{"$f":"'Processing Record'!J31","v":{"$error":"#N/A"}},{"$error":"#N/A"},{"$error":"#N/A"},{"$error":"#N/A"},null,"F03",30,{"$error":"#N/A"},{"$error":"#N/A"},0]
[null,null,null,null,null,null,null,null,null,null,null,31,"E04",{"$f":"'Processing Record'!A32","v":31},{"$f":"'Processing Record'!C32","v":"0-DNA"},{"$f":"'Processing Record'!Q32","v":0},{"$f":"'Processing Record'!J32","v":{"$error":"#N/A"}},{"$error":"#N/A"},{"$error":"#N/A"},{"$error":"#N/A"},null,"F04",32,{"$error":"#N/A"},{"$error":"#N/A"},0]
[null,null,null,null,null,null,null,null,null,null,null,32,"F04",{"$f":"'Processing Record'!A33","v":32},{"$f":"'Processing Record'!C33","v":"0-DNA"},{"$f":"'Processing Record'!Q33","v":0},{"$f":"'Processing Record'!J33","v":{"$error":"#N/A"}},{"$error":"#N/A"},{"$error":"#N/A"},{"$error":"#N/A"},null,"F05",34,{"$error":"#N/A"},{"$error":"#N/A"},0]
[null,null,null,null,null,null,null,null,null,null,null,33,"E05",{"$f":"'Processing Record'!A34","v":33},{"$f":"'Processing Record'!C34","v":"0-DNA"},{"$f":"'Processing Record'!Q34","v":0},{"$f":"'Processing Record'!J34","v":{"$error":"#N/A"}},{"$error":"#N/A"},{"$error":"#N/A"},{"$error":"#N/A"},null,"F06",36,{"$error":"#N/A"},{"$error":"#N/A"},0]
[null,null,null,null,null,null,null,null,null,null,null,34,"F05",{"$f":"'Processing Record'!A35","v":34},{"$f":"'Processing Record'!C35","v":"0-DNA"},{"$f":"'Processing Record'!Q35","v":0},{"$f":"'Processing Record'!J35","v":{"$error":"#N/A"}},{"$error":"#N/A"},{"$error":"#N/A"},{"$error":"#N/A"},null,"G01",37,{"$error":"#N/A"},{"$error":"#N/A"},0]
[null,null,null,null,null,null,null,null,null,null,null,35,"E06",{"$f":"'Processing Record'!A36","v":35},{"$f":"'Processing Record'!C36","v":"0-DNA"},{"$f":"'Processing Record'!Q36","v":0},{"$f":"'Processing Record'!J36","v":{"$error":"#N/A"}},{"$error":"#N/A"},{"$error":"#N/A"},{"$error":"#N/A"},null,"G02",39,{"$error":"#N/A"},{"$error":"#N/A"},0]
[null,null,null,null,null,null,null,null,null,null,null,36,"F06",{"$f":"'Processing Record'!A37","v":36},{"$f":"'Processing Record'!C37","v":"0-DNA"},{"$f":"'Processing Record'!Q37","v":0},{"$f":"'Processing Record'!J37","v":{"$error":"#N/A"}},{"$error":"#N/A"},{"$error":"#N/A"},{"$error":"#N/A"},null,"G03",41,{"$error":"#N/A"},{"$error":"#N/A"},0]
[null,null,null,null,null,null,null,null,null,null,null,37,"G01",{"$f":"'Processing Record'!A38","v":37},{"$f":"'Processing Record'!C38","v":"0-DNA"},{"$f":"'Processing Record'!Q38","v":0},{"$f":"'Processing Record'!J38","v":{"$error":"#N/A"}},{"$error":"#N/A"},{"$error":"#N/A"},{"$error":"#N/A"},null,"G04",43,{"$error":"#N/A"},{"$error":"#N/A"},0]
[null,null,null,null,null,null,null,null,null,null,null,38,"H01",{"$f":"'Processing Record'!A39","v":38},{"$f":"'Processing Record'!C39","v":"0-DNA"},{"$f":"'Processing Record'!Q39","v":0},{"$f":"'Processing Record'!J39","v":{"$error":"#N/A"}},{"$error":"#N/A"},{"$error":"#N/A"},{"$error":"#N/A"},null,"G05",45,{"$error":"#N/A"},{"$error":"#N/A"},0]
[null,null,null,null,null,null,null,null,null,null,null,39,"G02",{"$f":"'Processing Record'!A40","v":39},{"$f":"'Processing Record'!C40","v":"0-DNA"},{"$f":"'Processing Record'!Q40","v":0},{"$f":"'Processing Record'!J40","v":{"$error":"#N/A"}},{"$error":"#N/A"},{"$error":"#N/A"},{"$error":"#N/A"},null,"G06",47,{"$error":"#N/A"},{"$error":"#N/A"},0]
[null,null,null,null,null,null,null,null,null,null,null,40,"H02",{"$f":"'Processing Record'!A41","v":40},{"$f":"'Processing Record'!C41","v":"0-DNA"},{"$f":"'Processing Record'!Q41","v":0},{"$f":"'Processing Record'!J41","v":{"$error":"#N/A"}},{"$error":"#N/A"},{"$error":"#N/A"},{"$error":"#N/A"},null,"H01",38,{"$error":"#N/A"},{"$error":"#N/A"},0]
[null,null,null,null,null,null,null,null,null,null,null,41,"G03",{"$f":"'Processing Record'!A42","v":41},{"$f":"'Processing Record'!C42","v":"0-DNA"},{"$f":"'Processing Record'!Q42","v":0},{"$f":"'Processing Record'!J42","v":{"$error":"#N/A"}},{"$error":"#N/A"},{"$error":"#N/A"},{"$error":"#N/A"},null,"H02",40,{"$error":"#N/A"},{"$error":"#N/A"},0]
[null,null,null,null,null,null,null,null,null,null,null,42,"H03",{"$f":"'Processing Record'!A43","v":42},{"$f":"'Processing Record'!C43","v":"0-DNA"},{"$f":"'Processing Record'!Q43","v":0},{"$f":"'Processing Record'!J43","v":{"$error":"#N/A"}},{"$error":"#N/A"},{"$error":"#N/A"},{"$error":"#N/A"},null,"H03",42,{"$error":"#N/A"},{"$error":"#N/A"},0]
[null,null,null,null,null,null,null,null,null,null,null,43,"G04",{"$f":"'Processing Record'!A44","v":43},{"$f":"'Processing Record'!C44","v":"0-DNA"},{"$f":"'Processing Record'!Q44","v":0},{"$f":"'Processing Record'!J44","v":{"$error":"#N/A"}},{"$error":"#N/A"},{"$error":"#N/A"},{"$error":"#N/A"},null,"H04",44,{"$error":"#N/A"},{"$error":"#N/A"},0]
[null,null,null,null,null,null,null,null,null,null,null,44,"H04",{"$f":"'Processing Record'!A45","v":44},{"$f":"'Processing Record'!C45","v":"0-DNA"},{"$f":"'Processing Record'!Q45","v":0},{"$f":"'Processing Record'!J45","v":{"$error":"#N/A"}},{"$error":"#N/A"},{"$error":"#N/A"},{"$error":"#N/A"},null,"H05",46,{"$error":"#N/A"},{"$error":"#N/A"},0]
[null,null,null,null,null,null,null,null,null,null,null,45,"G05",{"$f":"'Processing Record'!A46","v":45},{"$f":"'Processing Record'!C46","v":"0-DNA"},{"$f":"'Processing Record'!Q46","v":0},{"$f":"'Processing Record'!J46","v":{"$error":"#N/A"}},{"$error":"#N/A"},{"$error":"#N/A"},{"$error":"#N/A"},null,"H06",48,{"$error":"#N/A"},{"$error":"#N/A"},0]
[null,null,null,null,null,null,null,null,null,null,null,46,"H05",{"$f":"'Processing Record'!A47","v":46},{"$f":"'Processing Record'!C47","v":"0-DNA"},{"$f":"'Processing Record'!Q47","v":0},{"$f":"'Processing Record'!J47","v":{"$error":"#N/A"}},{"$error":"#N/A"},{"$error":"#N/A"},{"$error":"#N/A"}]
[null,null,null,null,null,null,null,null,null,null,null,47,"G06",{"$f":"'Processing Record'!A48","v":47},{"$f":"'Processing Record'!C48","v":"0-DNA"},{"$f":"'Processing Record'!Q48","v":0},{"$f":"'Processing Record'!J48","v":{"$error":"#N/A"}},{"$error":"#N/A"},{"$error":"#N/A"},{"$error":"#N/A"}]
[null,null,null,null,null,null,null,null,null,null,null,48,"H06",{"$f":"'Processing Record'!A49","v":48},{"$f":"'Processing Record'!C49","v":"0-DNA"},{"$f":"'Processing Record'!Q49","v":0},{"$f":"'Processing Record'!J49","v":{"$error":"#N/A"}},{"$error":"#N/A"},{"$error":"#N/A"},{"$error":"#N/A"}]
[null,null,null,null,null,null,null,null,null,null,null,"M",null,null,"Fermentas FastRuler High Range DNA Ladder","-","-",20]
[]
[]
[null,null,null,null,null,null,null,null,null,null,null,"Gel 2",null,null,null,null,null,null,null,null,null,"Dilution Plate 2"]
[null,null,null,null,null,null,null,null,null,null,null,"Lane","Well","Sample no.","Sample_ID","Reference_ID","DNA conc. (ng/ul)","Amount loaded (ng)","Water(ul)","Sample(ul)",null,"Well","Sample no.","Water(ul)","Sample(ul)","Reference ID"]
[null,null,null,null,null,null,null,null,null,null,null,"M",null,null,"Fermentas FastRuler High Range DNA Ladder","-","-",20,null,null,null,"A01",49,{"$f":"VLOOKUP($V60, $M$59:$T$111, 7, FALSE)","v":{"$error":"#N/A"}},{"$f":"VLOOKUP($V60, $M$59:$T$111, 8, FALSE)","v":{"$error":"#N/A"}},{"$f":"VLOOKUP($V60, $M$59:$T$111, 4, FALSE)","v":0}]
[null,null,null,null,null,null,null,null,null,null,null,1,"A01",{"$f":"'Processing Record'!A50","v":49},{"$f":"'Processing Record'!C50","v":"0-DNA"},{"$f":"'Processing Record'!Q50","v":0},{"$f":"'Processing Record'!E50","v":{"$error":"#N/A"}},{"$f":"(Q61*T61/(S61+T61))*20","v":{"$error":"#N/A"}},{"$f":"ROUND(Q61*T61/50*20-T61,0)","v":{"$error":"#N/A"}},{"$f":"ROUNDUP(50/Q61,0)","v":{"$error":"#N/A"}},null,"A02",51,{"$error":"#N/A"},{"$error":"#N/A"},0]
[null,null,null,null,null,null,null,null,null,null,null,2,"B01",{"$f":"'Processing Record'!A51","v":50},{"$f":"'Processing Record'!C51","v":"0-DNA"},{"$f":"'Processing Record'!Q51","v":0},{"$f":"'Processing Record'!E51","v":{"$error":"#N/A"}},{"$f":"(Q62*T62/(S62+T62))*20","v":{"$error":"#N/A"}},{"$f":"ROUND(Q62*T62/50*20-T62,0)","v":{"$error":"#N/A"}},{"$f":"ROUNDUP(50/Q62,0)","v":{"$error":"#N/A"}},null,"A03",53,{"$error":"#N/A"},{"$error":"#N/A"},0]
[null,null,null,null,null,null,null,null,null,null,null,3,"A02",{"$f":"'Processing Record'!A52","v":51},{"$f":"'Processing Record'!C52","v":"0-DNA"},{"$f":"'Processing Record'!Q52","v":0},{"$f":"'Processing Record'!E52","v":{"$error":"#N/A"}},{"$error":"#N/A"},{"$error":"#N/A"},{"$error":"#N/A"},null,"A04",55,{"$error":"#N/A"},{"$error":"#N/A"},0]
[null,null,null,null,null,null,null,null,null,null,null,4,"B02",{"$f":"'Processing Record'!A53","v":52},{"$f":"'Processing Record'!C53","v":"0-DNA"},{"$f":"'Processing Record'!Q53","v":0},{"$f":"'Processing Record'!E53","v":{"$error":"#N/A"}},{"$error":"#N/A"},{"$error":"#N/A"},{"$error":"#N/A"},null,"A05",57,{"$error":"#N/A"},{"$error":"#N/A"},0]
[null,null,null,null,null,null,null,null,null,null,null,5,"A03",{"$f":"'Processing Record'!A54","v":53},{"$f":"'Processing Record'!C54","v":"0-DNA"},{"$f":"'Processing Record'!Q54","v":0},{"$f":"'Processing Record'!E54","v":{"$error":"#N/A"}},{"$error":"#N/A"},{"$error":"#N/A"},{"$error":"#N/A"},null,"A06",59,{"$error":"#N/A"},{"$error":"#N/A"},0]
[null,null,null,null,null,null,null,null,null,null,null,6,"B03",{"$f":"'Processing Record'!A55","v":54},{"$f":"'Processing Record'!C55","v":"0-DNA"},{"$f":"'Processing Record'!Q55","v":0},{"$f":"'Processing Record'!E55","v":{"$error":"#N/A"}},{"$error":"#N/A"},{"$error":"#N/A"},{"$error":"#N/A"},null,"B01",50,{"$error":"#N/A"},{"$error":"#N/A"},0]
[null,null,null,null,null,null,null,null,null,null,null,7,"A04",{"$f":"'Processing Record'!A56","v":55},{"$f":"'Processing Record'!C56","v":"0-DNA"},{"$f":"'Processing Record'!Q56","v":0},{"$f":"'Processing Record'!E56","v":{"$error":"#N/A"}},{"$error":"#N/A"},{"$error":"#N/A"},{"$error":"#N/A"},null,"B02",52,{"$error":"#N/A"},{"$error":"#N/A"},0]
[null,null,null,null,null,null,null,null,null,null,null,8,"B04",{"$f":"'Processing Record'!A57","v":56},{"$f":"'Processing Record'!C57","v":"0-DNA"},{"$f":"'Processing Record'!Q57","v":0},{"$f":"'Processing Record'!E57","v":{"$error":"#N/A"}},{"$error":"#N/A"},{"$error":"#N/A"},{"$error":"#N/A"},null,"B03",54,{"$error":"#N/A"},{"$error":"#N/A"},0]
[null,null,null,null,null,null,null,null,null,null,null,9,"A05",{"$f":"'Processing Record'!A58","v":57},{"$f":"'Processing Record'!C58","v":"0-DNA"},{"$f":"'Processing Record'!Q58","v":0},{"$f":"'Processing Record'!E58","v":{"$error":"#N/A"}},{"$error":"#N/A"},{"$error":"#N/A"},{"$error":"#N/A"},null,"B04",56,{"$error":"#N/A"},{"$error":"#N/A"},0]
[null,null,null,null,null,null,null,null,null,null,null,10,"B05",{"$f":"'Processing Record'!A59","v":58},{"$f":"'Processing Record'!C59","v":"0-DNA"},{"$f":"'Processing Record'!Q59","v":0},{"$f":"'Processing Record'!E59","v":{"$error":"#N/A"}},{"$error":"#N/A"},{"$error":"#N/A"},{"$error":"#N/A"},null,"B05",58,{"$error":"#N/A"},{"$error":"#N/A"},0]
[null,null,null,null,null,null,null,null,null,null,null,11,"A06",{"$f":"'Processing Record'!A60","v":59},{"$f":"'Processing Record'!C60","v":"0-DNA"},{"$f":"'Processing Record'!Q60","v":0},{"$f":"'Processing Record'!E60","v":{"$error":"#N/A"}},{"$error":"#N/A"},{"$error":"#N/A"},{"$error":"#N/A"},null,"B06",60,{"$error":"#N/A"},{"$error":"#N/A"},0]
[null,null,null,null,null,null,null,null,null,null,null,12,"B06",{"$f":"'Processing Record'!A61","v":60},{"$f":"'Processing Record'!C61","v":"0-DNA"},{"$f":"'Processing Record'!Q61","v":0},{"$f":"'Processing Record'!E61","v":{"$error":"#N/A"}},{"$error":"#N/A"},{"$error":"#N/A"},{"$error":"#N/A"},null,"C01",61,{"$error":"#N/A"},{"$error":"#N/A"},0]
[null,null,null,null,null,null,null,null,null,null,null,13,"C01",{"$f":"'Processing Record'!A62","v":61},{"$f":"'Processing Record'!C62","v":"0-DNA"},{"$f":"'Processing Record'!Q62","v":0},{"$f":"'Processing Record'!E62","v":{"$error":"#N/A"}},{"$error":"#N/A"},{"$error":"#N/A"},{"$error":"#N/A"},null,"C02",63,{"$error":"#N/A"},{"$error":"#N/A"},0]
[null,null,null,null,null,null,null,null,null,null,null,14,"D01",{"$f":"'Processing Record'!A63","v":62},{"$f":"'Processing Record'!C63","v":"0-DNA"},{"$f":"'Processing Record'!Q63","v":0},{"$f":"'Processing Record'!E63","v":{"$error":"#N/A"}},{"$error":"#N/A"},{"$error":"#N/A"},{"$error":"#N/A"},null,"C03",65,{"$error":"#N/A"},{"$error":"#N/A"},0]
[null,null,null,null,null,null,null,null,null,null,null,15,"C02",{"$f":"'Processing Record'!A64","v":63},{"$f":"'Processing Record'!C64","v":"0-DNA"},{"$f":"'Processing Record'!Q64","v":0},{"$f":"'Processing Record'!E64","v":{"$error":"#N/A"}},{"$error":"#N/A"},{"$error":"#N/A"},{"$error":"#N/A"},null,"C04",67,{"$error":"#N/A"},{"$error":"#N/A"},0]
[null,null,null,null,null,null,null,null,null,null,null,16,"D02",{"$f":"'Processing Record'!A65","v":64},{"$f":"'Processing Record'!C65","v":"0-DNA"},{"$f":"'Processing Record'!Q65","v":0},{"$f":"'Processing Record'!E65","v":{"$error":"#N/A"}},{"$error":"#N/A"},{"$error":"#N/A"},{"$error":"#N/A"},null,"C05",69,{"$error":"#N/A"},{"$error":"#N/A"},0]
[null,null,null,null,null,null,null,null,null,null,null,17,"C03",{"$f":"'Processing Record'!A66","v":65},{"$f":"'Processing Record'!C66","v":"0-DNA"},{"$f":"'Processing Record'!Q66","v":0},{"$f":"'Processing Record'!E66","v":{"$error":"#N/A"}},{"$error":"#N/A"},{"$error":"#N/A"},{"$error":"#N/A"},null,"C06",71,{"$error":"#N/A"},{"$error":"#N/A"},0]
[null,null,null,null,null,null,null,null,null,null,null,18,"D03",{"$f":"'Processing Record'!A67","v":66},{"$f":"'Processing Record'!C67","v":"0-DNA"},{"$f":"'Processing Record'!Q67","v":0},{"$f":"'Processing Record'!E67","v":{"$error":"#N/A"}},{"$error":"#N/A"},{"$error":"#N/A"},{"$error":"#N/A"},null,"D01",62,{"$error":"#N/A"},{"$error":"#N/A"},0]
[null,null,null,null,null,null,null,null,null,null,null,19,"C04",{"$f":"'Processing Record'!A68","v":67},{"$f":"'Processing Record'!C68","v":"0-DNA"},{"$f":"'Processing Record'!Q68","v":0},{"$f":"'Processing Record'!E68","v":{"$error":"#N/A"}},{"$error":"#N/A"},{"$error":"#N/A"},{"$error":"#N/A"},null,"D02",64,{"$error":"#N/A"},{"$error":"#N/A"},0]
[null,null,null,null,null,null,null,null,null,null,null,20,"D04",{"$f":"'Processing Record'!A69","v":68},{"$f":"'Processing Record'!C69","v":"0-DNA"},{"$f":"'Processing Record'!Q69","v":0},{"$f":"'Processing Record'!E69","v":{"$error":"#N/A"}},{"$error":"#N/A"},{"$error":"#N/A"},{"$error":"#N/A"},null,"D03",66,{"$error":"#N/A"},{"$error":"#N/A"},0]
[null,null,null,null,null,null,null,null,null,null,null,21,"C05",{"$f":"'Processing Record'!A70","v":69},{"$f":"'Processing Record'!C70","v":"0-DNA"},{"$f":"'Processing Record'!Q70","v":0},{"$f":"'Processing Record'!E70","v":{"$error":"#N/A"}},{"$error":"#N/A"},{"$error":"#N/A"},{"$error":"#N/A"},null,"D04",68,{"$error":"#N/A"},{"$error":"#N/A"},0]
[null,null,null,null,null,null,null,null,null,null,null,22,"D05",{"$f":"'Processing Record'!A71","v":70},{"$f":"'Processing Record'!C71","v":"0-DNA"},{"$f":"'Processing Record'!Q71","v":0},{"$f":"'Processing Record'!E71","v":{"$error":"#N/A"}},{"$error":"#N/A"},{"$error":"#N/A"},{"$error":"#N/A"},null,"D05",70,{"$error":"#N/A"},{"$error":"#N/A"},0]
[null,null,null,null,null,null,null,null,null,null,null,23,"C06",{"$f":"'Processing Record'!A72","v":71},{"$f":"'Processing Record'!C72","v":"0-DNA"},{"$f":"'Processing Record'!Q72","v":0},{"$f":"'Processing Record'!E72","v":{"$error":"#N/A"}},{"$error":"#N/A"},{"$error":"#N/A"},{"$error":"#N/A"},null,"D06",72,{"$error":"#N/A"},{"$error":"#N/A"},0]
[null,null,null,null,null,null,null,null,null,null,null,24,"D06",{"$f":"'Processing Record'!A73","v":72},{"$f":"'Processing Record'!C73","v":"0-DNA"},{"$f":"'Processing Record'!Q73","v":0},{"$f":"'Processing Record'!E73","v":{"$error":"#N/A"}},{"$error":"#N/A"},{"$error":"#N/A"},{"$error":"#N/A"},null,"E01",73,{"$error":"#N/A"},{"$error":"#N/A"},0]
[null,null,null,null,null,null,null,null,null,null,null,"M",null,null,"Fermentas FastRuler High Range DNA Ladder","-",null,20,null,null,null,"E02",75,{"$error":"#N/A"},{"$error":"#N/A"},0]
[null,null,null,null,null,null,null,null,null,null,null,"M",null,null,"Fermentas FastRuler High Range DNA Ladder","-",null,20,null,null,null,"E03",77,{"$error":"#N/A"},{"$error":"#N/A"},0]
[null,null,null,null,null,null,null,null,null,null,null,25,"E01",{"$f":"'Processing Record'!A74","v":73},{"$f":"'Processing Record'!C74","v":"0-DNA"},{"$f":"'Processing Record'!Q74","v":0},{"$f":"'Processing Record'!E74","v":{"$error":"#N/A"}},{"$f":"(Q87*T87/(S87+T87))*20","v":{"$error":"#N/A"}},{"$f":"ROUND(Q87*T87/50*20-T87,0)","v":{"$error":"#N/A"}},{"$f":"ROUNDUP(50/Q87,0)","v":{"$error":"#N/A"}},null,"E04",79,{"$error":"#N/A"},{"$error":"#N/A"},0]
[null,null,null,null,null,null,null,null,null,null,null,26,"F01",{"$f":"'Processing Record'!A75","v":74},{"$f":"'Processing Record'!C75","v":"0-DNA"},{"$f":"'Processing Record'!Q75","v":0},{"$f":"'Processing Record'!E75","v":{"$error":"#N/A"}},{"$f":"(Q88*T88/(S88+T88))*20","v":{"$error":"#N/A"}},{"$f":"ROUND(Q88*T88/50*20-T88,0)","v":{"$error":"#N/A"}},{"$f":"ROUNDUP(50/Q88,0)","v":{"$error":"#N/A"}},null,"E05",81,{"$error":"#N/A"},{"$error":"#N/A"},0]
[null,null,null,null,null,null,null,null,null,null,null,27,"E02",{"$f":"'Processing Record'!A76","v":75},{"$f":"'Processing Record'!C76","v":"0-DNA"},{"$f":"'Processing Record'!Q76","v":0},{"$f":"'Processing Record'!E76","v":{"$error":"#N/A"}},{"$error":"#N/A"},{"$error":"#N/A"},{"$error":"#N/A"},null,"E06",83,{"$error":"#N/A"},{"$error":"#N/A"},0]
[null,null,null,null,null,null,null,null,null,null,null,28,"F02",{"$f":"'Processing Record'!A77","v":76},{"$f":"'Processing Record'!C77","v":"0-DNA"},{"$f":"'Processing Record'!Q77","v":0},{"$f":"'Processing Record'!E77","v":{"$error":"#N/A"}},{"$error":"#N/A"},{"$error":"#N/A"},{"$error":"#N/A"},null,"F01",74,{"$error":"#N/A"},{"$error":"#N/A"},0]
[null,null,null,null,null,null,null,null,null,null,null,29,"E03",{"$f":"'Processing Record'!A78","v":77},{"$f":"'Processing Record'!C78","v":"0-DNA"},{"$f":"'Processing Record'!Q78","v":0},{"$f":"'Processing Record'!E78","v":{"$error":"#N/A"}},{"$error":"#N/A"},{"$error":"#N/A"},{"$error":"#N/A"},null,"F02",76,{"$error":"#N/A"},{"$error":"#N/A"},0]
[null,null,null,null,null,null,null,null,null,null,null,30,"F03",{"$f":"'Processing Record'!A79","v":78},{"$f":"'Processing Record'!C79","v":"0-DNA"},{"$f":"'Processing Record'!Q79","v":0},{"$f":"'Processing Record'!E79","v":{"$error":"#N/A"}},{"$error":"#N/A"},{"$error":"#N/A"},{"$error":"#N/A"},null,"F03",78,{"$error":"#N/A"},{"$error":"#N/A"},0]
[null,null,null,null,null,null,null,null,null,null,null,31,"E04",{"$f":"'Processing Record'!A80","v":79},{"$f":"'Processing Record'!C80","v":"0-DNA"},{"$f":"'Processing Record'!Q80","v":0},{"$f":"'Processing Record'!E80","v":{"$error":"#N/A"}},{"$error":"#N/A"},{"$error":"#N/A"},{"$error":"#N/A"},null,"F04",80,{"$error":"#N/A"},{"$error":"#N/A"},0]
[null,null,null,null,null,null,null,null,null,null,null,32,"F04",{"$f":"'Processing Record'!A81","v":80},{"$f":"'Processing Record'!C81","v":"0-DNA"},{"$f":"'Processing Record'!Q81","v":0},{"$f":"'Processing Record'!E81","v":{"$error":"#N/A"}},{"$error":"#N/A"},{"$error":"#N/A"},{"$error":"#N/A"},null,"F05",82,{"$error":"#N/A"},{"$error":"#N/A"},0]
[null,null,null,null,null,null,null,null,null,null,null,33,"E05",{"$f":"'Processing Record'!A82","v":81},{"$f":"'Processing Record'!C82","v":"0-DNA"},{"$f":"'Processing Record'!Q82","v":0},{"$f":"'Processing Record'!E82","v":{"$error":"#N/A"}},{"$error":"#N/A"},{"$error":"#N/A"},{"$error":"#N/A"},null,"F06",84,{"$error":"#N/A"},{"$error":"#N/A"},0]
[null,null,null,null,null,null,null,null,null,null,null,34,"F05",{"$f":"'Processing Record'!A83","v":82},{"$f":"'Processing Record'!C83","v":"0-DNA"},{"$f":"'Processing Record'!Q83","v":0},{"$f":"'Processing Record'!E83","v":{"$error":"#N/A"}},{"$error":"#N/A"},{"$error":"#N/A"},{"$error":"#N/A"},null,"G01",85,{"$error":"#N/A"},{"$error":"#N/A"},0]
[null,null,null,null,null,null,null,null,null,null,null,35,"E06",{"$f":"'Processing Record'!A84","v":83},{"$f":"'Processing Record'!C84","v":"0-DNA"},{"$f":"'Processing Record'!Q84","v":0},{"$f":"'Processing Record'!E84","v":{"$error":"#N/A"}},{"$error":"#N/A"},{"$error":"#N/A"},{"$error":"#N/A"},null,"G02",87,{"$error":"#N/A"},{"$error":"#N/A"},0]
[null,null,null,null,null,null,null,null,null,null,null,36,"F06",{"$f":"'Processing Record'!A85","v":84},{"$f":"'Processing Record'!C85","v":"0-DNA"},{"$f":"'Processing Record'!Q85","v":0},{"$f":"'Processing Record'!E85","v":{"$error":"#N/A"}},{"$error":"#N/A"},{"$error":"#N/A"},{"$error":"#N/A"},null,"G03",89,{"$error":"#N/A"},{"$error":"#N/A"},0]
[null,null,null,null,null,null,null,null,null,null,null,37,"G01",{"$f":"'Processing Record'!A86","v":85},{"$f":"'Processing Record'!C86","v":"0-DNA"},{"$f":"'Processing Record'!Q86","v":0},{"$f":"'Processing Record'!E86","v":{"$error":"#N/A"}},{"$error":"#N/A"},{"$error":"#N/A"},{"$error":"#N/A"},null,"G04",91,{"$error":"#N/A"},{"$error":"#N/A"},0]
[null,null,null,null,null,null,null,null,null,null,null,38,"H01",{"$f":"'Processing Record'!A87","v":86},{"$f":"'Processing Record'!C87","v":"0-DNA"},{"$f":"'Processing Record'!Q87","v":0},{"$f":"'Processing Record'!E87","v":{"$error":"#N/A"}},{"$error":"#N/A"},{"$error":"#N/A"},{"$error":"#N/A"},null,"G05",93,{"$error":"#N/A"},{"$error":"#N/A"},0]
[null,null,null,null,null,null,null,null,null,null,null,39,"G02",{"$f":"'Processing Record'!A88","v":87},{"$f":"'Processing Record'!C88","v":"0-DNA"},{"$f":"'Processing Record'!Q88","v":0},{"$f":"'Processing Record'!E88","v":{"$error":"#N/A"}},{"$error":"#N/A"},{"$error":"#N/A"},{"$error":"#N/A"},null,"G06",95,{"$error":"#N/A"},{"$error":"#N/A"},0]
[null,null,null,null,null,null,null,null,null,null,null,40,"H02",{"$f":"'Processing Record'!A89","v":88},{"$f":"'Processing Record'!C89","v":"0-DNA"},{"$f":"'Processing Record'!Q89","v":0},{"$f":"'Processing Record'!E89","v":{"$error":"#N/A"}},{"$error":"#N/A"},{"$error":"#N/A"},{"$error":"#N/A"},null,"H01",86,{"$error":"#N/A"},{"$error":"#N/A"},0]
[null,null,null,null,null,null,null,null,null,null,null,41,"G03",{"$f":"'Processing Record'!A90","v":89},{"$f":"'Processing Record'!C90","v":"0-DNA"},{"$f":"'Processing Record'!Q90","v":0},{"$f":"'Processing Record'!E90","v":{"$error":"#N/A"}},{"$error":"#N/A"},{"$error":"#N/A"},{"$error":"#N/A"},null,"H02",88,{"$error":"#N/A"},{"$error":"#N/A"},0]
[null,null,null,null,null,null,null,null,null,null,null,42,"H03",{"$f":"'Processing Record'!A91","v":90},{"$f":"'Processing Record'!C91","v":"0-DNA"},{"$f":"'Processing Record'!Q91","v":0},{"$f":"'Processing Record'!E91","v":{"$error":"#N/A"}},{"$error":"#N/A"},{"$error":"#N/A"},{"$error":"#N/A"},null,"H03",90,{"$error":"#N/A"},{"$error":"#N/A"},0]
[null,null,null,null,null,null,null,null,null,null,null,43,"G04",{"$f":"'Processing Record'!A92","v":91},{"$f":"'Processing Record'!C92","v":"0-DNA"},{"$f":"'Processing Record'!Q92","v":0},{"$f":"'Processing Record'!E92","v":{"$error":"#N/A"}},{"$error":"#N/A"},{"$error":"#N/A"},{"$error":"#N/A"},null,"H04",92,{"$error":"#N/A"},{"$error":"#N/A"},0]
[null,null,null,null,null,null,null,null,null,null,null,44,"H04",{"$f":"'Processing Record'!A93","v":92},{"$f":"'Processing Record'!C93","v":"0-DNA"},{"$f":"'Processing Record'!Q93","v":0},{"$f":"'Processing Record'!E93","v":{"$error":"#N/A"}},{"$error":"#N/A"},{"$error":"#N/A"},{"$error":"#N/A"},null,"H05",94,{"$error":"#N/A"},{"$error":"#N/A"},0]
[null,null,null,null,null,null,null,null,null,null,null,45,"G05",{"$f":"'Processing Record'!A94","v":93},{"$f":"'Processing Record'!C94","v":"0-DNA"},{"$f":"'Processing Record'!Q94","v":0},{"$f":"'Processing Record'!E94","v":{"$error":"#N/A"}},{"$error":"#N/A"},{"$error":"#N/A"},{"$error":"#N/A"},null,"H06",96,{"$error":"#N/A"},{"$error":"#N/A"},0]
[null,null,null,null,null,null,null,null,null,null,null,46,"H05",{"$f":"'Processing Record'!A95","v":94},{"$f":"'Processing Record'!C95","v":"0-DNA"},{"$f":"'Processing Record'!Q95","v":0},{"$f":"'Processing Record'!E95","v":{"$error":"#N/A"}},{"$error":"#N/A"},{"$error":"#N/A"},{"$error":"#N/A"}]
[null,null,null,null,null,null,null,null,null,null,null,47,"G06",{"$f":"'Processing Record'!A96","v":95},{"$f":"'Processing Record'!C96","v":"0-DNA"},{"$f":"'Processing Record'!Q96","v":0},{"$f":"'Processing Record'!E96","v":{"$error":"#N/A"}},{"$error":"#N/A"},{"$error":"#N/A"},{"$error":"#N/A"}]
[null,null,null,null,null,null,null,null,null,null,null,48,"H06",{"$f":"'Processing Record'!A97","v":96},{"$f":"'Processing Record'!C97","v":"0-DNA"},{"$f":"'Processing Record'!Q97","v":0},{"$f":"'Processing Record'!E97","v":{"$error":"#N/A"}},{"$error":"#N/A"},{"$error":"#N/A"},{"$error":"#N/A"}]
[null,null,null,null,null,null,null,null,null,null,null,"M",null,null,"Fermentas FastRuler High Range DNA Ladder","-",null,20]
[]
[]
[null,null,null,null,null,null,null,null,null,null,null,"Gel 3",null,null,null,null,null,null,null,null,null,"Dilution Plate 3"]
[null,null,null,null,null,null,null,null,null,null,null,"Lane","Well","Sample no.","Sample_ID","Reference_ID","DNA conc. (ng/ul)","Amount loaded (ng)","Water(ul)","Sample(ul)",null,"Well","Sample no.","Water(ul)","Sample(ul)","Reference ID"]
[null,null,null,null,null,null,null,null,null,null,null,"M",null,null,"Fermentas FastRuler High Range DNA Ladder","-","-",20,null,null,null,"A01",97,{"$f":"VLOOKUP($V116, $M$115:$T$167, 7, FALSE)","v":{"$error":"#N/A"}},{"$f":"VLOOKUP($V116, $M$115:$T$167, 8, FALSE)","v":{"$error":"#N/A"}},{"$f":"VLOOKUP($V116, $M$115:$T$167, 4, FALSE)","v":0}]
[null,null,null,null,null,null,null,null,null,null,null,1,"A01",{"$f":"'Processing Record'!A98","v":97},{"$f":"'Processing Record'!C98","v":"0-DNA"},{"$f":"'Processing Record'!Q98","v":0},{"$f":"'Processing Record'!E98","v":{"$error":"#N/A"}},{"$f":"(Q117*T117/(S117+T117))*20","v":{"$error":"#N/A"}},{"$f":"ROUND(Q117*T117/50*20-T117,0)","v":{"$error":"#N/A"}},{"$f":"ROUNDUP(50/Q117,0)","v":{"$error":"#N/A"}},null,"A02",99,{"$error":"#N/A"},{"$error":"#N/A"},0]
[null,null,null,null,null,null,null,null,null,null,null,2,"B01",{"$f":"'Processing Record'!A99","v":98},{"$f":"'Processing Record'!C99","v":"0-DNA"},{"$f":"'Processing Record'!Q99","v":0},{"$f":"'Processing Record'!E99","v":{"$error":"#N/A"}},{"$f":"(Q118*T118/(S118+T118))*20","v":{"$error":"#N/A"}},{"$f":"ROUND(Q118*T118/50*20-T118,0)","v":{"$error":"#N/A"}},{"$f":"ROUNDUP(50/Q118,0)","v":{"$error":"#N/A"}},null,"A03",101,{"$error":"#N/A"},{"$error":"#N/A"},0]
[null,null,null,null,null,null,null,null,null,null,null,3,"A02",{"$f":"'Processing Record'!A100","v":99},{"$f":"'Processing Record'!C100","v":"0-DNA"},{"$f":"'Processing Record'!Q100","v":0},{"$f":"'Processing Record'!E100","v":{"$error":"#N/A"}},{"$error":"#N/A"},{"$error":"#N/A"},{"$error":"#N/A"},null,"A04",103,{"$error":"#N/A"},{"$error":"#N/A"},0]
[null,null,null,null,null,null,null,null,null,null,null,4,"B02",{"$f":"'Processing Record'!A101","v":100},{"$f":"'Processing Record'!C101","v":"0-DNA"},{"$f":"'Processing Record'!Q101","v":0},{"$f":"'Processing Record'!E101","v":{"$error":"#N/A"}},{"$error":"#N/A"},{"$error":"#N/A"},{"$error":"#N/A"},null,"A05",105,{"$error":"#N/A"},{"$error":"#N/A"},0]
[null,null,null,null,null,null,null,null,null,null,null,5,"A03",{"$f":"'Processing Record'!A102","v":101},{"$f":"'Processing Record'!C102","v":"0-DNA"},{"$f":"'Processing Record'!Q102","v":0},{"$f":"'Processing Record'!E102","v":{"$error":"#N/A"}},{"$error":"#N/A"},{"$error":"#N/A"},{"$error":"#N/A"},null,"A06",107,{"$error":"#N/A"},{"$error":"#N/A"},0]
[null,null,null,null,null,null,null,null,null,null,null,6,"B03",{"$f":"'Processing Record'!A103","v":102},{"$f":"'Processing Record'!C103","v":"0-DNA"},{"$f":"'Processing Record'!Q103","v":0},{"$f":"'Processing Record'!E103","v":{"$error":"#N/A"}},{"$error":"#N/A"},{"$error":"#N/A"},{"$error":"#N/A"},null,"B01",98,{"$error":"#N/A"},{"$error":"#N/A"},0]
[null,null,null,null,null,null,null,null,null,null,null,7,"A04",{"$f":"'Processing Record'!A104","v":103},{"$f":"'Processing Record'!C104","v":"0-DNA"},{"$f":"'Processing Record'!Q104","v":0},{"$f":"'Processing Record'!E104","v":{"$error":"#N/A"}},{"$error":"#N/A"},{"$error":"#N/A"},{"$error":"#N/A"},null,"B02",100,{"$error":"#N/A"},{"$error":"#N/A"},0]
[null,null,null,null,null,null,null,null,null,null,null,8,"B04",{"$f":"'Processing Record'!A105","v":104},{"$f":"'Processing Record'!C105","v":"0-DNA"},{"$f":"'Processing Record'!Q105","v":0},{"$f":"'Processing Record'!E105","v":{"$error":"#N/A"}},{"$error":"#N/A"},{"$error":"#N/A"},{"$error":"#N/A"},null,"B03",102,{"$error":"#N/A"},{"$error":"#N/A"},0]
[null,null,null,null,null,null,null,null,null,null,null,9,"A05",{"$f":"'Processing Record'!A106","v":105},{"$f":"'Processing Record'!C106","v":"0-DNA"},{"$f":"'Processing Record'!Q106","v":0},{"$f":"'Processing Record'!E106","v":{"$error":"#N/A"}},{"$error":"#N/A"},{"$error":"#N/A"},{"$error":"#N/A"},null,"B04",104,{"$error":"#N/A"},{"$error":"#N/A"},0]
[null,null,null,null,null,null,null,null,null,null,null,10,"B05",{"$f":"'Processing Record'!A107","v":106},{"$f":"'Processing Record'!C107","v":"0-DNA"},{"$f":"'Processing Record'!Q107","v":0},{"$f":"'Processing Record'!E107","v":{"$error":"#N/A"}},{"$error":"#N/A"},{"$error":"#N/A"},{"$error":"#N/A"},null,"B05",106,{"$error":"#N/A"},{"$error":"#N/A"},0]
[null,null,null,null,null,null,null,null,null,null,null,11,"A06",{"$f":"'Processing Record'!A108","v":107},{"$f":"'Processing Record'!C108","v":"0-DNA"},{"$f":"'Processing Record'!Q108","v":0},{"$f":"'Processing Record'!E108","v":{"$error":"#N/A"}},{"$error":"#N/A"},{"$error":"#N/A"},{"$error":"#N/A"},null,"B06",108,{"$error":"#N/A"},{"$error":"#N/A"},0]
[null,null,null,null,null,null,null,null,null,null,null,12,"B06",{"$f":"'Processing Record'!A109","v":108},{"$f":"'Processing Record'!C109","v":"0-DNA"},{"$f":"'Processing Record'!Q109","v":0},{"$f":"'Processing Record'!E109","v":{"$error":"#N/A"}},{"$error":"#N/A"},{"$error":"#N/A"},{"$error":"#N/A"},null,"C01",109,{"$error":"#N/A"},{"$error":"#N/A"},0]
[null,null,null,null,null,null,null,null,null,null,null,13,"C01",{"$f":"'Processing Record'!A110","v":109},{"$f":"'Processing Record'!C110","v":"0-DNA"},{"$f":"'Processing Record'!Q110","v":0},{"$f":"'Processing Record'!E110","v":{"$error":"#N/A"}},{"$error":"#N/A"},{"$error":"#N/A"},{"$error":"#N/A"},null,"C02",111,{"$error":"#N/A"},{"$error":"#N/A"},0]
[null,null,null,null,null,null,null,null,null,null,null,14,"D01",{"$f":"'Processing Record'!A111","v":110},{"$f":"'Processing Record'!C111","v":"0-DNA"},{"$f":"'Processing Record'!Q111","v":0},{"$f":"'Processing Record'!E111","v":{"$error":"#N/A"}},{"$error":"#N/A"},{"$error":"#N/A"},{"$error":"#N/A"},null,"C03",113,{"$error":"#N/A"},{"$error":"#N/A"},0]
[null,null,null,null,null,null,null,null,null,null,null,15,"C02",{"$f":"'Processing Record'!A112","v":111},{"$f":"'Processing Record'!C112","v":"0-DNA"},{"$f":"'Processing Record'!Q112","v":0},{"$f":"'Processing Record'!E112","v":{"$error":"#N/A"}},{"$error":"#N/A"},{"$error":"#N/A"},{"$error":"#N/A"},null,"C04",115,{"$error":"#N/A"},{"$error":"#N/A"},0]
[null,null,null,null,null,null,null,null,null,null,null,16,"D02",{"$f":"'Processing Record'!A113","v":112},{"$f":"'Processing Record'!C113","v":"0-DNA"},{"$f":"'Processing Record'!Q113","v":0},{"$f":"'Processing Record'!E113","v":{"$error":"#N/A"}},{"$error":"#N/A"},{"$error":"#N/A"},{"$error":"#N/A"},null,"C05",117,{"$error":"#N/A"},{"$error":"#N/A"},0]
[null,null,null,null,null,null,null,null,null,null,null,17,"C03",{"$f":"'Processing Record'!A114","v":113},{"$f":"'Processing Record'!C114","v":"0-DNA"},{"$f":"'Processing Record'!Q114","v":0},{"$f":"'Processing Record'!E114","v":{"$error":"#N/A"}},{"$error":"#N/A"},{"$error":"#N/A"},{"$error":"#N/A"},null,"C06",119,{"$error":"#N/A"},{"$error":"#N/A"},0]
[null,null,null,null,null,null,null,null,null,null,null,18,"D03",{"$f":"'Processing Record'!A115","v":114},{"$f":"'Processing Record'!C115","v":"0-DNA"},{"$f":"'Processing Record'!Q115","v":0},{"$f":"'Processing Record'!E115","v":{"$error":"#N/A"}},{"$error":"#N/A"},{"$error":"#N/A"},{"$error":"#N/A"},null,"D01",110,{"$error":"#N/A"},{"$error":"#N/A"},0]
[null,null,null,null,null,null,null,null,null,null,null,19,"C04",{"$f":"'Processing Record'!A116","v":115},{"$f":"'Processing Record'!C116","v":"0-DNA"},{"$f":"'Processing Record'!Q116","v":0},{"$f":"'Processing Record'!E116","v":{"$error":"#N/A"}},{"$error":"#N/A"},{"$error":"#N/A"},{"$error":"#N/A"},null,"D02",112,{"$error":"#N/A"},{"$error":"#N/A"},0]
[null,null,null,null,null,null,null,null,null,null,null,20,"D04",{"$f":"'Processing Record'!A117","v":116},{"$f":"'Processing Record'!C117","v":"0-DNA"},{"$f":"'Processing Record'!Q117","v":0},{"$f":"'Processing Record'!E117","v":{"$error":"#N/A"}},{"$error":"#N/A"},{"$error":"#N/A"},{"$error":"#N/A"},null,"D03",114,{"$error":"#N/A"},{"$error":"#N/A"},0]
[null,null,null,null,null,null,null,null,null,null,null,21,"C05",{"$f":"'Processing Record'!A118","v":117},{"$f":"'Processing Record'!C118","v":"0-DNA"},{"$f":"'Processing Record'!Q118","v":0},{"$f":"'Processing Record'!E118","v":{"$error":"#N/A"}},{"$error":"#N/A"},{"$error":"#N/A"},{"$error":"#N/A"},null,"D04",116,{"$error":"#N/A"},{"$error":"#N/A"},0]
[null,null,null,null,null,null,null,null,null,null,null,22,"D05",{"$f":"'Processing Record'!A119","v":118},{"$f":"'Processing Record'!C119","v":"0-DNA"},{"$f":"'Processing Record'!Q119","v":0},{"$f":"'Processing Record'!E119","v":{"$error":"#N/A"}},{"$error":"#N/A"},{"$error":"#N/A"},{"$error":"#N/A"},null,"D05",118,{"$error":"#N/A"},{"$error":"#N/A"},0]
[null,null,null,null,null,null,null,null,null,null,null,23,"C06",{"$f":"'Processing Record'!A120","v":119},{"$f":"'Processing Record'!C120","v":"0-DNA"},{"$f":"'Processing Record'!Q120","v":0},{"$f":"'Processing Record'!E120","v":{"$error":"#N/A"}},{"$error":"#N/A"},{"$error":"#N/A"},{"$error":"#N/A"},null,"D06",120,{"$error":"#N/A"},{"$error":"#N/A"},0]
[null,null,null,null,null,null,null,null,null,null,null,24,"D06",{"$f":"'Processing Record'!A121","v":120},{"$f":"'Processing Record'!C121","v":"0-DNA"},{"$f":"'Processing Record'!Q121","v":0},{"$f":"'Processing Record'!E121","v":{"$error":"#N/A"}},{"$error":"#N/A"},{"$error":"#N/A"},{"$error":"#N/A"},null,"E01",121,{"$error":"#N/A"},{"$error":"#N/A"},0]
[null,null,null,null,null,null,null,null,null,null,null,"M",null,null,"Fermentas FastRuler High Range DNA Ladder","-",null,20,null,null,null,"E02",123,{"$error":"#N/A"},{"$error":"#N/A"},0]
[null,null,null,null,null,null,null,null,null,null,null,"M",null,null,"Fermentas FastRuler High Range DNA Ladder","-",null,20,null,null,null,"E03",125,{"$error":"#N/A"},{"$error":"#N/A"},0]
[null,null,null,null,null,null,null,null,null,null,null,25,"E01",{"$f":"'Processing Record'!A122","v":121},{"$f":"'Processing Record'!C122","v":"0-DNA"},{"$f":"'Processing Record'!Q122","v":0},{"$f":"'Processing Record'!E122","v":{"$error":"#N/A"}},{"$f":"(Q143*T143/(S143+T143))*20","v":{"$error":"#N/A"}},{"$f":"ROUND(Q143*T143/50*20-T143,0)","v":{"$error":"#N/A"}},{"$f":"ROUNDUP(50/Q143,0)","v":{"$error":"#N/A"}},null,"E04",127,{"$error":"#N/A"},{"$error":"#N/A"},0]
[null,null,null,null,null,null,null,null,null,null,null,26,"F01",{"$f":"'Processing Record'!A123","v":122},{"$f":"'Processing Record'!C123","v":"0-DNA"},{"$f":"'Processing Record'!Q123","v":0},{"$f":"'Processing Record'!E123","v":{"$error":"#N/A"}},{"$f":"(Q144*T144/(S144+T144))*20","v":{"$error":"#N/A"}},{"$f":"ROUND(Q144*T144/50*20-T144,0)","v":{"$error":"#N/A"}},{"$f":"ROUNDUP(50/Q144,0)","v":{"$error":"#N/A"}},null,"E05",129,{"$error":"#N/A"},{"$error":"#N/A"},0]
[null,null,null,null,null,null,null,null,null,null,null,27,"E02",{"$f":"'Processing Record'!A124","v":123},{"$f":"'Processing Record'!C124","v":"0-DNA"},{"$f":"'Processing Record'!Q124","v":0},{"$f":"'Processing Record'!E124","v":{"$error":"#N/A"}},{"$error":"#N/A"},{"$error":"#N/A"},{"$error":"#N/A"},null,"E06",131,{"$error":"#N/A"},{"$error":"#N/A"},0]
[null,null,null,null,null,null,null,null,null,null,null,28,"F02",{"$f":"'Processing Record'!A125","v":124},{"$f":"'Processing Record'!C125","v":"0-DNA"},{"$f":"'Processing Record'!Q125","v":0},{"$f":"'Processing Record'!E125","v":{"$error":"#N/A"}},{"$error":"#N/A"},{"$error":"#N/A"},{"$error":"#N/A"},null,"F01",122,{"$error":"#N/A"},{"$error":"#N/A"},0]
[null,null,null,null,null,null,null,null,null,null,null,29,"E03",{"$f":"'Processing Record'!A126","v":125},{"$f":"'Processing Record'!C126","v":"0-DNA"},{"$f":"'Processing Record'!Q126","v":0},{"$f":"'Processing Record'!E126","v":{"$error":"#N/A"}},{"$error":"#N/A"},{"$error":"#N/A"},{"$error":"#N/A"},null,"F02",124,{"$error":"#N/A"},{"$error":"#N/A"},0]
[null,null,null,null,null,null,null,null,null,null,null,30,"F03",{"$f":"'Processing Record'!A127","v":126},{"$f":"'Processing Record'!C127","v":"0-DNA"},{"$f":"'Processing Record'!Q127","v":0},{"$f":"'Processing Record'!E127","v":{"$error":"#N/A"}},{"$error":"#N/A"},{"$error":"#N/A"},{"$error":"#N/A"},null,"F03",126,{"$error":"#N/A"},{"$error":"#N/A"},0]
[null,null,null,null,null,null,null,null,null,null,null,31,"E04",{"$f":"'Processing Record'!A128","v":127},{"$f":"'Processing Record'!C128","v":"0-DNA"},{"$f":"'Processing Record'!Q128","v":0},{"$f":"'Processing Record'!E128","v":{"$error":"#N/A"}},{"$error":"#N/A"},{"$error":"#N/A"},{"$error":"#N/A"},null,"F04",128,{"$error":"#N/A"},{"$error":"#N/A"},0]
[null,null,null,null,null,null,null,null,null,null,null,32,"F04",{"$f":"'Processing Record'!A129","v":128},{"$f":"'Processing Record'!C129","v":"0-DNA"},{"$f":"'Processing Record'!Q129","v":0},{"$f":"'Processing Record'!E129","v":{"$error":"#N/A"}},{"$error":"#N/A"},{"$error":"#N/A"},{"$error":"#N/A"},null,"F05",130,{"$error":"#N/A"},{"$error":"#N/A"},0]
[null,null,null,null,null,null,null,null,null,null,null,33,"E05",{"$f":"'Processing Record'!A130","v":129},{"$f":"'Processing Record'!C130","v":"0-DNA"},{"$f":"'Processing Record'!Q130","v":0},{"$f":"'Processing Record'!E130","v":{"$error":"#N/A"}},{"$error":"#N/A"},{"$error":"#N/A"},{"$error":"#N/A"},null,"F06",132,{"$error":"#N/A"},{"$error":"#N/A"},0]
[null,null,null,null,null,null,null,null,null,null,null,34,"F05",{"$f":"'Processing Record'!A131","v":130},{"$f":"'Processing Record'!C131","v":"0-DNA"},{"$f":"'Processing Record'!Q131","v":0},{"$f":"'Processing Record'!E131","v":{"$error":"#N/A"}},{"$error":"#N/A"},{"$error":"#N/A"},{"$error":"#N/A"},null,"G01",133,{"$error":"#N/A"},{"$error":"#N/A"},0]
[null,null,null,null,null,null,null,null,null,null,null,35,"E06",{"$f":"'Processing Record'!A132","v":131},{"$f":"'Processing Record'!C132","v":"0-DNA"},{"$f":"'Processing Record'!Q132","v":0},{"$f":"'Processing Record'!E132","v":{"$error":"#N/A"}},{"$error":"#N/A"},{"$error":"#N/A"},{"$error":"#N/A"},null,"G02",135,{"$error":"#N/A"},{"$error":"#N/A"},0]
[null,null,null,null,null,null,null,null,null,null,null,36,"F06",{"$f":"'Processing Record'!A133","v":132},{"$f":"'Processing Record'!C133","v":"0-DNA"},{"$f":"'Processing Record'!Q133","v":0},{"$f":"'Processing Record'!E133","v":{"$error":"#N/A"}},{"$error":"#N/A"},{"$error":"#N/A"},{"$error":"#N/A"},null,"G03",137,{"$error":"#N/A"},{"$error":"#N/A"},0]
[null,null,null,null,null,null,null,null,null,null,null,37,"G01",{"$f":"'Processing Record'!A134","v":133},{"$f":"'Processing Record'!C134","v":"0-DNA"},{"$f":"'Processing Record'!Q134","v":0},{"$f":"'Processing Record'!E134","v":{"$error":"#N/A"}},{"$error":"#N/A"},{"$error":"#N/A"},{"$error":"#N/A"},null,"G04",139,{"$error":"#N/A"},{"$error":"#N/A"},0]
[null,null,null,null,null,null,null,null,null,null,null,38,"H01",{"$f":"'Processing Record'!A135","v":134},{"$f":"'Processing Record'!C135","v":"0-DNA"},{"$f":"'Processing Record'!Q135","v":0},{"$f":"'Processing Record'!E135","v":{"$error":"#N/A"}},{"$error":"#N/A"},{"$error":"#N/A"},{"$error":"#N/A"},null,"G05",141,{"$error":"#N/A"},{"$error":"#N/A"},0]
[null,null,null,null,null,null,null,null,null,null,null,39,"G02",{"$f":"'Processing Record'!A136","v":135},{"$f":"'Processing Record'!C136","v":"0-DNA"},{"$f":"'Processing Record'!Q136","v":0},{"$f":"'Processing Record'!E136","v":{"$error":"#N/A"}},{"$error":"#N/A"},{"$error":"#N/A"},{"$error":"#N/A"},null,"G06",143,{"$error":"#N/A"},{"$error":"#N/A"},0]
[null,null,null,null,null,null,null,null,null,null,null,40,"H02",{"$f":"'Processing Record'!A137","v":136},{"$f":"'Processing Record'!C137","v":"0-DNA"},{"$f":"'Processing Record'!Q137","v":0},{"$f":"'Processing Record'!E137","v":{"$error":"#N/A"}},{"$error":"#N/A"},{"$error":"#N/A"},{"$error":"#N/A"},null,"H01",134,{"$error":"#N/A"},{"$error":"#N/A"},0]
[null,null,null,null,null,null,null,null,null,null,null,41,"G03",{"$f":"'Processing Record'!A138","v":137},{"$f":"'Processing Record'!C138","v":"0-DNA"},{"$f":"'Processing Record'!Q138","v":0},{"$f":"'Processing Record'!E138","v":{"$error":"#N/A"}},{"$error":"#N/A"},{"$error":"#N/A"},{"$error":"#N/A"},null,"H02",136,{"$error":"#N/A"},{"$error":"#N/A"},0]
[null,null,null,null,null,null,null,null,null,null,null,42,"H03",{"$f":"'Processing Record'!A139","v":138},{"$f":"'Processing Record'!C139","v":"0-DNA"},{"$f":"'Processing Record'!Q139","v":0},{"$f":"'Processing Record'!E139","v":{"$error":"#N/A"}},{"$error":"#N/A"},{"$error":"#N/A"},{"$error":"#N/A"},null,"H03",138,{"$error":"#N/A"},{"$error":"#N/A"},0]
[null,null,null,null,null,null,null,null,null,null,null,43,"G04",{"$f":"'Processing Record'!A140","v":139},{"$f":"'Processing Record'!C140","v":"0-DNA"},{"$f":"'Processing Record'!Q140","v":0},{"$f":"'Processing Record'!E140","v":{"$error":"#N/A"}},{"$error":"#N/A"},{"$error":"#N/A"},{"$error":"#N/A"},null,"H04",140,{"$error":"#N/A"},{"$error":"#N/A"},0]
[null,null,null,null,null,null,null,null,null,null,null,44,"H04",{"$f":"'Processing Record'!A141","v":140},{"$f":"'Processing Record'!C141","v":"0-DNA"},{"$f":"'Processing Record'!Q141","v":0},{"$f":"'Processing Record'!E141","v":{"$error":"#N/A"}},{"$error":"#N/A"},{"$error":"#N/A"},{"$error":"#N/A"},null,"H05",142,{"$error":"#N/A"},{"$error":"#N/A"},0]
[null,null,null,null,null,null,null,null,null,null,null,45,"G05",{"$f":"'Processing Record'!A142","v":141},{"$f":"'Processing Record'!C142","v":"0-DNA"},{"$f":"'Processing Record'!Q142","v":0},{"$f":"'Processing Record'!E142","v":{"$error":"#N/A"}},{"$error":"#N/A"},{"$error":"#N/A"},{"$error":"#N/A"},null,"H06",144,{"$error":"#N/A"},{"$error":"#N/A"},0]
[null,null,null,null,null,null,null,null,null,null,null,46,"H05",{"$f":"'Processing Record'!A143","v":142},{"$f":"'Processing Record'!C143","v":"0-DNA"},{"$f":"'Processing Record'!Q143","v":0},{"$f":"'Processing Record'!E143","v":{"$error":"#N/A"}},{"$error":"#N/A"},{"$error":"#N/A"},{"$error":"#N/A"}]
[null,null,null,null,null,null,null,null,null,null,null,47,"G06",{"$f":"'Processing Record'!A144","v":143},{"$f":"'Processing Record'!C144","v":"0-DNA"},{"$f":"'Processing Record'!Q144","v":0},{"$f":"'Processing Record'!E144","v":{"$error":"#N/A"}},{"$error":"#N/A"},{"$error":"#N/A"},{"$error":"#N/A"}]
[null,null,null,null,null,null,null,null,null,null,null,48,"H06",{"$f":"'Processing Record'!A145","v":144},{"$f":"'Processing Record'!C145","v":"0-DNA"},{"$f":"'Processing Record'!Q145","v":0},{"$f":"'Processing Record'!E145","v":{"$error":"#N/A"}},{"$error":"#N/A"},{"$error":"#N/A"},{"$error":"#N/A"}]
[null,null,null,null,null,null,null,null,null,null,null,"M",null,null,"Fermentas FastRuler High Range DNA Ladder","-",null,20]
[]
[]
[null,null,null,null,null,null,null,null,null,null,null,"Gel 4",null,null,null,null,null,null,null,null,null,"Dilution Plate 4"]
[null,null,null,null,null,null,null,null,null,null,null,"Lane","Well","Sample no.","Sample_ID","Reference_ID","DNA conc. (ng/ul)","Amount loaded (ng)","Water(ul)","Sample(ul)",null,"Well","Sample no.","Water(ul)","Sample(ul)","Reference ID"]
[null,null,null,null,null,null,null,null,null,null,null,"M",null,null,"Fermentas FastRuler High Range DNA Ladder","-","-",20,null,null,null,"A01",145,{"$f":"VLOOKUP($V172, $M$171:$T$223, 7, FALSE)","v":{"$error":"#N/A"}},{"$f":"VLOOKUP($V172, $M$171:$T$223, 8, FALSE)","v":{"$error":"#N/A"}},{"$f":"VLOOKUP($V172, $M$171:$T$223, 4, FALSE)","v":0}]
[null,null,null,null,null,null,null,null,null,null,null,1,"A01",{"$f":"'Processing Record'!A146","v":145},{"$f":"'Processing Record'!C146","v":"0-DNA"},{"$f":"'Processing Record'!Q146","v":0},{"$f":"'Processing Record'!E146","v":{"$error":"#N/A"}},{"$f":"(Q173*T173/(S173+T173))*20","v":{"$error":"#N/A"}},{"$f":"ROUND(Q173*T173/50*20-T173,0)","v":{"$error":"#N/A"}},{"$f":"ROUNDUP(50/Q173,0)","v":{"$error":"#N/A"}},null,"A02",147,{"$error":"#N/A"},{"$error":"#N/A"},0]
[null,null,null,null,null,null,null,null,null,null,null,2,"B01",{"$f":"'Processing Record'!A147","v":146},{"$f":"'Processing Record'!C147","v":"0-DNA"},{"$f":"'Processing Record'!Q147","v":0},{"$f":"'Processing Record'!E147","v":{"$error":"#N/A"}},{"$f":"(Q174*T174/(S174+T174))*20","v":{"$error":"#N/A"}},{"$f":"ROUND(Q174*T174/50*20-T174,0)","v":{"$error":"#N/A"}},{"$f":"ROUNDUP(50/Q174,0)","v":{"$error":"#N/A"}},null,"A03",149,{"$error":"#N/A"},{"$error":"#N/A"},0]
[null,null,null,null,null,null,null,null,null,null,null,3,"A02",{"$f":"'Processing Record'!A148","v":147},{"$f":"'Processing Record'!C148","v":"0-DNA"},{"$f":"'Processing Record'!Q148","v":0},{"$f":"'Processing Record'!E148","v":{"$error":"#N/A"}},{"$error":"#N/A"},{"$error":"#N/A"},{"$error":"#N/A"},null,"A04",151,{"$error":"#N/A"},{"$error":"#N/A"},0]
[null,null,null,null,null,null,null,null,null,null,null,4,"B02",{"$f":"'Processing Record'!A149","v":148},{"$f":"'Processing Record'!C149","v":"0-DNA"},{"$f":"'Processing Record'!Q149","v":0},{"$f":"'Processing Record'!E149","v":{"$error":"#N/A"}},{"$error":"#N/A"},{"$error":"#N/A"},{"$error":"#N/A"},null,"A05",153,{"$error":"#N/A"},{"$error":"#N/A"},0]
[null,null,null,null,null,null,null,null,null,null,null,5,"A03",{"$f":"'Processing Record'!A150","v":149},{"$f":"'Processing Record'!C150","v":"0-DNA"},{"$f":"'Processing Record'!Q150","v":0},{"$f":"'Processing Record'!E150","v":{"$error":"#N/A"}},{"$error":"#N/A"},{"$error":"#N/A"},{"$error":"#N/A"},null,"A06",155,{"$error":"#N/A"},{"$error":"#N/A"},0]
[null,null,null,null,null,null,null,null,null,null,null,6,"B03",{"$f":"'Processing Record'!A151","v":150},{"$f":"'Processing Record'!C151","v":"0-DNA"},{"$f":"'Processing Record'!Q151","v":0},{"$f":"'Processing Record'!E151","v":{"$error":"#N/A"}},{"$error":"#N/A"},{"$error":"#N/A"},{"$error":"#N/A"},null,"B01",146,{"$error":"#N/A"},{"$error":"#N/A"},0]
[null,null,null,null,null,null,null,null,null,null,null,7,"A04",{"$f":"'Processing Record'!A152","v":151},{"$f":"'Processing Record'!C152","v":"0-DNA"},{"$f":"'Processing Record'!Q152","v":0},{"$f":"'Processing Record'!E152","v":{"$error":"#N/A"}},{"$error":"#N/A"},{"$error":"#N/A"},{"$error":"#N/A"},null,"B02",148,{"$error":"#N/A"},{"$error":"#N/A"},0]
[null,null,null,null,null,null,null,null,null,null,null,8,"B04",{"$f":"'Processing Record'!A153","v":152},{"$f":"'Processing Record'!C153","v":"0-DNA"},{"$f":"'Processing Record'!Q153","v":0},{"$f":"'Processing Record'!E153","v":{"$error":"#N/A"}},{"$error":"#N/A"},{"$error":"#N/A"},{"$error":"#N/A"},null,"B03",150,{"$error":"#N/A"},{"$error":"#N/A"},0]
[null,null,null,null,null,null,null,null,null,null,null,9,"A05",{"$f":"'Processing Record'!A154","v":153},{"$f":"'Processing Record'!C154","v":"0-DNA"},{"$f":"'Processing Record'!Q154","v":0},{"$f":"'Processing Record'!E154","v":{"$error":"#N/A"}},{"$error":"#N/A"},{"$error":"#N/A"},{"$error":"#N/A"},null,"B04",152,{"$error":"#N/A"},{"$error":"#N/A"},0]
[null,null,null,null,null,null,null,null,null,null,null,10,"B05",{"$f":"'Processing Record'!A155","v":154},{"$f":"'Processing Record'!C155","v":"0-DNA"},{"$f":"'Processing Record'!Q155","v":0},{"$f":"'Processing Record'!E155","v":{"$error":"#N/A"}},{"$error":"#N/A"},{"$error":"#N/A"},{"$error":"#N/A"},null,"B05",154,{"$error":"#N/A"},{"$error":"#N/A"},0]
[null,null,null,null,null,null,null,null,null,null,null,11,"A06",{"$f":"'Processing Record'!A156","v":155},{"$f":"'Processing Record'!C156","v":"0-DNA"},{"$f":"'Processing Record'!Q156","v":0},{"$f":"'Processing Record'!E156","v":{"$error":"#N/A"}},{"$error":"#N/A"},{"$error":"#N/A"},{"$error":"#N/A"},null,"B06",156,{"$error":"#N/A"},{"$error":"#N/A"},0]
[null,null,null,null,null,null,null,null,null,null,null,12,"B06",{"$f":"'Processing Record'!A157","v":156},{"$f":"'Processing Record'!C157","v":"0-DNA"},{"$f":"'Processing Record'!Q157","v":0},{"$f":"'Processing Record'!E157","v":{"$error":"#N/A"}},{"$error":"#N/A"},{"$error":"#N/A"},{"$error":"#N/A"},null,"C01",157,{"$error":"#N/A"},{"$error":"#N/A"},0]
[null,null,null,null,null,null,null,null,null,null,null,13,"C01",{"$f":"'Processing Record'!A158","v":157},{"$f":"'Processing Record'!C158","v":"0-DNA"},{"$f":"'Processing Record'!Q158","v":0},{"$f":"'Processing Record'!E158","v":{"$error":"#N/A"}},{"$error":"#N/A"},{"$error":"#N/A"},{"$error":"#N/A"},null,"C02",159,{"$error":"#N/A"},{"$error":"#N/A"},0]
[null,null,null,null,null,null,null,null,null,null,null,14,"D01",{"$f":"'Processing Record'!A159","v":158},{"$f":"'Processing Record'!C159","v":"0-DNA"},{"$f":"'Processing Record'!Q159","v":0},{"$f":"'Processing Record'!E159","v":{"$error":"#N/A"}},{"$error":"#N/A"},{"$error":"#N/A"},{"$error":"#N/A"},null,"C03",161,{"$error":"#N/A"},{"$error":"#N/A"},0]
[null,null,null,null,null,null,null,null,null,null,null,15,"C02",{"$f":"'Processing Record'!A160","v":159},{"$f":"'Processing Record'!C160","v":"0-DNA"},{"$f":"'Processing Record'!Q160","v":0},{"$f":"'Processing Record'!E160","v":{"$error":"#N/A"}},{"$error":"#N/A"},{"$error":"#N/A"},{"$error":"#N/A"},null,"C04",163,{"$error":"#N/A"},{"$error":"#N/A"},0]
[null,null,null,null,null,null,null,null,null,null,null,16,"D02",{"$f":"'Processing Record'!A161","v":160},{"$f":"'Processing Record'!C161","v":"0-DNA"},{"$f":"'Processing Record'!Q161","v":0},{"$f":"'Processing Record'!E161","v":{"$error":"#N/A"}},{"$error":"#N/A"},{"$error":"#N/A"},{"$error":"#N/A"},null,"C05",165,{"$error":"#N/A"},{"$error":"#N/A"},0]
[null,null,null,null,null,null,null,null,null,null,null,17,"C03",{"$f":"'Processing Record'!A162","v":161},{"$f":"'Processing Record'!C162","v":"0-DNA"},{"$f":"'Processing Record'!Q162","v":0},{"$f":"'Processing Record'!E162","v":{"$error":"#N/A"}},{"$error":"#N/A"},{"$error":"#N/A"},{"$error":"#N/A"},null,"C06",167,{"$error":"#N/A"},{"$error":"#N/A"},0]
[null,null,null,null,null,null,null,null,null,null,null,18,"D03",{"$f":"'Processing Record'!A163","v":162},{"$f":"'Processing Record'!C163","v":"0-DNA"},{"$f":"'Processing Record'!Q163","v":0},{"$f":"'Processing Record'!E163","v":{"$error":"#N/A"}},{"$error":"#N/A"},{"$error":"#N/A"},{"$error":"#N/A"},null,"D01",158,{"$error":"#N/A"},{"$error":"#N/A"},0]
[null,null,null,null,null,null,null,null,null,null,null,19,"C04",{"$f":"'Processing Record'!A164","v":163},{"$f":"'Processing Record'!C164","v":"0-DNA"},{"$f":"'Processing Record'!Q164","v":0},{"$f":"'Processing Record'!E164","v":{"$error":"#N/A"}},{"$error":"#N/A"},{"$error":"#N/A"},{"$error":"#N/A"},null,"D02",160,{"$error":"#N/A"},{"$error":"#N/A"},0]
[null,null,null,null,null,null,null,null,null,null,null,20,"D04",{"$f":"'Processing Record'!A165","v":164},{"$f":"'Processing Record'!C165","v":"0-DNA"},{"$f":"'Processing Record'!Q165","v":0},{"$f":"'Processing Record'!E165","v":{"$error":"#N/A"}},{"$error":"#N/A"},{"$error":"#N/A"},{"$error":"#N/A"},null,"D03",162,{"$error":"#N/A"},{"$error":"#N/A"},0]
[null,null,null,null,null,null,null,null,null,null,null,21,"C05",{"$f":"'Processing Record'!A166","v":165},{"$f":"'Processing Record'!C166","v":"0-DNA"},{"$f":"'Processing Record'!Q166","v":0},{"$f":"'Processing Record'!E166","v":{"$error":"#N/A"}},{"$error":"#N/A"},{"$error":"#N/A"},{"$error":"#N/A"},null,"D04",164,{"$error":"#N/A"},{"$error":"#N/A"},0]
[null,null,null,null,null,null,null,null,null,null,null,22,"D05",{"$f":"'Processing Record'!A167","v":166},{"$f":"'Processing Record'!C167","v":"0-DNA"},{"$f":"'Processing Record'!Q167","v":0},{"$f":"'Processing Record'!E167","v":{"$error":"#N/A"}},{"$error":"#N/A"},{"$error":"#N/A"},{"$error":"#N/A"},null,"D05",166,{"$error":"#N/A"},{"$error":"#N/A"},0]
[null,null,null,null,null,null,null,null,null,null,null,23,"C06",{"$f":"'Processing Record'!A168","v":167},{"$f":"'Processing Record'!C168","v":"0-DNA"},{"$f":"'Processing Record'!Q168","v":0},{"$f":"'Processing Record'!E168","v":{"$error":"#N/A"}},{"$error":"#N/A"},{"$error":"#N/A"},{"$error":"#N/A"},null,"D06",168,{"$error":"#N/A"},{"$error":"#N/A"},0]
[null,null,null,null,null,null,null,null,null,null,null,24,"D06",{"$f":"'Processing Record'!A169","v":168},{"$f":"'Processing Record'!C169","v":"0-DNA"},{"$f":"'Processing Record'!Q169","v":0},{"$f":"'Processing Record'!E169","v":{"$error":"#N/A"}},{"$error":"#N/A"},{"$error":"#N/A"},{"$error":"#N/A"},null,"E01",169,{"$error":"#N/A"},{"$error":"#N/A"},0]
[null,null,null,null,null,null,null,null,null,null,null,"M",null,null,"Fermentas FastRuler High Range DNA Ladder","-",null,20,null,null,null,"E02",171,{"$error":"#N/A"},{"$error":"#N/A"},0]
[null,null,null,null,null,null,null,null,null,null,null,"M",null,null,"Fermentas FastRuler High Range DNA Ladder","-",null,20,null,null,null,"E03",173,{"$error":"#N/A"},{"$error":"#N/A"},0]
[null,null,null,null,null,null,null,null,null,null,null,25,"E01",{"$f":"'Processing Record'!A170","v":169},{"$f":"'Processing Record'!C170","v":"0-DNA"},{"$f":"'Processing Record'!Q170","v":0},{"$f":"'Processing Record'!E170","v":{"$error":"#N/A"}},{"$f":"(Q199*T199/(S199+T199))*20","v":{"$error":"#N/A"}},{"$f":"ROUND(Q199*T199/50*20-T199,0)","v":{"$error":"#N/A"}},{"$f":"ROUNDUP(50/Q199,0)","v":{"$error":"#N/A"}},null,"E04",175,{"$error":"#N/A"},{"$error":"#N/A"},0]
[null,null,null,null,null,null,null,null,null,null,null,26,"F01",{"$f":"'Processing Record'!A171","v":170},{"$f":"'Processing Record'!C171","v":"0-DNA"},{"$f":"'Processing Record'!Q171","v":0},{"$f":"'Processing Record'!E171","v":{"$error":"#N/A"}},{"$f":"(Q200*T200/(S200+T200))*20","v":{"$error":"#N/A"}},{"$f":"ROUND(Q200*T200/50*20-T200,0)","v":{"$error":"#N/A"}},{"$f":"ROUNDUP(50/Q200,0)","v":{"$error":"#N/A"}},null,"E05",177,{"$error":"#N/A"},{"$error":"#N/A"},0]
[null,null,null,null,null,null,null,null,null,null,null,27,"E02",{"$f":"'Processing Record'!A172","v":171},{"$f":"'Processing Record'!C172","v":"0-DNA"},{"$f":"'Processing Record'!Q172","v":0},{"$f":"'Processing Record'!E172","v":{"$error":"#N/A"}},{"$error":"#N/A"},{"$error":"#N/A"},{"$error":"#N/A"},null,"E06",179,{"$error":"#N/A"},{"$error":"#N/A"},0]
[null,null,null,null,null,null,null,null,null,null,null,28,"F02",{"$f":"'Processing Record'!A173","v":172},{"$f":"'Processing Record'!C173","v":"0-DNA"},{"$f":"'Processing Record'!Q173","v":0},{"$f":"'Processing Record'!E173","v":{"$error":"#N/A"}},{"$error":"#N/A"},{"$error":"#N/A"},{"$error":"#N/A"},null,"F01",170,{"$error":"#N/A"},{"$error":"#N/A"},0]
[null,null,null,null,null,null,null,null,null,null,null,29,"E03",{"$f":"'Processing Record'!A174","v":173},{"$f":"'Processing Record'!C174","v":"0-DNA"},{"$f":"'Processing Record'!Q174","v":0},{"$f":"'Processing Record'!E174","v":{"$error":"#N/A"}},{"$error":"#N/A"},{"$error":"#N/A"},{"$error":"#N/A"},null,"F02",172,{"$error":"#N/A"},{"$error":"#N/A"},0]
[null,null,null,null,null,null,null,null,null,null,null,30,"F03",{"$f":"'Processing Record'!A175","v":174},{"$f":"'Processing Record'!C175","v":"0-DNA"},{"$f":"'Processing Record'!Q175","v":0},{"$f":"'Processing Record'!E175","v":{"$error":"#N/A"}},{"$error":"#N/A"},{"$error":"#N/A"},{"$error":"#N/A"},null,"F03",174,{"$error":"#N/A"},{"$error":"#N/A"},0]
[null,null,null,null,null,null,null,null,null,null,null,31,"E04",{"$f":"'Processing Record'!A176","v":175},{"$f":"'Processing Record'!C176","v":"0-DNA"},{"$f":"'Processing Record'!Q176","v":0},{"$f":"'Processing Record'!E176","v":{"$error":"#N/A"}},{"$error":"#N/A"},{"$error":"#N/A"},{"$error":"#N/A"},null,"F04",176,{"$error":"#N/A"},{"$error":"#N/A"},0]
[null,null,null,null,null,null,null,null,null,null,null,32,"F04",{"$f":"'Processing Record'!A177","v":176},{"$f":"'Processing Record'!C177","v":"0-DNA"},{"$f":"'Processing Record'!Q177","v":0},{"$f":"'Processing Record'!E177","v":{"$error":"#N/A"}},{"$error":"#N/A"},{"$error":"#N/A"},{"$error":"#N/A"},null,"F05",178,{"$error":"#N/A"},{"$error":"#N/A"},0]
[null,null,null,null,null,null,null,null,null,null,null,33,"E05",{"$f":"'Processing Record'!A178","v":177},{"$f":"'Processing Record'!C178","v":"0-DNA"},{"$f":"'Processing Record'!Q178","v":0},{"$f":"'Processing Record'!E178","v":{"$error":"#N/A"}},{"$error":"#N/A"},{"$error":"#N/A"},{"$error":"#N/A"},null,"F06",180,{"$error":"#N/A"},{"$error":"#N/A"},0]
[null,null,null,null,null,null,null,null,null,null,null,34,"F05",{"$f":"'Processing Record'!A179","v":178},{"$f":"'Processing Record'!C179","v":"0-DNA"},{"$f":"'Processing Record'!Q179","v":0},{"$f":"'Processing Record'!E179","v":{"$error":"#N/A"}},{"$error":"#N/A"},{"$error":"#N/A"},{"$error":"#N/A"},null,"G01",181,{"$error":"#N/A"},{"$error":"#N/A"},0]
[null,null,null,null,null,null,null,null,null,null,null,35,"E06",{"$f":"'Processing Record'!A180","v":179},{"$f":"'Processing Record'!C180","v":"0-DNA"},{"$f":"'Processing Record'!Q180","v":0},{"$f":"'Processing Record'!E180","v":{"$error":"#N/A"}},{"$error":"#N/A"},{"$error":"#N/A"},{"$error":"#N/A"},null,"G02",183,{"$error":"#N/A"},{"$error":"#N/A"},0]
[null,null,null,null,null,null,null,null,null,null,null,36,"F06",{"$f":"'Processing Record'!A181","v":180},{"$f":"'Processing Record'!C181","v":"0-DNA"},{"$f":"'Processing Record'!Q181","v":0},{"$f":"'Processing Record'!E181","v":{"$error":"#N/A"}},{"$error":"#N/A"},{"$error":"#N/A"},{"$error":"#N/A"},null,"G03",185,{"$error":"#N/A"},{"$error":"#N/A"},0]
[null,null,null,null,null,null,null,null,null,null,null,37,"G01",{"$f":"'Processing Record'!A182","v":181},{"$f":"'Processing Record'!C182","v":"0-DNA"},{"$f":"'Processing Record'!Q182","v":0},{"$f":"'Processing Record'!E182","v":{"$error":"#N/A"}},{"$error":"#N/A"},{"$error":"#N/A"},{"$error":"#N/A"},null,"G04",187,{"$error":"#N/A"},{"$error":"#N/A"},0]
[null,null,null,null,null,null,null,null,null,null,null,38,"H01",{"$f":"'Processing Record'!A183","v":182},{"$f":"'Processing Record'!C183","v":"0-DNA"},{"$f":"'Processing Record'!Q183","v":0},{"$f":"'Processing Record'!E183","v":{"$error":"#N/A"}},{"$error":"#N/A"},{"$error":"#N/A"},{"$error":"#N/A"},null,"G05",189,{"$error":"#N/A"},{"$error":"#N/A"},0]
[null,null,null,null,null,null,null,null,null,null,null,39,"G02",{"$f":"'Processing Record'!A184","v":183},{"$f":"'Processing Record'!C184","v":"0-DNA"},{"$f":"'Processing Record'!Q184","v":0},{"$f":"'Processing Record'!E184","v":{"$error":"#N/A"}},{"$error":"#N/A"},{"$error":"#N/A"},{"$error":"#N/A"},null,"G06",191,{"$error":"#N/A"},{"$error":"#N/A"},0]
[null,null,null,null,null,null,null,null,null,null,null,40,"H02",{"$f":"'Processing Record'!A185","v":184},{"$f":"'Processing Record'!C185","v":"0-DNA"},{"$f":"'Processing Record'!Q185","v":0},{"$f":"'Processing Record'!E185","v":{"$error":"#N/A"}},{"$error":"#N/A"},{"$error":"#N/A"},{"$error":"#N/A"},null,"H01",182,{"$error":"#N/A"},{"$error":"#N/A"},0]
[null,null,null,null,null,null,null,null,null,null,null,41,"G03",{"$f":"'Processing Record'!A186","v":185},{"$f":"'Processing Record'!C186","v":"0-DNA"},{"$f":"'Processing Record'!Q186","v":0},{"$f":"'Processing Record'!E186","v":{"$error":"#N/A"}},{"$error":"#N/A"},{"$error":"#N/A"},{"$error":"#N/A"},null,"H02",184,{"$error":"#N/A"},{"$error":"#N/A"},0]
[null,null,null,null,null,null,null,null,null,null,null,42,"H03",{"$f":"'Processing Record'!A187","v":186},{"$f":"'Processing Record'!C187","v":"0-DNA"},{"$f":"'Processing Record'!Q187","v":0},{"$f":"'Processing Record'!E187","v":{"$error":"#N/A"}},{"$error":"#N/A"},{"$error":"#N/A"},{"$error":"#N/A"},null,"H03",186,{"$error":"#N/A"},{"$error":"#N/A"},0]
[null,null,null,null,null,null,null,null,null,null,null,43,"G04",{"$f":"'Processing Record'!A188","v":187},{"$f":"'Processing Record'!C188","v":"0-DNA"},{"$f":"'Processing Record'!Q188","v":0},{"$f":"'Processing Record'!E188","v":{"$error":"#N/A"}},{"$error":"#N/A"},{"$error":"#N/A"},{"$error":"#N/A"},null,"H04",188,{"$error":"#N/A"},{"$error":"#N/A"},0]
[null,null,null,null,null,null,null,null,null,null,null,44,"H04",{"$f":"'Processing Record'!A189","v":188},{"$f":"'Processing Record'!C189","v":"0-DNA"},{"$f":"'Processing Record'!Q189","v":0},{"$f":"'Processing Record'!E189","v":{"$error":"#N/A"}},{"$error":"#N/A"},{"$error":"#N/A"},{"$error":"#N/A"},null,"H05",190,{"$error":"#N/A"},{"$error":"#N/A"},0]
[null,null,null,null,null,null,null,null,null,null,null,45,"G05",{"$f":"'Processing Record'!A190","v":189},{"$f":"'Processing Record'!C190","v":"0-DNA"},{"$f":"'Processing Record'!Q190","v":0},{"$f":"'Processing Record'!E190","v":{"$error":"#N/A"}},{"$error":"#N/A"},{"$error":"#N/A"},{"$error":"#N/A"},null,"H06",192,{"$error":"#N/A"},{"$error":"#N/A"},0]
[null,null,null,null,null,null,null,null,null,null,null,46,"H05",{"$f":"'Processing Record'!A191","v":190},{"$f":"'Processing Record'!C191","v":"0-DNA"},{"$f":"'Processing Record'!Q191","v":0},{"$f":"'Processing Record'!E191","v":{"$error":"#N/A"}},{"$error":"#N/A"},{"$error":"#N/A"},{"$error":"#N/A"}]
[null,null,null,null,null,null,null,null,null,null,null,47,"G06",{"$f":"'Processing Record'!A192","v":191},{"$f":"'Processing Record'!C192","v":"0-DNA"},{"$f":"'Processing Record'!Q192","v":0},{"$f":"'Processing Record'!E192","v":{"$error":"#N/A"}},{"$error":"#N/A"},{"$error":"#N/A"},{"$error":"#N/A"}]
[null,null,null,null,null,null,null,null,null,null,null,48,"H06",{"$f":"'Processing Record'!A193","v":192},{"$f":"'Processing Record'!C193","v":"0-DNA"},{"$f":"'Processing Record'!Q193","v":0},{"$f":"'Processing Record'!E193","v":{"$error":"#N/A"}},{"$error":"#N/A"},{"$error":"#N/A"},{"$error":"#N/A"}]
[null,null,null,null,null,null,null,null,null,null,null,"M",null,null,"Fermentas FastRuler High Range DNA Ladder","-",null,20]
[]
[]
[null,null,null,null,null,null,null,null,null,null,null,"Gel 5",null,null,null,null,null,null,null,null,null,"Dilution Plate 5"]
[null,null,null,null,null,null,null,null,null,null,null,"Lane","Well","Sample no.","Sample_ID","Reference_ID","DNA conc. (ng/ul)","Amount loaded (ng)","Water(ul)","Sample(ul)",null,"Well","Sample no.","Water(ul)","Sample(ul)","Reference ID"]
[null,null,null,null,null,null,null,null,null,null,null,"M",null,null,"Fermentas FastRuler High Range DNA Ladder","-","-",20,null,null,null,"A01",193,{"$f":"VLOOKUP($V228, $M$227:$T$279, 7, FALSE)","v":{"$error":"#N/A"}},{"$f":"VLOOKUP($V228, $M$227:$T$279, 8, FALSE)","v":{"$error":"#N/A"}},{"$f":"VLOOKUP($V228, $M$227:$T$279, 4, FALSE)","v":0}]
[null,null,null,null,null,null,null,null,null,null,null,1,"A01",{"$f":"'Processing Record'!A194","v":193},{"$f":"'Processing Record'!C194","v":"0-DNA"},{"$f":"'Processing Record'!Q194","v":0},{"$f":"'Processing Record'!E194","v":{"$error":"#N/A"}},{"$f":"(Q229*T229/(S229+T229))*20","v":{"$error":"#N/A"}},{"$f":"ROUND(Q229*T229/50*20-T229,0)","v":{"$error":"#N/A"}},{"$f":"ROUNDUP(50/Q229,0)","v":{"$error":"#N/A"}},null,"A02",195,{"$error":"#N/A"},{"$error":"#N/A"},0]
[null,null,null,null,null,null,null,null,null,null,null,2,"B01",{"$f":"'Processing Record'!A195","v":194},{"$f":"'Processing Record'!C195","v":"0-DNA"},{"$f":"'Processing Record'!Q195","v":0},{"$f":"'Processing Record'!E195","v":{"$error":"#N/A"}},{"$f":"(Q230*T230/(S230+T230))*20","v":{"$error":"#N/A"}},{"$f":"ROUND(Q230*T230/50*20-T230,0)","v":{"$error":"#N/A"}},{"$f":"ROUNDUP(50/Q230,0)","v":{"$error":"#N/A"}},null,"A03",197,{"$error":"#N/A"},{"$error":"#N/A"},0]
[null,null,null,null,null,null,null,null,null,null,null,3,"A02",{"$f":"'Processing Record'!A196","v":195},{"$f":"'Processing Record'!C196","v":"0-DNA"},{"$f":"'Processing Record'!Q196","v":0},{"$f":"'Processing Record'!E196","v":{"$error":"#N/A"}},{"$error":"#N/A"},{"$error":"#N/A"},{"$error":"#N/A"},null,"A04",199,{"$error":"#N/A"},{"$error":"#N/A"},0]
[null,null,null,null,null,null,null,null,null,null,null,4,"B02",{"$f":"'Processing Record'!A197","v":196},{"$f":"'Processing Record'!C197","v":"0-DNA"},{"$f":"'Processing Record'!Q197","v":0},{"$f":"'Processing Record'!E197","v":{"$error":"#N/A"}},{"$error":"#N/A"},{"$error":"#N/A"},{"$error":"#N/A"},null,"A05",201,{"$error":"#N/A"},{"$error":"#N/A"},0]
[null,null,null,null,null,null,null,null,null,null,null,5,"A03",{"$f":"'Processing Record'!A198","v":197},{"$f":"'Processing Record'!C198","v":"0-DNA"},{"$f":"'Processing Record'!Q198","v":0},{"$f":"'Processing Record'!E198","v":{"$error":"#N/A"}},{"$error":"#N/A"},{"$error":"#N/A"},{"$error":"#N/A"},null,"A06",203,{"$error":"#N/A"},{"$error":"#N/A"},0]
[null,null,null,null,null,null,null,null,null,null,null,6,"B03",{"$f":"'Processing Record'!A199","v":198},{"$f":"'Processing Record'!C199","v":"0-DNA"},{"$f":"'Processing Record'!Q199","v":0},{"$f":"'Processing Record'!E199","v":{"$error":"#N/A"}},{"$error":"#N/A"},{"$error":"#N/A"},{"$error":"#N/A"},null,"B01",194,{"$error":"#N/A"},{"$error":"#N/A"},0]
[null,null,null,null,null,null,null,null,null,null,null,7,"A04",{"$f":"'Processing Record'!A200","v":199},{"$f":"'Processing Record'!C200","v":"0-DNA"},{"$f":"'Processing Record'!Q200","v":0},{"$f":"'Processing Record'!E200","v":{"$error":"#N/A"}},{"$error":"#N/A"},{"$error":"#N/A"},{"$error":"#N/A"},null,"B02",196,{"$error":"#N/A"},{"$error":"#N/A"},0]
[null,null,null,null,null,null,null,null,null,null,null,8,"B04",{"$f":"'Processing Record'!A201","v":200},{"$f":"'Processing Record'!C201","v":"0-DNA"},{"$f":"'Processing Record'!Q201","v":0},{"$f":"'Processing Record'!E201","v":{"$error":"#N/A"}},{"$error":"#N/A"},{"$error":"#N/A"},{"$error":"#N/A"},null,"B03",198,{"$error":"#N/A"},{"$error":"#N/A"},0]
[null,null,null,null,null,null,null,null,null,null,null,9,"A05",{"$f":"'Processing Record'!A202","v":201},{"$f":"'Processing Record'!C202","v":"0-DNA"},{"$f":"'Processing Record'!Q202","v":0},{"$f":"'Processing Record'!E202","v":{"$error":"#N/A"}},{"$error":"#N/A"},{"$error":"#N/A"},{"$error":"#N/A"},null,"B04",200,{"$error":"#N/A"},{"$error":"#N/A"},0]
[null,null,null,null,null,null,null,null,null,null,null,10,"B05",{"$f":"'Processing Record'!A203","v":202},{"$f":"'Processing Record'!C203","v":"0-DNA"},{"$f":"'Processing Record'!Q203","v":0},{"$f":"'Processing Record'!E203","v":{"$error":"#N/A"}},{"$error":"#N/A"},{"$error":"#N/A"},{"$error":"#N/A"},null,"B05",202,{"$error":"#N/A"},{"$error":"#N/A"},0]
[null,null,null,null,null,null,null,null,null,null,null,11,"A06",{"$f":"'Processing Record'!A204","v":203},{"$f":"'Processing Record'!C204","v":"0-DNA"},{"$f":"'Processing Record'!Q204","v":0},{"$f":"'Processing Record'!E204","v":{"$error":"#N/A"}},{"$error":"#N/A"},{"$error":"#N/A"},{"$error":"#N/A"},null,"B06",204,{"$error":"#N/A"},{"$error":"#N/A"},0]
[null,null,null,null,null,null,null,null,null,null,null,12,"B06",{"$f":"'Processing Record'!A205","v":204},{"$f":"'Processing Record'!C205","v":"0-DNA"},{"$f":"'Processing Record'!Q205","v":0},{"$f":"'Processing Record'!E205","v":{"$error":"#N/A"}},{"$error":"#N/A"},{"$error":"#N/A"},{"$error":"#N/A"},null,"C01",205,{"$error":"#N/A"},{"$error":"#N/A"},0]
[null,null,null,null,null,null,null,null,null,null,null,13,"C01",{"$f":"'Processing Record'!A206","v":205},{"$f":"'Processing Record'!C206","v":"0-DNA"},{"$f":"'Processing Record'!Q206","v":0},{"$f":"'Processing Record'!E206","v":{"$error":"#N/A"}},{"$error":"#N/A"},{"$error":"#N/A"},{"$error":"#N/A"},null,"C02",207,{"$error":"#N/A"},{"$error":"#N/A"},0]
[null,null,null,null,null,null,null,null,null,null,null,14,"D01",{"$f":"'Processing Record'!A207","v":206},{"$f":"'Processing Record'!C207","v":"0-DNA"},{"$f":"'Processing Record'!Q207","v":0},{"$f":"'Processing Record'!E207","v":{"$error":"#N/A"}},{"$error":"#N/A"},{"$error":"#N/A"},{"$error":"#N/A"},null,"C03",209,{"$error":"#N/A"},{"$error":"#N/A"},0]
[null,null,null,null,null,null,null,null,null,null,null,15,"C02",{"$f":"'Processing Record'!A208","v":207},{"$f":"'Processing Record'!C208","v":"0-DNA"},{"$f":"'Processing Record'!Q208","v":0},{"$f":"'Processing Record'!E208","v":{"$error":"#N/A"}},{"$error":"#N/A"},{"$error":"#N/A"},{"$error":"#N/A"},null,"C04",211,{"$error":"#N/A"},{"$error":"#N/A"},0]
[null,null,null,null,null,null,null,null,null,null,null,16,"D02",{"$f":"'Processing Record'!A209","v":208},{"$f":"'Processing Record'!C209","v":"0-DNA"},{"$f":"'Processing Record'!Q209","v":0},{"$f":"'Processing Record'!E209","v":{"$error":"#N/A"}},{"$error":"#N/A"},{"$error":"#N/A"},{"$error":"#N/A"},null,"C05",213,{"$error":"#N/A"},{"$error":"#N/A"},0]
[null,null,null,null,null,null,null,null,null,null,null,17,"C03",{"$f":"'Processing Record'!A210","v":209},{"$f":"'Processing Record'!C210","v":"0-DNA"},{"$f":"'Processing Record'!Q210","v":0},{"$f":"'Processing Record'!E210","v":{"$error":"#N/A"}},{"$error":"#N/A"},{"$error":"#N/A"},{"$error":"#N/A"},null,"C06",215,{"$error":"#N/A"},{"$error":"#N/A"},0]
[null,null,null,null,null,null,null,null,null,null,null,18,"D03",{"$f":"'Processing Record'!A211","v":210},{"$f":"'Processing Record'!C211","v":"0-DNA"},{"$f":"'Processing Record'!Q211","v":0},{"$f":"'Processing Record'!E211","v":{"$error":"#N/A"}},{"$error":"#N/A"},{"$error":"#N/A"},{"$error":"#N/A"},null,"D01",206,{"$error":"#N/A"},{"$error":"#N/A"},0]
[null,null,null,null,null,null,null,null,null,null,null,19,"C04",{"$f":"'Processing Record'!A212","v":211},{"$f":"'Processing Record'!C212","v":"0-DNA"},{"$f":"'Processing Record'!Q212","v":0},{"$f":"'Processing Record'!E212","v":{"$error":"#N/A"}},{"$error":"#N/A"},{"$error":"#N/A"},{"$error":"#N/A"},null,"D02",208,{"$error":"#N/A"},{"$error":"#N/A"},0]
[null,null,null,null,null,null,null,null,null,null,null,20,"D04",{"$f":"'Processing Record'!A213","v":212},{"$f":"'Processing Record'!C213","v":"0-DNA"},{"$f":"'Processing Record'!Q213","v":0},{"$f":"'Processing Record'!E213","v":{"$error":"#N/A"}},{"$error":"#N/A"},{"$error":"#N/A"},{"$error":"#N/A"},null,"D03",210,{"$error":"#N/A"},{"$error":"#N/A"},0]
[null,null,null,null,null,null,null,null,null,null,null,21,"C05",{"$f":"'Processing Record'!A214","v":213},{"$f":"'Processing Record'!C214","v":"0-DNA"},{"$f":"'Processing Record'!Q214","v":0},{"$f":"'Processing Record'!E214","v":{"$error":"#N/A"}},{"$error":"#N/A"},{"$error":"#N/A"},{"$error":"#N/A"},null,"D04",212,{"$error":"#N/A"},{"$error":"#N/A"},0]
[null,null,null,null,null,null,null,null,null,null,null,22,"D05",{"$f":"'Processing Record'!A215","v":214},{"$f":"'Processing Record'!C215","v":"0-DNA"},{"$f":"'Processing Record'!Q215","v":0},{"$f":"'Processing Record'!E215","v":{"$error":"#N/A"}},{"$error":"#N/A"},{"$error":"#N/A"},{"$error":"#N/A"},null,"D05",214,{"$error":"#N/A"},{"$error":"#N/A"},0]
[null,null,null,null,null,null,null,null,null,null,null,23,"C06",{"$f":"'Processing Record'!A216","v":215},{"$f":"'Processing Record'!C216","v":"0-DNA"},{"$f":"'Processing Record'!Q216","v":0},{"$f":"'Processing Record'!E216","v":{"$error":"#N/A"}},{"$error":"#N/A"},{"$error":"#N/A"},{"$error":"#N/A"},null,"D06",216,{"$error":"#N/A"},{"$error":"#N/A"},0]
[null,null,null,null,null,null,null,null,null,null,null,24,"D06",{"$f":"'Processing Record'!A217","v":216},{"$f":"'Processing Record'!C217","v":"0-DNA"},{"$f":"'Processing Record'!Q217","v":0},{"$f":"'Processing Record'!E217","v":{"$error":"#N/A"}},{"$error":"#N/A"},{"$error":"#N/A"},{"$error":"#N/A"},null,"E01",217,{"$error":"#N/A"},{"$error":"#N/A"},0]
[null,null,null,null,null,null,null,null,null,null,null,"M",null,null,"Fermentas FastRuler High Range DNA Ladder","-",null,20,null,null,null,"E02",219,{"$error":"#N/A"},{"$error":"#N/A"},0]
[null,null,null,null,null,null,null,null,null,null,null,"M",null,null,"Fermentas FastRuler High Range DNA Ladder","-",null,20,null,null,null,"E03",221,{"$error":"#N/A"},{"$error":"#N/A"},0]
[null,null,null,null,null,null,null,null,null,null,null,25,"E01",{"$f":"'Processing Record'!A218","v":217},{"$f":"'Processing Record'!C218","v":"0-DNA"},{"$f":"'Processing Record'!Q218","v":0},{"$f":"'Processing Record'!E218","v":{"$error":"#N/A"}},{"$f":"(Q255*T255/(S255+T255))*20","v":{"$error":"#N/A"}},{"$f":"ROUND(Q255*T255/50*20-T255,0)","v":{"$error":"#N/A"}},{"$f":"ROUNDUP(50/Q255,0)","v":{"$error":"#N/A"}},null,"E04",223,{"$error":"#N/A"},{"$error":"#N/A"},0]
[null,null,null,null,null,null,null,null,null,null,null,26,"F01",{"$f":"'Processing Record'!A219","v":218},{"$f":"'Processing Record'!C219","v":"0-DNA"},{"$f":"'Processing Record'!Q219","v":0},{"$f":"'Processing Record'!E219","v":{"$error":"#N/A"}},{"$f":"(Q256*T256/(S256+T256))*20","v":{"$error":"#N/A"}},{"$f":"ROUND(Q256*T256/50*20-T256,0)","v":{"$error":"#N/A"}},{"$f":"ROUNDUP(50/Q256,0)","v":{"$error":"#N/A"}},null,"E05",225,{"$error":"#N/A"},{"$error":"#N/A"},0]
[null,null,null,null,null,null,null,null,null,null,null,27,"E02",{"$f":"'Processing Record'!A220","v":219},{"$f":"'Processing Record'!C220","v":"0-DNA"},{"$f":"'Processing Record'!Q220","v":0},{"$f":"'Processing Record'!E220","v":{"$error":"#N/A"}},{"$error":"#N/A"},{"$error":"#N/A"},{"$error":"#N/A"},null,"E06",227,{"$error":"#N/A"},{"$error":"#N/A"},0]
[null,null,null,null,null,null,null,null,null,null,null,28,"F02",{"$f":"'Processing Record'!A221","v":220},{"$f":"'Processing Record'!C221","v":"0-DNA"},{"$f":"'Processing Record'!Q221","v":0},{"$f":"'Processing Record'!E221","v":{"$error":"#N/A"}},{"$error":"#N/A"},{"$error":"#N/A"},{"$error":"#N/A"},null,"F01",218,{"$error":"#N/A"},{"$error":"#N/A"},0]
[null,null,null,null,null,null,null,null,null,null,null,29,"E03",{"$f":"'Processing Record'!A222","v":221},{"$f":"'Processing Record'!C222","v":"0-DNA"},{"$f":"'Processing Record'!Q222","v":0},{"$f":"'Processing Record'!E222","v":{"$error":"#N/A"}},{"$error":"#N/A"},{"$error":"#N/A"},{"$error":"#N/A"},null,"F02",220,{"$error":"#N/A"},{"$error":"#N/A"},0]
[null,null,null,null,null,null,null,null,null,null,null,30,"F03",{"$f":"'Processing Record'!A223","v":222},{"$f":"'Processing Record'!C223","v":"0-DNA"},{"$f":"'Processing Record'!Q223","v":0},{"$f":"'Processing Record'!E223","v":{"$error":"#N/A"}},{"$error":"#N/A"},{"$error":"#N/A"},{"$error":"#N/A"},null,"F03",222,{"$error":"#N/A"},{"$error":"#N/A"},0]
[null,null,null,null,null,null,null,null,null,null,null,31,"E04",{"$f":"'Processing Record'!A224","v":223},{"$f":"'Processing Record'!C224","v":"0-DNA"},{"$f":"'Processing Record'!Q224","v":0},{"$f":"'Processing Record'!E224","v":{"$error":"#N/A"}},{"$error":"#N/A"},{"$error":"#N/A"},{"$error":"#N/A"},null,"F04",224,{"$error":"#N/A"},{"$error":"#N/A"},0]
[null,null,null,null,null,null,null,null,null,null,null,32,"F04",{"$f":"'Processing Record'!A225","v":224},{"$f":"'Processing Record'!C225","v":"0-DNA"},{"$f":"'Processing Record'!Q225","v":0},{"$f":"'Processing Record'!E225","v":{"$error":"#N/A"}},{"$error":"#N/A"},{"$error":"#N/A"},{"$error":"#N/A"},null,"F05",226,{"$error":"#N/A"},{"$error":"#N/A"},0]
[null,null,null,null,null,null,null,null,null,null,null,33,"E05",{"$f":"'Processing Record'!A226","v":225},{"$f":"'Processing Record'!C226","v":"0-DNA"},{"$f":"'Processing Record'!Q226","v":0},{"$f":"'Processing Record'!E226","v":{"$error":"#N/A"}},{"$error":"#N/A"},{"$error":"#N/A"},{"$error":"#N/A"},null,"F06",228,{"$error":"#N/A"},{"$error":"#N/A"},0]
[null,null,null,null,null,null,null,null,null,null,null,34,"F05",{"$f":"'Processing Record'!A227","v":226},{"$f":"'Processing Record'!C227","v":"0-DNA"},{"$f":"'Processing Record'!Q227","v":0},{"$f":"'Processing Record'!E227","v":{"$error":"#N/A"}},{"$error":"#N/A"},{"$error":"#N/A"},{"$error":"#N/A"},null,"G01",229,{"$error":"#N/A"},{"$error":"#N/A"},0]
[null,null,null,null,null,null,null,null,null,null,null,35,"E06",{"$f":"'Processing Record'!A228","v":227},{"$f":"'Processing Record'!C228","v":"0-DNA"},{"$f":"'Processing Record'!Q228","v":0},{"$f":"'Processing Record'!E228","v":{"$error":"#N/A"}},{"$error":"#N/A"},{"$error":"#N/A"},{"$error":"#N/A"},null,"G02",231,{"$error":"#N/A"},{"$error":"#N/A"},0]
[null,null,null,null,null,null,null,null,null,null,null,36,"F06",{"$f":"'Processing Record'!A229","v":228},{"$f":"'Processing Record'!C229","v":"0-DNA"},{"$f":"'Processing Record'!Q229","v":0},{"$f":"'Processing Record'!E229","v":{"$error":"#N/A"}},{"$error":"#N/A"},{"$error":"#N/A"},{"$error":"#N/A"},null,"G03",233,{"$error":"#N/A"},{"$error":"#N/A"},0]
[null,null,null,null,null,null,null,null,null,null,null,37,"G01",{"$f":"'Processing Record'!A230","v":229},{"$f":"'Processing Record'!C230","v":"0-DNA"},{"$f":"'Processing Record'!Q230","v":0},{"$f":"'Processing Record'!E230","v":{"$error":"#N/A"}},{"$error":"#N/A"},{"$error":"#N/A"},{"$error":"#N/A"},null,"G04",235,{"$error":"#N/A"},{"$error":"#N/A"},0]
[null,null,null,null,null,null,null,null,null,null,null,38,"H01",{"$f":"'Processing Record'!A231","v":230},{"$f":"'Processing Record'!C231","v":"0-DNA"},{"$f":"'Processing Record'!Q231","v":0},{"$f":"'Processing Record'!E231","v":{"$error":"#N/A"}},{"$error":"#N/A"},{"$error":"#N/A"},{"$error":"#N/A"},null,"G05",237,{"$error":"#N/A"},{"$error":"#N/A"},0]
[null,null,null,null,null,null,null,null,null,null,null,39,"G02",{"$f":"'Processing Record'!A232","v":231},{"$f":"'Processing Record'!C232","v":"0-DNA"},{"$f":"'Processing Record'!Q232","v":0},{"$f":"'Processing Record'!E232","v":{"$error":"#N/A"}},{"$error":"#N/A"},{"$error":"#N/A"},{"$error":"#N/A"},null,"G06",239,{"$error":"#N/A"},{"$error":"#N/A"},0]
[null,null,null,null,null,null,null,null,null,null,null,40,"H02",{"$f":"'Processing Record'!A233","v":232},{"$f":"'Processing Record'!C233","v":"0-DNA"},{"$f":"'Processing Record'!Q233","v":0},{"$f":"'Processing Record'!E233","v":{"$error":"#N/A"}},{"$error":"#N/A"},{"$error":"#N/A"},{"$error":"#N/A"},null,"H01",230,{"$error":"#N/A"},{"$error":"#N/A"},0]
[null,null,null,null,null,null,null,null,null,null,null,41,"G03",{"$f":"'Processing Record'!A234","v":233},{"$f":"'Processing Record'!C234","v":"0-DNA"},{"$f":"'Processing Record'!Q234","v":0},{"$f":"'Processing Record'!E234","v":{"$error":"#N/A"}},{"$error":"#N/A"},{"$error":"#N/A"},{"$error":"#N/A"},null,"H02",232,{"$error":"#N/A"},{"$error":"#N/A"},0]
[null,null,null,null,null,null,null,null,null,null,null,42,"H03",{"$f":"'Processing Record'!A235","v":234},{"$f":"'Processing Record'!C235","v":"0-DNA"},{"$f":"'Processing Record'!Q235","v":0},{"$f":"'Processing Record'!E235","v":{"$error":"#N/A"}},{"$error":"#N/A"},{"$error":"#N/A"},{"$error":"#N/A"},null,"H03",234,{"$error":"#N/A"},{"$error":"#N/A"},0]
[null,null,null,null,null,null,null,null,null,null,null,43,"G04",{"$f":"'Processing Record'!A236","v":235},{"$f":"'Processing Record'!C236","v":"0-DNA"},{"$f":"'Processing Record'!Q236","v":0},{"$f":"'Processing Record'!E236","v":{"$error":"#N/A"}},{"$error":"#N/A"},{"$error":"#N/A"},{"$error":"#N/A"},null,"H04",236,{"$error":"#N/A"},{"$error":"#N/A"},0]
[null,null,null,null,null,null,null,null,null,null,null,44,"H04",{"$f":"'Processing Record'!A237","v":236},{"$f":"'Processing Record'!C237","v":"0-DNA"},{"$f":"'Processing Record'!Q237","v":0},{"$f":"'Processing Record'!E237","v":{"$error":"#N/A"}},{"$error":"#N/A"},{"$error":"#N/A"},{"$error":"#N/A"},null,"H05",238,{"$error":"#N/A"},{"$error":"#N/A"},0]
[null,null,null,null,null,null,null,null,null,null,null,45,"G05",{"$f":"'Processing Record'!A238","v":237},{"$f":"'Processing Record'!C238","v":"0-DNA"},{"$f":"'Processing Record'!Q238","v":0},{"$f":"'Processing Record'!E238","v":{"$error":"#N/A"}},{"$error":"#N/A"},{"$error":"#N/A"},{"$error":"#N/A"},null,"H06",240,{"$error":"#N/A"},{"$error":"#N/A"},0]
[null,null,null,null,null,null,null,null,null,null,null,46,"H05",{"$f":"'Processing Record'!A239","v":238},{"$f":"'Processing Record'!C239","v":"0-DNA"},{"$f":"'Processing Record'!Q239","v":0},{"$f":"'Processing Record'!E239","v":{"$error":"#N/A"}},{"$error":"#N/A"},{"$error":"#N/A"},{"$error":"#N/A"}]
[null,null,null,null,null,null,null,null,null,null,null,47,"G06",{"$f":"'Processing Record'!A240","v":239},{"$f":"'Processing Record'!C240","v":"0-DNA"},{"$f":"'Processing Record'!Q240","v":0},{"$f":"'Processing Record'!E240","v":{"$error":"#N/A"}},{"$error":"#N/A"},{"$error":"#N/A"},{"$error":"#N/A"}]
[null,null,null,null,null,null,null,null,null,null,null,48,"H06",{"$f":"'Processing Record'!A241","v":240},{"$f":"'Processing Record'!C241","v":"0-DNA"},{"$f":"'Processing Record'!Q241","v":0},{"$f":"'Processing Record'!E241","v":{"$error":"#N/A"}},{"$error":"#N/A"},{"$error":"#N/A"},{"$error":"#N/A"}]
[null,null,null,null,null,null,null,null,null,null,null,"M",null,null,"Fermentas FastRuler High Range DNA Ladder","-",null,20]
[]
[]
[]
[null,null,null,null,null,null,null,null,null,null,null,"Gel 6",null,null,null,null,null,null,null,null,null,"Dilution Plate 6"]
[null,null,null,null,null,null,null,null,null,null,null,"Lane","Well","Sample no.","Sample_ID","Reference_ID","DNA conc. (ng/ul)","Amount loaded (ng)","Water(ul)","Sample(ul)",null,"Well","Sample no.","Water(ul)","Sample(ul)","Reference ID"]
[null,null,null,null,null,null,null,null,null,null,null,"M",null,null,"Fermentas FastRuler High Range DNA Ladder","-","-",20,null,null,null,"A01",241,{"$f":"VLOOKUP($V285, $M$284:$T$336, 7, FALSE)","v":{"$error":"#N/A"}},{"$f":"VLOOKUP($V285, $M$284:$T$336, 8, FALSE)","v":{"$error":"#N/A"}},{"$f":"VLOOKUP($V285, $M$284:$T$336, 4, FALSE)","v":0}]
[null,null,null,null,null,null,null,null,null,null,null,1,"A01",{"$f":"'Processing Record'!A242","v":241},{"$f":"'Processing Record'!C242","v":"0-DNA"},{"$f":"'Processing Record'!Q242","v":0},{"$f":"'Processing Record'!E242","v":{"$error":"#N/A"}},{"$f":"(Q286*T286/(S286+T286))*20","v":{"$error":"#N/A"}},{"$f":"ROUND(Q286*T286/50*20-T286,0)","v":{"$error":"#N/A"}},{"$f":"ROUNDUP(50/Q286,0)","v":{"$error":"#N/A"}},null,"A02",243,{"$error":"#N/A"},{"$error":"#N/A"},0]
[null,null,null,null,null,null,null,null,null,null,null,2,"B01",{"$f":"'Processing Record'!A243","v":242},{"$f":"'Processing Record'!C243","v":"0-DNA"},{"$f":"'Processing Record'!Q243","v":0},{"$f":"'Processing Record'!E243","v":{"$error":"#N/A"}},{"$f":"(Q287*T287/(S287+T287))*20","v":{"$error":"#N/A"}},{"$f":"ROUND(Q287*T287/50*20-T287,0)","v":{"$error":"#N/A"}},{"$f":"ROUNDUP(50/Q287,0)","v":{"$error":"#N/A"}},null,"A03",245,{"$error":"#N/A"},{"$error":"#N/A"},0]
[null,null,null,null,null,null,null,null,null,null,null,3,"A02",{"$f":"'Processing Record'!A244","v":243},{"$f":"'Processing Record'!C244","v":"0-DNA"},{"$f":"'Processing Record'!Q244","v":0},{"$f":"'Processing Record'!E244","v":{"$error":"#N/A"}},{"$error":"#N/A"},{"$error":"#N/A"},{"$error":"#N/A"},null,"A04",247,{"$error":"#N/A"},{"$error":"#N/A"},0]
[null,null,null,null,null,null,null,null,null,null,null,4,"B02",{"$f":"'Processing Record'!A245","v":244},{"$f":"'Processing Record'!C245","v":"0-DNA"},{"$f":"'Processing Record'!Q245","v":0},{"$f":"'Processing Record'!E245","v":{"$error":"#N/A"}},{"$error":"#N/A"},{"$error":"#N/A"},{"$error":"#N/A"},null,"A05",249,{"$error":"#N/A"},{"$error":"#N/A"},0]
[null,null,null,null,null,null,null,null,null,null,null,5,"A03",{"$f":"'Processing Record'!A246","v":245},{"$f":"'Processing Record'!C246","v":"0-DNA"},{"$f":"'Processing Record'!Q246","v":0},{"$f":"'Processing Record'!E246","v":{"$error":"#N/A"}},{"$error":"#N/A"},{"$error":"#N/A"},{"$error":"#N/A"},null,"A06",251,{"$error":"#N/A"},{"$error":"#N/A"},0]
[null,null,null,null,null,null,null,null,null,null,null,6,"B03",{"$f":"'Processing Record'!A247","v":246},{"$f":"'Processing Record'!C247","v":"0-DNA"},{"$f":"'Processing Record'!Q247","v":0},{"$f":"'Processing Record'!E247","v":{"$error":"#N/A"}},{"$error":"#N/A"},{"$error":"#N/A"},{"$error":"#N/A"},null,"B01",242,{"$error":"#N/A"},{"$error":"#N/A"},0]
[null,null,null,null,null,null,null,null,null,null,null,7,"A04",{"$f":"'Processing Record'!A248","v":247},{"$f":"'Processing Record'!C248","v":"0-DNA"},{"$f":"'Processing Record'!Q248","v":0},{"$f":"'Processing Record'!E248","v":{"$error":"#N/A"}},{"$error":"#N/A"},{"$error":"#N/A"},{"$error":"#N/A"},null,"B02",244,{"$error":"#N/A"},{"$error":"#N/A"},0]
[null,null,null,null,null,null,null,null,null,null,null,8,"B04",{"$f":"'Processing Record'!A249","v":248},{"$f":"'Processing Record'!C249","v":"0-DNA"},{"$f":"'Processing Record'!Q249","v":0},{"$f":"'Processing Record'!E249","v":{"$error":"#N/A"}},{"$error":"#N/A"},{"$error":"#N/A"},{"$error":"#N/A"},null,"B03",246,{"$error":"#N/A"},{"$error":"#N/A"},0]
[null,null,null,null,null,null,null,null,null,null,null,9,"A05",{"$f":"'Processing Record'!A250","v":249},{"$f":"'Processing Record'!C250","v":"0-DNA"},{"$f":"'Processing Record'!Q250","v":0},{"$f":"'Processing Record'!E250","v":{"$error":"#N/A"}},{"$error":"#N/A"},{"$error":"#N/A"},{"$error":"#N/A"},null,"B04",248,{"$error":"#N/A"},{"$error":"#N/A"},0]
[null,null,null,null,null,null,null,null,null,null,null,10,"B05",{"$f":"'Processing Record'!A251","v":250},{"$f":"'Processing Record'!C251","v":"0-DNA"},{"$f":"'Processing Record'!Q251","v":0},{"$f":"'Processing Record'!E251","v":{"$error":"#N/A"}},{"$error":"#N/A"},{"$error":"#N/A"},{"$error":"#N/A"},null,"B05",250,{"$error":"#N/A"},{"$error":"#N/A"},0]
[null,null,null,null,null,null,null,null,null,null,null,11,"A06",{"$f":"'Processing Record'!A252","v":251},{"$f":"'Processing Record'!C252","v":"0-DNA"},{"$f":"'Processing Record'!Q252","v":0},{"$f":"'Processing Record'!E252","v":{"$error":"#N/A"}},{"$error":"#N/A"},{"$error":"#N/A"},{"$error":"#N/A"},null,"B06",252,{"$error":"#N/A"},{"$error":"#N/A"},0]
[null,null,null,null,null,null,null,null,null,null,null,12,"B06",{"$f":"'Processing Record'!A253","v":252},{"$f":"'Processing Record'!C253","v":"0-DNA"},{"$f":"'Processing Record'!Q253","v":0},{"$f":"'Processing Record'!E253","v":{"$error":"#N/A"}},{"$error":"#N/A"},{"$error":"#N/A"},{"$error":"#N/A"},null,"C01",253,{"$error":"#N/A"},{"$error":"#N/A"},0]
[null,null,null,null,null,null,null,null,null,null,null,13,"C01",{"$f":"'Processing Record'!A254","v":253},{"$f":"'Processing Record'!C254","v":"0-DNA"},{"$f":"'Processing Record'!Q254","v":0},{"$f":"'Processing Record'!E254","v":{"$error":"#N/A"}},{"$error":"#N/A"},{"$error":"#N/A"},{"$error":"#N/A"},null,"C02",255,{"$error":"#N/A"},{"$error":"#N/A"},0]
[null,null,null,null,null,null,null,null,null,null,null,14,"D01",{"$f":"'Processing Record'!A255","v":254},{"$f":"'Processing Record'!C255","v":"0-DNA"},{"$f":"'Processing Record'!Q255","v":0},{"$f":"'Processing Record'!E255","v":{"$error":"#N/A"}},{"$error":"#N/A"},{"$error":"#N/A"},{"$error":"#N/A"},null,"C03",257,{"$error":"#N/A"},{"$error":"#N/A"},0]
[null,null,null,null,null,null,null,null,null,null,null,15,"C02",{"$f":"'Processing Record'!A256","v":255},{"$f":"'Processing Record'!C256","v":"0-DNA"},{"$f":"'Processing Record'!Q256","v":0},{"$f":"'Processing Record'!E256","v":{"$error":"#N/A"}},{"$error":"#N/A"},{"$error":"#N/A"},{"$error":"#N/A"},null,"C04",259,{"$error":"#N/A"},{"$error":"#N/A"},0]
[null,null,null,null,null,null,null,null,null,null,null,16,"D02",{"$f":"'Processing Record'!A257","v":256},{"$f":"'Processing Record'!C257","v":"0-DNA"},{"$f":"'Processing Record'!Q257","v":0},{"$f":"'Processing Record'!E257","v":{"$error":"#N/A"}},{"$error":"#N/A"},{"$error":"#N/A"},{"$error":"#N/A"},null,"C05",261,{"$error":"#N/A"},{"$error":"#N/A"},0]
[null,null,null,null,null,null,null,null,null,null,null,17,"C03",{"$f":"'Processing Record'!A258","v":257},{"$f":"'Processing Record'!C258","v":"0-DNA"},{"$f":"'Processing Record'!Q258","v":0},{"$f":"'Processing Record'!E258","v":{"$error":"#N/A"}},{"$error":"#N/A"},{"$error":"#N/A"},{"$error":"#N/A"},null,"C06",263,{"$error":"#N/A"},{"$error":"#N/A"},0]
[null,null,null,null,null,null,null,null,null,null,null,18,"D03",{"$f":"'Processing Record'!A259","v":258},{"$f":"'Processing Record'!C259","v":"0-DNA"},{"$f":"'Processing Record'!Q259","v":0},{"$f":"'Processing Record'!E259","v":{"$error":"#N/A"}},{"$error":"#N/A"},{"$error":"#N/A"},{"$error":"#N/A"},null,"D01",254,{"$error":"#N/A"},{"$error":"#N/A"},0]
[null,null,null,null,null,null,null,null,null,null,null,19,"C04",{"$f":"'Processing Record'!A260","v":259},{"$f":"'Processing Record'!C260","v":"0-DNA"},{"$f":"'Processing Record'!Q260","v":0},{"$f":"'Processing Record'!E260","v":{"$error":"#N/A"}},{"$error":"#N/A"},{"$error":"#N/A"},{"$error":"#N/A"},null,"D02",256,{"$error":"#N/A"},{"$error":"#N/A"},0]
[null,null,null,null,null,null,null,null,null,null,null,20,"D04",{"$f":"'Processing Record'!A261","v":260},{"$f":"'Processing Record'!C261","v":"0-DNA"},{"$f":"'Processing Record'!Q261","v":0},{"$f":"'Processing Record'!E261","v":{"$error":"#N/A"}},{"$error":"#N/A"},{"$error":"#N/A"},{"$error":"#N/A"},null,"D03",258,{"$error":"#N/A"},{"$error":"#N/A"},0]
[null,null,null,null,null,null,null,null,null,null,null,21,"C05",{"$f":"'Processing Record'!A262","v":261},{"$f":"'Processing Record'!C262","v":"0-DNA"},{"$f":"'Processing Record'!Q262","v":0},{"$f":"'Processing Record'!E262","v":{"$error":"#N/A"}},{"$error":"#N/A"},{"$error":"#N/A"},{"$error":"#N/A"},null,"D04",260,{"$error":"#N/A"},{"$error":"#N/A"},0]
[null,null,null,null,null,null,null,null,null,null,null,22,"D05",{"$f":"'Processing Record'!A263","v":262},{"$f":"'Processing Record'!C263","v":"0-DNA"},{"$f":"'Processing Record'!Q263","v":0},{"$f":"'Processing Record'!E263","v":{"$error":"#N/A"}},{"$error":"#N/A"},{"$error":"#N/A"},{"$error":"#N/A"},null,"D05",262,{"$error":"#N/A"},{"$error":"#N/A"},0]
[null,null,null,null,null,null,null,null,null,null,null,23,"C06",{"$f":"'Processing Record'!A264","v":263},{"$f":"'Processing Record'!C264","v":"0-DNA"},{"$f":"'Processing Record'!Q264","v":0},{"$f":"'Processing Record'!E264","v":{"$error":"#N/A"}},{"$error":"#N/A"},{"$error":"#N/A"},{"$error":"#N/A"},null,"D06",264,{"$error":"#N/A"},{"$error":"#N/A"},0]
[null,null,null,null,null,null,null,null,null,null,null,24,"D06",{"$f":"'Processing Record'!A265","v":264},{"$f":"'Processing Record'!C265","v":"0-DNA"},{"$f":"'Processing Record'!Q265","v":0},{"$f":"'Processing Record'!E265","v":{"$error":"#N/A"}},{"$error":"#N/A"},{"$error":"#N/A"},{"$error":"#N/A"},null,"E01",265,{"$error":"#N/A"},{"$error":"#N/A"},0]
[null,null,null,null,null,null,null,null,null,null,null,"M",null,null,"Fermentas FastRuler High Range DNA Ladder","-",null,20,null,null,null,"E02",267,{"$error":"#N/A"},{"$error":"#N/A"},0]
[null,null,null,null,null,null,null,null,null,null,null,"M",null,null,"Fermentas FastRuler High Range DNA Ladder","-",null,20,null,null,null,"E03",269,{"$error":"#N/A"},{"$error":"#N/A"},0]
[null,null,null,null,null,null,null,null,null,null,null,25,"E01",{"$f":"'Processing Record'!A266","v":265},{"$f":"'Processing Record'!C266","v":"0-DNA"},{"$f":"'Processing Record'!Q266","v":0},{"$f":"'Processing Record'!E266","v":{"$error":"#N/A"}},{"$f":"(Q312*T312/(S312+T312))*20","v":{"$error":"#N/A"}},{"$f":"ROUND(Q312*T312/50*20-T312,0)","v":{"$error":"#N/A"}},{"$f":"ROUNDUP(50/Q312,0)","v":{"$error":"#N/A"}},null,"E04",271,{"$error":"#N/A"},{"$error":"#N/A"},0]
[null,null,null,null,null,null,null,null,null,null,null,26,"F01",{"$f":"'Processing Record'!A267","v":266},{"$f":"'Processing Record'!C267","v":"0-DNA"},{"$f":"'Processing Record'!Q267","v":0},{"$f":"'Processing Record'!E267","v":{"$error":"#N/A"}},{"$f":"(Q313*T313/(S313+T313))*20","v":{"$error":"#N/A"}},{"$f":"ROUND(Q313*T313/50*20-T313,0)","v":{"$error":"#N/A"}},{"$f":"ROUNDUP(50/Q313,0)","v":{"$error":"#N/A"}},null,"E05",273,{"$error":"#N/A"},{"$error":"#N/A"},0]
[null,null,null,null,null,null,null,null,null,null,null,27,"E02",{"$f":"'Processing Record'!A268","v":267},{"$f":"'Processing Record'!C268","v":"0-DNA"},{"$f":"'Processing Record'!Q268","v":0},{"$f":"'Processing Record'!E268","v":{"$error":"#N/A"}},{"$error":"#N/A"},{"$error":"#N/A"},{"$error":"#N/A"},null,"E06",275,{"$error":"#N/A"},{"$error":"#N/A"},0]
[null,null,null,null,null,null,null,null,null,null,null,28,"F02",{"$f":"'Processing Record'!A269","v":268},{"$f":"'Processing Record'!C269","v":"0-DNA"},{"$f":"'Processing Record'!Q269","v":0},{"$f":"'Processing Record'!E269","v":{"$error":"#N/A"}},{"$error":"#N/A"},{"$error":"#N/A"},{"$error":"#N/A"},null,"F01",266,{"$error":"#N/A"},{"$error":"#N/A"},0]
[null,null,null,null,null,null,null,null,null,null,null,29,"E03",{"$f":"'Processing Record'!A270","v":269},{"$f":"'Processing Record'!C270","v":"0-DNA"},{"$f":"'Processing Record'!Q270","v":0},{"$f":"'Processing Record'!E270","v":{"$error":"#N/A"}},{"$error":"#N/A"},{"$error":"#N/A"},{"$error":"#N/A"},null,"F02",268,{"$error":"#N/A"},{"$error":"#N/A"},0]
[null,null,null,null,null,null,null,null,null,null,null,30,"F03",{"$f":"'Processing Record'!A271","v":270},{"$f":"'Processing Record'!C271","v":"0-DNA"},{"$f":"'Processing Record'!Q271","v":0},{"$f":"'Processing Record'!E271","v":{"$error":"#N/A"}},{"$error":"#N/A"},{"$error":"#N/A"},{"$error":"#N/A"},null,"F03",270,{"$error":"#N/A"},{"$error":"#N/A"},0]
[null,null,null,null,null,null,null,null,null,null,null,31,"E04",{"$f":"'Processing Record'!A272","v":271},{"$f":"'Processing Record'!C272","v":"0-DNA"},{"$f":"'Processing Record'!Q272","v":0},{"$f":"'Processing Record'!E272","v":{"$error":"#N/A"}},{"$error":"#N/A"},{"$error":"#N/A"},{"$error":"#N/A"},null,"F04",272,{"$error":"#N/A"},{"$error":"#N/A"},0]
[null,null,null,null,null,null,null,null,null,null,null,32,"F04",{"$f":"'Processing Record'!A273","v":272},{"$f":"'Processing Record'!C273","v":"0-DNA"},{"$f":"'Processing Record'!Q273","v":0},{"$f":"'Processing Record'!E273","v":{"$error":"#N/A"}},{"$error":"#N/A"},{"$error":"#N/A"},{"$error":"#N/A"},null,"F05",274,{"$error":"#N/A"},{"$error":"#N/A"},0]
[null,null,null,null,null,null,null,null,null,null,null,33,"E05",{"$f":"'Processing Record'!A274","v":273},{"$f":"'Processing Record'!C274","v":"0-DNA"},{"$f":"'Processing Record'!Q274","v":0},{"$f":"'Processing Record'!E274","v":{"$error":"#N/A"}},{"$error":"#N/A"},{"$error":"#N/A"},{"$error":"#N/A"},null,"F06",276,{"$error":"#N/A"},{"$error":"#N/A"},0]
[null,null,null,null,null,null,null,null,null,null,null,34,"F05",{"$f":"'Processing Record'!A275","v":274},{"$f":"'Processing Record'!C275","v":"0-DNA"},{"$f":"'Processing Record'!Q275","v":0},{"$f":"'Processing Record'!E275","v":{"$error":"#N/A"}},{"$error":"#N/A"},{"$error":"#N/A"},{"$error":"#N/A"},null,"G01",277,{"$error":"#N/A"},{"$error":"#N/A"},0]
[null,null,null,null,null,null,null,null,null,null,null,35,"E06",{"$f":"'Processing Record'!A276","v":275},{"$f":"'Processing Record'!C276","v":"0-DNA"},{"$f":"'Processing Record'!Q276","v":0},{"$f":"'Processing Record'!E276","v":{"$error":"#N/A"}},{"$error":"#N/A"},{"$error":"#N/A"},{"$error":"#N/A"},null,"G02",279,{"$error":"#N/A"},{"$error":"#N/A"},0]
[null,null,null,null,null,null,null,null,null,null,null,36,"F06",{"$f":"'Processing Record'!A277","v":276},{"$f":"'Processing Record'!C277","v":"0-DNA"},{"$f":"'Processing Record'!Q277","v":0},{"$f":"'Processing Record'!E277","v":{"$error":"#N/A"}},{"$error":"#N/A"},{"$error":"#N/A"},{"$error":"#N/A"},null,"G03",281,{"$error":"#N/A"},{"$error":"#N/A"},0]
[null,null,null,null,null,null,null,null,null,null,null,37,"G01",{"$f":"'Processing Record'!A278","v":277},{"$f":"'Processing Record'!C278","v":"0-DNA"},{"$f":"'Processing Record'!Q278","v":0},{"$f":"'Processing Record'!E278","v":{"$error":"#N/A"}},{"$error":"#N/A"},{"$error":"#N/A"},{"$error":"#N/A"},null,"G04",283,{"$error":"#N/A"},{"$error":"#N/A"},0]
[null,null,null,null,null,null,null,null,null,null,null,38,"H01",{"$f":"'Processing Record'!A279","v":278},{"$f":"'Processing Record'!C279","v":"0-DNA"},{"$f":"'Processing Record'!Q279","v":0},{"$f":"'Processing Record'!E279","v":{"$error":"#N/A"}},{"$error":"#N/A"},{"$error":"#N/A"},{"$error":"#N/A"},null,"G05",285,{"$error":"#N/A"},{"$error":"#N/A"},0]
[null,null,null,null,null,null,null,null,null,null,null,39,"G02",{"$f":"'Processing Record'!A280","v":279},{"$f":"'Processing Record'!C280","v":"0-DNA"},{"$f":"'Processing Record'!Q280","v":0},{"$f":"'Processing Record'!E280","v":{"$error":"#N/A"}},{"$error":"#N/A"},{"$error":"#N/A"},{"$error":"#N/A"},null,"G06",287,{"$error":"#N/A"},{"$error":"#N/A"},0]
[null,null,null,null,null,null,null,null,null,null,null,40,"H02",{"$f":"'Processing Record'!A281","v":280},{"$f":"'Processing Record'!C281","v":"0-DNA"},{"$f":"'Processing Record'!Q281","v":0},{"$f":"'Processing Record'!E281","v":{"$error":"#N/A"}},{"$error":"#N/A"},{"$error":"#N/A"},{"$error":"#N/A"},null,"H01",278,{"$error":"#N/A"},{"$error":"#N/A"},0]
[null,null,null,null,null,null,null,null,null,null,null,41,"G03",{"$f":"'Processing Record'!A282","v":281},{"$f":"'Processing Record'!C282","v":"0-DNA"},{"$f":"'Processing Record'!Q282","v":0},{"$f":"'Processing Record'!E282","v":{"$error":"#N/A"}},{"$error":"#N/A"},{"$error":"#N/A"},{"$error":"#N/A"},null,"H02",280,{"$error":"#N/A"},{"$error":"#N/A"},0]
[null,null,null,null,null,null,null,null,null,null,null,42,"H03",{"$f":"'Processing Record'!A283","v":282},{"$f":"'Processing Record'!C283","v":"0-DNA"},{"$f":"'Processing Record'!Q283","v":0},{"$f":"'Processing Record'!E283","v":{"$error":"#N/A"}},{"$error":"#N/A"},{"$error":"#N/A"},{"$error":"#N/A"},null,"H03",282,{"$error":"#N/A"},{"$error":"#N/A"},0]
[null,null,null,null,null,null,null,null,null,null,null,43,"G04",{"$f":"'Processing Record'!A284","v":283},{"$f":"'Processing Record'!C284","v":"0-DNA"},{"$f":"'Processing Record'!Q284","v":0},{"$f":"'Processing Record'!E284","v":{"$error":"#N/A"}},{"$error":"#N/A"},{"$error":"#N/A"},{"$error":"#N/A"},null,"H04",284,{"$error":"#N/A"},{"$error":"#N/A"},0]
[null,null,null,null,null,null,null,null,null,null,null,44,"H04",{"$f":"'Processing Record'!A285","v":284},{"$f":"'Processing Record'!C285","v":"0-DNA"},{"$f":"'Processing Record'!Q285","v":0},{"$f":"'Processing Record'!E285","v":{"$error":"#N/A"}},{"$error":"#N/A"},{"$error":"#N/A"},{"$error":"#N/A"},null,"H05",286,{"$error":"#N/A"},{"$error":"#N/A"},0]
[null,null,null,null,null,null,null,null,null,null,null,45,"G05",{"$f":"'Processing Record'!A286","v":285},{"$f":"'Processing Record'!C286","v":"0-DNA"},{"$f":"'Processing Record'!Q286","v":0},{"$f":"'Processing Record'!E286","v":{"$error":"#N/A"}},{"$error":"#N/A"},{"$error":"#N/A"},{"$error":"#N/A"},null,"H06",288,{"$error":"#N/A"},{"$error":"#N/A"},0]
[null,null,null,null,null,null,null,null,null,null,null,46,"H05",{"$f":"'Processing Record'!A287","v":286},{"$f":"'Processing Record'!C287","v":"0-DNA"},{"$f":"'Processing Record'!Q287","v":0},{"$f":"'Processing Record'!E287","v":{"$error":"#N/A"}},{"$error":"#N/A"},{"$error":"#N/A"},{"$error":"#N/A"}]
[null,null,null,null,null,null,null,null,null,null,null,47,"G06",{"$f":"'Processing Record'!A288","v":287},{"$f":"'Processing Record'!C288","v":"0-DNA"},{"$f":"'Processing Record'!Q288","v":0},{"$f":"'Processing Record'!E288","v":{"$error":"#N/A"}},{"$error":"#N/A"},{"$error":"#N/A"},{"$error":"#N/A"}]
[null,null,null,null,null,null,null,null,null,null,null,48,"H06",{"$f":"'Processing Record'!A289","v":288},{"$f":"'Processing Record'!C289","v":"0-DNA"},{"$f":"'Processing Record'!Q289","v":0},{"$f":"'Processing Record'!E289","v":{"$error":"#N/A"}},{"$error":"#N/A"},{"$error":"#N/A"},{"$error":"#N/A"}]
[null,null,null,null,null,null,null,null,null,null,null,"M",null,null,"Fermentas FastRuler High Range DNA Ladder","-",null,20]
[]
[]
[]
[null,null,null,null,null,null,null,null,null,null,null,"Gel 7",null,null,null,null,null,null,null,null,null,"Dilution Plate 7"]
[null,null,null,null,null,null,null,null,null,null,null,"Lane","Well","Sample no.","Sample_ID","Reference_ID","DNA conc. (ng/ul)","Amount loaded (ng)","Water(ul)","Sample(ul)",null,"Well","Sample no.","Water(ul)","Sample(ul)","Reference ID"]
[null,null,null,null,null,null,null,null,null,null,null,"M",null,null,"Fermentas FastRuler High Range DNA Ladder","-","-",null,null,null,null,"A01",289,{"$f":"VLOOKUP($V342, $M$341:$T$393, 7, FALSE)","v":{"$error":"#N/A"}},{"$f":"VLOOKUP($V342, $M$341:$T$393, 8, FALSE)","v":{"$error":"#N/A"}},{"$f":"VLOOKUP($V342, $M$341:$T$393, 4, FALSE)","v":0}]
[null,null,null,null,null,null,null,null,null,null,null,1,"A01",{"$f":"'Processing Record'!A290","v":289},{"$f":"'Processing Record'!C290","v":"0-DNA"},{"$f":"'Processing Record'!Q290","v":0},{"$f":"'Processing Record'!E290","v":{"$error":"#N/A"}},{"$f":"(Q343*T343/(S343+T343))*20","v":{"$error":"#N/A"}},{"$f":"ROUND(Q343*T343/50*20-T343,0)","v":{"$error":"#N/A"}},{"$f":"ROUNDUP(50/Q343,0)","v":{"$error":"#N/A"}},null,"A02",291,{"$error":"#N/A"},{"$error":"#N/A"},0]
[null,null,null,null,null,null,null,null,null,null,null,2,"B01",{"$f":"'Processing Record'!A291","v":290},{"$f":"'Processing Record'!C291","v":"0-DNA"},{"$f":"'Processing Record'!Q291","v":0},{"$f":"'Processing Record'!E291","v":{"$error":"#N/A"}},{"$f":"(Q344*T344/(S344+T344))*20","v":{"$error":"#N/A"}},{"$f":"ROUND(Q344*T344/50*20-T344,0)","v":{"$error":"#N/A"}},{"$f":"ROUNDUP(50/Q344,0)","v":{"$error":"#N/A"}},null,"A03",293,{"$error":"#N/A"},{"$error":"#N/A"},0]
[null,null,null,null,null,null,null,null,null,null,null,3,"A02",{"$f":"'Processing Record'!A292","v":291},{"$f":"'Processing Record'!C292","v":"0-DNA"},{"$f":"'Processing Record'!Q292","v":0},{"$f":"'Processing Record'!E292","v":{"$error":"#N/A"}},{"$error":"#N/A"},{"$error":"#N/A"},{"$error":"#N/A"},null,"A04",295,{"$error":"#N/A"},{"$error":"#N/A"},0]
[null,null,null,null,null,null,null,null,null,null,null,4,"B02",{"$f":"'Processing Record'!A293","v":292},{"$f":"'Processing Record'!C293","v":"0-DNA"},{"$f":"'Processing Record'!Q293","v":0},{"$f":"'Processing Record'!E293","v":{"$error":"#N/A"}},{"$error":"#N/A"},{"$error":"#N/A"},{"$error":"#N/A"},null,"A05",297,{"$error":"#N/A"},{"$error":"#N/A"},0]
[null,null,null,null,null,null,null,null,null,null,null,5,"A03",{"$f":"'Processing Record'!A294","v":293},{"$f":"'Processing Record'!C294","v":"0-DNA"},{"$f":"'Processing Record'!Q294","v":0},{"$f":"'Processing Record'!E294","v":{"$error":"#N/A"}},{"$error":"#N/A"},{"$error":"#N/A"},{"$error":"#N/A"},null,"A06",299,{"$error":"#N/A"},{"$error":"#N/A"},0]
[null,null,null,null,null,null,null,null,null,null,null,6,"B03",{"$f":"'Processing Record'!A295","v":294},{"$f":"'Processing Record'!C295","v":"0-DNA"},{"$f":"'Processing Record'!Q295","v":0},{"$f":"'Processing Record'!E295","v":{"$error":"#N/A"}},{"$error":"#N/A"},{"$error":"#N/A"},{"$error":"#N/A"},null,"B01",290,{"$error":"#N/A"},{"$error":"#N/A"},0]
[null,null,null,null,null,null,null,null,null,null,null,7,"A04",{"$f":"'Processing Record'!A296","v":295},{"$f":"'Processing Record'!C296","v":"0-DNA"},{"$f":"'Processing Record'!Q296","v":0},{"$f":"'Processing Record'!E296","v":{"$error":"#N/A"}},{"$error":"#N/A"},{"$error":"#N/A"},{"$error":"#N/A"},null,"B02",292,{"$error":"#N/A"},{"$error":"#N/A"},0]
[null,null,null,null,null,null,null,null,null,null,null,8,"B04",{"$f":"'Processing Record'!A297","v":296},{"$f":"'Processing Record'!C297","v":"0-DNA"},{"$f":"'Processing Record'!Q297","v":0},{"$f":"'Processing Record'!E297","v":{"$error":"#N/A"}},{"$error":"#N/A"},{"$error":"#N/A"},{"$error":"#N/A"},null,"B03",294,{"$error":"#N/A"},{"$error":"#N/A"},0]
[null,null,null,null,null,null,null,null,null,null,null,9,"A05",{"$f":"'Processing Record'!A298","v":297},{"$f":"'Processing Record'!C298","v":"0-DNA"},{"$f":"'Processing Record'!Q298","v":0},{"$f":"'Processing Record'!E298","v":{"$error":"#N/A"}},{"$error":"#N/A"},{"$error":"#N/A"},{"$error":"#N/A"},null,"B04",296,{"$error":"#N/A"},{"$error":"#N/A"},0]
[null,null,null,null,null,null,null,null,null,null,null,10,"B05",{"$f":"'Processing Record'!A299","v":298},{"$f":"'Processing Record'!C299","v":"0-DNA"},{"$f":"'Processing Record'!Q299","v":0},{"$f":"'Processing Record'!E299","v":{"$error":"#N/A"}},{"$error":"#N/A"},{"$error":"#N/A"},{"$error":"#N/A"},null,"B05",298,{"$error":"#N/A"},{"$error":"#N/A"},0]
[null,null,null,null,null,null,null,null,null,null,null,11,"A06",{"$f":"'Processing Record'!A300","v":299},{"$f":"'Processing Record'!C300","v":"0-DNA"},{"$f":"'Processing Record'!Q300","v":0},{"$f":"'Processing Record'!E300","v":{"$error":"#N/A"}},{"$error":"#N/A"},{"$error":"#N/A"},{"$error":"#N/A"},null,"B06",300,{"$error":"#N/A"},{"$error":"#N/A"},0]
[null,null,null,null,null,null,null,null,null,null,null,12,"B06",{"$f":"'Processing Record'!A301","v":300},{"$f":"'Processing Record'!C301","v":"0-DNA"},{"$f":"'Processing Record'!Q301","v":0},{"$f":"'Processing Record'!E301","v":{"$error":"#N/A"}},{"$error":"#N/A"},{"$error":"#N/A"},{"$error":"#N/A"},null,"C01",301,{"$error":"#N/A"},{"$error":"#N/A"},0]
[null,null,null,null,null,null,null,null,null,null,null,13,"C01",{"$f":"'Processing Record'!A302","v":301},{"$f":"'Processing Record'!C302","v":"0-DNA"},{"$f":"'Processing Record'!Q302","v":0},{"$f":"'Processing Record'!E302","v":{"$error":"#N/A"}},{"$error":"#N/A"},{"$error":"#N/A"},{"$error":"#N/A"},null,"C02",303,{"$error":"#N/A"},{"$error":"#N/A"},0]
[null,null,null,null,null,null,null,null,null,null,null,14,"D01",{"$f":"'Processing Record'!A303","v":302},{"$f":"'Processing Record'!C303","v":"0-DNA"},{"$f":"'Processing Record'!Q303","v":0},{"$f":"'Processing Record'!E303","v":{"$error":"#N/A"}},{"$error":"#N/A"},{"$error":"#N/A"},{"$error":"#N/A"},null,"C03",305,{"$error":"#N/A"},{"$error":"#N/A"},0]
[null,null,null,null,null,null,null,null,null,null,null,15,"C02",{"$f":"'Processing Record'!A304","v":303},{"$f":"'Processing Record'!C304","v":"0-DNA"},{"$f":"'Processing Record'!Q304","v":0},{"$f":"'Processing Record'!E304","v":{"$error":"#N/A"}},{"$error":"#N/A"},{"$error":"#N/A"},{"$error":"#N/A"},null,"C04",307,{"$error":"#N/A"},{"$error":"#N/A"},0]
[null,null,null,null,null,null,null,null,null,null,null,16,"D02",{"$f":"'Processing Record'!A305","v":304},{"$f":"'Processing Record'!C305","v":"0-DNA"},{"$f":"'Processing Record'!Q305","v":0},{"$f":"'Processing Record'!E305","v":{"$error":"#N/A"}},{"$error":"#N/A"},{"$error":"#N/A"},{"$error":"#N/A"},null,"C05",309,{"$error":"#N/A"},{"$error":"#N/A"},0]
[null,null,null,null,null,null,null,null,null,null,null,17,"C03",{"$f":"'Processing Record'!A306","v":305},{"$f":"'Processing Record'!C306","v":"0-DNA"},{"$f":"'Processing Record'!Q306","v":0},{"$f":"'Processing Record'!E306","v":{"$error":"#N/A"}},{"$error":"#N/A"},{"$error":"#N/A"},{"$error":"#N/A"},null,"C06",311,{"$error":"#N/A"},{"$error":"#N/A"},0]
[null,null,null,null,null,null,null,null,null,null,null,18,"D03",{"$f":"'Processing Record'!A307","v":306},{"$f":"'Processing Record'!C307","v":"0-DNA"},{"$f":"'Processing Record'!Q307","v":0},{"$f":"'Processing Record'!E307","v":{"$error":"#N/A"}},{"$error":"#N/A"},{"$error":"#N/A"},{"$error":"#N/A"},null,"D01",302,{"$error":"#N/A"},{"$error":"#N/A"},0]
[null,null,null,null,null,null,null,null,null,null,null,19,"C04",{"$f":"'Processing Record'!A308","v":307},{"$f":"'Processing Record'!C308","v":"0-DNA"},{"$f":"'Processing Record'!Q308","v":0},{"$f":"'Processing Record'!E308","v":{"$error":"#N/A"}},{"$error":"#N/A"},{"$error":"#N/A"},{"$error":"#N/A"},null,"D02",304,{"$error":"#N/A"},{"$error":"#N/A"},0]
[null,null,null,null,null,null,null,null,null,null,null,20,"D04",{"$f":"'Processing Record'!A309","v":308},{"$f":"'Processing Record'!C309","v":"0-DNA"},{"$f":"'Processing Record'!Q309","v":0},{"$f":"'Processing Record'!E309","v":{"$error":"#N/A"}},{"$error":"#N/A"},{"$error":"#N/A"},{"$error":"#N/A"},null,"D03",306,{"$error":"#N/A"},{"$error":"#N/A"},0]
[null,null,null,null,null,null,null,null,null,null,null,21,"C05",{"$f":"'Processing Record'!A310","v":309},{"$f":"'Processing Record'!C310","v":"0-DNA"},{"$f":"'Processing Record'!Q310","v":0},{"$f":"'Processing Record'!E310","v":{"$error":"#N/A"}},{"$error":"#N/A"},{"$error":"#N/A"},{"$error":"#N/A"},null,"D04",308,{"$error":"#N/A"},{"$error":"#N/A"},0]
[null,null,null,null,null,null,null,null,null,null,null,22,"D05",{"$f":"'Processing Record'!A311","v":310},{"$f":"'Processing Record'!C311","v":"0-DNA"},{"$f":"'Processing Record'!Q311","v":0},{"$f":"'Processing Record'!E311","v":{"$error":"#N/A"}},{"$error":"#N/A"},{"$error":"#N/A"},{"$error":"#N/A"},null,"D05",310,{"$error":"#N/A"},{"$error":"#N/A"},0]
[null,null,null,null,null,null,null,null,null,null,null,23,"C06",{"$f":"'Processing Record'!A312","v":311},{"$f":"'Processing Record'!C312","v":"0-DNA"},{"$f":"'Processing Record'!Q312","v":0},{"$f":"'Processing Record'!E312","v":{"$error":"#N/A"}},{"$error":"#N/A"},{"$error":"#N/A"},{"$error":"#N/A"},null,"D06",312,{"$error":"#N/A"},{"$error":"#N/A"},0]
[null,null,null,null,null,null,null,null,null,null,null,24,"D06",{"$f":"'Processing Record'!A313","v":312},{"$f":"'Processing Record'!C313","v":"0-DNA"},{"$f":"'Processing Record'!Q313","v":0},{"$f":"'Processing Record'!E313","v":{"$error":"#N/A"}},{"$error":"#N/A"},{"$error":"#N/A"},{"$error":"#N/A"},null,"E01",313,{"$error":"#N/A"},{"$error":"#N/A"},0]
[null,null,null,null,null,null,null,null,null,null,null,"M",null,null,"Fermentas FastRuler High Range DNA Ladder","-",null,20,null,null,null,"E02",315,{"$error":"#N/A"},{"$error":"#N/A"},0]
[null,null,null,null,null,null,null,null,null,null,null,"M",null,null,"Fermentas FastRuler High Range DNA Ladder","-",null,20,null,null,null,"E03",317,{"$error":"#N/A"},{"$error":"#N/A"},0]
[null,null,null,null,null,null,null,null,null,null,null,25,"E01",{"$f":"'Processing Record'!A314","v":313},{"$f":"'Processing Record'!C314","v":"0-DNA"},{"$f":"'Processing Record'!Q314","v":0},{"$f":"'Processing Record'!E314","v":{"$error":"#N/A"}},{"$f":"(Q369*T369/(S369+T369))*20","v":{"$error":"#N/A"}},{"$f":"ROUND(Q369*T369/50*20-T369,0)","v":{"$error":"#N/A"}},{"$f":"ROUNDUP(50/Q369,0)","v":{"$error":"#N/A"}},null,"E04",319,{"$error":"#N/A"},{"$error":"#N/A"},0]
[null,null,null,null,null,null,null,null,null,null,null,26,"F01",{"$f":"'Processing Record'!A315","v":314},{"$f":"'Processing Record'!C315","v":"0-DNA"},{"$f":"'Processing Record'!Q315","v":0},{"$f":"'Processing Record'!E315","v":{"$error":"#N/A"}},{"$f":"(Q370*T370/(S370+T370))*20","v":{"$error":"#N/A"}},{"$f":"ROUND(Q370*T370/50*20-T370,0)","v":{"$error":"#N/A"}},{"$f":"ROUNDUP(50/Q370,0)","v":{"$error":"#N/A"}},null,"E05",321,{"$error":"#N/A"},{"$error":"#N/A"},0]
[null,null,null,null,null,null,null,null,null,null,null,27,"E02",{"$f":"'Processing Record'!A316","v":315},{"$f":"'Processing Record'!C316","v":"0-DNA"},{"$f":"'Processing Record'!Q316","v":0},{"$f":"'Processing Record'!E316","v":{"$error":"#N/A"}},{"$error":"#N/A"},{"$error":"#N/A"},{"$error":"#N/A"},null,"E06",323,{"$error":"#N/A"},{"$error":"#N/A"},0]
[null,null,null,null,null,null,null,null,null,null,null,28,"F02",{"$f":"'Processing Record'!A317","v":316},{"$f":"'Processing Record'!C317","v":"0-DNA"},{"$f":"'Processing Record'!Q317","v":0},{"$f":"'Processing Record'!E317","v":{"$error":"#N/A"}},{"$error":"#N/A"},{"$error":"#N/A"},{"$error":"#N/A"},null,"F01",314,{"$error":"#N/A"},{"$error":"#N/A"},0]
[null,null,null,null,null,null,null,null,null,null,null,29,"E03",{"$f":"'Processing Record'!A318","v":317},{"$f":"'Processing Record'!C318","v":"0-DNA"},{"$f":"'Processing Record'!Q318","v":0},{"$f":"'Processing Record'!E318","v":{"$error":"#N/A"}},{"$error":"#N/A"},{"$error":"#N/A"},{"$error":"#N/A"},null,"F02",316,{"$error":"#N/A"},{"$error":"#N/A"},0]
[null,null,null,null,null,null,null,null,null,null,null,30,"F03",{"$f":"'Processing Record'!A319","v":318},{"$f":"'Processing Record'!C319","v":"0-DNA"},{"$f":"'Processing Record'!Q319","v":0},{"$f":"'Processing Record'!E319","v":{"$error":"#N/A"}},{"$error":"#N/A"},{"$error":"#N/A"},{"$error":"#N/A"},null,"F03",318,{"$error":"#N/A"},{"$error":"#N/A"},0]
[null,null,null,null,null,null,null,null,null,null,null,31,"E04",{"$f":"'Processing Record'!A320","v":319},{"$f":"'Processing Record'!C320","v":"0-DNA"},{"$f":"'Processing Record'!Q320","v":0},{"$f":"'Processing Record'!E320","v":{"$error":"#N/A"}},{"$error":"#N/A"},{"$error":"#N/A"},{"$error":"#N/A"},null,"F04",320,{"$error":"#N/A"},{"$error":"#N/A"},0]
[null,null,null,null,null,null,null,null,null,null,null,32,"F04",{"$f":"'Processing Record'!A321","v":320},{"$f":"'Processing Record'!C321","v":"0-DNA"},{"$f":"'Processing Record'!Q321","v":0},{"$f":"'Processing Record'!E321","v":{"$error":"#N/A"}},{"$error":"#N/A"},{"$error":"#N/A"},{"$error":"#N/A"},null,"F05",322,{"$error":"#N/A"},{"$error":"#N/A"},0]
[null,null,null,null,null,null,null,null,null,null,null,33,"E05",{"$f":"'Processing Record'!A322","v":321},{"$f":"'Processing Record'!C322","v":"0-DNA"},{"$f":"'Processing Record'!Q322","v":0},{"$f":"'Processing Record'!E322","v":{"$error":"#N/A"}},{"$error":"#N/A"},{"$error":"#N/A"},{"$error":"#N/A"},null,"F06",324,{"$error":"#N/A"},{"$error":"#N/A"},0]
[null,null,null,null,null,null,null,null,null,null,null,34,"F05",{"$f":"'Processing Record'!A323","v":322},{"$f":"'Processing Record'!C323","v":"0-DNA"},{"$f":"'Processing Record'!Q323","v":0},{"$f":"'Processing Record'!E323","v":{"$error":"#N/A"}},{"$error":"#N/A"},{"$error":"#N/A"},{"$error":"#N/A"},null,"G01",325,{"$error":"#N/A"},{"$error":"#N/A"},0]
[null,null,null,null,null,null,null,null,null,null,null,35,"E06",{"$f":"'Processing Record'!A324","v":323},{"$f":"'Processing Record'!C324","v":"0-DNA"},{"$f":"'Processing Record'!Q324","v":0},{"$f":"'Processing Record'!E324","v":{"$error":"#N/A"}},{"$error":"#N/A"},{"$error":"#N/A"},{"$error":"#N/A"},null,"G02",327,{"$error":"#N/A"},{"$error":"#N/A"},0]
[null,null,null,null,null,null,null,null,null,null,null,36,"F06",{"$f":"'Processing Record'!A325","v":324},{"$f":"'Processing Record'!C325","v":"0-DNA"},{"$f":"'Processing Record'!Q325","v":0},{"$f":"'Processing Record'!E325","v":{"$error":"#N/A"}},{"$error":"#N/A"},{"$error":"#N/A"},{"$error":"#N/A"},null,"G03",329,{"$error":"#N/A"},{"$error":"#N/A"},0]
[null,null,null,null,null,null,null,null,null,null,null,37,"G01",{"$f":"'Processing Record'!A326","v":325},{"$f":"'Processing Record'!C326","v":"0-DNA"},{"$f":"'Processing Record'!Q326","v":0},{"$f":"'Processing Record'!E326","v":{"$error":"#N/A"}},{"$error":"#N/A"},{"$error":"#N/A"},{"$error":"#N/A"},null,"G04",331,{"$error":"#N/A"},{"$error":"#N/A"},0]
[null,null,null,null,null,null,null,null,null,null,null,38,"H01",{"$f":"'Processing Record'!A327","v":326},{"$f":"'Processing Record'!C327","v":"0-DNA"},{"$f":"'Processing Record'!Q327","v":0},{"$f":"'Processing Record'!E327","v":{"$error":"#N/A"}},{"$error":"#N/A"},{"$error":"#N/A"},{"$error":"#N/A"},null,"G05",333,{"$error":"#N/A"},{"$error":"#N/A"},0]
[null,null,null,null,null,null,null,null,null,null,null,39,"G02",{"$f":"'Processing Record'!A328","v":327},{"$f":"'Processing Record'!C328","v":"0-DNA"},{"$f":"'Processing Record'!Q328","v":0},{"$f":"'Processing Record'!E328","v":{"$error":"#N/A"}},{"$error":"#N/A"},{"$error":"#N/A"},{"$error":"#N/A"},null,"G06",335,{"$error":"#N/A"},{"$error":"#N/A"},0]
[null,null,null,null,null,null,null,null,null,null,null,40,"H02",{"$f":"'Processing Record'!A329","v":328},{"$f":"'Processing Record'!C329","v":"0-DNA"},{"$f":"'Processing Record'!Q329","v":0},{"$f":"'Processing Record'!E329","v":{"$error":"#N/A"}},{"$error":"#N/A"},{"$error":"#N/A"},{"$error":"#N/A"},null,"H01",326,{"$error":"#N/A"},{"$error":"#N/A"},0]
[null,null,null,null,null,null,null,null,null,null,null,41,"G03",{"$f":"'Processing Record'!A330","v":329},{"$f":"'Processing Record'!C330","v":"0-DNA"},{"$f":"'Processing Record'!Q330","v":0},{"$f":"'Processing Record'!E330","v":{"$error":"#N/A"}},{"$error":"#N/A"},{"$error":"#N/A"},{"$error":"#N/A"},null,"H02",328,{"$error":"#N/A"},{"$error":"#N/A"},0]
[null,null,null,null,null,null,null,null,null,null,null,42,"H03",{"$f":"'Processing Record'!A331","v":330},{"$f":"'Processing Record'!C331","v":"0-DNA"},{"$f":"'Processing Record'!Q331","v":0},{"$f":"'Processing Record'!E331","v":{"$error":"#N/A"}},{"$error":"#N/A"},{"$error":"#N/A"},{"$error":"#N/A"},null,"H03",330,{"$error":"#N/A"},{"$error":"#N/A"},0]
[null,null,null,null,null,null,null,null,null,null,null,43,"G04",{"$f":"'Processing Record'!A332","v":331},{"$f":"'Processing Record'!C332","v":"0-DNA"},{"$f":"'Processing Record'!Q332","v":0},{"$f":"'Processing Record'!E332","v":{"$error":"#N/A"}},{"$error":"#N/A"},{"$error":"#N/A"},{"$error":"#N/A"},null,"H04",332,{"$error":"#N/A"},{"$error":"#N/A"},0]
[null,null,null,null,null,null,null,null,null,null,null,44,"H04",{"$f":"'Processing Record'!A333","v":332},{"$f":"'Processing Record'!C333","v":"0-DNA"},{"$f":"'Processing Record'!Q333","v":0},{"$f":"'Processing Record'!E333","v":{"$error":"#N/A"}},{"$error":"#N/A"},{"$error":"#N/A"},{"$error":"#N/A"},null,"H05",334,{"$error":"#N/A"},{"$error":"#N/A"},0]
[null,null,null,null,null,null,null,null,null,null,null,45,"G05",{"$f":"'Processing Record'!A334","v":333},{"$f":"'Processing Record'!C334","v":"0-DNA"},{"$f":"'Processing Record'!Q334","v":0},{"$f":"'Processing Record'!E334","v":{"$error":"#N/A"}},{"$error":"#N/A"},{"$error":"#N/A"},{"$error":"#N/A"},null,"H06",336,{"$error":"#N/A"},{"$error":"#N/A"},0]
[null,null,null,null,null,null,null,null,null,null,null,46,"H05",{"$f":"'Processing Record'!A335","v":334},{"$f":"'Processing Record'!C335","v":"0-DNA"},{"$f":"'Processing Record'!Q335","v":0},{"$f":"'Processing Record'!E335","v":{"$error":"#N/A"}},{"$error":"#N/A"},{"$error":"#N/A"},{"$error":"#N/A"}]
[null,null,null,null,null,null,null,null,null,null,null,47,"G06",{"$f":"'Processing Record'!A336","v":335},{"$f":"'Processing Record'!C336","v":"0-DNA"},{"$f":"'Processing Record'!Q336","v":0},{"$f":"'Processing Record'!E336","v":{"$error":"#N/A"}},{"$error":"#N/A"},{"$error":"#N/A"},{"$error":"#N/A"}]
[null,null,null,null,null,null,null,null,null,null,null,48,"H06",{"$f":"'Processing Record'!A337","v":336},{"$f":"'Processing Record'!C337","v":"0-DNA"},{"$f":"'Processing Record'!Q337","v":0},{"$f":"'Processing Record'!E337","v":{"$error":"#N/A"}},{"$error":"#N/A"},{"$error":"#N/A"},{"$error":"#N/A"}]
[null,null,null,null,null,null,null,null,null,null,null,"M",null,null,"Fermentas FastRuler High Range DNA Ladder","-",null,20]
[]
[]
[]
[null,null,null,null,null,null,null,null,null,null,null,"Gel 8",null,null,null,null,null,null,null,null,null,"Dilution Plate 8"]
[null,null,null,null,null,null,null,null,null,null,null,"Lane","Well","Sample no.","Sample_ID","Reference_ID","DNA conc. (ng/ul)","Amount loaded (ng)","Water(ul)","Sample(ul)",null,"Well","Sample no.","Water(ul)","Sample(ul)","Reference ID"]
[null,null,null,null,null,null,null,null,null,null,null,"M",null,null,"Fermentas FastRuler High Range DNA Ladder","-","-",null,null,null,null,"A01",337,{"$f":"VLOOKUP($V399, $M$398:$T$450, 7, FALSE)","v":{"$error":"#N/A"}},{"$f":"VLOOKUP($V399, $M$398:$T$450, 8, FALSE)","v":{"$error":"#N/A"}},{"$f":"VLOOKUP($V399, $M$398:$T$450, 4, FALSE)","v":0}]
[null,null,null,null,null,null,null,null,null,null,null,1,"A01",{"$f":"'Processing Record'!A338","v":337},{"$f":"'Processing Record'!C338","v":"0-DNA"},{"$f":"'Processing Record'!Q338","v":0},{"$f":"'Processing Record'!E338","v":{"$error":"#N/A"}},{"$f":"(Q400*T400/(S400+T400))*20","v":{"$error":"#N/A"}},{"$f":"ROUND(Q400*T400/50*20-T400,0)","v":{"$error":"#N/A"}},{"$f":"ROUNDUP(50/Q400,0)","v":{"$error":"#N/A"}},null,"A02",339,{"$error":"#N/A"},{"$error":"#N/A"},0]
[null,null,null,null,null,null,null,null,null,null,null,2,"B01",{"$f":"'Processing Record'!A339","v":338},{"$f":"'Processing Record'!C339","v":"0-DNA"},{"$f":"'Processing Record'!Q339","v":0},{"$f":"'Processing Record'!E339","v":{"$error":"#N/A"}},{"$f":"(Q401*T401/(S401+T401))*20","v":{"$error":"#N/A"}},{"$f":"ROUND(Q401*T401/50*20-T401,0)","v":{"$error":"#N/A"}},{"$f":"ROUNDUP(50/Q401,0)","v":{"$error":"#N/A"}},null,"A03",341,{"$error":"#N/A"},{"$error":"#N/A"},0]
[null,null,null,null,null,null,null,null,null,null,null,3,"A02",{"$f":"'Processing Record'!A340","v":339},{"$f":"'Processing Record'!C340","v":"0-DNA"},{"$f":"'Processing Record'!Q340","v":0},{"$f":"'Processing Record'!E340","v":{"$error":"#N/A"}},{"$error":"#N/A"},{"$error":"#N/A"},{"$error":"#N/A"},null,"A04",343,{"$error":"#N/A"},{"$error":"#N/A"},0]
[null,null,null,null,null,null,null,null,null,null,null,4,"B02",{"$f":"'Processing Record'!A341","v":340},{"$f":"'Processing Record'!C341","v":"0-DNA"},{"$f":"'Processing Record'!Q341","v":0},{"$f":"'Processing Record'!E341","v":{"$error":"#N/A"}},{"$error":"#N/A"},{"$error":"#N/A"},{"$error":"#N/A"},null,"A05",345,{"$error":"#N/A"},{"$error":"#N/A"},0]
[null,null,null,null,null,null,null,null,null,null,null,5,"A03",{"$f":"'Processing Record'!A342","v":341},{"$f":"'Processing Record'!C342","v":"0-DNA"},{"$f":"'Processing Record'!Q342","v":0},{"$f":"'Processing Record'!E342","v":{"$error":"#N/A"}},{"$error":"#N/A"},{"$error":"#N/A"},{"$error":"#N/A"},null,"A06",347,{"$error":"#N/A"},{"$error":"#N/A"},0]
[null,null,null,null,null,null,null,null,null,null,null,6,"B03",{"$f":"'Processing Record'!A343","v":342},{"$f":"'Processing Record'!C343","v":"0-DNA"},{"$f":"'Processing Record'!Q343","v":0},{"$f":"'Processing Record'!E343","v":{"$error":"#N/A"}},{"$error":"#N/A"},{"$error":"#N/A"},{"$error":"#N/A"},null,"B01",338,{"$error":"#N/A"},{"$error":"#N/A"},0]
[null,null,null,null,null,null,null,null,null,null,null,7,"A04",{"$f":"'Processing Record'!A344","v":343},{"$f":"'Processing Record'!C344","v":"0-DNA"},{"$f":"'Processing Record'!Q344","v":0},{"$f":"'Processing Record'!E344","v":{"$error":"#N/A"}},{"$error":"#N/A"},{"$error":"#N/A"},{"$error":"#N/A"},null,"B02",340,{"$error":"#N/A"},{"$error":"#N/A"},0]
[null,null,null,null,null,null,null,null,null,null,null,8,"B04",{"$f":"'Processing Record'!A345","v":344},{"$f":"'Processing Record'!C345","v":"0-DNA"},{"$f":"'Processing Record'!Q345","v":0},{"$f":"'Processing Record'!E345","v":{"$error":"#N/A"}},{"$error":"#N/A"},{"$error":"#N/A"},{"$error":"#N/A"},null,"B03",342,{"$error":"#N/A"},{"$error":"#N/A"},0]
[null,null,null,null,null,null,null,null,null,null,null,9,"A05",{"$f":"'Processing Record'!A346","v":345},{"$f":"'Processing Record'!C346","v":"0-DNA"},{"$f":"'Processing Record'!Q346","v":0},{"$f":"'Processing Record'!E346","v":{"$error":"#N/A"}},{"$error":"#N/A"},{"$error":"#N/A"},{"$error":"#N/A"},null,"B04",344,{"$error":"#N/A"},{"$error":"#N/A"},0]
[null,null,null,null,null,null,null,null,null,null,null,10,"B05",{"$f":"'Processing Record'!A347","v":346},{"$f":"'Processing Record'!C347","v":"0-DNA"},{"$f":"'Processing Record'!Q347","v":0},{"$f":"'Processing Record'!E347","v":{"$error":"#N/A"}},{"$error":"#N/A"},{"$error":"#N/A"},{"$error":"#N/A"},null,"B05",346,{"$error":"#N/A"},{"$error":"#N/A"},0]
[null,null,null,null,null,null,null,null,null,null,null,11,"A06",{"$f":"'Processing Record'!A348","v":347},{"$f":"'Processing Record'!C348","v":"0-DNA"},{"$f":"'Processing Record'!Q348","v":0},{"$f":"'Processing Record'!E348","v":{"$error":"#N/A"}},{"$error":"#N/A"},{"$error":"#N/A"},{"$error":"#N/A"},null,"B06",348,{"$error":"#N/A"},{"$error":"#N/A"},0]
[null,null,null,null,null,null,null,null,null,null,null,12,"B06",{"$f":"'Processing Record'!A349","v":348},{"$f":"'Processing Record'!C349","v":"0-DNA"},{"$f":"'Processing Record'!Q349","v":0},{"$f":"'Processing Record'!E349","v":{"$error":"#N/A"}},{"$error":"#N/A"},{"$error":"#N/A"},{"$error":"#N/A"},null,"C01",349,{"$error":"#N/A"},{"$error":"#N/A"},0]
[null,null,null,null,null,null,null,null,null,null,null,13,"C01",{"$f":"'Processing Record'!A350","v":349},{"$f":"'Processing Record'!C350","v":"0-DNA"},{"$f":"'Processing Record'!Q350","v":0},{"$f":"'Processing Record'!E350","v":{"$error":"#N/A"}},{"$error":"#N/A"},{"$error":"#N/A"},{"$error":"#N/A"},null,"C02",351,{"$error":"#N/A"},{"$error":"#N/A"},0]
[null,null,null,null,null,null,null,null,null,null,null,14,"D01",{"$f":"'Processing Record'!A351","v":350},{"$f":"'Processing Record'!C351","v":"0-DNA"},{"$f":"'Processing Record'!Q351","v":0},{"$f":"'Processing Record'!E351","v":{"$error":"#N/A"}},{"$error":"#N/A"},{"$error":"#N/A"},{"$error":"#N/A"},null,"C03",353,{"$error":"#N/A"},{"$error":"#N/A"},0]
[null,null,null,null,null,null,null,null,null,null,null,15,"C02",{"$f":"'Processing Record'!A352","v":351},{"$f":"'Processing Record'!C352","v":"0-DNA"},{"$f":"'Processing Record'!Q352","v":0},{"$f":"'Processing Record'!E352","v":{"$error":"#N/A"}},{"$error":"#N/A"},{"$error":"#N/A"},{"$error":"#N/A"},null,"C04",355,{"$error":"#N/A"},{"$error":"#N/A"},0]
[null,null,null,null,null,null,null,null,null,null,null,16,"D02",{"$f":"'Processing Record'!A353","v":352},{"$f":"'Processing Record'!C353","v":"0-DNA"},{"$f":"'Processing Record'!Q353","v":0},{"$f":"'Processing Record'!E353","v":{"$error":"#N/A"}},{"$error":"#N/A"},{"$error":"#N/A"},{"$error":"#N/A"},null,"C05",357,{"$error":"#N/A"},{"$error":"#N/A"},0]
[null,null,null,null,null,null,null,null,null,null,null,17,"C03",{"$f":"'Processing Record'!A354","v":353},{"$f":"'Processing Record'!C354","v":"0-DNA"},{"$f":"'Processing Record'!Q354","v":0},{"$f":"'Processing Record'!E354","v":{"$error":"#N/A"}},{"$error":"#N/A"},{"$error":"#N/A"},{"$error":"#N/A"},null,"C06",359,{"$error":"#N/A"},{"$error":"#N/A"},0]
[null,null,null,null,null,null,null,null,null,null,null,18,"D03",{"$f":"'Processing Record'!A355","v":354},{"$f":"'Processing Record'!C355","v":"0-DNA"},{"$f":"'Processing Record'!Q355","v":0},{"$f":"'Processing Record'!E355","v":{"$error":"#N/A"}},{"$error":"#N/A"},{"$error":"#N/A"},{"$error":"#N/A"},null,"D01",350,{"$error":"#N/A"},{"$error":"#N/A"},0]
[null,null,null,null,null,null,null,null,null,null,null,19,"C04",{"$f":"'Processing Record'!A356","v":355},{"$f":"'Processing Record'!C356","v":"0-DNA"},{"$f":"'Processing Record'!Q356","v":0},{"$f":"'Processing Record'!E356","v":{"$error":"#N/A"}},{"$error":"#N/A"},{"$error":"#N/A"},{"$error":"#N/A"},null,"D02",352,{"$error":"#N/A"},{"$error":"#N/A"},0]
[null,null,null,null,null,null,null,null,null,null,null,20,"D04",{"$f":"'Processing Record'!A357","v":356},{"$f":"'Processing Record'!C357","v":"0-DNA"},{"$f":"'Processing Record'!Q357","v":0},{"$f":"'Processing Record'!E357","v":{"$error":"#N/A"}},{"$error":"#N/A"},{"$error":"#N/A"},{"$error":"#N/A"},null,"D03",354,{"$error":"#N/A"},{"$error":"#N/A"},0]
[null,null,null,null,null,null,null,null,null,null,null,21,"C05",{"$f":"'Processing Record'!A358","v":357},{"$f":"'Processing Record'!C358","v":"0-DNA"},{"$f":"'Processing Record'!Q358","v":0},{"$f":"'Processing Record'!E358","v":{"$error":"#N/A"}},{"$error":"#N/A"},{"$error":"#N/A"},{"$error":"#N/A"},null,"D04",356,{"$error":"#N/A"},{"$error":"#N/A"},0]
[null,null,null,null,null,null,null,null,null,null,null,22,"D05",{"$f":"'Processing Record'!A359","v":358},{"$f":"'Processing Record'!C359","v":"0-DNA"},{"$f":"'Processing Record'!Q359","v":0},{"$f":"'Processing Record'!E359","v":{"$error":"#N/A"}},{"$error":"#N/A"},{"$error":"#N/A"},{"$error":"#N/A"},null,"D05",358,{"$error":"#N/A"},{"$error":"#N/A"},0]
[null,null,null,null,null,null,null,null,null,null,null,23,"C06",{"$f":"'Processing Record'!A360","v":359},{"$f":"'Processing Record'!C360","v":"0-DNA"},{"$f":"'Processing Record'!Q360","v":0},{"$f":"'Processing Record'!E360","v":{"$error":"#N/A"}},{"$error":"#N/A"},{"$error":"#N/A"},{"$error":"#N/A"},null,"D06",360,{"$error":"#N/A"},{"$error":"#N/A"},0]
[null,null,null,null,null,null,null,null,null,null,null,24,"D06",{"$f":"'Processing Record'!A361","v":360},{"$f":"'Processing Record'!C361","v":"0-DNA"},{"$f":"'Processing Record'!Q361","v":0},{"$f":"'Processing Record'!E361","v":{"$error":"#N/A"}},{"$error":"#N/A"},{"$error":"#N/A"},{"$error":"#N/A"},null,"E01",361,{"$error":"#N/A"},{"$error":"#N/A"},0]
[null,null,null,null,null,null,null,null,null,null,null,"M",null,null,"Fermentas FastRuler High Range DNA Ladder","-",null,20,null,null,null,"E02",363,{"$error":"#N/A"},{"$error":"#N/A"},0]
[null,null,null,null,null,null,null,null,null,null,null,"M",null,null,"Fermentas FastRuler High Range DNA Ladder","-",null,20,null,null,null,"E03",365,{"$error":"#N/A"},{"$error":"#N/A"},0]
[null,null,null,null,null,null,null,null,null,null,null,25,"E01",{"$f":"'Processing Record'!A362","v":361},{"$f":"'Processing Record'!C362","v":"0-DNA"},{"$f":"'Processing Record'!Q362","v":0},{"$f":"'Processing Record'!E362","v":{"$error":"#N/A"}},{"$f":"(Q426*T426/(S426+T426))*20","v":{"$error":"#N/A"}},{"$f":"ROUND(Q426*T426/50*20-T426,0)","v":{"$error":"#N/A"}},{"$f":"ROUNDUP(50/Q426,0)","v":{"$error":"#N/A"}},null,"E04",367,{"$error":"#N/A"},{"$error":"#N/A"},0]
[null,null,null,null,null,null,null,null,null,null,null,26,"F01",{"$f":"'Processing Record'!A363","v":362},{"$f":"'Processing Record'!C363","v":"0-DNA"},{"$f":"'Processing Record'!Q363","v":0},{"$f":"'Processing Record'!E363","v":{"$error":"#N/A"}},{"$f":"(Q427*T427/(S427+T427))*20","v":{"$error":"#N/A"}},{"$f":"ROUND(Q427*T427/50*20-T427,0)","v":{"$error":"#N/A"}},{"$f":"ROUNDUP(50/Q427,0)","v":{"$error":"#N/A"}},null,"E05",369,{"$error":"#N/A"},{"$error":"#N/A"},0]
[null,null,null,null,null,null,null,null,null,null,null,27,"E02",{"$f":"'Processing Record'!A364","v":363},{"$f":"'Processing Record'!C364","v":"0-DNA"},{"$f":"'Processing Record'!Q364","v":0},{"$f":"'Processing Record'!E364","v":{"$error":"#N/A"}},{"$error":"#N/A"},{"$error":"#N/A"},{"$error":"#N/A"},null,"E06",371,{"$error":"#N/A"},{"$error":"#N/A"},0]
[null,null,null,null,null,null,null,null,null,null,null,28,"F02",{"$f":"'Processing Record'!A365","v":364},{"$f":"'Processing Record'!C365","v":"0-DNA"},{"$f":"'Processing Record'!Q365","v":0},{"$f":"'Processing Record'!E365","v":{"$error":"#N/A"}},{"$error":"#N/A"},{"$error":"#N/A"},{"$error":"#N/A"},null,"F01",362,{"$error":"#N/A"},{"$error":"#N/A"},0]
[null,null,null,null,null,null,null,null,null,null,null,29,"E03",{"$f":"'Processing Record'!A366","v":365},{"$f":"'Processing Record'!C366","v":"0-DNA"},{"$f":"'Processing Record'!Q366","v":0},{"$f":"'Processing Record'!E366","v":{"$error":"#N/A"}},{"$error":"#N/A"},{"$error":"#N/A"},{"$error":"#N/A"},null,"F02",364,{"$error":"#N/A"},{"$error":"#N/A"},0]
[null,null,null,null,null,null,null,null,null,null,null,30,"F03",{"$f":"'Processing Record'!A367","v":366},{"$f":"'Processing Record'!C367","v":"0-DNA"},{"$f":"'Processing Record'!Q367","v":0},{"$f":"'Processing Record'!E367","v":{"$error":"#N/A"}},{"$error":"#N/A"},{"$error":"#N/A"},{"$error":"#N/A"},null,"F03",366,{"$error":"#N/A"},{"$error":"#N/A"},0]
[null,null,null,null,null,null,null,null,null,null,null,31,"E04",{"$f":"'Processing Record'!A368","v":367},{"$f":"'Processing Record'!C368","v":"0-DNA"},{"$f":"'Processing Record'!Q368","v":0},{"$f":"'Processing Record'!E368","v":{"$error":"#N/A"}},{"$error":"#N/A"},{"$error":"#N/A"},{"$error":"#N/A"},null,"F04",368,{"$error":"#N/A"},{"$error":"#N/A"},0]
[null,null,null,null,null,null,null,null,null,null,null,32,"F04",{"$f":"'Processing Record'!A369","v":368},{"$f":"'Processing Record'!C369","v":"0-DNA"},{"$f":"'Processing Record'!Q369","v":0},{"$f":"'Processing Record'!E369","v":{"$error":"#N/A"}},{"$error":"#N/A"},{"$error":"#N/A"},{"$error":"#N/A"},null,"F05",370,{"$error":"#N/A"},{"$error":"#N/A"},0]
[null,null,null,null,null,null,null,null,null,null,null,33,"E05",{"$f":"'Processing Record'!A370","v":369},{"$f":"'Processing Record'!C370","v":"0-DNA"},{"$f":"'Processing Record'!Q370","v":0},{"$f":"'Processing Record'!E370","v":{"$error":"#N/A"}},{"$error":"#N/A"},{"$error":"#N/A"},{"$error":"#N/A"},null,"F06",372,{"$error":"#N/A"},{"$error":"#N/A"},0]
[null,null,null,null,null,null,null,null,null,null,null,34,"F05",{"$f":"'Processing Record'!A371","v":370},{"$f":"'Processing Record'!C371","v":"0-DNA"},{"$f":"'Processing Record'!Q371","v":0},{"$f":"'Processing Record'!E371","v":{"$error":"#N/A"}},{"$error":"#N/A"},{"$error":"#N/A"},{"$error":"#N/A"},null,"G01",373,{"$error":"#N/A"},{"$error":"#N/A"},0]
[null,null,null,null,null,null,null,null,null,null,null,35,"E06",{"$f":"'Processing Record'!A372","v":371},{"$f":"'Processing Record'!C372","v":"0-DNA"},{"$f":"'Processing Record'!Q372","v":0},{"$f":"'Processing Record'!E372","v":{"$error":"#N/A"}},{"$error":"#N/A"},{"$error":"#N/A"},{"$error":"#N/A"},null,"G02",375,{"$error":"#N/A"},{"$error":"#N/A"},0]
[null,null,null,null,null,null,null,null,null,null,null,36,"F06",{"$f":"'Processing Record'!A373","v":372},{"$f":"'Processing Record'!C373","v":"0-DNA"},{"$f":"'Processing Record'!Q373","v":0},{"$f":"'Processing Record'!E373","v":{"$error":"#N/A"}},{"$error":"#N/A"},{"$error":"#N/A"},{"$error":"#N/A"},null,"G03",377,{"$error":"#N/A"},{"$error":"#N/A"},0]
[null,null,null,null,null,null,null,null,null,null,null,37,"G01",{"$f":"'Processing Record'!A374","v":373},{"$f":"'Processing Record'!C374","v":"0-DNA"},{"$f":"'Processing Record'!Q374","v":0},{"$f":"'Processing Record'!E374","v":{"$error":"#N/A"}},{"$error":"#N/A"},{"$error":"#N/A"},{"$error":"#N/A"},null,"G04",379,{"$error":"#N/A"},{"$error":"#N/A"},0]
[null,null,null,null,null,null,null,null,null,null,null,38,"H01",{"$f":"'Processing Record'!A375","v":374},{"$f":"'Processing Record'!C375","v":"0-DNA"},{"$f":"'Processing Record'!Q375","v":0},{"$f":"'Processing Record'!E375","v":{"$error":"#N/A"}},{"$error":"#N/A"},{"$error":"#N/A"},{"$error":"#N/A"},null,"G05",381,{"$error":"#N/A"},{"$error":"#N/A"},0]
[null,null,null,null,null,null,null,null,null,null,null,39,"G02",{"$f":"'Processing Record'!A376","v":375},{"$f":"'Processing Record'!C376","v":"0-DNA"},{"$f":"'Processing Record'!Q376","v":0},{"$f":"'Processing Record'!E376","v":{"$error":"#N/A"}},{"$error":"#N/A"},{"$error":"#N/A"},{"$error":"#N/A"},null,"G06",383,{"$error":"#N/A"},{"$error":"#N/A"},0]
[null,null,null,null,null,null,null,null,null,null,null,40,"H02",{"$f":"'Processing Record'!A377","v":376},{"$f":"'Processing Record'!C377","v":"0-DNA"},{"$f":"'Processing Record'!Q377","v":0},{"$f":"'Processing Record'!E377","v":{"$error":"#N/A"}},{"$error":"#N/A"},{"$error":"#N/A"},{"$error":"#N/A"},null,"H01",374,{"$error":"#N/A"},{"$error":"#N/A"},0]
[null,null,null,null,null,null,null,null,null,null,null,41,"G03",{"$f":"'Processing Record'!A378","v":377},{"$f":"'Processing Record'!C378","v":"0-DNA"},{"$f":"'Processing Record'!Q378","v":0},{"$f":"'Processing Record'!E378","v":{"$error":"#N/A"}},{"$error":"#N/A"},{"$error":"#N/A"},{"$error":"#N/A"},null,"H02",376,{"$error":"#N/A"},{"$error":"#N/A"},0]
[null,null,null,null,null,null,null,null,null,null,null,42,"H03",{"$f":"'Processing Record'!A379","v":378},{"$f":"'Processing Record'!C379","v":"0-DNA"},{"$f":"'Processing Record'!Q379","v":0},{"$f":"'Processing Record'!E379","v":{"$error":"#N/A"}},{"$error":"#N/A"},{"$error":"#N/A"},{"$error":"#N/A"},null,"H03",378,{"$error":"#N/A"},{"$error":"#N/A"},0]
[null,null,null,null,null,null,null,null,null,null,null,43,"G04",{"$f":"'Processing Record'!A380","v":379},{"$f":"'Processing Record'!C380","v":"0-DNA"},{"$f":"'Processing Record'!Q380","v":0},{"$f":"'Processing Record'!E380","v":{"$error":"#N/A"}},{"$error":"#N/A"},{"$error":"#N/A"},{"$error":"#N/A"},null,"H04",380,{"$error":"#N/A"},{"$error":"#N/A"},0]
[null,null,null,null,null,null,null,null,null,null,null,44,"H04",{"$f":"'Processing Record'!A381","v":380},{"$f":"'Processing Record'!C381","v":"0-DNA"},{"$f":"'Processing Record'!Q381","v":0},{"$f":"'Processing Record'!E381","v":{"$error":"#N/A"}},{"$error":"#N/A"},{"$error":"#N/A"},{"$error":"#N/A"},null,"H05",382,{"$error":"#N/A"},{"$error":"#N/A"},0]
[null,null,null,null,null,null,null,null,null,null,null,45,"G05",{"$f":"'Processing Record'!A382","v":381},{"$f":"'Processing Record'!C382","v":"0-DNA"},{"$f":"'Processing Record'!Q382","v":0},{"$f":"'Processing Record'!E382","v":{"$error":"#N/A"}},{"$error":"#N/A"},{"$error":"#N/A"},{"$error":"#N/A"},null,"H06",384,{"$error":"#N/A"},{"$error":"#N/A"},0]
[null,null,null,null,null,null,null,null,null,null,null,46,"H05",{"$f":"'Processing Record'!A383","v":382},{"$f":"'Processing Record'!C383","v":"0-DNA"},{"$f":"'Processing Record'!Q383","v":0},{"$f":"'Processing Record'!E383","v":{"$error":"#N/A"}},{"$error":"#N/A"},{"$error":"#N/A"},{"$error":"#N/A"}]
[null,null,null,null,null,null,null,null,null,null,null,47,"G06",{"$f":"'Processing Record'!A384","v":383},{"$f":"'Processing Record'!C384","v":"0-DNA"},{"$f":"'Processing Record'!Q384","v":0},{"$f":"'Processing Record'!E384","v":{"$error":"#N/A"}},{"$error":"#N/A"},{"$error":"#N/A"},{"$error":"#N/A"}]
[null,null,null,null,null,null,null,null,null,null,null,48,"H06",{"$f":"'Processing Record'!A385","v":384},{"$f":"'Processing Record'!C385","v":"0-DNA"},{"$f":"'Processing Record'!Q385","v":0},{"$f":"'Processing Record'!E385","v":{"$error":"#N/A"}},{"$error":"#N/A"},{"$error":"#N/A"},{"$error":"#N/A"}]
[null,null,null,null,null,null,null,null,null,null,null,"M",null,null,"Fermentas FastRuler High Range DNA Ladder","-",null,20]
[]
[]
[]
[null,null,null,null,null,null,null,null,null,null,null,"Gel 9",null,null,null,null,null,null,null,null,null,"Dilution Plate 9"]
[null,null,null,null,null,null,null,null,null,null,null,"Lane","Well","Sample no.","Sample_ID","Reference_ID","DNA conc. (ng/ul)","Amount loaded (ng)","Water(ul)","Sample(ul)",null,"Well","Sample no.","Water(ul)","Sample(ul)","Reference ID"]
[null,null,null,null,null,null,null,null,null,null,null,"M",null,null,"Fermentas FastRuler High Range DNA Ladder","-","-",20,null,null,null,"A01",385,{"$f":"VLOOKUP($V456, $M$455:$T$507, 7, FALSE)","v":{"$error":"#N/A"}},{"$f":"VLOOKUP($V456, $M$455:$T$507, 8, FALSE)","v":{"$error":"#N/A"}},{"$f":"VLOOKUP($V456, $M$455:$T$507, 4, FALSE)","v":0}]
[null,null,null,null,null,null,null,null,null,null,null,1,"A01",{"$f":"'Processing Record'!A386","v":385},{"$f":"'Processing Record'!C386","v":"0-DNA"},{"$f":"'Processing Record'!Q386","v":0},{"$f":"'Processing Record'!E386","v":{"$error":"#N/A"}},{"$f":"(Q457*T457/(S457+T457))*20","v":{"$error":"#N/A"}},{"$f":"ROUND(Q457*T457/50*20-T457,0)","v":{"$error":"#N/A"}},{"$f":"ROUNDUP(50/Q457,0)","v":{"$error":"#N/A"}},null,"A02",387,{"$error":"#N/A"},{"$error":"#N/A"},0]
[null,null,null,null,null,null,null,null,null,null,null,2,"B01",{"$f":"'Processing Record'!A387","v":386},{"$f":"'Processing Record'!C387","v":"0-DNA"},{"$f":"'Processing Record'!Q387","v":0},{"$f":"'Processing Record'!E387","v":{"$error":"#N/A"}},{"$f":"(Q458*T458/(S458+T458))*20","v":{"$error":"#N/A"}},{"$f":"ROUND(Q458*T458/50*20-T458,0)","v":{"$error":"#N/A"}},{"$f":"ROUNDUP(50/Q458,0)","v":{"$error":"#N/A"}},null,"A03",389,{"$error":"#N/A"},{"$error":"#N/A"},0]
[null,null,null,null,null,null,null,null,null,null,null,3,"A02",{"$f":"'Processing Record'!A388","v":387},{"$f":"'Processing Record'!C388","v":"0-DNA"},{"$f":"'Processing Record'!Q388","v":0},{"$f":"'Processing Record'!E388","v":{"$error":"#N/A"}},{"$error":"#N/A"},{"$error":"#N/A"},{"$error":"#N/A"},null,"A04",391,{"$error":"#N/A"},{"$error":"#N/A"},0]
[null,null,null,null,null,null,null,null,null,null,null,4,"B02",{"$f":"'Processing Record'!A389","v":388},{"$f":"'Processing Record'!C389","v":"0-DNA"},{"$f":"'Processing Record'!Q389","v":0},{"$f":"'Processing Record'!E389","v":{"$error":"#N/A"}},{"$error":"#N/A"},{"$error":"#N/A"},{"$error":"#N/A"},null,"A05",393,{"$error":"#N/A"},{"$error":"#N/A"},0]
[null,null,null,null,null,null,null,null,null,null,null,5,"A03",{"$f":"'Processing Record'!A390","v":389},{"$f":"'Processing Record'!C390","v":"0-DNA"},{"$f":"'Processing Record'!Q390","v":0},{"$f":"'Processing Record'!E390","v":{"$error":"#N/A"}},{"$error":"#N/A"},{"$error":"#N/A"},{"$error":"#N/A"},null,"A06",395,{"$error":"#N/A"},{"$error":"#N/A"},0]
[null,null,null,null,null,null,null,null,null,null,null,6,"B03",{"$f":"'Processing Record'!A391","v":390},{"$f":"'Processing Record'!C391","v":"0-DNA"},{"$f":"'Processing Record'!Q391","v":0},{"$f":"'Processing Record'!E391","v":{"$error":"#N/A"}},{"$error":"#N/A"},{"$error":"#N/A"},{"$error":"#N/A"},null,"B01",386,{"$error":"#N/A"},{"$error":"#N/A"},0]
[null,null,null,null,null,null,null,null,null,null,null,7,"A04",{"$f":"'Processing Record'!A392","v":391},{"$f":"'Processing Record'!C392","v":"0-DNA"},{"$f":"'Processing Record'!Q392","v":0},{"$f":"'Processing Record'!E392","v":{"$error":"#N/A"}},{"$error":"#N/A"},{"$error":"#N/A"},{"$error":"#N/A"},null,"B02",388,{"$error":"#N/A"},{"$error":"#N/A"},0]
[null,null,null,null,null,null,null,null,null,null,null,8,"B04",{"$f":"'Processing Record'!A393","v":392},{"$f":"'Processing Record'!C393","v":"0-DNA"},{"$f":"'Processing Record'!Q393","v":0},{"$f":"'Processing Record'!E393","v":{"$error":"#N/A"}},{"$error":"#N/A"},{"$error":"#N/A"},{"$error":"#N/A"},null,"B03",390,{"$error":"#N/A"},{"$error":"#N/A"},0]
[null,null,null,null,null,null,null,null,null,null,null,9,"A05",{"$f":"'Processing Record'!A394","v":393},{"$f":"'Processing Record'!C394","v":"0-DNA"},{"$f":"'Processing Record'!Q394","v":0},{"$f":"'Processing Record'!E394","v":{"$error":"#N/A"}},{"$error":"#N/A"},{"$error":"#N/A"},{"$error":"#N/A"},null,"B04",392,{"$error":"#N/A"},{"$error":"#N/A"},0]
[null,null,null,null,null,null,null,null,null,null,null,10,"B05",{"$f":"'Processing Record'!A395","v":394},{"$f":"'Processing Record'!C395","v":"0-DNA"},{"$f":"'Processing Record'!Q395","v":0},{"$f":"'Processing Record'!E395","v":{"$error":"#N/A"}},{"$error":"#N/A"},{"$error":"#N/A"},{"$error":"#N/A"},null,"B05",394,{"$error":"#N/A"},{"$error":"#N/A"},0]
[null,null,null,null,null,null,null,null,null,null,null,11,"A06",{"$f":"'Processing Record'!A396","v":395},{"$f":"'Processing Record'!C396","v":"0-DNA"},{"$f":"'Processing Record'!Q396","v":0},{"$f":"'Processing Record'!E396","v":{"$error":"#N/A"}},{"$error":"#N/A"},{"$error":"#N/A"},{"$error":"#N/A"},null,"B06",396,{"$error":"#N/A"},{"$error":"#N/A"},0]
[null,null,null,null,null,null,null,null,null,null,null,12,"B06",{"$f":"'Processing Record'!A397","v":396},{"$f":"'Processing Record'!C397","v":"0-DNA"},{"$f":"'Processing Record'!Q397","v":0},{"$f":"'Processing Record'!E397","v":{"$error":"#N/A"}},{"$error":"#N/A"},{"$error":"#N/A"},{"$error":"#N/A"},null,"C01",397,{"$error":"#N/A"},{"$error":"#N/A"},0]
[null,null,null,null,null,null,null,null,null,null,null,13,"C01",{"$f":"'Processing Record'!A398","v":397},{"$f":"'Processing Record'!C398","v":"0-DNA"},{"$f":"'Processing Record'!Q398","v":0},{"$f":"'Processing Record'!E398","v":{"$error":"#N/A"}},{"$error":"#N/A"},{"$error":"#N/A"},{"$error":"#N/A"},null,"C02",399,{"$error":"#N/A"},{"$error":"#N/A"},0]
[null,null,null,null,null,null,null,null,null,null,null,14,"D01",{"$f":"'Processing Record'!A399","v":398},{"$f":"'Processing Record'!C399","v":"0-DNA"},{"$f":"'Processing Record'!Q399","v":0},{"$f":"'Processing Record'!E399","v":{"$error":"#N/A"}},{"$error":"#N/A"},{"$error":"#N/A"},{"$error":"#N/A"},null,"C03",401,{"$error":"#N/A"},{"$error":"#N/A"},0]
[null,null,null,null,null,null,null,null,null,null,null,15,"C02",{"$f":"'Processing Record'!A400","v":399},{"$f":"'Processing Record'!C400","v":"0-DNA"},{"$f":"'Processing Record'!Q400","v":0},{"$f":"'Processing Record'!E400","v":{"$error":"#N/A"}},{"$error":"#N/A"},{"$error":"#N/A"},{"$error":"#N/A"},null,"C04",403,{"$error":"#N/A"},{"$error":"#N/A"},0]
[null,null,null,null,null,null,null,null,null,null,null,16,"D02",{"$f":"'Processing Record'!A401","v":400},{"$f":"'Processing Record'!C401","v":"0-DNA"},{"$f":"'Processing Record'!Q401","v":0},{"$f":"'Processing Record'!E401","v":{"$error":"#N/A"}},{"$error":"#N/A"},{"$error":"#N/A"},{"$error":"#N/A"},null,"C05",405,{"$error":"#N/A"},{"$error":"#N/A"},0]
[null,null,null,null,null,null,null,null,null,null,null,17,"C03",{"$f":"'Processing Record'!A402","v":401},{"$f":"'Processing Record'!C402","v":"0-DNA"},{"$f":"'Processing Record'!Q402","v":0},{"$f":"'Processing Record'!E402","v":{"$error":"#N/A"}},{"$error":"#N/A"},{"$error":"#N/A"},{"$error":"#N/A"},null,"C06",407,{"$error":"#N/A"},{"$error":"#N/A"},0]
[null,null,null,null,null,null,null,null,null,null,null,18,"D03",{"$f":"'Processing Record'!A403","v":402},{"$f":"'Processing Record'!C403","v":"0-DNA"},{"$f":"'Processing Record'!Q403","v":0},{"$f":"'Processing Record'!E403","v":{"$error":"#N/A"}},{"$error":"#N/A"},{"$error":"#N/A"},{"$error":"#N/A"},null,"D01",398,{"$error":"#N/A"},{"$error":"#N/A"},0]
[null,null,null,null,null,null,null,null,null,null,null,19,"C04",{"$f":"'Processing Record'!A404","v":403},{"$f":"'Processing Record'!C404","v":"0-DNA"},{"$f":"'Processing Record'!Q404","v":0},{"$f":"'Processing Record'!E404","v":{"$error":"#N/A"}},{"$error":"#N/A"},{"$error":"#N/A"},{"$error":"#N/A"},null,"D02",400,{"$error":"#N/A"},{"$error":"#N/A"},0]
[null,null,null,null,null,null,null,null,null,null,null,20,"D04",{"$f":"'Processing Record'!A405","v":404},{"$f":"'Processing Record'!C405","v":"0-DNA"},{"$f":"'Processing Record'!Q405","v":0},{"$f":"'Processing Record'!E405","v":{"$error":"#N/A"}},{"$error":"#N/A"},{"$error":"#N/A"},{"$error":"#N/A"},null,"D03",402,{"$error":"#N/A"},{"$error":"#N/A"},0]
[null,null,null,null,null,null,null,null,null,null,null,21,"C05",{"$f":"'Processing Record'!A406","v":405},{"$f":"'Processing Record'!C406","v":"0-DNA"},{"$f":"'Processing Record'!Q406","v":0},{"$f":"'Processing Record'!E406","v":{"$error":"#N/A"}},{"$error":"#N/A"},{"$error":"#N/A"},{"$error":"#N/A"},null,"D04",404,{"$error":"#N/A"},{"$error":"#N/A"},0]
[null,null,null,null,null,null,null,null,null,null,null,22,"D05",{"$f":"'Processing Record'!A407","v":406},{"$f":"'Processing Record'!C407","v":"0-DNA"},{"$f":"'Processing Record'!Q407","v":0},{"$f":"'Processing Record'!E407","v":{"$error":"#N/A"}},{"$error":"#N/A"},{"$error":"#N/A"},{"$error":"#N/A"},null,"D05",406,{"$error":"#N/A"},{"$error":"#N/A"},0]
[null,null,null,null,null,null,null,null,null,null,null,23,"C06",{"$f":"'Processing Record'!A408","v":407},{"$f":"'Processing Record'!C408","v":"0-DNA"},{"$f":"'Processing Record'!Q408","v":0},{"$f":"'Processing Record'!E408","v":{"$error":"#N/A"}},{"$error":"#N/A"},{"$error":"#N/A"},{"$error":"#N/A"},null,"D06",408,{"$error":"#N/A"},{"$error":"#N/A"},0]
[null,null,null,null,null,null,null,null,null,null,null,24,"D06",{"$f":"'Processing Record'!A409","v":408},{"$f":"'Processing Record'!C409","v":"0-DNA"},{"$f":"'Processing Record'!Q409","v":0},{"$f":"'Processing Record'!E409","v":{"$error":"#N/A"}},{"$error":"#N/A"},{"$error":"#N/A"},{"$error":"#N/A"},null,"E01",409,{"$error":"#N/A"},{"$error":"#N/A"},0]
[null,null,null,null,null,null,null,null,null,null,null,"M",null,null,"Fermentas FastRuler High Range DNA Ladder","-",null,20,null,null,null,"E02",411,{"$error":"#N/A"},{"$error":"#N/A"},0]
[null,null,null,null,null,null,null,null,null,null,null,"M",null,null,"Fermentas FastRuler High Range DNA Ladder","-",null,20,null,null,null,"E03",413,{"$error":"#N/A"},{"$error":"#N/A"},0]
[null,null,null,null,null,null,null,null,null,null,null,25,"E01",{"$f":"'Processing Record'!A410","v":409},{"$f":"'Processing Record'!C410","v":"0-DNA"},{"$f":"'Processing Record'!Q410","v":0},{"$f":"'Processing Record'!E410","v":{"$error":"#N/A"}},{"$f":"(Q483*T483/(S483+T483))*20","v":{"$error":"#N/A"}},{"$f":"ROUND(Q483*T483/50*20-T483,0)","v":{"$error":"#N/A"}},{"$f":"ROUNDUP(50/Q483,0)","v":{"$error":"#N/A"}},null,"E04",415,{"$error":"#N/A"},{"$error":"#N/A"},0]
[null,null,null,null,null,null,null,null,null,null,null,26,"F01",{"$f":"'Processing Record'!A411","v":410},{"$f":"'Processing Record'!C411","v":"0-DNA"},{"$f":"'Processing Record'!Q411","v":0},{"$f":"'Processing Record'!E411","v":{"$error":"#N/A"}},{"$f":"(Q484*T484/(S484+T484))*20","v":{"$error":"#N/A"}},{"$f":"ROUND(Q484*T484/50*20-T484,0)","v":{"$error":"#N/A"}},{"$f":"ROUNDUP(50/Q484,0)","v":{"$error":"#N/A"}},null,"E05",417,{"$error":"#N/A"},{"$error":"#N/A"},0]
[null,null,null,null,null,null,null,null,null,null,null,27,"E02",{"$f":"'Processing Record'!A412","v":411},{"$f":"'Processing Record'!C412","v":"0-DNA"},{"$f":"'Processing Record'!Q412","v":0},{"$f":"'Processing Record'!E412","v":{"$error":"#N/A"}},{"$error":"#N/A"},{"$error":"#N/A"},{"$error":"#N/A"},null,"E06",419,{"$error":"#N/A"},{"$error":"#N/A"},0]
[null,null,null,null,null,null,null,null,null,null,null,28,"F02",{"$f":"'Processing Record'!A413","v":412},{"$f":"'Processing Record'!C413","v":"0-DNA"},{"$f":"'Processing Record'!Q413","v":0},{"$f":"'Processing Record'!E413","v":{"$error":"#N/A"}},{"$error":"#N/A"},{"$error":"#N/A"},{"$error":"#N/A"},null,"F01",410,{"$error":"#N/A"},{"$error":"#N/A"},0]
[null,null,null,null,null,null,null,null,null,null,null,29,"E03",{"$f":"'Processing Record'!A414","v":413},{"$f":"'Processing Record'!C414","v":"0-DNA"},{"$f":"'Processing Record'!Q414","v":0},{"$f":"'Processing Record'!E414","v":{"$error":"#N/A"}},{"$error":"#N/A"},{"$error":"#N/A"},{"$error":"#N/A"},null,"F02",412,{"$error":"#N/A"},{"$error":"#N/A"},0]
[null,null,null,null,null,null,null,null,null,null,null,30,"F03",{"$f":"'Processing Record'!A415","v":414},{"$f":"'Processing Record'!C415","v":"0-DNA"},{"$f":"'Processing Record'!Q415","v":0},{"$f":"'Processing Record'!E415","v":{"$error":"#N/A"}},{"$error":"#N/A"},{"$error":"#N/A"},{"$error":"#N/A"},null,"F03",414,{"$error":"#N/A"},{"$error":"#N/A"},0]
[null,null,null,null,null,null,null,null,null,null,null,31,"E04",{"$f":"'Processing Record'!A416","v":415},{"$f":"'Processing Record'!C416","v":"0-DNA"},{"$f":"'Processing Record'!Q416","v":0},{"$f":"'Processing Record'!E416","v":{"$error":"#N/A"}},{"$error":"#N/A"},{"$error":"#N/A"},{"$error":"#N/A"},null,"F04",416,{"$error":"#N/A"},{"$error":"#N/A"},0]
[null,null,null,null,null,null,null,null,null,null,null,32,"F04",{"$f":"'Processing Record'!A417","v":416},{"$f":"'Processing Record'!C417","v":"0-DNA"},{"$f":"'Processing Record'!Q417","v":0},{"$f":"'Processing Record'!E417","v":{"$error":"#N/A"}},{"$error":"#N/A"},{"$error":"#N/A"},{"$error":"#N/A"},null,"F05",418,{"$error":"#N/A"},{"$error":"#N/A"},0]
[null,null,null,null,null,null,null,null,null,null,null,33,"E05",{"$f":"'Processing Record'!A418","v":417},{"$f":"'Processing Record'!C418","v":"0-DNA"},{"$f":"'Processing Record'!Q418","v":0},{"$f":"'Processing Record'!E418","v":{"$error":"#N/A"}},{"$error":"#N/A"},{"$error":"#N/A"},{"$error":"#N/A"},null,"F06",420,{"$error":"#N/A"},{"$error":"#N/A"},0]
[null,null,null,null,null,null,null,null,null,null,null,34,"F05",{"$f":"'Processing Record'!A419","v":418},{"$f":"'Processing Record'!C419","v":"0-DNA"},{"$f":"'Processing Record'!Q419","v":0},{"$f":"'Processing Record'!E419","v":{"$error":"#N/A"}},{"$error":"#N/A"},{"$error":"#N/A"},{"$error":"#N/A"},null,"G01",421,{"$error":"#N/A"},{"$error":"#N/A"},0]
[null,null,null,null,null,null,null,null,null,null,null,35,"E06",{"$f":"'Processing Record'!A420","v":419},{"$f":"'Processing Record'!C420","v":"0-DNA"},{"$f":"'Processing Record'!Q420","v":0},{"$f":"'Processing Record'!E420","v":{"$error":"#N/A"}},{"$error":"#N/A"},{"$error":"#N/A"},{"$error":"#N/A"},null,"G02",423,{"$error":"#N/A"},{"$error":"#N/A"},0]
[null,null,null,null,null,null,null,null,null,null,null,36,"F06",{"$f":"'Processing Record'!A421","v":420},{"$f":"'Processing Record'!C421","v":"0-DNA"},{"$f":"'Processing Record'!Q421","v":0},{"$f":"'Processing Record'!E421","v":{"$error":"#N/A"}},{"$error":"#N/A"},{"$error":"#N/A"},{"$error":"#N/A"},null,"G03",425,{"$error":"#N/A"},{"$error":"#N/A"},0]
[null,null,null,null,null,null,null,null,null,null,null,37,"G01",{"$f":"'Processing Record'!A422","v":421},{"$f":"'Processing Record'!C422","v":"0-DNA"},{"$f":"'Processing Record'!Q422","v":0},{"$f":"'Processing Record'!E422","v":{"$error":"#N/A"}},{"$error":"#N/A"},{"$error":"#N/A"},{"$error":"#N/A"},null,"G04",427,{"$error":"#N/A"},{"$error":"#N/A"},0]
[null,null,null,null,null,null,null,null,null,null,null,38,"H01",{"$f":"'Processing Record'!A423","v":422},{"$f":"'Processing Record'!C423","v":"0-DNA"},{"$f":"'Processing Record'!Q423","v":0},{"$f":"'Processing Record'!E423","v":{"$error":"#N/A"}},{"$error":"#N/A"},{"$error":"#N/A"},{"$error":"#N/A"},null,"G05",429,{"$error":"#N/A"},{"$error":"#N/A"},0]
[null,null,null,null,null,null,null,null,null,null,null,39,"G02",{"$f":"'Processing Record'!A424","v":423},{"$f":"'Processing Record'!C424","v":"0-DNA"},{"$f":"'Processing Record'!Q424","v":0},{"$f":"'Processing Record'!E424","v":{"$error":"#N/A"}},{"$error":"#N/A"},{"$error":"#N/A"},{"$error":"#N/A"},null,"G06",431,{"$error":"#N/A"},{"$error":"#N/A"},0]
[null,null,null,null,null,null,null,null,null,null,null,40,"H02",{"$f":"'Processing Record'!A425","v":424},{"$f":"'Processing Record'!C425","v":"0-DNA"},{"$f":"'Processing Record'!Q425","v":0},{"$f":"'Processing Record'!E425","v":{"$error":"#N/A"}},{"$error":"#N/A"},{"$error":"#N/A"},{"$error":"#N/A"},null,"H01",422,{"$error":"#N/A"},{"$error":"#N/A"},0]
[null,null,null,null,null,null,null,null,null,null,null,41,"G03",{"$f":"'Processing Record'!A426","v":425},{"$f":"'Processing Record'!C426","v":"0-DNA"},{"$f":"'Processing Record'!Q426","v":0},{"$f":"'Processing Record'!E426","v":{"$error":"#N/A"}},{"$error":"#N/A"},{"$error":"#N/A"},{"$error":"#N/A"},null,"H02",424,{"$error":"#N/A"},{"$error":"#N/A"},0]
[null,null,null,null,null,null,null,null,null,null,null,42,"H03",{"$f":"'Processing Record'!A427","v":426},{"$f":"'Processing Record'!C427","v":"0-DNA"},{"$f":"'Processing Record'!Q427","v":0},{"$f":"'Processing Record'!E427","v":{"$error":"#N/A"}},{"$error":"#N/A"},{"$error":"#N/A"},{"$error":"#N/A"},null,"H03",426,{"$error":"#N/A"},{"$error":"#N/A"},0]
[null,null,null,null,null,null,null,null,null,null,null,43,"G04",{"$f":"'Processing Record'!A428","v":427},{"$f":"'Processing Record'!C428","v":"0-DNA"},{"$f":"'Processing Record'!Q428","v":0},{"$f":"'Processing Record'!E428","v":{"$error":"#N/A"}},{"$error":"#N/A"},{"$error":"#N/A"},{"$error":"#N/A"},null,"H04",428,{"$error":"#N/A"},{"$error":"#N/A"},0]
[null,null,null,null,null,null,null,null,null,null,null,44,"H04",{"$f":"'Processing Record'!A429","v":428},{"$f":"'Processing Record'!C429","v":"0-DNA"},{"$f":"'Processing Record'!Q429","v":0},{"$f":"'Processing Record'!E429","v":{"$error":"#N/A"}},{"$error":"#N/A"},{"$error":"#N/A"},{"$error":"#N/A"},null,"H05",430,{"$error":"#N/A"},{"$error":"#N/A"},0]
[null,null,null,null,null,null,null,null,null,null,null,45,"G05",{"$f":"'Processing Record'!A430","v":429},{"$f":"'Processing Record'!C430","v":"0-DNA"},{"$f":"'Processing Record'!Q430","v":0},{"$f":"'Processing Record'!E430","v":{"$error":"#N/A"}},{"$error":"#N/A"},{"$error":"#N/A"},{"$error":"#N/A"},null,"H06",432,{"$error":"#N/A"},{"$error":"#N/A"},0]
[null,null,null,null,null,null,null,null,null,null,null,46,"H05",{"$f":"'Processing Record'!A431","v":430},{"$f":"'Processing Record'!C431","v":"0-DNA"},{"$f":"'Processing Record'!Q431","v":0},{"$f":"'Processing Record'!E431","v":{"$error":"#N/A"}},{"$error":"#N/A"},{"$error":"#N/A"},{"$error":"#N/A"}]
[null,null,null,null,null,null,null,null,null,null,null,47,"G06",{"$f":"'Processing Record'!A432","v":431},{"$f":"'Processing Record'!C432","v":"0-DNA"},{"$f":"'Processing Record'!Q432","v":0},{"$f":"'Processing Record'!E432","v":{"$error":"#N/A"}},{"$error":"#N/A"},{"$error":"#N/A"},{"$error":"#N/A"}]
[null,null,null,null,null,null,null,null,null,null,null,48,"H06",{"$f":"'Processing Record'!A433","v":432},{"$f":"'Processing Record'!C433","v":"0-DNA"},{"$f":"'Processing Record'!Q433","v":0},{"$f":"'Processing Record'!E433","v":{"$error":"#N/A"}},{"$error":"#N/A"},{"$error":"#N/A"},{"$error":"#N/A"}]
[null,null,null,null,null,null,null,null,null,null,null,"M",null,null,"Fermentas FastRuler High Range DNA Ladder","-",null,20]
[]
[]
[]
[null,null,null,null,null,null,null,null,null,null,null,"Gel 10",null,null,null,null,null,null,null,null,null,"Dilution Plate 10"]
[null,null,null,null,null,null,null,null,null,null,null,"Lane","Well","Sample no.","Sample_ID","Reference_ID","DNA conc. (ng/ul)","Amount loaded (ng)","Water(ul)","Sample(ul)",null,"Well","Sample no.","Water(ul)","Sample(ul)","Reference ID"]
[null,null,null,null,null,null,null,null,null,null,null,"M",null,null,"Fermentas FastRuler High Range DNA Ladder","-","-",20,null,null,null,"A01",433,{"$f":"VLOOKUP($V513, $M$512:$T$564, 7, FALSE)","v":{"$error":"#N/A"}},{"$f":"VLOOKUP($V513, $M$512:$T$564, 8, FALSE)","v":{"$error":"#N/A"}},{"$f":"VLOOKUP($V513, $M$512:$T$564, 4, FALSE)","v":0}]
[null,null,null,null,null,null,null,null,null,null,null,1,"A01",{"$f":"'Processing Record'!A434","v":433},{"$f":"'Processing Record'!C434","v":"0-DNA"},{"$f":"'Processing Record'!Q434","v":0},{"$f":"'Processing Record'!E434","v":{"$error":"#N/A"}},{"$f":"(Q514*T514/(S514+T514))*20","v":{"$error":"#N/A"}},{"$f":"ROUND(Q514*T514/50*20-T514,0)","v":{"$error":"#N/A"}},{"$f":"ROUNDUP(50/Q514,0)","v":{"$error":"#N/A"}},null,"A02",435,{"$error":"#N/A"},{"$error":"#N/A"},0]
[null,null,null,null,null,null,null,null,null,null,null,2,"B01",{"$f":"'Processing Record'!A435","v":434},{"$f":"'Processing Record'!C435","v":"0-DNA"},{"$f":"'Processing Record'!Q435","v":0},{"$f":"'Processing Record'!E435","v":{"$error":"#N/A"}},{"$f":"(Q515*T515/(S515+T515))*20","v":{"$error":"#N/A"}},{"$f":"ROUND(Q515*T515/50*20-T515,0)","v":{"$error":"#N/A"}},{"$f":"ROUNDUP(50/Q515,0)","v":{"$error":"#N/A"}},null,"A03",437,{"$error":"#N/A"},{"$error":"#N/A"},0]
[null,null,null,null,null,null,null,null,null,null,null,3,"A02",{"$f":"'Processing Record'!A436","v":435},{"$f":"'Processing Record'!C436","v":"0-DNA"},{"$f":"'Processing Record'!Q436","v":0},{"$f":"'Processing Record'!E436","v":{"$error":"#N/A"}},{"$error":"#N/A"},{"$error":"#N/A"},{"$error":"#N/A"},null,"A04",439,{"$error":"#N/A"},{"$error":"#N/A"},0]
[null,null,null,null,null,null,null,null,null,null,null,4,"B02",{"$f":"'Processing Record'!A437","v":436},{"$f":"'Processing Record'!C437","v":"0-DNA"},{"$f":"'Processing Record'!Q437","v":0},{"$f":"'Processing Record'!E437","v":{"$error":"#N/A"}},{"$error":"#N/A"},{"$error":"#N/A"},{"$error":"#N/A"},null,"A05",441,{"$error":"#N/A"},{"$error":"#N/A"},0]
[null,null,null,null,null,null,null,null,null,null,null,5,"A03",{"$f":"'Processing Record'!A438","v":437},{"$f":"'Processing Record'!C438","v":"0-DNA"},{"$f":"'Processing Record'!Q438","v":0},{"$f":"'Processing Record'!E438","v":{"$error":"#N/A"}},{"$error":"#N/A"},{"$error":"#N/A"},{"$error":"#N/A"},null,"A06",443,{"$error":"#N/A"},{"$error":"#N/A"},0]
[null,null,null,null,null,null,null,null,null,null,null,6,"B03",{"$f":"'Processing Record'!A439","v":438},{"$f":"'Processing Record'!C439","v":"0-DNA"},{"$f":"'Processing Record'!Q439","v":0},{"$f":"'Processing Record'!E439","v":{"$error":"#N/A"}},{"$error":"#N/A"},{"$error":"#N/A"},{"$error":"#N/A"},null,"B01",434,{"$error":"#N/A"},{"$error":"#N/A"},0]
[null,null,null,null,null,null,null,null,null,null,null,7,"A04",{"$f":"'Processing Record'!A440","v":439},{"$f":"'Processing Record'!C440","v":"0-DNA"},{"$f":"'Processing Record'!Q440","v":0},{"$f":"'Processing Record'!E440","v":{"$error":"#N/A"}},{"$error":"#N/A"},{"$error":"#N/A"},{"$error":"#N/A"},null,"B02",436,{"$error":"#N/A"},{"$error":"#N/A"},0]
[null,null,null,null,null,null,null,null,null,null,null,8,"B04",{"$f":"'Processing Record'!A441","v":440},{"$f":"'Processing Record'!C441","v":"0-DNA"},{"$f":"'Processing Record'!Q441","v":0},{"$f":"'Processing Record'!E441","v":{"$error":"#N/A"}},{"$error":"#N/A"},{"$error":"#N/A"},{"$error":"#N/A"},null,"B03",438,{"$error":"#N/A"},{"$error":"#N/A"},0]
[null,null,null,null,null,null,null,null,null,null,null,9,"A05",{"$f":"'Processing Record'!A442","v":441},{"$f":"'Processing Record'!C442","v":"0-DNA"},{"$f":"'Processing Record'!Q442","v":0},{"$f":"'Processing Record'!E442","v":{"$error":"#N/A"}},{"$error":"#N/A"},{"$error":"#N/A"},{"$error":"#N/A"},null,"B04",440,{"$error":"#N/A"},{"$error":"#N/A"},0]
[null,null,null,null,null,null,null,null,null,null,null,10,"B05",{"$f":"'Processing Record'!A443","v":442},{"$f":"'Processing Record'!C443","v":"0-DNA"},{"$f":"'Processing Record'!Q443","v":0},{"$f":"'Processing Record'!E443","v":{"$error":"#N/A"}},{"$error":"#N/A"},{"$error":"#N/A"},{"$error":"#N/A"},null,"B05",442,{"$error":"#N/A"},{"$error":"#N/A"},0]
[null,null,null,null,null,null,null,null,null,null,null,11,"A06",{"$f":"'Processing Record'!A444","v":443},{"$f":"'Processing Record'!C444","v":"0-DNA"},{"$f":"'Processing Record'!Q444","v":0},{"$f":"'Processing Record'!E444","v":{"$error":"#N/A"}},{"$error":"#N/A"},{"$error":"#N/A"},{"$error":"#N/A"},null,"B06",444,{"$error":"#N/A"},{"$error":"#N/A"},0]
[null,null,null,null,null,null,null,null,null,null,null,12,"B06",{"$f":"'Processing Record'!A445","v":444},{"$f":"'Processing Record'!C445","v":"0-DNA"},{"$f":"'Processing Record'!Q445","v":0},{"$f":"'Processing Record'!E445","v":{"$error":"#N/A"}},{"$error":"#N/A"},{"$error":"#N/A"},{"$error":"#N/A"},null,"C01",445,{"$error":"#N/A"},{"$error":"#N/A"},0]
[null,null,null,null,null,null,null,null,null,null,null,13,"C01",{"$f":"'Processing Record'!A446","v":445},{"$f":"'Processing Record'!C446","v":"0-DNA"},{"$f":"'Processing Record'!Q446","v":0},{"$f":"'Processing Record'!E446","v":{"$error":"#N/A"}},{"$error":"#N/A"},{"$error":"#N/A"},{"$error":"#N/A"},null,"C02",447,{"$error":"#N/A"},{"$error":"#N/A"},0]
[null,null,null,null,null,null,null,null,null,null,null,14,"D01",{"$f":"'Processing Record'!A447","v":446},{"$f":"'Processing Record'!C447","v":"0-DNA"},{"$f":"'Processing Record'!Q447","v":0},{"$f":"'Processing Record'!E447","v":{"$error":"#N/A"}},{"$error":"#N/A"},{"$error":"#N/A"},{"$error":"#N/A"},null,"C03",449,{"$error":"#N/A"},{"$error":"#N/A"},0]
[null,null,null,null,null,null,null,null,null,null,null,15,"C02",{"$f":"'Processing Record'!A448","v":447},{"$f":"'Processing Record'!C448","v":"0-DNA"},{"$f":"'Processing Record'!Q448","v":0},{"$f":"'Processing Record'!E448","v":{"$error":"#N/A"}},{"$error":"#N/A"},{"$error":"#N/A"},{"$error":"#N/A"},null,"C04",451,{"$error":"#N/A"},{"$error":"#N/A"},0]
[null,null,null,null,null,null,null,null,null,null,null,16,"D02",{"$f":"'Processing Record'!A449","v":448},{"$f":"'Processing Record'!C449","v":"0-DNA"},{"$f":"'Processing Record'!Q449","v":0},{"$f":"'Processing Record'!E449","v":{"$error":"#N/A"}},{"$error":"#N/A"},{"$error":"#N/A"},{"$error":"#N/A"},null,"C05",453,{"$error":"#N/A"},{"$error":"#N/A"},0]
[null,null,null,null,null,null,null,null,null,null,null,17,"C03",{"$f":"'Processing Record'!A450","v":449},{"$f":"'Processing Record'!C450","v":"0-DNA"},{"$f":"'Processing Record'!Q450","v":0},{"$f":"'Processing Record'!E450","v":{"$error":"#N/A"}},{"$error":"#N/A"},{"$error":"#N/A"},{"$error":"#N/A"},null,"C06",455,{"$error":"#N/A"},{"$error":"#N/A"},0]
[null,null,null,null,null,null,null,null,null,null,null,18,"D03",{"$f":"'Processing Record'!A451","v":450},{"$f":"'Processing Record'!C451","v":"0-DNA"},{"$f":"'Processing Record'!Q451","v":0},{"$f":"'Processing Record'!E451","v":{"$error":"#N/A"}},{"$error":"#N/A"},{"$error":"#N/A"},{"$error":"#N/A"},null,"D01",446,{"$error":"#N/A"},{"$error":"#N/A"},0]
[null,null,null,null,null,null,null,null,null,null,null,19,"C04",{"$f":"'Processing Record'!A452","v":451},{"$f":"'Processing Record'!C452","v":"0-DNA"},{"$f":"'Processing Record'!Q452","v":0},{"$f":"'Processing Record'!E452","v":{"$error":"#N/A"}},{"$error":"#N/A"},{"$error":"#N/A"},{"$error":"#N/A"},null,"D02",448,{"$error":"#N/A"},{"$error":"#N/A"},0]
[null,null,null,null,null,null,null,null,null,null,null,20,"D04",{"$f":"'Processing Record'!A453","v":452},{"$f":"'Processing Record'!C453","v":"0-DNA"},{"$f":"'Processing Record'!Q453","v":0},{"$f":"'Processing Record'!E453","v":{"$error":"#N/A"}},{"$error":"#N/A"},{"$error":"#N/A"},{"$error":"#N/A"},null,"D03",450,{"$error":"#N/A"},{"$error":"#N/A"},0]
[null,null,null,null,null,null,null,null,null,null,null,21,"C05",{"$f":"'Processing Record'!A454","v":453},{"$f":"'Processing Record'!C454","v":"0-DNA"},{"$f":"'Processing Record'!Q454","v":0},{"$f":"'Processing Record'!E454","v":{"$error":"#N/A"}},{"$error":"#N/A"},{"$error":"#N/A"},{"$error":"#N/A"},null,"D04",452,{"$error":"#N/A"},{"$error":"#N/A"},0]
[null,null,null,null,null,null,null,null,null,null,null,22,"D05",{"$f":"'Processing Record'!A455","v":454},{"$f":"'Processing Record'!C455","v":"0-DNA"},{"$f":"'Processing Record'!Q455","v":0},{"$f":"'Processing Record'!E455","v":{"$error":"#N/A"}},{"$error":"#N/A"},{"$error":"#N/A"},{"$error":"#N/A"},null,"D05",454,{"$error":"#N/A"},{"$error":"#N/A"},0]
[null,null,null,null,null,null,null,null,null,null,null,23,"C06",{"$f":"'Processing Record'!A456","v":455},{"$f":"'Processing Record'!C456","v":"0-DNA"},{"$f":"'Processing Record'!Q456","v":0},{"$f":"'Processing Record'!E456","v":{"$error":"#N/A"}},{"$error":"#N/A"},{"$error":"#N/A"},{"$error":"#N/A"},null,"D06",456,{"$error":"#N/A"},{"$error":"#N/A"},0]
[null,null,null,null,null,null,null,null,null,null,null,24,"D06",{"$f":"'Processing Record'!A457","v":456},{"$f":"'Processing Record'!C457","v":"0-DNA"},{"$f":"'Processing Record'!Q457","v":0},{"$f":"'Processing Record'!E457","v":{"$error":"#N/A"}},{"$error":"#N/A"},{"$error":"#N/A"},{"$error":"#N/A"},null,"E01",457,{"$error":"#N/A"},{"$error":"#N/A"},0]
[null,null,null,null,null,null,null,null,null,null,null,"M",null,null,"Fermentas FastRuler High Range DNA Ladder","-",null,20,null,null,null,"E02",459,{"$error":"#N/A"},{"$error":"#N/A"},0]
[null,null,null,null,null,null,null,null,null,null,null,"M",null,null,"Fermentas FastRuler High Range DNA Ladder","-",null,20,null,null,null,"E03",461,{"$error":"#N/A"},{"$error":"#N/A"},0]
[null,null,null,null,null,null,null,null,null,null,null,25,"E01",{"$f":"'Processing Record'!A458","v":457},{"$f":"'Processing Record'!C458","v":"0-DNA"},{"$f":"'Processing Record'!Q458","v":0},{"$f":"'Processing Record'!E458","v":{"$error":"#N/A"}},{"$f":"(Q540*T540/(S540+T540))*20","v":{"$error":"#N/A"}},{"$f":"ROUND(Q540*T540/50*20-T540,0)","v":{"$error":"#N/A"}},{"$f":"ROUNDUP(50/Q540,0)","v":{"$error":"#N/A"}},null,"E04",463,{"$error":"#N/A"},{"$error":"#N/A"},0]
[null,null,null,null,null,null,null,null,null,null,null,26,"F01",{"$f":"'Processing Record'!A459","v":458},{"$f":"'Processing Record'!C459","v":"0-DNA"},{"$f":"'Processing Record'!Q459","v":0},{"$f":"'Processing Record'!E459","v":{"$error":"#N/A"}},{"$f":"(Q541*T541/(S541+T541))*20","v":{"$error":"#N/A"}},{"$f":"ROUND(Q541*T541/50*20-T541,0)","v":{"$error":"#N/A"}},{"$f":"ROUNDUP(50/Q541,0)","v":{"$error":"#N/A"}},null,"E05",465,{"$error":"#N/A"},{"$error":"#N/A"},0]
[null,null,null,null,null,null,null,null,null,null,null,27,"E02",{"$f":"'Processing Record'!A460","v":459},{"$f":"'Processing Record'!C460","v":"0-DNA"},{"$f":"'Processing Record'!Q460","v":0},{"$f":"'Processing Record'!E460","v":{"$error":"#N/A"}},{"$error":"#N/A"},{"$error":"#N/A"},{"$error":"#N/A"},null,"E06",467,{"$error":"#N/A"},{"$error":"#N/A"},0]
[null,null,null,null,null,null,null,null,null,null,null,28,"F02",{"$f":"'Processing Record'!A461","v":460},{"$f":"'Processing Record'!C461","v":"0-DNA"},{"$f":"'Processing Record'!Q461","v":0},{"$f":"'Processing Record'!E461","v":{"$error":"#N/A"}},{"$error":"#N/A"},{"$error":"#N/A"},{"$error":"#N/A"},null,"F01",458,{"$error":"#N/A"},{"$error":"#N/A"},0]
[null,null,null,null,null,null,null,null,null,null,null,29,"E03",{"$f":"'Processing Record'!A462","v":461},{"$f":"'Processing Record'!C462","v":"0-DNA"},{"$f":"'Processing Record'!Q462","v":0},{"$f":"'Processing Record'!E462","v":{"$error":"#N/A"}},{"$error":"#N/A"},{"$error":"#N/A"},{"$error":"#N/A"},null,"F02",460,{"$error":"#N/A"},{"$error":"#N/A"},0]
[null,null,null,null,null,null,null,null,null,null,null,30,"F03",{"$f":"'Processing Record'!A463","v":462},{"$f":"'Processing Record'!C463","v":"0-DNA"},{"$f":"'Processing Record'!Q463","v":0},{"$f":"'Processing Record'!E463","v":{"$error":"#N/A"}},{"$error":"#N/A"},{"$error":"#N/A"},{"$error":"#N/A"},null,"F03",462,{"$error":"#N/A"},{"$error":"#N/A"},0]
[null,null,null,null,null,null,null,null,null,null,null,31,"E04",{"$f":"'Processing Record'!A464","v":463},{"$f":"'Processing Record'!C464","v":"0-DNA"},{"$f":"'Processing Record'!Q464","v":0},{"$f":"'Processing Record'!E464","v":{"$error":"#N/A"}},{"$error":"#N/A"},{"$error":"#N/A"},{"$error":"#N/A"},null,"F04",464,{"$error":"#N/A"},{"$error":"#N/A"},0]
[null,null,null,null,null,null,null,null,null,null,null,32,"F04",{"$f":"'Processing Record'!A465","v":464},{"$f":"'Processing Record'!C465","v":"0-DNA"},{"$f":"'Processing Record'!Q465","v":0},{"$f":"'Processing Record'!E465","v":{"$error":"#N/A"}},{"$error":"#N/A"},{"$error":"#N/A"},{"$error":"#N/A"},null,"F05",466,{"$error":"#N/A"},{"$error":"#N/A"},0]
[null,null,null,null,null,null,null,null,null,null,null,33,"E05",{"$f":"'Processing Record'!A466","v":465},{"$f":"'Processing Record'!C466","v":"0-DNA"},{"$f":"'Processing Record'!Q466","v":0},{"$f":"'Processing Record'!E466","v":{"$error":"#N/A"}},{"$error":"#N/A"},{"$error":"#N/A"},{"$error":"#N/A"},null,"F06",468,{"$error":"#N/A"},{"$error":"#N/A"},0]
[null,null,null,null,null,null,null,null,null,null,null,34,"F05",{"$f":"'Processing Record'!A467","v":466},{"$f":"'Processing Record'!C467","v":"0-DNA"},{"$f":"'Processing Record'!Q467","v":0},{"$f":"'Processing Record'!E467","v":{"$error":"#N/A"}},{"$error":"#N/A"},{"$error":"#N/A"},{"$error":"#N/A"},null,"G01",469,{"$error":"#N/A"},{"$error":"#N/A"},0]
[null,null,null,null,null,null,null,null,null,null,null,35,"E06",{"$f":"'Processing Record'!A468","v":467},{"$f":"'Processing Record'!C468","v":"0-DNA"},{"$f":"'Processing Record'!Q468","v":0},{"$f":"'Processing Record'!E468","v":{"$error":"#N/A"}},{"$error":"#N/A"},{"$error":"#N/A"},{"$error":"#N/A"},null,"G02",471,{"$error":"#N/A"},{"$error":"#N/A"},0]
[null,null,null,null,null,null,null,null,null,null,null,36,"F06",{"$f":"'Processing Record'!A469","v":468},{"$f":"'Processing Record'!C469","v":"0-DNA"},{"$f":"'Processing Record'!Q469","v":0},{"$f":"'Processing Record'!E469","v":{"$error":"#N/A"}},{"$error":"#N/A"},{"$error":"#N/A"},{"$error":"#N/A"},null,"G03",473,{"$error":"#N/A"},{"$error":"#N/A"},0]
[null,null,null,null,null,null,null,null,null,null,null,37,"G01",{"$f":"'Processing Record'!A470","v":469},{"$f":"'Processing Record'!C470","v":"0-DNA"},{"$f":"'Processing Record'!Q470","v":0},{"$f":"'Processing Record'!E470","v":{"$error":"#N/A"}},{"$error":"#N/A"},{"$error":"#N/A"},{"$error":"#N/A"},null,"G04",475,{"$error":"#N/A"},{"$error":"#N/A"},0]
[null,null,null,null,null,null,null,null,null,null,null,38,"H01",{"$f":"'Processing Record'!A471","v":470},{"$f":"'Processing Record'!C471","v":"0-DNA"},{"$f":"'Processing Record'!Q471","v":0},{"$f":"'Processing Record'!E471","v":{"$error":"#N/A"}},{"$error":"#N/A"},{"$error":"#N/A"},{"$error":"#N/A"},null,"G05",477,{"$error":"#N/A"},{"$error":"#N/A"},0]
[null,null,null,null,null,null,null,null,null,null,null,39,"G02",{"$f":"'Processing Record'!A472","v":471},{"$f":"'Processing Record'!C472","v":"0-DNA"},{"$f":"'Processing Record'!Q472","v":0},{"$f":"'Processing Record'!E472","v":{"$error":"#N/A"}},{"$error":"#N/A"},{"$error":"#N/A"},{"$error":"#N/A"},null,"G06",479,{"$error":"#N/A"},{"$error":"#N/A"},0]
[null,null,null,null,null,null,null,null,null,null,null,40,"H02",{"$f":"'Processing Record'!A473","v":472},{"$f":"'Processing Record'!C473","v":"0-DNA"},{"$f":"'Processing Record'!Q473","v":0},{"$f":"'Processing Record'!E473","v":{"$error":"#N/A"}},{"$error":"#N/A"},{"$error":"#N/A"},{"$error":"#N/A"},null,"H01",470,{"$error":"#N/A"},{"$error":"#N/A"},0]
[null,null,null,null,null,null,null,null,null,null,null,41,"G03",{"$f":"'Processing Record'!A474","v":473},{"$f":"'Processing Record'!C474","v":"0-DNA"},{"$f":"'Processing Record'!Q474","v":0},{"$f":"'Processing Record'!E474","v":{"$error":"#N/A"}},{"$error":"#N/A"},{"$error":"#N/A"},{"$error":"#N/A"},null,"H02",472,{"$error":"#N/A"},{"$error":"#N/A"},0]
[null,null,null,null,null,null,null,null,null,null,null,42,"H03",{"$f":"'Processing Record'!A475","v":474},{"$f":"'Processing Record'!C475","v":"0-DNA"},{"$f":"'Processing Record'!Q475","v":0},{"$f":"'Processing Record'!E475","v":{"$error":"#N/A"}},{"$error":"#N/A"},{"$error":"#N/A"},{"$error":"#N/A"},null,"H03",474,{"$error":"#N/A"},{"$error":"#N/A"},0]
[null,null,null,null,null,null,null,null,null,null,null,43,"G04",{"$f":"'Processing Record'!A476","v":475},{"$f":"'Processing Record'!C476","v":"0-DNA"},{"$f":"'Processing Record'!Q476","v":0},{"$f":"'Processing Record'!E476","v":{"$error":"#N/A"}},{"$error":"#N/A"},{"$error":"#N/A"},{"$error":"#N/A"},null,"H04",476,{"$error":"#N/A"},{"$error":"#N/A"},0]
[null,null,null,null,null,null,null,null,null,null,null,44,"H04",{"$f":"'Processing Record'!A477","v":476},{"$f":"'Processing Record'!C477","v":"0-DNA"},{"$f":"'Processing Record'!Q477","v":0},{"$f":"'Processing Record'!E477","v":{"$error":"#N/A"}},{"$error":"#N/A"},{"$error":"#N/A"},{"$error":"#N/A"},null,"H05",478,{"$error":"#N/A"},{"$error":"#N/A"},0]
[null,null,null,null,null,null,null,null,null,null,null,45,"G05",{"$f":"'Processing Record'!A478","v":477},{"$f":"'Processing Record'!C478","v":"0-DNA"},{"$f":"'Processing Record'!Q478","v":0},{"$f":"'Processing Record'!E478","v":{"$error":"#N/A"}},{"$error":"#N/A"},{"$error":"#N/A"},{"$error":"#N/A"},null,"H06",480,{"$error":"#N/A"},{"$error":"#N/A"},0]
[null,null,null,null,null,null,null,null,null,null,null,46,"H05",{"$f":"'Processing Record'!A479","v":478},{"$f":"'Processing Record'!C479","v":"0-DNA"},{"$f":"'Processing Record'!Q479","v":0},{"$f":"'Processing Record'!E479","v":{"$error":"#N/A"}},{"$error":"#N/A"},{"$error":"#N/A"},{"$error":"#N/A"}]
[null,null,null,null,null,null,null,null,null,null,null,47,"G06",{"$f":"'Processing Record'!A480","v":479},{"$f":"'Processing Record'!C480","v":"0-DNA"},{"$f":"'Processing Record'!Q480","v":0},{"$f":"'Processing Record'!E480","v":{"$error":"#N/A"}},{"$error":"#N/A"},{"$error":"#N/A"},{"$error":"#N/A"}]
[null,null,null,null,null,null,null,null,null,null,null,48,"H06",{"$f":"'Processing Record'!A481","v":480},{"$f":"'Processing Record'!C481","v":"0-DNA"},{"$f":"'Processing Record'!Q481","v":0},{"$f":"'Processing Record'!E481","v":{"$error":"#N/A"}},{"$error":"#N/A"},{"$error":"#N/A"},{"$error":"#N/A"}]
[null,null,null,null,null,null,null,null,null,null,null,"M",null,null,"Fermentas FastRuler High Range DNA Ladder","-",null,20]
[]
[]
[]
[null,null,null,null,null,null,null,null,null,null,null,"Gel 11",null,null,null,null,null,null,null,null,null,"Dilution Plate 11"]
[null,null,null,null,null,null,null,null,null,null,null,"Lane","Well","Sample no.","Sample_ID","Reference_ID","DNA conc. (ng/ul)","Amount loaded (ng)","Water(ul)","Sample(ul)",null,"Well","Sample no.","Water(ul)","Sample(ul)","Reference ID"]
[null,null,null,null,null,null,null,null,null,null,null,"M",null,null,"Fermentas FastRuler High Range DNA Ladder","-","-",20,null,null,null,"A01",481,{"$f":"VLOOKUP($V570, $M$569:$T$621, 7, FALSE)","v":{"$error":"#N/A"}},{"$f":"VLOOKUP($V570, $M$569:$T$620, 8, FALSE)","v":{"$error":"#N/A"}},{"$f":"VLOOKUP($V570, $M$569:$T$620, 4, FALSE)","v":0}]
[null,null,null,null,null,null,null,null,null,null,null,1,"A01",{"$f":"'Processing Record'!A482","v":481},{"$f":"'Processing Record'!C482","v":"0-DNA"},{"$f":"'Processing Record'!Q482","v":0},{"$f":"'Processing Record'!E482","v":{"$error":"#N/A"}},{"$f":"(Q571*T571/(S571+T571))*20","v":{"$error":"#N/A"}},{"$f":"ROUND(Q571*T571/50*20-T571,0)","v":{"$error":"#N/A"}},{"$f":"ROUNDUP(50/Q571,0)","v":{"$error":"#N/A"}},null,"A02",483,{"$error":"#N/A"},{"$error":"#N/A"},0]
[null,null,null,null,null,null,null,null,null,null,null,2,"B01",{"$f":"'Processing Record'!A483","v":482},{"$f":"'Processing Record'!C483","v":"0-DNA"},{"$f":"'Processing Record'!Q483","v":0},{"$f":"'Processing Record'!E483","v":{"$error":"#N/A"}},{"$f":"(Q572*T572/(S572+T572))*20","v":{"$error":"#N/A"}},{"$f":"ROUND(Q572*T572/50*20-T572,0)","v":{"$error":"#N/A"}},{"$f":"ROUNDUP(50/Q572,0)","v":{"$error":"#N/A"}},null,"A03",485,{"$error":"#N/A"},{"$error":"#N/A"},0]
[null,null,null,null,null,null,null,null,null,null,null,3,"A02",{"$f":"'Processing Record'!A484","v":483},{"$f":"'Processing Record'!C484","v":"0-DNA"},{"$f":"'Processing Record'!Q484","v":0},{"$f":"'Processing Record'!E484","v":{"$error":"#N/A"}},{"$error":"#N/A"},{"$error":"#N/A"},{"$error":"#N/A"},null,"A04",487,{"$error":"#N/A"},{"$error":"#N/A"},0]
[null,null,null,null,null,null,null,null,null,null,null,4,"B02",{"$f":"'Processing Record'!A485","v":484},{"$f":"'Processing Record'!C485","v":"0-DNA"},{"$f":"'Processing Record'!Q485","v":0},{"$f":"'Processing Record'!E485","v":{"$error":"#N/A"}},{"$error":"#N/A"},{"$error":"#N/A"},{"$error":"#N/A"},null,"A05",489,{"$error":"#N/A"},{"$error":"#N/A"},0]
[null,null,null,null,null,null,null,null,null,null,null,5,"A03",{"$f":"'Processing Record'!A486","v":485},{"$f":"'Processing Record'!C486","v":"0-DNA"},{"$f":"'Processing Record'!Q486","v":0},{"$f":"'Processing Record'!E486","v":{"$error":"#N/A"}},{"$error":"#N/A"},{"$error":"#N/A"},{"$error":"#N/A"},null,"A06",491,{"$error":"#N/A"},{"$error":"#N/A"},0]
[null,null,null,null,null,null,null,null,null,null,null,6,"B03",{"$f":"'Processing Record'!A487","v":486},{"$f":"'Processing Record'!C487","v":"0-DNA"},{"$f":"'Processing Record'!Q487","v":0},{"$f":"'Processing Record'!E487","v":{"$error":"#N/A"}},{"$error":"#N/A"},{"$error":"#N/A"},{"$error":"#N/A"},null,"B01",482,{"$error":"#N/A"},{"$error":"#N/A"},0]
[null,null,null,null,null,null,null,null,null,null,null,7,"A04",{"$f":"'Processing Record'!A488","v":487},{"$f":"'Processing Record'!C488","v":"0-DNA"},{"$f":"'Processing Record'!Q488","v":0},{"$f":"'Processing Record'!E488","v":{"$error":"#N/A"}},{"$error":"#N/A"},{"$error":"#N/A"},{"$error":"#N/A"},null,"B02",484,{"$error":"#N/A"},{"$error":"#N/A"},0]
[null,null,null,null,null,null,null,null,null,null,null,8,"B04",{"$f":"'Processing Record'!A489","v":488},{"$f":"'Processing Record'!C489","v":"0-DNA"},{"$f":"'Processing Record'!Q489","v":0},{"$f":"'Processing Record'!E489","v":{"$error":"#N/A"}},{"$error":"#N/A"},{"$error":"#N/A"},{"$error":"#N/A"},null,"B03",486,{"$error":"#N/A"},{"$error":"#N/A"},0]
[null,null,null,null,null,null,null,null,null,null,null,9,"A05",{"$f":"'Processing Record'!A490","v":489},{"$f":"'Processing Record'!C490","v":"0-DNA"},{"$f":"'Processing Record'!Q490","v":0},{"$f":"'Processing Record'!E490","v":{"$error":"#N/A"}},{"$error":"#N/A"},{"$error":"#N/A"},{"$error":"#N/A"},null,"B04",488,{"$error":"#N/A"},{"$error":"#N/A"},0]
[null,null,null,null,null,null,null,null,null,null,null,10,"B05",{"$f":"'Processing Record'!A491","v":490},{"$f":"'Processing Record'!C491","v":"0-DNA"},{"$f":"'Processing Record'!Q491","v":0},{"$f":"'Processing Record'!E491","v":{"$error":"#N/A"}},{"$error":"#N/A"},{"$error":"#N/A"},{"$error":"#N/A"},null,"B05",490,{"$error":"#N/A"},{"$error":"#N/A"},0]
[null,null,null,null,null,null,null,null,null,null,null,11,"A06",{"$f":"'Processing Record'!A492","v":491},{"$f":"'Processing Record'!C492","v":"0-DNA"},{"$f":"'Processing Record'!Q492","v":0},{"$f":"'Processing Record'!E492","v":{"$error":"#N/A"}},{"$error":"#N/A"},{"$error":"#N/A"},{"$error":"#N/A"},null,"B06",492,{"$error":"#N/A"},{"$error":"#N/A"},0]
[null,null,null,null,null,null,null,null,null,null,null,12,"B06",{"$f":"'Processing Record'!A493","v":492},{"$f":"'Processing Record'!C493","v":"0-DNA"},{"$f":"'Processing Record'!Q493","v":0},{"$f":"'Processing Record'!E493","v":{"$error":"#N/A"}},{"$error":"#N/A"},{"$error":"#N/A"},{"$error":"#N/A"},null,"C01",493,{"$error":"#N/A"},{"$error":"#N/A"},0]
[null,null,null,null,null,null,null,null,null,null,null,13,"C01",{"$f":"'Processing Record'!A494","v":493},{"$f":"'Processing Record'!C494","v":"0-DNA"},{"$f":"'Processing Record'!Q494","v":0},{"$f":"'Processing Record'!E494","v":{"$error":"#N/A"}},{"$error":"#N/A"},{"$error":"#N/A"},{"$error":"#N/A"},null,"C02",495,{"$error":"#N/A"},{"$error":"#N/A"},0]
[null,null,null,null,null,null,null,null,null,null,null,14,"D01",{"$f":"'Processing Record'!A495","v":494},{"$f":"'Processing Record'!C495","v":"0-DNA"},{"$f":"'Processing Record'!Q495","v":0},{"$f":"'Processing Record'!E495","v":{"$error":"#N/A"}},{"$error":"#N/A"},{"$error":"#N/A"},{"$error":"#N/A"},null,"C03",497,{"$error":"#N/A"},{"$error":"#N/A"},0]
[null,null,null,null,null,null,null,null,null,null,null,15,"C02",{"$f":"'Processing Record'!A496","v":495},{"$f":"'Processing Record'!C496","v":"0-DNA"},{"$f":"'Processing Record'!Q496","v":0},{"$f":"'Processing Record'!E496","v":{"$error":"#N/A"}},{"$error":"#N/A"},{"$error":"#N/A"},{"$error":"#N/A"},null,"C04",499,{"$error":"#N/A"},{"$error":"#N/A"},0]
[null,null,null,null,null,null,null,null,null,null,null,16,"D02",{"$f":"'Processing Record'!A497","v":496},{"$f":"'Processing Record'!C497","v":"0-DNA"},{"$f":"'Processing Record'!Q497","v":0},{"$f":"'Processing Record'!E497","v":{"$error":"#N/A"}},{"$error":"#N/A"},{"$error":"#N/A"},{"$error":"#N/A"},null,"C05",501,{"$error":"#DIV/0!"},{"$error":"#DIV/0!"},0]
[null,null,null,null,null,null,null,null,null,null,null,17,"C03",{"$f":"'Processing Record'!A498","v":497},{"$f":"'Processing Record'!C498","v":"0-DNA"},{"$f":"'Processing Record'!Q498","v":0},{"$f":"'Processing Record'!E498","v":{"$error":"#N/A"}},{"$error":"#N/A"},{"$error":"#N/A"},{"$error":"#N/A"},null,"C06",503,{"$error":"#DIV/0!"},{"$error":"#DIV/0!"},0]
[null,null,null,null,null,null,null,null,null,null,null,18,"D03",{"$f":"'Processing Record'!A499","v":498},{"$f":"'Processing Record'!C499","v":"0-DNA"},{"$f":"'Processing Record'!Q499","v":0},{"$f":"'Processing Record'!E499","v":{"$error":"#N/A"}},{"$error":"#N/A"},{"$error":"#N/A"},{"$error":"#N/A"},null,"D01",494,{"$error":"#N/A"},{"$error":"#N/A"},0]
[null,null,null,null,null,null,null,null,null,null,null,19,"C04",{"$f":"'Processing Record'!A500","v":499},{"$f":"'Processing Record'!C500","v":"0-DNA"},{"$f":"'Processing Record'!Q500","v":0},{"$f":"'Processing Record'!E500","v":{"$error":"#N/A"}},{"$error":"#N/A"},{"$error":"#N/A"},{"$error":"#N/A"},null,"D02",496,{"$error":"#N/A"},{"$error":"#N/A"},0]
[null,null,null,null,null,null,null,null,null,null,null,20,"D04",{"$f":"'Processing Record'!A501","v":500},{"$f":"'Processing Record'!C501","v":"0-DNA"},{"$f":"'Processing Record'!Q501","v":0},{"$f":"'Processing Record'!E501","v":{"$error":"#N/A"}},{"$error":"#N/A"},{"$error":"#N/A"},{"$error":"#N/A"},null,"D03",498,{"$error":"#N/A"},{"$error":"#N/A"},0]
[null,null,null,null,null,null,null,null,null,null,null,21,"C05",{"$f":"'Processing Record'!A502","v":0},{"$f":"'Processing Record'!C502","v":0},{"$f":"'Processing Record'!Q502","v":0},{"$f":"'Processing Record'!E502","v":0},{"$error":"#DIV/0!"},{"$error":"#DIV/0!"},{"$error":"#DIV/0!"},null,"D04",500,{"$error":"#N/A"},{"$error":"#N/A"},0]
[null,null,null,null,null,null,null,null,null,null,null,22,"D05",{"$f":"'Processing Record'!A503","v":0},{"$f":"'Processing Record'!C503","v":0},{"$f":"'Processing Record'!Q503","v":0},{"$f":"'Processing Record'!E503","v":0},{"$error":"#DIV/0!"},{"$error":"#DIV/0!"},{"$error":"#DIV/0!"},null,"D05",502,{"$error":"#DIV/0!"},{"$error":"#DIV/0!"},0]
[null,null,null,null,null,null,null,null,null,null,null,23,"C06",{"$f":"'Processing Record'!A504","v":0},{"$f":"'Processing Record'!C504","v":0},{"$f":"'Processing Record'!Q504","v":0},{"$f":"'Processing Record'!E504","v":0},{"$error":"#DIV/0!"},{"$error":"#DIV/0!"},{"$error":"#DIV/0!"},null,"D06",504,{"$error":"#DIV/0!"},{"$error":"#DIV/0!"},0]
[null,null,null,null,null,null,null,null,null,null,null,24,"D06",{"$f":"'Processing Record'!A505","v":0},{"$f":"'Processing Record'!C505","v":0},{"$f":"'Processing Record'!Q505","v":0},{"$f":"'Processing Record'!E505","v":0},{"$error":"#DIV/0!"},{"$error":"#DIV/0!"},{"$error":"#DIV/0!"},null,"E01",505,{"$error":"#DIV/0!"},{"$error":"#DIV/0!"},0]
[null,null,null,null,null,null,null,null,null,null,null,"M",null,null,"Fermentas FastRuler High Range DNA Ladder","-",null,20,null,null,null,"E02",507,{"$error":"#DIV/0!"},{"$error":"#DIV/0!"},0]
[null,null,null,null,null,null,null,null,null,null,null,"M",null,null,"Fermentas FastRuler High Range DNA Ladder","-",null,20,null,null,null,"E03",509,{"$error":"#DIV/0!"},{"$error":"#DIV/0!"},0]
[null,null,null,null,null,null,null,null,null,null,null,25,"E01",{"$f":"'Processing Record'!A506","v":0},{"$f":"'Processing Record'!C506","v":0},{"$f":"'Processing Record'!Q506","v":0},{"$f":"'Processing Record'!E506","v":0},{"$f":"(Q597*T597/(S597+T597))*20","v":{"$error":"#DIV/0!"}},{"$f":"ROUND(Q597*T597/50*20-T597,0)","v":{"$error":"#DIV/0!"}},{"$f":"ROUNDUP(50/Q597,0)","v":{"$error":"#DIV/0!"}},null,"E04",511,{"$error":"#DIV/0!"},{"$error":"#DIV/0!"},0]
[null,null,null,null,null,null,null,null,null,null,null,26,"F01",{"$f":"'Processing Record'!A507","v":0},{"$f":"'Processing Record'!C507","v":0},{"$f":"'Processing Record'!Q507","v":0},{"$f":"'Processing Record'!E507","v":0},{"$f":"(Q598*T598/(S598+T598))*20","v":{"$error":"#DIV/0!"}},{"$f":"ROUND(Q598*T598/50*20-T598,0)","v":{"$error":"#DIV/0!"}},{"$f":"ROUNDUP(50/Q598,0)","v":{"$error":"#DIV/0!"}},null,"E05",513,{"$error":"#DIV/0!"},{"$error":"#DIV/0!"},0]
[null,null,null,null,null,null,null,null,null,null,null,27,"E02",{"$f":"'Processing Record'!A508","v":0},{"$f":"'Processing Record'!C508","v":0},{"$f":"'Processing Record'!Q508","v":0},{"$f":"'Processing Record'!E508","v":0},{"$error":"#DIV/0!"},{"$error":"#DIV/0!"},{"$error":"#DIV/0!"},null,"E06",515,{"$error":"#DIV/0!"},{"$error":"#DIV/0!"},0]
[null,null,null,null,null,null,null,null,null,null,null,28,"F02",{"$f":"'Processing Record'!A509","v":0},{"$f":"'Processing Record'!C509","v":0},{"$f":"'Processing Record'!Q509","v":0},{"$f":"'Processing Record'!E509","v":0},{"$error":"#DIV/0!"},{"$error":"#DIV/0!"},{"$error":"#DIV/0!"},null,"F01",506,{"$error":"#DIV/0!"},{"$error":"#DIV/0!"},0]
[null,null,null,null,null,null,null,null,null,null,null,29,"E03",{"$f":"'Processing Record'!A510","v":0},{"$f":"'Processing Record'!C510","v":0},{"$f":"'Processing Record'!Q510","v":0},{"$f":"'Processing Record'!E510","v":0},{"$error":"#DIV/0!"},{"$error":"#DIV/0!"},{"$error":"#DIV/0!"},null,"F02",508,{"$error":"#DIV/0!"},{"$error":"#DIV/0!"},0]
[null,null,null,null,null,null,null,null,null,null,null,30,"F03",{"$f":"'Processing Record'!A511","v":0},{"$f":"'Processing Record'!C511","v":0},{"$f":"'Processing Record'!Q511","v":0},{"$f":"'Processing Record'!E511","v":0},{"$error":"#DIV/0!"},{"$error":"#DIV/0!"},{"$error":"#DIV/0!"},null,"F03",510,{"$error":"#DIV/0!"},{"$error":"#DIV/0!"},0]
[null,null,null,null,null,null,null,null,null,null,null,31,"E04",{"$f":"'Processing Record'!A512","v":0},{"$f":"'Processing Record'!C512","v":0},{"$f":"'Processing Record'!Q512","v":0},{"$f":"'Processing Record'!E512","v":0},{"$error":"#DIV/0!"},{"$error":"#DIV/0!"},{"$error":"#DIV/0!"},null,"F04",512,{"$error":"#DIV/0!"},{"$error":"#DIV/0!"},0]
[null,null,null,null,null,null,null,null,null,null,null,32,"F04",{"$f":"'Processing Record'!A513","v":0},{"$f":"'Processing Record'!C513","v":0},{"$f":"'Processing Record'!Q513","v":0},{"$f":"'Processing Record'!E513","v":0},{"$error":"#DIV/0!"},{"$error":"#DIV/0!"},{"$error":"#DIV/0!"},null,"F05",514,{"$error":"#DIV/0!"},{"$error":"#DIV/0!"},0]
[null,null,null,null,null,null,null,null,null,null,null,33,"E05",{"$f":"'Processing Record'!A514","v":0},{"$f":"'Processing Record'!C514","v":0},{"$f":"'Processing Record'!Q514","v":0},{"$f":"'Processing Record'!E514","v":0},{"$error":"#DIV/0!"},{"$error":"#DIV/0!"},{"$error":"#DIV/0!"},null,"F06",516,{"$error":"#DIV/0!"},{"$error":"#DIV/0!"},0]
[null,null,null,null,null,null,null,null,null,null,null,34,"F05",{"$f":"'Processing Record'!A515","v":0},{"$f":"'Processing Record'!C515","v":0},{"$f":"'Processing Record'!Q515","v":0},{"$f":"'Processing Record'!E515","v":0},{"$error":"#DIV/0!"},{"$error":"#DIV/0!"},{"$error":"#DIV/0!"},null,"G01",517,{"$error":"#DIV/0!"},{"$error":"#DIV/0!"},0]
[null,null,null,null,null,null,null,null,null,null,null,35,"E06",{"$f":"'Processing Record'!A516","v":0},{"$f":"'Processing Record'!C516","v":0},{"$f":"'Processing Record'!Q516","v":0},{"$f":"'Processing Record'!E516","v":0},{"$error":"#DIV/0!"},{"$error":"#DIV/0!"},{"$error":"#DIV/0!"},null,"G02",519,{"$error":"#DIV/0!"},{"$error":"#DIV/0!"},0]
[null,null,null,null,null,null,null,null,null,null,null,36,"F06",{"$f":"'Processing Record'!A517","v":0},{"$f":"'Processing Record'!C517","v":0},{"$f":"'Processing Record'!Q517","v":0},{"$f":"'Processing Record'!E517","v":0},{"$error":"#DIV/0!"},{"$error":"#DIV/0!"},{"$error":"#DIV/0!"},null,"G03",521,{"$error":"#DIV/0!"},{"$error":"#DIV/0!"},0]
[null,null,null,null,null,null,null,null,null,null,null,37,"G01",{"$f":"'Processing Record'!A518","v":0},{"$f":"'Processing Record'!C518","v":0},{"$f":"'Processing Record'!Q518","v":0},{"$f":"'Processing Record'!E518","v":0},{"$error":"#DIV/0!"},{"$error":"#DIV/0!"},{"$error":"#DIV/0!"},null,"G04",523,{"$error":"#DIV/0!"},{"$error":"#DIV/0!"},0]
[null,null,null,null,null,null,null,null,null,null,null,38,"H01",{"$f":"'Processing Record'!A519","v":0},{"$f":"'Processing Record'!C519","v":0},{"$f":"'Processing Record'!Q519","v":0},{"$f":"'Processing Record'!E519","v":0},{"$error":"#DIV/0!"},{"$error":"#DIV/0!"},{"$error":"#DIV/0!"},null,"G05",525,{"$error":"#DIV/0!"},{"$error":"#DIV/0!"},0]
[null,null,null,null,null,null,null,null,null,null,null,39,"G02",{"$f":"'Processing Record'!A520","v":0},{"$f":"'Processing Record'!C520","v":0},{"$f":"'Processing Record'!Q520","v":0},{"$f":"'Processing Record'!E520","v":0},{"$error":"#DIV/0!"},{"$error":"#DIV/0!"},{"$error":"#DIV/0!"},null,"G06",527,{"$error":"#DIV/0!"},{"$error":"#DIV/0!"},0]
[null,null,null,null,null,null,null,null,null,null,null,40,"H02",{"$f":"'Processing Record'!A521","v":0},{"$f":"'Processing Record'!C521","v":0},{"$f":"'Processing Record'!Q521","v":0},{"$f":"'Processing Record'!E521","v":0},{"$error":"#DIV/0!"},{"$error":"#DIV/0!"},{"$error":"#DIV/0!"},null,"H01",518,{"$error":"#DIV/0!"},{"$error":"#DIV/0!"},0]
[null,null,null,null,null,null,null,null,null,null,null,41,"G03",{"$f":"'Processing Record'!A522","v":0},{"$f":"'Processing Record'!C522","v":0},{"$f":"'Processing Record'!Q522","v":0},{"$f":"'Processing Record'!E522","v":0},{"$error":"#DIV/0!"},{"$error":"#DIV/0!"},{"$error":"#DIV/0!"},null,"H02",520,{"$error":"#DIV/0!"},{"$error":"#DIV/0!"},0]
[null,null,null,null,null,null,null,null,null,null,null,42,"H03",{"$f":"'Processing Record'!A523","v":0},{"$f":"'Processing Record'!C523","v":0},{"$f":"'Processing Record'!Q523","v":0},{"$f":"'Processing Record'!E523","v":0},{"$error":"#DIV/0!"},{"$error":"#DIV/0!"},{"$error":"#DIV/0!"},null,"H03",522,{"$error":"#DIV/0!"},{"$error":"#DIV/0!"},0]
[null,null,null,null,null,null,null,null,null,null,null,43,"G04",{"$f":"'Processing Record'!A524","v":0},{"$f":"'Processing Record'!C524","v":0},{"$f":"'Processing Record'!Q524","v":0},{"$f":"'Processing Record'!E524","v":0},{"$error":"#DIV/0!"},{"$error":"#DIV/0!"},{"$error":"#DIV/0!"},null,"H04",524,{"$error":"#DIV/0!"},{"$error":"#DIV/0!"},0]
[null,null,null,null,null,null,null,null,null,null,null,44,"H04",{"$f":"'Processing Record'!A525","v":0},{"$f":"'Processing Record'!C525","v":0},{"$f":"'Processing Record'!Q525","v":0},{"$f":"'Processing Record'!E525","v":0},{"$error":"#DIV/0!"},{"$error":"#DIV/0!"},{"$error":"#DIV/0!"},null,"H05",526,{"$error":"#DIV/0!"},{"$error":"#DIV/0!"},0]
[null,null,null,null,null,null,null,null,null,null,null,45,"G05",{"$f":"'Processing Record'!A526","v":0},{"$f":"'Processing Record'!C526","v":0},{"$f":"'Processing Record'!Q526","v":0},{"$f":"'Processing Record'!E526","v":0},{"$error":"#DIV/0!"},{"$error":"#DIV/0!"},{"$error":"#DIV/0!"},null,"H06",528,{"$error":"#DIV/0!"},{"$error":"#DIV/0!"},0]
[null,null,null,null,null,null,null,null,null,null,null,46,"H05",{"$f":"'Processing Record'!A527","v":0},{"$f":"'Processing Record'!C527","v":0},{"$f":"'Processing Record'!Q527","v":0},{"$f":"'Processing Record'!E527","v":0},{"$error":"#DIV/0!"},{"$error":"#DIV/0!"},{"$error":"#DIV/0!"}]
[null,null,null,null,null,null,null,null,null,null,null,47,"G06",{"$f":"'Processing Record'!A528","v":0},{"$f":"'Processing Record'!C528","v":0},{"$f":"'Processing Record'!Q528","v":0},{"$f":"'Processing Record'!E528","v":0},{"$error":"#DIV/0!"},{"$error":"#DIV/0!"},{"$error":"#DIV/0!"}]
[null,null,null,null,null,null,null,null,null,null,null,48,"H06",{"$f":"'Processing Record'!A529","v":0},{"$f":"'Processing Record'!C529","v":0},{"$f":"'Processing Record'!Q529","v":0},{"$f":"'Processing Record'!E529","v":0},{"$error":"#DIV/0!"},{"$error":"#DIV/0!"},{"$error":"#DIV/0!"}]
[null,null,null,null,null,null,null,null,null,null,null,"M",null,null,"Fermentas FastRuler High Range DNA Ladder","-",null,20]

{"sheet":"Ladder information","index":8,"n_rows":0,"n_cols":0,"rows_kept":0,"cut":false,"hidden":true,"merged":[]}

{"sheet":"Nanodrop Data Raw","index":9,"n_rows":2,"n_cols":25,"rows_kept":2,"cut":false,"hidden":true,"merged":[[0,1,0,25]]}
[null,"Paste NanoDrop™ One value from Column B"]
["Reference ID","Date","Sample Name","Nucleic Acid(ng/uL)","A260/A280","A260/A230","A260 (-A320)","A280","Nucleic Acid Factor","Baseline Correction (nm)","Baseline Absorbance"," Corrected (ng/uL)"," Corrected %CV","Impurity 1","Impurity 1 A260","Impurity 1 %CV","Impurity 1 mM","Impurity 2","Impurity 2 A260","Impurity 2 %CV","Impurity 2 mM","Impurity 3","Impurity 3 A260","Impurity 3 %CV","Impurity 3 mM"]