{"text_format":"1","workbook":"xlsx","n_sheets":12,"sheets":["Sample Overview","Sample Information","Sample Submission","DNA Processing Record","RNA Processing Record","MassArray normalization","Sample_Type","Extraction Protocol","Gel Photo","Ladder information","Nanodrop Data Raw","Sample Receipt"],"not_rendered":{"charts":0,"images":1,"macros":1,"external_links":1,"defined_names":14,"comments":0,"pivot_tables":0},"unopened":[],"bounds":{"document_bytes":16777216,"sheet_cells":100000,"rows_first":2000,"rows_last":500,"rows_between":2000,"halvings":0,"cell_chars":16384,"cell_head_chars":4096},"cells_cut":0,"cells_raw":0,"read":"whole","date_system":"1900"}

{"sheet":"Sample Overview","index":0,"n_rows":31,"n_cols":2,"rows_kept":31,"cut":false,"hidden":false,"merged":[[0,0,0,5],[19,2,19,4],[1,0,1,5]]}
["Sample Overview"]
["Extracted DNA/RNA samples for service at CPOS Genomics Core?"]
[null,"Yes"]
[null,"No"]
[]
["Sample Storage:"]
[null,"Room temperature"]
[null,"4oC"]
[null,"-20oC"]
[null,"-80oC"]
[]
["Samples with Known Infectious Agent:"]
[null,"Yes"]
[null,"No"]
[]
["Sample Source:"]
[null,"Human"]
[null,"Mouse"]
[null,"Rat"]
[null,"Other:"]
[]
[]
["Note:"]
["- Sample with known infectious agent will NOT be accepted."]
["- For further information, please refer to our website: \"cgs.hku.hk\""]
["- Please follow precisely the instructions stated in our website or provided by our staff."]
["- CPOS Genomics Core has no obligation for failed service requests if users do not follow instructions given and /or provide insufficient information to our staff."]
["- Users should follow the existing queue for nucleic acid extraction service."]
["- For Research Use Only. Not for use in diagnostic procedures."]
["- For personal data protection, please be reminded that the submitted sample IDs should NOT carry any personal information such as the HKID or passport numbers, the laboratory numbers of patient reports, or the patient IDs of hospitals."]
["- Please refer to the Privacy and Personal Data Protection Policies at http://cgs.hku.hk/portal/index.php/policies for information on personal data protection and handling by CPOS Genomics Core."]

{"sheet":"Sample Information","index":1,"n_rows":501,"n_cols":8,"rows_kept":501,"cut":false,"hidden":false,"merged":[]}
["Tube number ","Sample_ID                                                             1. More than One Character                             2. Must Not be numbers only                             3. No space \" \"                                                     4. NO reserved characters (e.g. &*^%'_)\n5. Max. 10 characters","Sample DNA_ID","Sample_Type","Weight of frozen tissue (mg)"]
[1,null,{"$f":"CONCATENATE(B2,\"-DNA\")","v":"-DNA"},"Frozen Tissue",null,null,"User Name:"," "]
[2,null,{"$f":"CONCATENATE(B3,\"-DNA\")","v":"-DNA"},null,null,null,"PI:"]
[3,null,"-DNA",null,null,null,"Department:"]
[4,null,"-DNA",null,null,null,"Submission Date:\n(yymmdd)"]
[5,null,"-DNA",null,null,null,"iLab Service ID"]
[6,null,"-DNA",null,null,null,"Extraction Protocol"]
[7,null,"-DNA",null,null,null,"(version 210726)"]
[8,null,"-DNA"]
[9,null,"-DNA"]
[10,null,"-DNA"]
[11,null,"-DNA"]
[12,null,"-DNA"]
[13,null,"-DNA"]
[14,null,"-DNA"]
[15,null,"-DNA"]
[16,null,"-DNA"]
[17,null,"-DNA"]
[18,null,"-DNA"]
[19,null,"-DNA"]
[20,null,"-DNA"]
[21,null,"-DNA"]
[22,null,"-DNA"]
[23,null,"-DNA"]
[24,null,"-DNA"]
[25,null,"-DNA"]
[26,null,"-DNA"]
[27,null,"-DNA"]
[28,null,"-DNA"]
[29,null,"-DNA"]
[30,null,"-DNA"]
[31,null,"-DNA"]
[32,null,"-DNA"]
[33,null,"-DNA"]
[34,null,"-DNA"]
[35,null,"-DNA"]
[36,null,"-DNA"]
[37,null,"-DNA"]
[38,null,"-DNA"]
[39,null,"-DNA"]
[40,null,"-DNA"]
[41,null,"-DNA"]
[42,null,"-DNA"]
[43,null,"-DNA"]
[44,null,"-DNA"]
[45,null,"-DNA"]
[46,null,"-DNA"]
[47,null,"-DNA"]
[48,null,"-DNA"]
[49,null,"-DNA"]
[50,null,"-DNA"]
[51,null,"-DNA"]
[52,null,"-DNA"]
[53,null,"-DNA"]
[54,null,"-DNA"]
[55,null,"-DNA"]
[56,null,"-DNA"]
[57,null,"-DNA"]
[58,null,"-DNA"]
[59,null,"-DNA"]
[60,null,"-DNA"]
[61,null,"-DNA"]
[62,null,"-DNA"]
[63,null,"-DNA"]
[64,null,"-DNA"]
[65,null,"-DNA"]
[66,null,{"$f":"CONCATENATE(B67,\"-DNA\")","v":"-DNA"}]
[67,null,"-DNA"]
[68,null,"-DNA"]
[69,null,"-DNA"]
[70,null,"-DNA"]
[71,null,"-DNA"]
[72,null,"-DNA"]
[73,null,"-DNA"]
[74,null,"-DNA"]
[75,null,"-DNA"]
[76,null,"-DNA"]
[77,null,"-DNA"]
[78,null,"-DNA"]
[79,null,"-DNA"]
[80,null,"-DNA"]
[81,null,"-DNA"]
[82,null,"-DNA"]
[83,null,"-DNA"]
[84,null,"-DNA"]
[85,null,"-DNA"]
[86,null,"-DNA"]
[87,null,"-DNA"]
[88,null,"-DNA"]
[89,null,"-DNA"]
[90,null,"-DNA"]
[91,null,"-DNA"]
[92,null,"-DNA"]
[93,null,"-DNA"]
[94,null,"-DNA"]
[95,null,"-DNA"]
[96,null,"-DNA"]
[97,null,"-DNA"]
[98,null,"-DNA"]
[99,null,"-DNA"]
[100,null,"-DNA"]
[101,null,"-DNA"]
[102,null,"-DNA"]
[103,null,"-DNA"]
[104,null,"-DNA"]
[105,null,"-DNA"]
[106,null,"-DNA"]
[107,null,"-DNA"]
[108,null,"-DNA"]
[109,null,"-DNA"]
[110,null,"-DNA"]
[111,null,"-DNA"]
[112,null,"-DNA"]
[113,null,"-DNA"]
[114,null,"-DNA"]
[115,null,"-DNA"]
[116,null,"-DNA"]
[117,null,"-DNA"]
[118,null,"-DNA"]
[119,null,"-DNA"]
[120,null,"-DNA"]
[121,null,"-DNA"]
[122,null,"-DNA"]
[123,null,"-DNA"]
[124,null,"-DNA"]
[125,null,"-DNA"]
[126,null,"-DNA"]
[127,null,"-DNA"]
[128,null,"-DNA"]
[129,null,"-DNA"]
[130,null,{"$f":"CONCATENATE(B131,\"-DNA\")","v":"-DNA"}]
[131,null,"-DNA"]
[132,null,"-DNA"]
[133,null,"-DNA"]
[134,null,"-DNA"]
[135,null,"-DNA"]
[136,null,"-DNA"]
[137,null,"-DNA"]
[138,null,"-DNA"]
[139,null,"-DNA"]
[140,null,"-DNA"]
[141,null,"-DNA"]
[142,null,"-DNA"]
[143,null,"-DNA"]
[144,null,"-DNA"]
[145,null,"-DNA"]
[146,null,"-DNA"]
[147,null,"-DNA"]
[148,null,"-DNA"]
[149,null,"-DNA"]
[150,null,"-DNA"]
[151,null,"-DNA"]
[152,null,"-DNA"]
[153,null,"-DNA"]
[154,null,"-DNA"]
[155,null,"-DNA"]
[156,null,"-DNA"]
[157,null,"-DNA"]
[158,null,"-DNA"]
[159,null,"-DNA"]
[160,null,"-DNA"]
[161,null,"-DNA"]
[162,null,"-DNA"]
[163,null,"-DNA"]
[164,null,"-DNA"]
[165,null,"-DNA"]
[166,null,"-DNA"]
[167,null,"-DNA"]
[168,null,"-DNA"]
[169,null,"-DNA"]
[170,null,"-DNA"]
[171,null,"-DNA"]
[172,null,"-DNA"]
[173,null,"-DNA"]
[174,null,"-DNA"]
[175,null,"-DNA"]
[176,null,"-DNA"]
[177,null,"-DNA"]
[178,null,"-DNA"]
[179,null,"-DNA"]
[180,null,"-DNA"]
[181,null,"-DNA"]
[182,null,"-DNA"]
[183,null,"-DNA"]
[184,null,"-DNA"]
[185,null,"-DNA"]
[186,null,"-DNA"]
[187,null,"-DNA"]
[188,null,"-DNA"]
[189,null,"-DNA"]
[190,null,"-DNA"]
[191,null,"-DNA"]
[192,null,"-DNA"]
[193,null,"-DNA"]
[194,null,{"$f":"CONCATENATE(B195,\"-DNA\")","v":"-DNA"}]
[195,null,"-DNA"]
[196,null,"-DNA"]
[197,null,"-DNA"]
[198,null,"-DNA"]
[199,null,"-DNA"]
[200,null,"-DNA"]
[201,null,"-DNA"]
[202,null,"-DNA"]
[203,null,"-DNA"]
[204,null,"-DNA"]
[205,null,"-DNA"]
[206,null,"-DNA"]
[207,null,"-DNA"]
[208,null,"-DNA"]
[209,null,"-DNA"]
[210,null,"-DNA"]
[211,null,"-DNA"]
[212,null,"-DNA"]
[213,null,"-DNA"]
[214,null,"-DNA"]
[215,null,"-DNA"]
[216,null,"-DNA"]
[217,null,"-DNA"]
[218,null,"-DNA"]
[219,null,"-DNA"]
[220,null,"-DNA"]
[221,null,"-DNA"]
[222,null,"-DNA"]
[223,null,"-DNA"]
[224,null,"-DNA"]
[225,null,"-DNA"]
[226,null,"-DNA"]
[227,null,"-DNA"]
[228,null,"-DNA"]
[229,null,"-DNA"]
[230,null,"-DNA"]
[231,null,"-DNA"]
[232,null,"-DNA"]
[233,null,"-DNA"]
[234,null,"-DNA"]
[235,null,"-DNA"]
[236,null,"-DNA"]
[237,null,"-DNA"]
[238,null,"-DNA"]
[239,null,"-DNA"]
[240,null,"-DNA"]
[241,null,"-DNA"]
[242,null,"-DNA"]
[243,null,"-DNA"]
[244,null,"-DNA"]
[245,null,"-DNA"]
[246,null,"-DNA"]
[247,null,"-DNA"]
[248,null,"-DNA"]
[249,null,"-DNA"]
[250,null,"-DNA"]
[251,null,"-DNA"]
[252,null,"-DNA"]
[253,null,"-DNA"]
[254,null,"-DNA"]
[255,null,"-DNA"]
[256,null,"-DNA"]
[257,null,"-DNA"]
[258,null,{"$f":"CONCATENATE(B259,\"-DNA\")","v":"-DNA"}]
[259,null,"-DNA"]
[260,null,"-DNA"]
[261,null,"-DNA"]
[262,null,"-DNA"]
[263,null,"-DNA"]
[264,null,"-DNA"]
[265,null,"-DNA"]
[266,null,"-DNA"]
[267,null,"-DNA"]
[268,null,"-DNA"]
[269,null,"-DNA"]
[270,null,"-DNA"]
[271,null,"-DNA"]
[272,null,"-DNA"]
[273,null,"-DNA"]
[274,null,"-DNA"]
[275,null,"-DNA"]
[276,null,"-DNA"]
[277,null,"-DNA"]
[278,null,"-DNA"]
[279,null,"-DNA"]
[280,null,"-DNA"]
[281,null,"-DNA"]
[282,null,"-DNA"]
[283,null,"-DNA"]
[284,null,"-DNA"]
[285,null,"-DNA"]
[286,null,"-DNA"]
[287,null,"-DNA"]
[288,null,"-DNA"]
[289,null,"-DNA"]
[290,null,"-DNA"]
[291,null,"-DNA"]
[292,null,"-DNA"]
[293,null,"-DNA"]
[294,null,"-DNA"]
[295,null,"-DNA"]
[296,null,"-DNA"]
[297,null,"-DNA"]
[298,null,"-DNA"]
[299,null,"-DNA"]
[300,null,"-DNA"]
[301,null,"-DNA"]
[302,null,"-DNA"]
[303,null,"-DNA"]
[304,null,"-DNA"]
[305,null,"-DNA"]
[306,null,"-DNA"]
[307,null,"-DNA"]
[308,null,"-DNA"]
[309,null,"-DNA"]
[310,null,"-DNA"]
[311,null,"-DNA"]
[312,null,"-DNA"]
[313,null,"-DNA"]
[314,null,"-DNA"]
[315,null,"-DNA"]
[316,null,"-DNA"]
[317,null,"-DNA"]
[318,null,"-DNA"]
[319,null,"-DNA"]
[320,null,"-DNA"]
[321,null,"-DNA"]
[322,null,{"$f":"CONCATENATE(B323,\"-DNA\")","v":"-DNA"}]
[323,null,"-DNA"]
[324,null,"-DNA"]
[325,null,"-DNA"]
[326,null,"-DNA"]
[327,null,"-DNA"]
[328,null,"-DNA"]
[329,null,"-DNA"]
[330,null,"-DNA"]
[331,null,"-DNA"]
[332,null,"-DNA"]
[333,null,"-DNA"]
[334,null,"-DNA"]
[335,null,"-DNA"]
[336,null,"-DNA"]
[337,null,"-DNA"]
[338,null,"-DNA"]
[339,null,"-DNA"]
[340,null,"-DNA"]
[341,null,"-DNA"]
[342,null,"-DNA"]
[343,null,"-DNA"]
[344,null,"-DNA"]
[345,null,"-DNA"]
[346,null,"-DNA"]
[347,null,"-DNA"]
[348,null,"-DNA"]
[349,null,"-DNA"]
[350,null,"-DNA"]
[351,null,"-DNA"]
[352,null,"-DNA"]
[353,null,"-DNA"]
[354,null,"-DNA"]
[355,null,"-DNA"]
[356,null,"-DNA"]
[357,null,"-DNA"]
[358,null,"-DNA"]
[359,null,"-DNA"]
[360,null,"-DNA"]
[361,null,"-DNA"]
[362,null,"-DNA"]
[363,null,"-DNA"]
[364,null,"-DNA"]
[365,null,"-DNA"]
[366,null,"-DNA"]
[367,null,"-DNA"]
[368,null,"-DNA"]
[369,null,"-DNA"]
[370,null,"-DNA"]
[371,null,"-DNA"]
[372,null,"-DNA"]
[373,null,"-DNA"]
[374,null,"-DNA"]
[375,null,"-DNA"]
[376,null,"-DNA"]
[377,null,"-DNA"]
[378,null,"-DNA"]
[379,null,"-DNA"]
[380,null,"-DNA"]
[381,null,"-DNA"]
[382,null,"-DNA"]
[383,null,"-DNA"]
[384,null,"-DNA"]
[385,null,"-DNA"]
[386,null,{"$f":"CONCATENATE(B387,\"-DNA\")","v":"-DNA"}]
[387,null,"-DNA"]
[388,null,"-DNA"]
[389,null,"-DNA"]
[390,null,"-DNA"]
[391,null,"-DNA"]
[392,null,"-DNA"]
[393,null,"-DNA"]
[394,null,"-DNA"]
[395,null,"-DNA"]
[396,null,"-DNA"]
[397,null,"-DNA"]
[398,null,"-DNA"]
[399,null,"-DNA"]
[400,null,"-DNA"]
[401,null,{"$f":"CONCATENATE(B402,\"-DNA\")","v":"-DNA"}]
[402,null,"-DNA"]
[403,null,"-DNA"]
[404,null,"-DNA"]
[405,null,"-DNA"]
[406,null,"-DNA"]
[407,null,"-DNA"]
[408,null,"-DNA"]
[409,null,"-DNA"]
[410,null,"-DNA"]
[411,null,"-DNA"]
[412,null,"-DNA"]
[413,null,"-DNA"]
[414,null,"-DNA"]
[415,null,"-DNA"]
[416,null,"-DNA"]
[417,null,"-DNA"]
[418,null,"-DNA"]
[419,null,"-DNA"]
[420,null,"-DNA"]
[421,null,"-DNA"]
[422,null,"-DNA"]
[423,null,"-DNA"]
[424,null,"-DNA"]
[425,null,"-DNA"]
[426,null,"-DNA"]
[427,null,"-DNA"]
[428,null,"-DNA"]
[429,null,"-DNA"]
[430,null,"-DNA"]
[431,null,"-DNA"]
[432,null,"-DNA"]
[433,null,"-DNA"]
[434,null,"-DNA"]
[435,null,"-DNA"]
[436,null,"-DNA"]
[437,null,"-DNA"]
[438,null,"-DNA"]
[439,null,"-DNA"]
[440,null,"-DNA"]
[441,null,"-DNA"]
[442,null,"-DNA"]
[443,null,"-DNA"]
[444,null,"-DNA"]
[445,null,"-DNA"]
[446,null,"-DNA"]
[447,null,"-DNA"]
[448,null,"-DNA"]
[449,null,"-DNA"]
[450,null,"-DNA"]
[451,null,"-DNA"]
[452,null,"-DNA"]
[453,null,"-DNA"]
[454,null,"-DNA"]
[455,null,"-DNA"]
[456,null,"-DNA"]
[457,null,"-DNA"]
[458,null,"-DNA"]
[459,null,"-DNA"]
[460,null,"-DNA"]
[461,null,"-DNA"]
[462,null,"-DNA"]
[463,null,"-DNA"]
[464,null,"-DNA"]
[465,null,{"$f":"CONCATENATE(B466,\"-DNA\")","v":"-DNA"}]
[466,null,"-DNA"]
[467,null,"-DNA"]
[468,null,"-DNA"]
[469,null,"-DNA"]
[470,null,"-DNA"]
[471,null,"-DNA"]
[472,null,"-DNA"]
[473,null,"-DNA"]
[474,null,"-DNA"]
[475,null,"-DNA"]
[476,null,"-DNA"]
[477,null,"-DNA"]
[478,null,"-DNA"]
[479,null,"-DNA"]
[480,null,"-DNA"]
[481,null,"-DNA"]
[482,null,"-DNA"]
[483,null,"-DNA"]
[484,null,"-DNA"]
[485,null,"-DNA"]
[486,null,"-DNA"]
[487,null,"-DNA"]
[488,null,"-DNA"]
[489,null,"-DNA"]
[490,null,"-DNA"]
[491,null,"-DNA"]
[492,null,"-DNA"]
[493,null,"-DNA"]
[494,null,"-DNA"]
[495,null,"-DNA"]
[496,null,"-DNA"]
[497,null,"-DNA"]
[498,null,"-DNA"]
[499,null,"-DNA"]
[500,null,"-DNA"]

{"sheet":"Sample Submission","index":2,"n_rows":577,"n_cols":6,"rows_kept":577,"cut":false,"hidden":true,"merged":[]}
[null,"Order number","Sample_ID\n(Max. 10 characters)\nNo SPACE within name","Sample_Type","Submission Date","User_Name"]
[1,{"$f":"'Sample Information'!$H$6","v":0},{"$f":"'Sample Information'!B51","v":0},{"$f":"'Sample Information'!D2","v":"Frozen Tissue"},{"$f":"'Sample Information'!$H$5","v":"00:00:00"}]
[2,{"$f":"'Sample Information'!$H$6","v":0},{"$f":"'Sample Information'!B52","v":0},{"$f":"'Sample Information'!D3","v":0},{"$f":"'Sample Information'!$H$5","v":"00:00:00"}]
[3,{"$f":"'Sample Information'!$H$6","v":0},{"$f":"'Sample Information'!B53","v":0},{"$f":"'Sample Information'!D4","v":0},{"$f":"'Sample Information'!$H$5","v":"00:00:00"}]
[4,{"$f":"'Sample Information'!$H$6","v":0},{"$f":"'Sample Information'!B54","v":0},{"$f":"'Sample Information'!D5","v":0},{"$f":"'Sample Information'!$H$5","v":"00:00:00"}]
[5,{"$f":"'Sample Information'!$H$6","v":0},{"$f":"'Sample Information'!B55","v":0},{"$f":"'Sample Information'!D6","v":0},{"$f":"'Sample Information'!$H$5","v":"00:00:00"}]
[6,{"$f":"'Sample Information'!$H$6","v":0},{"$f":"'Sample Information'!B56","v":0},{"$f":"'Sample Information'!D7","v":0},{"$f":"'Sample Information'!$H$5","v":"00:00:00"}]
[7,{"$f":"'Sample Information'!$H$6","v":0},{"$f":"'Sample Information'!B57","v":0},{"$f":"'Sample Information'!D8","v":0},{"$f":"'Sample Information'!$H$5","v":"00:00:00"}]
[8,{"$f":"'Sample Information'!$H$6","v":0},{"$f":"'Sample Information'!B58","v":0},{"$f":"'Sample Information'!D9","v":0},{"$f":"'Sample Information'!$H$5","v":"00:00:00"}]
[9,{"$f":"'Sample Information'!$H$6","v":0},{"$f":"'Sample Information'!B59","v":0},{"$f":"'Sample Information'!D10","v":0},{"$f":"'Sample Information'!$H$5","v":"00:00:00"}]
[10,{"$f":"'Sample Information'!$H$6","v":0},{"$f":"'Sample Information'!B60","v":0},{"$f":"'Sample Information'!D11","v":0},{"$f":"'Sample Information'!$H$5","v":"00:00:00"}]
[11,{"$f":"'Sample Information'!$H$6","v":0},{"$f":"'Sample Information'!B61","v":0},{"$f":"'Sample Information'!D12","v":0},{"$f":"'Sample Information'!$H$5","v":"00:00:00"}]
[12,{"$f":"'Sample Information'!$H$6","v":0},{"$f":"'Sample Information'!B62","v":0},{"$f":"'Sample Information'!D13","v":0},{"$f":"'Sample Information'!$H$5","v":"00:00:00"}]
[13,{"$f":"'Sample Information'!$H$6","v":0},{"$f":"'Sample Information'!B63","v":0},{"$f":"'Sample Information'!D14","v":0},{"$f":"'Sample Information'!$H$5","v":"00:00:00"}]
[14,{"$f":"'Sample Information'!$H$6","v":0},{"$f":"'Sample Information'!B64","v":0},{"$f":"'Sample Information'!D15","v":0},{"$f":"'Sample Information'!$H$5","v":"00:00:00"}]
[15,{"$f":"'Sample Information'!$H$6","v":0},{"$f":"'Sample Information'!B65","v":0},{"$f":"'Sample Information'!D16","v":0},{"$f":"'Sample Information'!$H$5","v":"00:00:00"}]
[16,{"$f":"'Sample Information'!$H$6","v":0},{"$f":"'Sample Information'!B66","v":0},{"$f":"'Sample Information'!D17","v":0},{"$f":"'Sample Information'!$H$5","v":"00:00:00"}]
[17,{"$f":"'Sample Information'!$H$6","v":0},{"$f":"'Sample Information'!B67","v":0},{"$f":"'Sample Information'!D18","v":0},{"$f":"'Sample Information'!$H$5","v":"00:00:00"}]
[18,{"$f":"'Sample Information'!$H$6","v":0},{"$f":"'Sample Information'!B68","v":0},{"$f":"'Sample Information'!D19","v":0},{"$f":"'Sample Information'!$H$5","v":"00:00:00"}]
[19,{"$f":"'Sample Information'!$H$6","v":0},{"$f":"'Sample Information'!B69","v":0},{"$f":"'Sample Information'!D20","v":0},{"$f":"'Sample Information'!$H$5","v":"00:00:00"}]
[20,{"$f":"'Sample Information'!$H$6","v":0},{"$f":"'Sample Information'!B70","v":0},{"$f":"'Sample Information'!D21","v":0},{"$f":"'Sample Information'!$H$5","v":"00:00:00"}]
[21,{"$f":"'Sample Information'!$H$6","v":0},{"$f":"'Sample Information'!B71","v":0},{"$f":"'Sample Information'!D22","v":0},{"$f":"'Sample Information'!$H$5","v":"00:00:00"}]
[22,{"$f":"'Sample Information'!$H$6","v":0},{"$f":"'Sample Information'!B72","v":0},{"$f":"'Sample Information'!D23","v":0},{"$f":"'Sample Information'!$H$5","v":"00:00:00"}]
[23,{"$f":"'Sample Information'!$H$6","v":0},{"$f":"'Sample Information'!B73","v":0},{"$f":"'Sample Information'!D24","v":0},{"$f":"'Sample Information'!$H$5","v":"00:00:00"}]
[24,{"$f":"'Sample Information'!$H$6","v":0},{"$f":"'Sample Information'!B74","v":0},{"$f":"'Sample Information'!D25","v":0},{"$f":"'Sample Information'!$H$5","v":"00:00:00"}]
[25,{"$f":"'Sample Information'!$H$6","v":0},{"$f":"'Sample Information'!B75","v":0},{"$f":"'Sample Information'!D26","v":0},{"$f":"'Sample Information'!$H$5","v":"00:00:00"}]
[26,{"$f":"'Sample Information'!$H$6","v":0},{"$f":"'Sample Information'!B76","v":0},{"$f":"'Sample Information'!D27","v":0},{"$f":"'Sample Information'!$H$5","v":"00:00:00"}]
[27,{"$f":"'Sample Information'!$H$6","v":0},{"$f":"'Sample Information'!B77","v":0},{"$f":"'Sample Information'!D28","v":0},{"$f":"'Sample Information'!$H$5","v":"00:00:00"}]
[28,{"$f":"'Sample Information'!$H$6","v":0},{"$f":"'Sample Information'!B78","v":0},{"$f":"'Sample Information'!D29","v":0},{"$f":"'Sample Information'!$H$5","v":"00:00:00"}]
[29,{"$f":"'Sample Information'!$H$6","v":0},{"$f":"'Sample Information'!B79","v":0},{"$f":"'Sample Information'!D30","v":0},{"$f":"'Sample Information'!$H$5","v":"00:00:00"}]
[30,{"$f":"'Sample Information'!$H$6","v":0},{"$f":"'Sample Information'!B80","v":0},{"$f":"'Sample Information'!D31","v":0},{"$f":"'Sample Information'!$H$5","v":"00:00:00"}]
[31,{"$f":"'Sample Information'!$H$6","v":0},{"$f":"'Sample Information'!B81","v":0},{"$f":"'Sample Information'!D32","v":0},{"$f":"'Sample Information'!$H$5","v":"00:00:00"}]
[32,{"$f":"'Sample Information'!$H$6","v":0},{"$f":"'Sample Information'!B82","v":0},{"$f":"'Sample Information'!D33","v":0},{"$f":"'Sample Information'!$H$5","v":"00:00:00"}]
[33,{"$f":"'Sample Information'!$H$6","v":0},{"$f":"'Sample Information'!B83","v":0},{"$f":"'Sample Information'!D34","v":0},{"$f":"'Sample Information'!$H$5","v":"00:00:00"}]
[34,{"$f":"'Sample Information'!$H$6","v":0},{"$f":"'Sample Information'!B84","v":0},{"$f":"'Sample Information'!D35","v":0},{"$f":"'Sample Information'!$H$5","v":"00:00:00"}]
[35,{"$f":"'Sample Information'!$H$6","v":0},{"$f":"'Sample Information'!B85","v":0},{"$f":"'Sample Information'!D36","v":0},{"$f":"'Sample Information'!$H$5","v":"00:00:00"}]
[36,{"$f":"'Sample Information'!$H$6","v":0},{"$f":"'Sample Information'!B86","v":0},{"$f":"'Sample Information'!D37","v":0},{"$f":"'Sample Information'!$H$5","v":"00:00:00"}]
[37,{"$f":"'Sample Information'!$H$6","v":0},{"$f":"'Sample Information'!B87","v":0},{"$f":"'Sample Information'!D38","v":0},{"$f":"'Sample Information'!$H$5","v":"00:00:00"}]
[38,{"$f":"'Sample Information'!$H$6","v":0},{"$f":"'Sample Information'!B88","v":0},{"$f":"'Sample Information'!D39","v":0},{"$f":"'Sample Information'!$H$5","v":"00:00:00"}]
[39,{"$f":"'Sample Information'!$H$6","v":0},{"$f":"'Sample Information'!B89","v":0},{"$f":"'Sample Information'!D40","v":0},{"$f":"'Sample Information'!$H$5","v":"00:00:00"}]
[40,{"$f":"'Sample Information'!$H$6","v":0},{"$f":"'Sample Information'!B90","v":0},{"$f":"'Sample Information'!D41","v":0},{"$f":"'Sample Information'!$H$5","v":"00:00:00"}]
[41,{"$f":"'Sample Information'!$H$6","v":0},{"$f":"'Sample Information'!B91","v":0},{"$f":"'Sample Information'!D42","v":0},{"$f":"'Sample Information'!$H$5","v":"00:00:00"}]
[42,{"$f":"'Sample Information'!$H$6","v":0},{"$f":"'Sample Information'!B92","v":0},{"$f":"'Sample Information'!D43","v":0},{"$f":"'Sample Information'!$H$5","v":"00:00:00"}]
[43,{"$f":"'Sample Information'!$H$6","v":0},{"$f":"'Sample Information'!B93","v":0},{"$f":"'Sample Information'!D44","v":0},{"$f":"'Sample Information'!$H$5","v":"00:00:00"}]
[44,{"$f":"'Sample Information'!$H$6","v":0},{"$f":"'Sample Information'!B94","v":0},{"$f":"'Sample Information'!D45","v":0},{"$f":"'Sample Information'!$H$5","v":"00:00:00"}]
[45,{"$f":"'Sample Information'!$H$6","v":0},{"$f":"'Sample Information'!B95","v":0},{"$f":"'Sample Information'!D46","v":0},{"$f":"'Sample Information'!$H$5","v":"00:00:00"}]
[46,{"$f":"'Sample Information'!$H$6","v":0},{"$f":"'Sample Information'!B96","v":0},{"$f":"'Sample Information'!D47","v":0},{"$f":"'Sample Information'!$H$5","v":"00:00:00"}]
[47,{"$f":"'Sample Information'!$H$6","v":0},{"$f":"'Sample Information'!B97","v":0},{"$f":"'Sample Information'!D48","v":0},{"$f":"'Sample Information'!$H$5","v":"00:00:00"}]
[48,{"$f":"'Sample Information'!$H$6","v":0},{"$f":"'Sample Information'!B98","v":0},{"$f":"'Sample Information'!D49","v":0},{"$f":"'Sample Information'!$H$5","v":"00:00:00"}]
[49,{"$f":"'Sample Information'!$H$6","v":0},{"$f":"'Sample Information'!B99","v":0},{"$f":"'Sample Information'!D50","v":0},{"$f":"'Sample Information'!$H$5","v":"00:00:00"}]
[50,{"$f":"'Sample Information'!$H$6","v":0},{"$f":"'Sample Information'!B100","v":0},{"$f":"'Sample Information'!D51","v":0},{"$f":"'Sample Information'!$H$5","v":"00:00:00"}]
[51,{"$f":"'Sample Information'!$H$6","v":0},{"$f":"'Sample Information'!B101","v":0},{"$f":"'Sample Information'!D52","v":0},{"$f":"'Sample Information'!$H$5","v":"00:00:00"}]
[52,{"$f":"'Sample Information'!$H$6","v":0},{"$f":"'Sample Information'!B102","v":0},{"$f":"'Sample Information'!D53","v":0},{"$f":"'Sample Information'!$H$5","v":"00:00:00"}]
[53,{"$f":"'Sample Information'!$H$6","v":0},{"$f":"'Sample Information'!B103","v":0},{"$f":"'Sample Information'!D54","v":0},{"$f":"'Sample Information'!$H$5","v":"00:00:00"}]
[54,{"$f":"'Sample Information'!$H$6","v":0},{"$f":"'Sample Information'!B104","v":0},{"$f":"'Sample Information'!D55","v":0},{"$f":"'Sample Information'!$H$5","v":"00:00:00"}]
[55,{"$f":"'Sample Information'!$H$6","v":0},{"$f":"'Sample Information'!B105","v":0},{"$f":"'Sample Information'!D56","v":0},{"$f":"'Sample Information'!$H$5","v":"00:00:00"}]
[56,{"$f":"'Sample Information'!$H$6","v":0},{"$f":"'Sample Information'!B106","v":0},{"$f":"'Sample Information'!D57","v":0},{"$f":"'Sample Information'!$H$5","v":"00:00:00"}]
[57,{"$f":"'Sample Information'!$H$6","v":0},{"$f":"'Sample Information'!B107","v":0},{"$f":"'Sample Information'!D58","v":0},{"$f":"'Sample Information'!$H$5","v":"00:00:00"}]
[58,{"$f":"'Sample Information'!$H$6","v":0},{"$f":"'Sample Information'!B108","v":0},{"$f":"'Sample Information'!D59","v":0},{"$f":"'Sample Information'!$H$5","v":"00:00:00"}]
[59,{"$f":"'Sample Information'!$H$6","v":0},{"$f":"'Sample Information'!B109","v":0},{"$f":"'Sample Information'!D60","v":0},{"$f":"'Sample Information'!$H$5","v":"00:00:00"}]
[60,{"$f":"'Sample Information'!$H$6","v":0},{"$f":"'Sample Information'!B110","v":0},{"$f":"'Sample Information'!D61","v":0},{"$f":"'Sample Information'!$H$5","v":"00:00:00"}]
[61,{"$f":"'Sample Information'!$H$6","v":0},{"$f":"'Sample Information'!B111","v":0},{"$f":"'Sample Information'!D62","v":0},{"$f":"'Sample Information'!$H$5","v":"00:00:00"}]
[62,{"$f":"'Sample Information'!$H$6","v":0},{"$f":"'Sample Information'!B112","v":0},{"$f":"'Sample Information'!D63","v":0},{"$f":"'Sample Information'!$H$5","v":"00:00:00"}]
[63,{"$f":"'Sample Information'!$H$6","v":0},{"$f":"'Sample Information'!B113","v":0},{"$f":"'Sample Information'!D64","v":0},{"$f":"'Sample Information'!$H$5","v":"00:00:00"}]
[64,{"$f":"'Sample Information'!$H$6","v":0},{"$f":"'Sample Information'!B114","v":0},{"$f":"'Sample Information'!D65","v":0},{"$f":"'Sample Information'!$H$5","v":"00:00:00"}]
[65,{"$f":"'Sample Information'!$H$6","v":0},{"$f":"'Sample Information'!B115","v":0},{"$f":"'Sample Information'!D66","v":0},{"$f":"'Sample Information'!$H$5","v":"00:00:00"}]
[66,{"$f":"'Sample Information'!$H$6","v":0},{"$f":"'Sample Information'!B116","v":0},{"$f":"'Sample Information'!D67","v":0},{"$f":"'Sample Information'!$H$5","v":"00:00:00"}]
[67,{"$f":"'Sample Information'!$H$6","v":0},{"$f":"'Sample Information'!B117","v":0},{"$f":"'Sample Information'!D68","v":0},{"$f":"'Sample Information'!$H$5","v":"00:00:00"}]
[68,{"$f":"'Sample Information'!$H$6","v":0},{"$f":"'Sample Information'!B118","v":0},{"$f":"'Sample Information'!D69","v":0},{"$f":"'Sample Information'!$H$5","v":"00:00:00"}]
[69,{"$f":"'Sample Information'!$H$6","v":0},{"$f":"'Sample Information'!B119","v":0},{"$f":"'Sample Information'!D70","v":0},{"$f":"'Sample Information'!$H$5","v":"00:00:00"}]
[70,{"$f":"'Sample Information'!$H$6","v":0},{"$f":"'Sample Information'!B120","v":0},{"$f":"'Sample Information'!D71","v":0},{"$f":"'Sample Information'!$H$5","v":"00:00:00"}]
[71,{"$f":"'Sample Information'!$H$6","v":0},{"$f":"'Sample Information'!B121","v":0},{"$f":"'Sample Information'!D72","v":0},{"$f":"'Sample Information'!$H$5","v":"00:00:00"}]
[72,{"$f":"'Sample Information'!$H$6","v":0},{"$f":"'Sample Information'!B122","v":0},{"$f":"'Sample Information'!D73","v":0},{"$f":"'Sample Information'!$H$5","v":"00:00:00"}]
[73,{"$f":"'Sample Information'!$H$6","v":0},{"$f":"'Sample Information'!B123","v":0},{"$f":"'Sample Information'!D74","v":0},{"$f":"'Sample Information'!$H$5","v":"00:00:00"}]
[74,{"$f":"'Sample Information'!$H$6","v":0},{"$f":"'Sample Information'!B124","v":0},{"$f":"'Sample Information'!D75","v":0},{"$f":"'Sample Information'!$H$5","v":"00:00:00"}]
[75,{"$f":"'Sample Information'!$H$6","v":0},{"$f":"'Sample Information'!B125","v":0},{"$f":"'Sample Information'!D76","v":0},{"$f":"'Sample Information'!$H$5","v":"00:00:00"}]
[76,{"$f":"'Sample Information'!$H$6","v":0},{"$f":"'Sample Information'!B126","v":0},{"$f":"'Sample Information'!D77","v":0},{"$f":"'Sample Information'!$H$5","v":"00:00:00"}]
[77,{"$f":"'Sample Information'!$H$6","v":0},{"$f":"'Sample Information'!B127","v":0},{"$f":"'Sample Information'!D78","v":0},{"$f":"'Sample Information'!$H$5","v":"00:00:00"}]
[78,{"$f":"'Sample Information'!$H$6","v":0},{"$f":"'Sample Information'!B128","v":0},{"$f":"'Sample Information'!D79","v":0},{"$f":"'Sample Information'!$H$5","v":"00:00:00"}]
[79,{"$f":"'Sample Information'!$H$6","v":0},{"$f":"'Sample Information'!B129","v":0},{"$f":"'Sample Information'!D80","v":0},{"$f":"'Sample Information'!$H$5","v":"00:00:00"}]
[80,{"$f":"'Sample Information'!$H$6","v":0},{"$f":"'Sample Information'!B130","v":0},{"$f":"'Sample Information'!D81","v":0},{"$f":"'Sample Information'!$H$5","v":"00:00:00"}]
[81,{"$f":"'Sample Information'!$H$6","v":0},{"$f":"'Sample Information'!B131","v":0},{"$f":"'Sample Information'!D82","v":0},{"$f":"'Sample Information'!$H$5","v":"00:00:00"}]
[82,{"$f":"'Sample Information'!$H$6","v":0},{"$f":"'Sample Information'!B132","v":0},{"$f":"'Sample Information'!D83","v":0},{"$f":"'Sample Information'!$H$5","v":"00:00:00"}]
[83,{"$f":"'Sample Information'!$H$6","v":0},{"$f":"'Sample Information'!B133","v":0},{"$f":"'Sample Information'!D84","v":0},{"$f":"'Sample Information'!$H$5","v":"00:00:00"}]
[84,{"$f":"'Sample Information'!$H$6","v":0},{"$f":"'Sample Information'!B134","v":0},{"$f":"'Sample Information'!D85","v":0},{"$f":"'Sample Information'!$H$5","v":"00:00:00"}]
[85,{"$f":"'Sample Information'!$H$6","v":0},{"$f":"'Sample Information'!B135","v":0},{"$f":"'Sample Information'!D86","v":0},{"$f":"'Sample Information'!$H$5","v":"00:00:00"}]
[86,{"$f":"'Sample Information'!$H$6","v":0},{"$f":"'Sample Information'!B136","v":0},{"$f":"'Sample Information'!D87","v":0},{"$f":"'Sample Information'!$H$5","v":"00:00:00"}]
[87,{"$f":"'Sample Information'!$H$6","v":0},{"$f":"'Sample Information'!B137","v":0},{"$f":"'Sample Information'!D88","v":0},{"$f":"'Sample Information'!$H$5","v":"00:00:00"}]
[88,{"$f":"'Sample Information'!$H$6","v":0},{"$f":"'Sample Information'!B138","v":0},{"$f":"'Sample Information'!D89","v":0},{"$f":"'Sample Information'!$H$5","v":"00:00:00"}]
[89,{"$f":"'Sample Information'!$H$6","v":0},{"$f":"'Sample Information'!B139","v":0},{"$f":"'Sample Information'!D90","v":0},{"$f":"'Sample Information'!$H$5","v":"00:00:00"}]
[90,{"$f":"'Sample Information'!$H$6","v":0},{"$f":"'Sample Information'!B140","v":0},{"$f":"'Sample Information'!D91","v":0},{"$f":"'Sample Information'!$H$5","v":"00:00:00"}]
[91,{"$f":"'Sample Information'!$H$6","v":0},{"$f":"'Sample Information'!B141","v":0},{"$f":"'Sample Information'!D92","v":0},{"$f":"'Sample Information'!$H$5","v":"00:00:00"}]
[92,{"$f":"'Sample Information'!$H$6","v":0},{"$f":"'Sample Information'!B142","v":0},{"$f":"'Sample Information'!D93","v":0},{"$f":"'Sample Information'!$H$5","v":"00:00:00"}]
[93,{"$f":"'Sample Information'!$H$6","v":0},{"$f":"'Sample Information'!B143","v":0},{"$f":"'Sample Information'!D94","v":0},{"$f":"'Sample Information'!$H$5","v":"00:00:00"}]
[94,{"$f":"'Sample Information'!$H$6","v":0},{"$f":"'Sample Information'!B144","v":0},{"$f":"'Sample Information'!D95","v":0},{"$f":"'Sample Information'!$H$5","v":"00:00:00"}]
[95,{"$f":"'Sample Information'!$H$6","v":0},{"$f":"'Sample Information'!B145","v":0},{"$f":"'Sample Information'!D96","v":0},{"$f":"'Sample Information'!$H$5","v":"00:00:00"}]
[96,{"$f":"'Sample Information'!$H$6","v":0},{"$f":"'Sample Information'!B146","v":0},{"$f":"'Sample Information'!D97","v":0},{"$f":"'Sample Information'!$H$5","v":"00:00:00"}]
[97,{"$f":"'Sample Information'!$H$6","v":0},{"$f":"'Sample Information'!B147","v":0},{"$f":"'Sample Information'!D98","v":0},{"$f":"'Sample Information'!$H$5","v":"00:00:00"}]
[98,{"$f":"'Sample Information'!$H$6","v":0},{"$f":"'Sample Information'!B148","v":0},{"$f":"'Sample Information'!D99","v":0},{"$f":"'Sample Information'!$H$5","v":"00:00:00"}]
[99,{"$f":"'Sample Information'!$H$6","v":0},{"$f":"'Sample Information'!B149","v":0},{"$f":"'Sample Information'!D100","v":0},{"$f":"'Sample Information'!$H$5","v":"00:00:00"}]
[100,{"$f":"'Sample Information'!$H$6","v":0},{"$f":"'Sample Information'!B150","v":0},{"$f":"'Sample Information'!D101","v":0},{"$f":"'Sample Information'!$H$5","v":"00:00:00"}]
[101,{"$f":"'Sample Information'!$H$6","v":0},{"$f":"'Sample Information'!B151","v":0},{"$f":"'Sample Information'!D102","v":0},{"$f":"'Sample Information'!$H$5","v":"00:00:00"}]
[102,{"$f":"'Sample Information'!$H$6","v":0},{"$f":"'Sample Information'!B152","v":0},{"$f":"'Sample Information'!D103","v":0},{"$f":"'Sample Information'!$H$5","v":"00:00:00"}]
[103,{"$f":"'Sample Information'!$H$6","v":0},{"$f":"'Sample Information'!B153","v":0},{"$f":"'Sample Information'!D104","v":0},{"$f":"'Sample Information'!$H$5","v":"00:00:00"}]
[104,{"$f":"'Sample Information'!$H$6","v":0},{"$f":"'Sample Information'!B154","v":0},{"$f":"'Sample Information'!D105","v":0},{"$f":"'Sample Information'!$H$5","v":"00:00:00"}]
[105,{"$f":"'Sample Information'!$H$6","v":0},{"$f":"'Sample Information'!B155","v":0},{"$f":"'Sample Information'!D106","v":0},{"$f":"'Sample Information'!$H$5","v":"00:00:00"}]
[106,{"$f":"'Sample Information'!$H$6","v":0},{"$f":"'Sample Information'!B156","v":0},{"$f":"'Sample Information'!D107","v":0},{"$f":"'Sample Information'!$H$5","v":"00:00:00"}]
[107,{"$f":"'Sample Information'!$H$6","v":0},{"$f":"'Sample Information'!B157","v":0},{"$f":"'Sample Information'!D108","v":0},{"$f":"'Sample Information'!$H$5","v":"00:00:00"}]
[108,{"$f":"'Sample Information'!$H$6","v":0},{"$f":"'Sample Information'!B158","v":0},{"$f":"'Sample Information'!D109","v":0},{"$f":"'Sample Information'!$H$5","v":"00:00:00"}]
[109,{"$f":"'Sample Information'!$H$6","v":0},{"$f":"'Sample Information'!B159","v":0},{"$f":"'Sample Information'!D110","v":0},{"$f":"'Sample Information'!$H$5","v":"00:00:00"}]
[110,{"$f":"'Sample Information'!$H$6","v":0},{"$f":"'Sample Information'!B160","v":0},{"$f":"'Sample Information'!D111","v":0},{"$f":"'Sample Information'!$H$5","v":"00:00:00"}]
[111,{"$f":"'Sample Information'!$H$6","v":0},{"$f":"'Sample Information'!B161","v":0},{"$f":"'Sample Information'!D112","v":0},{"$f":"'Sample Information'!$H$5","v":"00:00:00"}]
[112,{"$f":"'Sample Information'!$H$6","v":0},{"$f":"'Sample Information'!B162","v":0},{"$f":"'Sample Information'!D113","v":0},{"$f":"'Sample Information'!$H$5","v":"00:00:00"}]
[113,{"$f":"'Sample Information'!$H$6","v":0},{"$f":"'Sample Information'!B163","v":0},{"$f":"'Sample Information'!D114","v":0},{"$f":"'Sample Information'!$H$5","v":"00:00:00"}]
[114,{"$f":"'Sample Information'!$H$6","v":0},{"$f":"'Sample Information'!B164","v":0},{"$f":"'Sample Information'!D115","v":0},{"$f":"'Sample Information'!$H$5","v":"00:00:00"}]
[115,{"$f":"'Sample Information'!$H$6","v":0},{"$f":"'Sample Information'!B165","v":0},{"$f":"'Sample Information'!D116","v":0},{"$f":"'Sample Information'!$H$5","v":"00:00:00"}]
[116,{"$f":"'Sample Information'!$H$6","v":0},{"$f":"'Sample Information'!B166","v":0},{"$f":"'Sample Information'!D117","v":0},{"$f":"'Sample Information'!$H$5","v":"00:00:00"}]
[117,{"$f":"'Sample Information'!$H$6","v":0},{"$f":"'Sample Information'!B167","v":0},{"$f":"'Sample Information'!D118","v":0},{"$f":"'Sample Information'!$H$5","v":"00:00:00"}]
[118,{"$f":"'Sample Information'!$H$6","v":0},{"$f":"'Sample Information'!B168","v":0},{"$f":"'Sample Information'!D119","v":0},{"$f":"'Sample Information'!$H$5","v":"00:00:00"}]
[119,{"$f":"'Sample Information'!$H$6","v":0},{"$f":"'Sample Information'!B169","v":0},{"$f":"'Sample Information'!D120","v":0},{"$f":"'Sample Information'!$H$5","v":"00:00:00"}]
[120,{"$f":"'Sample Information'!$H$6","v":0},{"$f":"'Sample Information'!B170","v":0},{"$f":"'Sample Information'!D121","v":0},{"$f":"'Sample Information'!$H$5","v":"00:00:00"}]
[121,{"$f":"'Sample Information'!$H$6","v":0},{"$f":"'Sample Information'!B171","v":0},{"$f":"'Sample Information'!D122","v":0},{"$f":"'Sample Information'!$H$5","v":"00:00:00"}]
[122,{"$f":"'Sample Information'!$H$6","v":0},{"$f":"'Sample Information'!B172","v":0},{"$f":"'Sample Information'!D123","v":0},{"$f":"'Sample Information'!$H$5","v":"00:00:00"}]
[123,{"$f":"'Sample Information'!$H$6","v":0},{"$f":"'Sample Information'!B173","v":0},{"$f":"'Sample Information'!D124","v":0},{"$f":"'Sample Information'!$H$5","v":"00:00:00"}]
[124,{"$f":"'Sample Information'!$H$6","v":0},{"$f":"'Sample Information'!B174","v":0},{"$f":"'Sample Information'!D125","v":0},{"$f":"'Sample Information'!$H$5","v":"00:00:00"}]
[125,{"$f":"'Sample Information'!$H$6","v":0},{"$f":"'Sample Information'!B175","v":0},{"$f":"'Sample Information'!D126","v":0},{"$f":"'Sample Information'!$H$5","v":"00:00:00"}]
[126,{"$f":"'Sample Information'!$H$6","v":0},{"$f":"'Sample Information'!B176","v":0},{"$f":"'Sample Information'!D127","v":0},{"$f":"'Sample Information'!$H$5","v":"00:00:00"}]
[127,{"$f":"'Sample Information'!$H$6","v":0},{"$f":"'Sample Information'!B177","v":0},{"$f":"'Sample Information'!D128","v":0},{"$f":"'Sample Information'!$H$5","v":"00:00:00"}]
[128,{"$f":"'Sample Information'!$H$6","v":0},{"$f":"'Sample Information'!B178","v":0},{"$f":"'Sample Information'!D129","v":0},{"$f":"'Sample Information'!$H$5","v":"00:00:00"}]
[129,{"$f":"'Sample Information'!$H$6","v":0},{"$f":"'Sample Information'!B179","v":0},{"$f":"'Sample Information'!D130","v":0},{"$f":"'Sample Information'!$H$5","v":"00:00:00"}]
[130,{"$f":"'Sample Information'!$H$6","v":0},{"$f":"'Sample Information'!B180","v":0},{"$f":"'Sample Information'!D131","v":0},{"$f":"'Sample Information'!$H$5","v":"00:00:00"}]
[131,{"$f":"'Sample Information'!$H$6","v":0},{"$f":"'Sample Information'!B181","v":0},{"$f":"'Sample Information'!D132","v":0},{"$f":"'Sample Information'!$H$5","v":"00:00:00"}]
[132,{"$f":"'Sample Information'!$H$6","v":0},{"$f":"'Sample Information'!B182","v":0},{"$f":"'Sample Information'!D133","v":0},{"$f":"'Sample Information'!$H$5","v":"00:00:00"}]
[133,{"$f":"'Sample Information'!$H$6","v":0},{"$f":"'Sample Information'!B183","v":0},{"$f":"'Sample Information'!D134","v":0},{"$f":"'Sample Information'!$H$5","v":"00:00:00"}]
[134,{"$f":"'Sample Information'!$H$6","v":0},{"$f":"'Sample Information'!B184","v":0},{"$f":"'Sample Information'!D135","v":0},{"$f":"'Sample Information'!$H$5","v":"00:00:00"}]
[135,{"$f":"'Sample Information'!$H$6","v":0},{"$f":"'Sample Information'!B185","v":0},{"$f":"'Sample Information'!D136","v":0},{"$f":"'Sample Information'!$H$5","v":"00:00:00"}]
[136,{"$f":"'Sample Information'!$H$6","v":0},{"$f":"'Sample Information'!B186","v":0},{"$f":"'Sample Information'!D137","v":0},{"$f":"'Sample Information'!$H$5","v":"00:00:00"}]
[137,{"$f":"'Sample Information'!$H$6","v":0},{"$f":"'Sample Information'!B187","v":0},{"$f":"'Sample Information'!D138","v":0},{"$f":"'Sample Information'!$H$5","v":"00:00:00"}]
[138,{"$f":"'Sample Information'!$H$6","v":0},{"$f":"'Sample Information'!B188","v":0},{"$f":"'Sample Information'!D139","v":0},{"$f":"'Sample Information'!$H$5","v":"00:00:00"}]
[139,{"$f":"'Sample Information'!$H$6","v":0},{"$f":"'Sample Information'!B189","v":0},{"$f":"'Sample Information'!D140","v":0},{"$f":"'Sample Information'!$H$5","v":"00:00:00"}]
[140,{"$f":"'Sample Information'!$H$6","v":0},{"$f":"'Sample Information'!B190","v":0},{"$f":"'Sample Information'!D141","v":0},{"$f":"'Sample Information'!$H$5","v":"00:00:00"}]
[141,{"$f":"'Sample Information'!$H$6","v":0},{"$f":"'Sample Information'!B191","v":0},{"$f":"'Sample Information'!D142","v":0},{"$f":"'Sample Information'!$H$5","v":"00:00:00"}]
[142,{"$f":"'Sample Information'!$H$6","v":0},{"$f":"'Sample Information'!B192","v":0},{"$f":"'Sample Information'!D143","v":0},{"$f":"'Sample Information'!$H$5","v":"00:00:00"}]
[143,{"$f":"'Sample Information'!$H$6","v":0},{"$f":"'Sample Information'!B193","v":0},{"$f":"'Sample Information'!D144","v":0},{"$f":"'Sample Information'!$H$5","v":"00:00:00"}]
[144,{"$f":"'Sample Information'!$H$6","v":0},{"$f":"'Sample Information'!B194","v":0},{"$f":"'Sample Information'!D145","v":0},{"$f":"'Sample Information'!$H$5","v":"00:00:00"}]
[145,{"$f":"'Sample Information'!$H$6","v":0},{"$f":"'Sample Information'!B195","v":0},{"$f":"'Sample Information'!D146","v":0},{"$f":"'Sample Information'!$H$5","v":"00:00:00"}]
[146,{"$f":"'Sample Information'!$H$6","v":0},{"$f":"'Sample Information'!B196","v":0},{"$f":"'Sample Information'!D147","v":0},{"$f":"'Sample Information'!$H$5","v":"00:00:00"}]
[147,{"$f":"'Sample Information'!$H$6","v":0},{"$f":"'Sample Information'!B197","v":0},{"$f":"'Sample Information'!D148","v":0},{"$f":"'Sample Information'!$H$5","v":"00:00:00"}]
[148,{"$f":"'Sample Information'!$H$6","v":0},{"$f":"'Sample Information'!B198","v":0},{"$f":"'Sample Information'!D149","v":0},{"$f":"'Sample Information'!$H$5","v":"00:00:00"}]
[149,{"$f":"'Sample Information'!$H$6","v":0},{"$f":"'Sample Information'!B199","v":0},{"$f":"'Sample Information'!D150","v":0},{"$f":"'Sample Information'!$H$5","v":"00:00:00"}]
[150,{"$f":"'Sample Information'!$H$6","v":0},{"$f":"'Sample Information'!B200","v":0},{"$f":"'Sample Information'!D151","v":0},{"$f":"'Sample Information'!$H$5","v":"00:00:00"}]
[151,{"$f":"'Sample Information'!$H$6","v":0},{"$f":"'Sample Information'!B201","v":0},{"$f":"'Sample Information'!D152","v":0},{"$f":"'Sample Information'!$H$5","v":"00:00:00"}]
[152,{"$f":"'Sample Information'!$H$6","v":0},{"$f":"'Sample Information'!B202","v":0},{"$f":"'Sample Information'!D153","v":0},{"$f":"'Sample Information'!$H$5","v":"00:00:00"}]
[153,{"$f":"'Sample Information'!$H$6","v":0},{"$f":"'Sample Information'!B203","v":0},{"$f":"'Sample Information'!D154","v":0},{"$f":"'Sample Information'!$H$5","v":"00:00:00"}]
[154,{"$f":"'Sample Information'!$H$6","v":0},{"$f":"'Sample Information'!B204","v":0},{"$f":"'Sample Information'!D155","v":0},{"$f":"'Sample Information'!$H$5","v":"00:00:00"}]
[155,{"$f":"'Sample Information'!$H$6","v":0},{"$f":"'Sample Information'!B205","v":0},{"$f":"'Sample Information'!D156","v":0},{"$f":"'Sample Information'!$H$5","v":"00:00:00"}]
[156,{"$f":"'Sample Information'!$H$6","v":0},{"$f":"'Sample Information'!B206","v":0},{"$f":"'Sample Information'!D157","v":0},{"$f":"'Sample Information'!$H$5","v":"00:00:00"}]
[157,{"$f":"'Sample Information'!$H$6","v":0},{"$f":"'Sample Information'!B207","v":0},{"$f":"'Sample Information'!D158","v":0},{"$f":"'Sample Information'!$H$5","v":"00:00:00"}]
[158,{"$f":"'Sample Information'!$H$6","v":0},{"$f":"'Sample Information'!B208","v":0},{"$f":"'Sample Information'!D159","v":0},{"$f":"'Sample Information'!$H$5","v":"00:00:00"}]
[159,{"$f":"'Sample Information'!$H$6","v":0},{"$f":"'Sample Information'!B209","v":0},{"$f":"'Sample Information'!D160","v":0},{"$f":"'Sample Information'!$H$5","v":"00:00:00"}]
[160,{"$f":"'Sample Information'!$H$6","v":0},{"$f":"'Sample Information'!B210","v":0},{"$f":"'Sample Information'!D161","v":0},{"$f":"'Sample Information'!$H$5","v":"00:00:00"}]
[161,{"$f":"'Sample Information'!$H$6","v":0},{"$f":"'Sample Information'!B211","v":0},{"$f":"'Sample Information'!D162","v":0},{"$f":"'Sample Information'!$H$5","v":"00:00:00"}]
[162,{"$f":"'Sample Information'!$H$6","v":0},{"$f":"'Sample Information'!B212","v":0},{"$f":"'Sample Information'!D163","v":0},{"$f":"'Sample Information'!$H$5","v":"00:00:00"}]
[163,{"$f":"'Sample Information'!$H$6","v":0},{"$f":"'Sample Information'!B213","v":0},{"$f":"'Sample Information'!D164","v":0},{"$f":"'Sample Information'!$H$5","v":"00:00:00"}]
[164,{"$f":"'Sample Information'!$H$6","v":0},{"$f":"'Sample Information'!B214","v":0},{"$f":"'Sample Information'!D165","v":0},{"$f":"'Sample Information'!$H$5","v":"00:00:00"}]
[165,{"$f":"'Sample Information'!$H$6","v":0},{"$f":"'Sample Information'!B215","v":0},{"$f":"'Sample Information'!D166","v":0},{"$f":"'Sample Information'!$H$5","v":"00:00:00"}]
[166,{"$f":"'Sample Information'!$H$6","v":0},{"$f":"'Sample Information'!B216","v":0},{"$f":"'Sample Information'!D167","v":0},{"$f":"'Sample Information'!$H$5","v":"00:00:00"}]
[167,{"$f":"'Sample Information'!$H$6","v":0},{"$f":"'Sample Information'!B217","v":0},{"$f":"'Sample Information'!D168","v":0},{"$f":"'Sample Information'!$H$5","v":"00:00:00"}]
[168,{"$f":"'Sample Information'!$H$6","v":0},{"$f":"'Sample Information'!B218","v":0},{"$f":"'Sample Information'!D169","v":0},{"$f":"'Sample Information'!$H$5","v":"00:00:00"}]
[169,{"$f":"'Sample Information'!$H$6","v":0},{"$f":"'Sample Information'!B219","v":0},{"$f":"'Sample Information'!D170","v":0},{"$f":"'Sample Information'!$H$5","v":"00:00:00"}]
[170,{"$f":"'Sample Information'!$H$6","v":0},{"$f":"'Sample Information'!B220","v":0},{"$f":"'Sample Information'!D171","v":0},{"$f":"'Sample Information'!$H$5","v":"00:00:00"}]
[171,{"$f":"'Sample Information'!$H$6","v":0},{"$f":"'Sample Information'!B221","v":0},{"$f":"'Sample Information'!D172","v":0},{"$f":"'Sample Information'!$H$5","v":"00:00:00"}]
[172,{"$f":"'Sample Information'!$H$6","v":0},{"$f":"'Sample Information'!B222","v":0},{"$f":"'Sample Information'!D173","v":0},{"$f":"'Sample Information'!$H$5","v":"00:00:00"}]
[173,{"$f":"'Sample Information'!$H$6","v":0},{"$f":"'Sample Information'!B223","v":0},{"$f":"'Sample Information'!D174","v":0},{"$f":"'Sample Information'!$H$5","v":"00:00:00"}]
[174,{"$f":"'Sample Information'!$H$6","v":0},{"$f":"'Sample Information'!B224","v":0},{"$f":"'Sample Information'!D175","v":0},{"$f":"'Sample Information'!$H$5","v":"00:00:00"}]
[175,{"$f":"'Sample Information'!$H$6","v":0},{"$f":"'Sample Information'!B225","v":0},{"$f":"'Sample Information'!D176","v":0},{"$f":"'Sample Information'!$H$5","v":"00:00:00"}]
[176,{"$f":"'Sample Information'!$H$6","v":0},{"$f":"'Sample Information'!B226","v":0},{"$f":"'Sample Information'!D177","v":0},{"$f":"'Sample Information'!$H$5","v":"00:00:00"}]
[177,{"$f":"'Sample Information'!$H$6","v":0},{"$f":"'Sample Information'!B227","v":0},{"$f":"'Sample Information'!D178","v":0},{"$f":"'Sample Information'!$H$5","v":"00:00:00"}]
[178,{"$f":"'Sample Information'!$H$6","v":0},{"$f":"'Sample Information'!B228","v":0},{"$f":"'Sample Information'!D179","v":0},{"$f":"'Sample Information'!$H$5","v":"00:00:00"}]
[179,{"$f":"'Sample Information'!$H$6","v":0},{"$f":"'Sample Information'!B229","v":0},{"$f":"'Sample Information'!D180","v":0},{"$f":"'Sample Information'!$H$5","v":"00:00:00"}]
[180,{"$f":"'Sample Information'!$H$6","v":0},{"$f":"'Sample Information'!B230","v":0},{"$f":"'Sample Information'!D181","v":0},{"$f":"'Sample Information'!$H$5","v":"00:00:00"}]
[181,{"$f":"'Sample Information'!$H$6","v":0},{"$f":"'Sample Information'!B231","v":0},{"$f":"'Sample Information'!D182","v":0},{"$f":"'Sample Information'!$H$5","v":"00:00:00"}]
[182,{"$f":"'Sample Information'!$H$6","v":0},{"$f":"'Sample Information'!B232","v":0},{"$f":"'Sample Information'!D183","v":0},{"$f":"'Sample Information'!$H$5","v":"00:00:00"}]
[183,{"$f":"'Sample Information'!$H$6","v":0},{"$f":"'Sample Information'!B233","v":0},{"$f":"'Sample Information'!D184","v":0},{"$f":"'Sample Information'!$H$5","v":"00:00:00"}]
[184,{"$f":"'Sample Information'!$H$6","v":0},{"$f":"'Sample Information'!B234","v":0},{"$f":"'Sample Information'!D185","v":0},{"$f":"'Sample Information'!$H$5","v":"00:00:00"}]
[185,{"$f":"'Sample Information'!$H$6","v":0},{"$f":"'Sample Information'!B235","v":0},{"$f":"'Sample Information'!D186","v":0},{"$f":"'Sample Information'!$H$5","v":"00:00:00"}]
[186,{"$f":"'Sample Information'!$H$6","v":0},{"$f":"'Sample Information'!B236","v":0},{"$f":"'Sample Information'!D187","v":0},{"$f":"'Sample Information'!$H$5","v":"00:00:00"}]
[187,{"$f":"'Sample Information'!$H$6","v":0},{"$f":"'Sample Information'!B237","v":0},{"$f":"'Sample Information'!D188","v":0},{"$f":"'Sample Information'!$H$5","v":"00:00:00"}]
[188,{"$f":"'Sample Information'!$H$6","v":0},{"$f":"'Sample Information'!B238","v":0},{"$f":"'Sample Information'!D189","v":0},{"$f":"'Sample Information'!$H$5","v":"00:00:00"}]
[189,{"$f":"'Sample Information'!$H$6","v":0},{"$f":"'Sample Information'!B239","v":0},{"$f":"'Sample Information'!D190","v":0},{"$f":"'Sample Information'!$H$5","v":"00:00:00"}]
[190,{"$f":"'Sample Information'!$H$6","v":0},{"$f":"'Sample Information'!B240","v":0},{"$f":"'Sample Information'!D191","v":0},{"$f":"'Sample Information'!$H$5","v":"00:00:00"}]
[191,{"$f":"'Sample Information'!$H$6","v":0},{"$f":"'Sample Information'!B241","v":0},{"$f":"'Sample Information'!D192","v":0},{"$f":"'Sample Information'!$H$5","v":"00:00:00"}]
[192,{"$f":"'Sample Information'!$H$6","v":0},{"$f":"'Sample Information'!B242","v":0},{"$f":"'Sample Information'!D193","v":0},{"$f":"'Sample Information'!$H$5","v":"00:00:00"}]
[193,{"$f":"'Sample Information'!$H$6","v":0},{"$f":"'Sample Information'!B243","v":0},{"$f":"'Sample Information'!D194","v":0},{"$f":"'Sample Information'!$H$5","v":"00:00:00"}]
[194,{"$f":"'Sample Information'!$H$6","v":0},{"$f":"'Sample Information'!B244","v":0},{"$f":"'Sample Information'!D195","v":0},{"$f":"'Sample Information'!$H$5","v":"00:00:00"}]
[195,{"$f":"'Sample Information'!$H$6","v":0},{"$f":"'Sample Information'!B245","v":0},{"$f":"'Sample Information'!D196","v":0},{"$f":"'Sample Information'!$H$5","v":"00:00:00"}]
[196,{"$f":"'Sample Information'!$H$6","v":0},{"$f":"'Sample Information'!B246","v":0},{"$f":"'Sample Information'!D197","v":0},{"$f":"'Sample Information'!$H$5","v":"00:00:00"}]
[197,{"$f":"'Sample Information'!$H$6","v":0},{"$f":"'Sample Information'!B247","v":0},{"$f":"'Sample Information'!D198","v":0},{"$f":"'Sample Information'!$H$5","v":"00:00:00"}]
[198,{"$f":"'Sample Information'!$H$6","v":0},{"$f":"'Sample Information'!B248","v":0},{"$f":"'Sample Information'!D199","v":0},{"$f":"'Sample Information'!$H$5","v":"00:00:00"}]
[199,{"$f":"'Sample Information'!$H$6","v":0},{"$f":"'Sample Information'!B249","v":0},{"$f":"'Sample Information'!D200","v":0},{"$f":"'Sample Information'!$H$5","v":"00:00:00"}]
[200,{"$f":"'Sample Information'!$H$6","v":0},{"$f":"'Sample Information'!B250","v":0},{"$f":"'Sample Information'!D201","v":0},{"$f":"'Sample Information'!$H$5","v":"00:00:00"}]
[201,{"$f":"'Sample Information'!$H$6","v":0},{"$f":"'Sample Information'!B251","v":0},{"$f":"'Sample Information'!D202","v":0},{"$f":"'Sample Information'!$H$5","v":"00:00:00"}]
[202,{"$f":"'Sample Information'!$H$6","v":0},{"$f":"'Sample Information'!B252","v":0},{"$f":"'Sample Information'!D203","v":0},{"$f":"'Sample Information'!$H$5","v":"00:00:00"}]
[203,{"$f":"'Sample Information'!$H$6","v":0},{"$f":"'Sample Information'!B253","v":0},{"$f":"'Sample Information'!D204","v":0},{"$f":"'Sample Information'!$H$5","v":"00:00:00"}]
[204,{"$f":"'Sample Information'!$H$6","v":0},{"$f":"'Sample Information'!B254","v":0},{"$f":"'Sample Information'!D205","v":0},{"$f":"'Sample Information'!$H$5","v":"00:00:00"}]
[205,{"$f":"'Sample Information'!$H$6","v":0},{"$f":"'Sample Information'!B255","v":0},{"$f":"'Sample Information'!D206","v":0},{"$f":"'Sample Information'!$H$5","v":"00:00:00"}]
[206,{"$f":"'Sample Information'!$H$6","v":0},{"$f":"'Sample Information'!B256","v":0},{"$f":"'Sample Information'!D207","v":0},{"$f":"'Sample Information'!$H$5","v":"00:00:00"}]
[207,{"$f":"'Sample Information'!$H$6","v":0},{"$f":"'Sample Information'!B257","v":0},{"$f":"'Sample Information'!D208","v":0},{"$f":"'Sample Information'!$H$5","v":"00:00:00"}]
[208,{"$f":"'Sample Information'!$H$6","v":0},{"$f":"'Sample Information'!B258","v":0},{"$f":"'Sample Information'!D209","v":0},{"$f":"'Sample Information'!$H$5","v":"00:00:00"}]
[209,{"$f":"'Sample Information'!$H$6","v":0},{"$f":"'Sample Information'!B259","v":0},{"$f":"'Sample Information'!D210","v":0},{"$f":"'Sample Information'!$H$5","v":"00:00:00"}]
[210,{"$f":"'Sample Information'!$H$6","v":0},{"$f":"'Sample Information'!B260","v":0},{"$f":"'Sample Information'!D211","v":0},{"$f":"'Sample Information'!$H$5","v":"00:00:00"}]
[211,{"$f":"'Sample Information'!$H$6","v":0},{"$f":"'Sample Information'!B261","v":0},{"$f":"'Sample Information'!D212","v":0},{"$f":"'Sample Information'!$H$5","v":"00:00:00"}]
[212,{"$f":"'Sample Information'!$H$6","v":0},{"$f":"'Sample Information'!B262","v":0},{"$f":"'Sample Information'!D213","v":0},{"$f":"'Sample Information'!$H$5","v":"00:00:00"}]
[213,{"$f":"'Sample Information'!$H$6","v":0},{"$f":"'Sample Information'!B263","v":0},{"$f":"'Sample Information'!D214","v":0},{"$f":"'Sample Information'!$H$5","v":"00:00:00"}]
[214,{"$f":"'Sample Information'!$H$6","v":0},{"$f":"'Sample Information'!B264","v":0},{"$f":"'Sample Information'!D215","v":0},{"$f":"'Sample Information'!$H$5","v":"00:00:00"}]
[215,{"$f":"'Sample Information'!$H$6","v":0},{"$f":"'Sample Information'!B265","v":0},{"$f":"'Sample Information'!D216","v":0},{"$f":"'Sample Information'!$H$5","v":"00:00:00"}]
[216,{"$f":"'Sample Information'!$H$6","v":0},{"$f":"'Sample Information'!B266","v":0},{"$f":"'Sample Information'!D217","v":0},{"$f":"'Sample Information'!$H$5","v":"00:00:00"}]
[217,{"$f":"'Sample Information'!$H$6","v":0},{"$f":"'Sample Information'!B267","v":0},{"$f":"'Sample Information'!D218","v":0},{"$f":"'Sample Information'!$H$5","v":"00:00:00"}]
[218,{"$f":"'Sample Information'!$H$6","v":0},{"$f":"'Sample Information'!B268","v":0},{"$f":"'Sample Information'!D219","v":0},{"$f":"'Sample Information'!$H$5","v":"00:00:00"}]
[219,{"$f":"'Sample Information'!$H$6","v":0},{"$f":"'Sample Information'!B269","v":0},{"$f":"'Sample Information'!D220","v":0},{"$f":"'Sample Information'!$H$5","v":"00:00:00"}]
[220,{"$f":"'Sample Information'!$H$6","v":0},{"$f":"'Sample Information'!B270","v":0},{"$f":"'Sample Information'!D221","v":0},{"$f":"'Sample Information'!$H$5","v":"00:00:00"}]
[221,{"$f":"'Sample Information'!$H$6","v":0},{"$f":"'Sample Information'!B271","v":0},{"$f":"'Sample Information'!D222","v":0},{"$f":"'Sample Information'!$H$5","v":"00:00:00"}]
[222,{"$f":"'Sample Information'!$H$6","v":0},{"$f":"'Sample Information'!B272","v":0},{"$f":"'Sample Information'!D223","v":0},{"$f":"'Sample Information'!$H$5","v":"00:00:00"}]
[223,{"$f":"'Sample Information'!$H$6","v":0},{"$f":"'Sample Information'!B273","v":0},{"$f":"'Sample Information'!D224","v":0},{"$f":"'Sample Information'!$H$5","v":"00:00:00"}]
[224,{"$f":"'Sample Information'!$H$6","v":0},{"$f":"'Sample Information'!B274","v":0},{"$f":"'Sample Information'!D225","v":0},{"$f":"'Sample Information'!$H$5","v":"00:00:00"}]
[225,{"$f":"'Sample Information'!$H$6","v":0},{"$f":"'Sample Information'!B275","v":0},{"$f":"'Sample Information'!D226","v":0},{"$f":"'Sample Information'!$H$5","v":"00:00:00"}]
[226,{"$f":"'Sample Information'!$H$6","v":0},{"$f":"'Sample Information'!B276","v":0},{"$f":"'Sample Information'!D227","v":0},{"$f":"'Sample Information'!$H$5","v":"00:00:00"}]
[227,{"$f":"'Sample Information'!$H$6","v":0},{"$f":"'Sample Information'!B277","v":0},{"$f":"'Sample Information'!D228","v":0},{"$f":"'Sample Information'!$H$5","v":"00:00:00"}]
[228,{"$f":"'Sample Information'!$H$6","v":0},{"$f":"'Sample Information'!B278","v":0},{"$f":"'Sample Information'!D229","v":0},{"$f":"'Sample Information'!$H$5","v":"00:00:00"}]
[229,{"$f":"'Sample Information'!$H$6","v":0},{"$f":"'Sample Information'!B279","v":0},{"$f":"'Sample Information'!D230","v":0},{"$f":"'Sample Information'!$H$5","v":"00:00:00"}]
[230,{"$f":"'Sample Information'!$H$6","v":0},{"$f":"'Sample Information'!B280","v":0},{"$f":"'Sample Information'!D231","v":0},{"$f":"'Sample Information'!$H$5","v":"00:00:00"}]
[231,{"$f":"'Sample Information'!$H$6","v":0},{"$f":"'Sample Information'!B281","v":0},{"$f":"'Sample Information'!D232","v":0},{"$f":"'Sample Information'!$H$5","v":"00:00:00"}]
[232,{"$f":"'Sample Information'!$H$6","v":0},{"$f":"'Sample Information'!B282","v":0},{"$f":"'Sample Information'!D233","v":0},{"$f":"'Sample Information'!$H$5","v":"00:00:00"}]
[233,{"$f":"'Sample Information'!$H$6","v":0},{"$f":"'Sample Information'!B283","v":0},{"$f":"'Sample Information'!D234","v":0},{"$f":"'Sample Information'!$H$5","v":"00:00:00"}]
[234,{"$f":"'Sample Information'!$H$6","v":0},{"$f":"'Sample Information'!B284","v":0},{"$f":"'Sample Information'!D235","v":0},{"$f":"'Sample Information'!$H$5","v":"00:00:00"}]
[235,{"$f":"'Sample Information'!$H$6","v":0},{"$f":"'Sample Information'!B285","v":0},{"$f":"'Sample Information'!D236","v":0},{"$f":"'Sample Information'!$H$5","v":"00:00:00"}]
[236,{"$f":"'Sample Information'!$H$6","v":0},{"$f":"'Sample Information'!B286","v":0},{"$f":"'Sample Information'!D237","v":0},{"$f":"'Sample Information'!$H$5","v":"00:00:00"}]
[237,{"$f":"'Sample Information'!$H$6","v":0},{"$f":"'Sample Information'!B287","v":0},{"$f":"'Sample Information'!D238","v":0},{"$f":"'Sample Information'!$H$5","v":"00:00:00"}]
[238,{"$f":"'Sample Information'!$H$6","v":0},{"$f":"'Sample Information'!B288","v":0},{"$f":"'Sample Information'!D239","v":0},{"$f":"'Sample Information'!$H$5","v":"00:00:00"}]
[239,{"$f":"'Sample Information'!$H$6","v":0},{"$f":"'Sample Information'!B289","v":0},{"$f":"'Sample Information'!D240","v":0},{"$f":"'Sample Information'!$H$5","v":"00:00:00"}]
[240,{"$f":"'Sample Information'!$H$6","v":0},{"$f":"'Sample Information'!B290","v":0},{"$f":"'Sample Information'!D241","v":0},{"$f":"'Sample Information'!$H$5","v":"00:00:00"}]
[241,{"$f":"'Sample Information'!$H$6","v":0},{"$f":"'Sample Information'!B291","v":0},{"$f":"'Sample Information'!D242","v":0},{"$f":"'Sample Information'!$H$5","v":"00:00:00"}]
[242,{"$f":"'Sample Information'!$H$6","v":0},{"$f":"'Sample Information'!B292","v":0},{"$f":"'Sample Information'!D243","v":0},{"$f":"'Sample Information'!$H$5","v":"00:00:00"}]
[243,{"$f":"'Sample Information'!$H$6","v":0},{"$f":"'Sample Information'!B293","v":0},{"$f":"'Sample Information'!D244","v":0},{"$f":"'Sample Information'!$H$5","v":"00:00:00"}]
[244,{"$f":"'Sample Information'!$H$6","v":0},{"$f":"'Sample Information'!B294","v":0},{"$f":"'Sample Information'!D245","v":0},{"$f":"'Sample Information'!$H$5","v":"00:00:00"}]
[245,{"$f":"'Sample Information'!$H$6","v":0},{"$f":"'Sample Information'!B295","v":0},{"$f":"'Sample Information'!D246","v":0},{"$f":"'Sample Information'!$H$5","v":"00:00:00"}]
[246,{"$f":"'Sample Information'!$H$6","v":0},{"$f":"'Sample Information'!B296","v":0},{"$f":"'Sample Information'!D247","v":0},{"$f":"'Sample Information'!$H$5","v":"00:00:00"}]
[247,{"$f":"'Sample Information'!$H$6","v":0},{"$f":"'Sample Information'!B297","v":0},{"$f":"'Sample Information'!D248","v":0},{"$f":"'Sample Information'!$H$5","v":"00:00:00"}]
[248,{"$f":"'Sample Information'!$H$6","v":0},{"$f":"'Sample Information'!B298","v":0},{"$f":"'Sample Information'!D249","v":0},{"$f":"'Sample Information'!$H$5","v":"00:00:00"}]
[249,{"$f":"'Sample Information'!$H$6","v":0},{"$f":"'Sample Information'!B299","v":0},{"$f":"'Sample Information'!D250","v":0},{"$f":"'Sample Information'!$H$5","v":"00:00:00"}]
[250,{"$f":"'Sample Information'!$H$6","v":0},{"$f":"'Sample Information'!B300","v":0},{"$f":"'Sample Information'!D251","v":0},{"$f":"'Sample Information'!$H$5","v":"00:00:00"}]
[251,{"$f":"'Sample Information'!$H$6","v":0},{"$f":"'Sample Information'!B301","v":0},{"$f":"'Sample Information'!D252","v":0},{"$f":"'Sample Information'!$H$5","v":"00:00:00"}]
[252,{"$f":"'Sample Information'!$H$6","v":0},{"$f":"'Sample Information'!B302","v":0},{"$f":"'Sample Information'!D253","v":0},{"$f":"'Sample Information'!$H$5","v":"00:00:00"}]
[253,{"$f":"'Sample Information'!$H$6","v":0},{"$f":"'Sample Information'!B303","v":0},{"$f":"'Sample Information'!D254","v":0},{"$f":"'Sample Information'!$H$5","v":"00:00:00"}]
[254,{"$f":"'Sample Information'!$H$6","v":0},{"$f":"'Sample Information'!B304","v":0},{"$f":"'Sample Information'!D255","v":0},{"$f":"'Sample Information'!$H$5","v":"00:00:00"}]
[255,{"$f":"'Sample Information'!$H$6","v":0},{"$f":"'Sample Information'!B305","v":0},{"$f":"'Sample Information'!D256","v":0},{"$f":"'Sample Information'!$H$5","v":"00:00:00"}]
[256,{"$f":"'Sample Information'!$H$6","v":0},{"$f":"'Sample Information'!B306","v":0},{"$f":"'Sample Information'!D257","v":0},{"$f":"'Sample Information'!$H$5","v":"00:00:00"}]
[257,{"$f":"'Sample Information'!$H$6","v":0},{"$f":"'Sample Information'!B307","v":0},{"$f":"'Sample Information'!D258","v":0},{"$f":"'Sample Information'!$H$5","v":"00:00:00"}]
[258,{"$f":"'Sample Information'!$H$6","v":0},{"$f":"'Sample Information'!B308","v":0},{"$f":"'Sample Information'!D259","v":0},{"$f":"'Sample Information'!$H$5","v":"00:00:00"}]
[259,{"$f":"'Sample Information'!$H$6","v":0},{"$f":"'Sample Information'!B309","v":0},{"$f":"'Sample Information'!D260","v":0},{"$f":"'Sample Information'!$H$5","v":"00:00:00"}]
[260,{"$f":"'Sample Information'!$H$6","v":0},{"$f":"'Sample Information'!B310","v":0},{"$f":"'Sample Information'!D261","v":0},{"$f":"'Sample Information'!$H$5","v":"00:00:00"}]
[261,{"$f":"'Sample Information'!$H$6","v":0},{"$f":"'Sample Information'!B311","v":0},{"$f":"'Sample Information'!D262","v":0},{"$f":"'Sample Information'!$H$5","v":"00:00:00"}]
[262,{"$f":"'Sample Information'!$H$6","v":0},{"$f":"'Sample Information'!B312","v":0},{"$f":"'Sample Information'!D263","v":0},{"$f":"'Sample Information'!$H$5","v":"00:00:00"}]
[263,{"$f":"'Sample Information'!$H$6","v":0},{"$f":"'Sample Information'!B313","v":0},{"$f":"'Sample Information'!D264","v":0},{"$f":"'Sample Information'!$H$5","v":"00:00:00"}]
[264,{"$f":"'Sample Information'!$H$6","v":0},{"$f":"'Sample Information'!B314","v":0},{"$f":"'Sample Information'!D265","v":0},{"$f":"'Sample Information'!$H$5","v":"00:00:00"}]
[265,{"$f":"'Sample Information'!$H$6","v":0},{"$f":"'Sample Information'!B315","v":0},{"$f":"'Sample Information'!D266","v":0},{"$f":"'Sample Information'!$H$5","v":"00:00:00"}]
[266,{"$f":"'Sample Information'!$H$6","v":0},{"$f":"'Sample Information'!B316","v":0},{"$f":"'Sample Information'!D267","v":0},{"$f":"'Sample Information'!$H$5","v":"00:00:00"}]
[267,{"$f":"'Sample Information'!$H$6","v":0},{"$f":"'Sample Information'!B317","v":0},{"$f":"'Sample Information'!D268","v":0},{"$f":"'Sample Information'!$H$5","v":"00:00:00"}]
[268,{"$f":"'Sample Information'!$H$6","v":0},{"$f":"'Sample Information'!B318","v":0},{"$f":"'Sample Information'!D269","v":0},{"$f":"'Sample Information'!$H$5","v":"00:00:00"}]
[269,{"$f":"'Sample Information'!$H$6","v":0},{"$f":"'Sample Information'!B319","v":0},{"$f":"'Sample Information'!D270","v":0},{"$f":"'Sample Information'!$H$5","v":"00:00:00"}]
[270,{"$f":"'Sample Information'!$H$6","v":0},{"$f":"'Sample Information'!B320","v":0},{"$f":"'Sample Information'!D271","v":0},{"$f":"'Sample Information'!$H$5","v":"00:00:00"}]
[271,{"$f":"'Sample Information'!$H$6","v":0},{"$f":"'Sample Information'!B321","v":0},{"$f":"'Sample Information'!D272","v":0},{"$f":"'Sample Information'!$H$5","v":"00:00:00"}]
[272,{"$f":"'Sample Information'!$H$6","v":0},{"$f":"'Sample Information'!B322","v":0},{"$f":"'Sample Information'!D273","v":0},{"$f":"'Sample Information'!$H$5","v":"00:00:00"}]
[273,{"$f":"'Sample Information'!$H$6","v":0},{"$f":"'Sample Information'!B323","v":0},{"$f":"'Sample Information'!D274","v":0},{"$f":"'Sample Information'!$H$5","v":"00:00:00"}]
[274,{"$f":"'Sample Information'!$H$6","v":0},{"$f":"'Sample Information'!B324","v":0},{"$f":"'Sample Information'!D275","v":0},{"$f":"'Sample Information'!$H$5","v":"00:00:00"}]
[275,{"$f":"'Sample Information'!$H$6","v":0},{"$f":"'Sample Information'!B325","v":0},{"$f":"'Sample Information'!D276","v":0},{"$f":"'Sample Information'!$H$5","v":"00:00:00"}]
[276,{"$f":"'Sample Information'!$H$6","v":0},{"$f":"'Sample Information'!B326","v":0},{"$f":"'Sample Information'!D277","v":0},{"$f":"'Sample Information'!$H$5","v":"00:00:00"}]
[277,{"$f":"'Sample Information'!$H$6","v":0},{"$f":"'Sample Information'!B327","v":0},{"$f":"'Sample Information'!D278","v":0},{"$f":"'Sample Information'!$H$5","v":"00:00:00"}]
[278,{"$f":"'Sample Information'!$H$6","v":0},{"$f":"'Sample Information'!B328","v":0},{"$f":"'Sample Information'!D279","v":0},{"$f":"'Sample Information'!$H$5","v":"00:00:00"}]
[279,{"$f":"'Sample Information'!$H$6","v":0},{"$f":"'Sample Information'!B329","v":0},{"$f":"'Sample Information'!D280","v":0},{"$f":"'Sample Information'!$H$5","v":"00:00:00"}]
[280,{"$f":"'Sample Information'!$H$6","v":0},{"$f":"'Sample Information'!B330","v":0},{"$f":"'Sample Information'!D281","v":0},{"$f":"'Sample Information'!$H$5","v":"00:00:00"}]
[281,{"$f":"'Sample Information'!$H$6","v":0},{"$f":"'Sample Information'!B331","v":0},{"$f":"'Sample Information'!D282","v":0},{"$f":"'Sample Information'!$H$5","v":"00:00:00"}]
[282,{"$f":"'Sample Information'!$H$6","v":0},{"$f":"'Sample Information'!B332","v":0},{"$f":"'Sample Information'!D283","v":0},{"$f":"'Sample Information'!$H$5","v":"00:00:00"}]
[283,{"$f":"'Sample Information'!$H$6","v":0},{"$f":"'Sample Information'!B333","v":0},{"$f":"'Sample Information'!D284","v":0},{"$f":"'Sample Information'!$H$5","v":"00:00:00"}]
[284,{"$f":"'Sample Information'!$H$6","v":0},{"$f":"'Sample Information'!B334","v":0},{"$f":"'Sample Information'!D285","v":0},{"$f":"'Sample Information'!$H$5","v":"00:00:00"}]
[285,{"$f":"'Sample Information'!$H$6","v":0},{"$f":"'Sample Information'!B335","v":0},{"$f":"'Sample Information'!D286","v":0},{"$f":"'Sample Information'!$H$5","v":"00:00:00"}]
[286,{"$f":"'Sample Information'!$H$6","v":0},{"$f":"'Sample Information'!B336","v":0},{"$f":"'Sample Information'!D287","v":0},{"$f":"'Sample Information'!$H$5","v":"00:00:00"}]
[287,{"$f":"'Sample Information'!$H$6","v":0},{"$f":"'Sample Information'!B337","v":0},{"$f":"'Sample Information'!D288","v":0},{"$f":"'Sample Information'!$H$5","v":"00:00:00"}]
[288,{"$f":"'Sample Information'!$H$6","v":0},{"$f":"'Sample Information'!B338","v":0},{"$f":"'Sample Information'!D289","v":0},{"$f":"'Sample Information'!$H$5","v":"00:00:00"}]
[289,{"$f":"'Sample Information'!$H$6","v":0},{"$f":"'Sample Information'!B339","v":0},{"$f":"'Sample Information'!D290","v":0},{"$f":"'Sample Information'!$H$5","v":"00:00:00"}]
[290,{"$f":"'Sample Information'!$H$6","v":0},{"$f":"'Sample Information'!B340","v":0},{"$f":"'Sample Information'!D291","v":0},{"$f":"'Sample Information'!$H$5","v":"00:00:00"}]
[291,{"$f":"'Sample Information'!$H$6","v":0},{"$f":"'Sample Information'!B341","v":0},{"$f":"'Sample Information'!D292","v":0},{"$f":"'Sample Information'!$H$5","v":"00:00:00"}]
[292,{"$f":"'Sample Information'!$H$6","v":0},{"$f":"'Sample Information'!B342","v":0},{"$f":"'Sample Information'!D293","v":0},{"$f":"'Sample Information'!$H$5","v":"00:00:00"}]
[293,{"$f":"'Sample Information'!$H$6","v":0},{"$f":"'Sample Information'!B343","v":0},{"$f":"'Sample Information'!D294","v":0},{"$f":"'Sample Information'!$H$5","v":"00:00:00"}]
[294,{"$f":"'Sample Information'!$H$6","v":0},{"$f":"'Sample Information'!B344","v":0},{"$f":"'Sample Information'!D295","v":0},{"$f":"'Sample Information'!$H$5","v":"00:00:00"}]
[295,{"$f":"'Sample Information'!$H$6","v":0},{"$f":"'Sample Information'!B345","v":0},{"$f":"'Sample Information'!D296","v":0},{"$f":"'Sample Information'!$H$5","v":"00:00:00"}]
[296,{"$f":"'Sample Information'!$H$6","v":0},{"$f":"'Sample Information'!B346","v":0},{"$f":"'Sample Information'!D297","v":0},{"$f":"'Sample Information'!$H$5","v":"00:00:00"}]
[297,{"$f":"'Sample Information'!$H$6","v":0},{"$f":"'Sample Information'!B347","v":0},{"$f":"'Sample Information'!D298","v":0},{"$f":"'Sample Information'!$H$5","v":"00:00:00"}]
[298,{"$f":"'Sample Information'!$H$6","v":0},{"$f":"'Sample Information'!B348","v":0},{"$f":"'Sample Information'!D299","v":0},{"$f":"'Sample Information'!$H$5","v":"00:00:00"}]
[299,{"$f":"'Sample Information'!$H$6","v":0},{"$f":"'Sample Information'!B349","v":0},{"$f":"'Sample Information'!D300","v":0},{"$f":"'Sample Information'!$H$5","v":"00:00:00"}]
[300,{"$f":"'Sample Information'!$H$6","v":0},{"$f":"'Sample Information'!B350","v":0},{"$f":"'Sample Information'!D301","v":0},{"$f":"'Sample Information'!$H$5","v":"00:00:00"}]
[301,{"$f":"'Sample Information'!$H$6","v":0},{"$f":"'Sample Information'!B351","v":0},{"$f":"'Sample Information'!D302","v":0},{"$f":"'Sample Information'!$H$5","v":"00:00:00"}]
[302,{"$f":"'Sample Information'!$H$6","v":0},{"$f":"'Sample Information'!B352","v":0},{"$f":"'Sample Information'!D303","v":0},{"$f":"'Sample Information'!$H$5","v":"00:00:00"}]
[303,{"$f":"'Sample Information'!$H$6","v":0},{"$f":"'Sample Information'!B353","v":0},{"$f":"'Sample Information'!D304","v":0},{"$f":"'Sample Information'!$H$5","v":"00:00:00"}]
[304,{"$f":"'Sample Information'!$H$6","v":0},{"$f":"'Sample Information'!B354","v":0},{"$f":"'Sample Information'!D305","v":0},{"$f":"'Sample Information'!$H$5","v":"00:00:00"}]
[305,{"$f":"'Sample Information'!$H$6","v":0},{"$f":"'Sample Information'!B355","v":0},{"$f":"'Sample Information'!D306","v":0},{"$f":"'Sample Information'!$H$5","v":"00:00:00"}]
[306,{"$f":"'Sample Information'!$H$6","v":0},{"$f":"'Sample Information'!B356","v":0},{"$f":"'Sample Information'!D307","v":0},{"$f":"'Sample Information'!$H$5","v":"00:00:00"}]
[307,{"$f":"'Sample Information'!$H$6","v":0},{"$f":"'Sample Information'!B357","v":0},{"$f":"'Sample Information'!D308","v":0},{"$f":"'Sample Information'!$H$5","v":"00:00:00"}]
[308,{"$f":"'Sample Information'!$H$6","v":0},{"$f":"'Sample Information'!B358","v":0},{"$f":"'Sample Information'!D309","v":0},{"$f":"'Sample Information'!$H$5","v":"00:00:00"}]
[309,{"$f":"'Sample Information'!$H$6","v":0},{"$f":"'Sample Information'!B359","v":0},{"$f":"'Sample Information'!D310","v":0},{"$f":"'Sample Information'!$H$5","v":"00:00:00"}]
[310,{"$f":"'Sample Information'!$H$6","v":0},{"$f":"'Sample Information'!B360","v":0},{"$f":"'Sample Information'!D311","v":0},{"$f":"'Sample Information'!$H$5","v":"00:00:00"}]
[311,{"$f":"'Sample Information'!$H$6","v":0},{"$f":"'Sample Information'!B361","v":0},{"$f":"'Sample Information'!D312","v":0},{"$f":"'Sample Information'!$H$5","v":"00:00:00"}]
[312,{"$f":"'Sample Information'!$H$6","v":0},{"$f":"'Sample Information'!B362","v":0},{"$f":"'Sample Information'!D313","v":0},{"$f":"'Sample Information'!$H$5","v":"00:00:00"}]
[313,{"$f":"'Sample Information'!$H$6","v":0},{"$f":"'Sample Information'!B363","v":0},{"$f":"'Sample Information'!D314","v":0},{"$f":"'Sample Information'!$H$5","v":"00:00:00"}]
[314,{"$f":"'Sample Information'!$H$6","v":0},{"$f":"'Sample Information'!B364","v":0},{"$f":"'Sample Information'!D315","v":0},{"$f":"'Sample Information'!$H$5","v":"00:00:00"}]
[315,{"$f":"'Sample Information'!$H$6","v":0},{"$f":"'Sample Information'!B365","v":0},{"$f":"'Sample Information'!D316","v":0},{"$f":"'Sample Information'!$H$5","v":"00:00:00"}]
[316,{"$f":"'Sample Information'!$H$6","v":0},{"$f":"'Sample Information'!B366","v":0},{"$f":"'Sample Information'!D317","v":0},{"$f":"'Sample Information'!$H$5","v":"00:00:00"}]
[317,{"$f":"'Sample Information'!$H$6","v":0},{"$f":"'Sample Information'!B367","v":0},{"$f":"'Sample Information'!D318","v":0},{"$f":"'Sample Information'!$H$5","v":"00:00:00"}]
[318,{"$f":"'Sample Information'!$H$6","v":0},{"$f":"'Sample Information'!B368","v":0},{"$f":"'Sample Information'!D319","v":0},{"$f":"'Sample Information'!$H$5","v":"00:00:00"}]
[319,{"$f":"'Sample Information'!$H$6","v":0},{"$f":"'Sample Information'!B369","v":0},{"$f":"'Sample Information'!D320","v":0},{"$f":"'Sample Information'!$H$5","v":"00:00:00"}]
[320,{"$f":"'Sample Information'!$H$6","v":0},{"$f":"'Sample Information'!B370","v":0},{"$f":"'Sample Information'!D321","v":0},{"$f":"'Sample Information'!$H$5","v":"00:00:00"}]
[321,{"$f":"'Sample Information'!$H$6","v":0},{"$f":"'Sample Information'!B371","v":0},{"$f":"'Sample Information'!D322","v":0},{"$f":"'Sample Information'!$H$5","v":"00:00:00"}]
[322,{"$f":"'Sample Information'!$H$6","v":0},{"$f":"'Sample Information'!B372","v":0},{"$f":"'Sample Information'!D323","v":0},{"$f":"'Sample Information'!$H$5","v":"00:00:00"}]
[323,{"$f":"'Sample Information'!$H$6","v":0},{"$f":"'Sample Information'!B373","v":0},{"$f":"'Sample Information'!D324","v":0},{"$f":"'Sample Information'!$H$5","v":"00:00:00"}]
[324,{"$f":"'Sample Information'!$H$6","v":0},{"$f":"'Sample Information'!B374","v":0},{"$f":"'Sample Information'!D325","v":0},{"$f":"'Sample Information'!$H$5","v":"00:00:00"}]
[325,{"$f":"'Sample Information'!$H$6","v":0},{"$f":"'Sample Information'!B375","v":0},{"$f":"'Sample Information'!D326","v":0},{"$f":"'Sample Information'!$H$5","v":"00:00:00"}]
[326,{"$f":"'Sample Information'!$H$6","v":0},{"$f":"'Sample Information'!B376","v":0},{"$f":"'Sample Information'!D327","v":0},{"$f":"'Sample Information'!$H$5","v":"00:00:00"}]
[327,{"$f":"'Sample Information'!$H$6","v":0},{"$f":"'Sample Information'!B377","v":0},{"$f":"'Sample Information'!D328","v":0},{"$f":"'Sample Information'!$H$5","v":"00:00:00"}]
[328,{"$f":"'Sample Information'!$H$6","v":0},{"$f":"'Sample Information'!B378","v":0},{"$f":"'Sample Information'!D329","v":0},{"$f":"'Sample Information'!$H$5","v":"00:00:00"}]
[329,{"$f":"'Sample Information'!$H$6","v":0},{"$f":"'Sample Information'!B379","v":0},{"$f":"'Sample Information'!D330","v":0},{"$f":"'Sample Information'!$H$5","v":"00:00:00"}]
[330,{"$f":"'Sample Information'!$H$6","v":0},{"$f":"'Sample Information'!B380","v":0},{"$f":"'Sample Information'!D331","v":0},{"$f":"'Sample Information'!$H$5","v":"00:00:00"}]
[331,{"$f":"'Sample Information'!$H$6","v":0},{"$f":"'Sample Information'!B381","v":0},{"$f":"'Sample Information'!D332","v":0},{"$f":"'Sample Information'!$H$5","v":"00:00:00"}]
[332,{"$f":"'Sample Information'!$H$6","v":0},{"$f":"'Sample Information'!B382","v":0},{"$f":"'Sample Information'!D333","v":0},{"$f":"'Sample Information'!$H$5","v":"00:00:00"}]
[333,{"$f":"'Sample Information'!$H$6","v":0},{"$f":"'Sample Information'!B383","v":0},{"$f":"'Sample Information'!D334","v":0},{"$f":"'Sample Information'!$H$5","v":"00:00:00"}]
[334,{"$f":"'Sample Information'!$H$6","v":0},{"$f":"'Sample Information'!B384","v":0},{"$f":"'Sample Information'!D335","v":0},{"$f":"'Sample Information'!$H$5","v":"00:00:00"}]
[335,{"$f":"'Sample Information'!$H$6","v":0},{"$f":"'Sample Information'!B385","v":0},{"$f":"'Sample Information'!D336","v":0},{"$f":"'Sample Information'!$H$5","v":"00:00:00"}]
[336,{"$f":"'Sample Information'!$H$6","v":0},{"$f":"'Sample Information'!B386","v":0},{"$f":"'Sample Information'!D337","v":0},{"$f":"'Sample Information'!$H$5","v":"00:00:00"}]
[337,{"$f":"'Sample Information'!$H$6","v":0},{"$f":"'Sample Information'!B387","v":0},{"$f":"'Sample Information'!D338","v":0},{"$f":"'Sample Information'!$H$5","v":"00:00:00"}]
[338,{"$f":"'Sample Information'!$H$6","v":0},{"$f":"'Sample Information'!B388","v":0},{"$f":"'Sample Information'!D339","v":0},{"$f":"'Sample Information'!$H$5","v":"00:00:00"}]
[339,{"$f":"'Sample Information'!$H$6","v":0},{"$f":"'Sample Information'!B389","v":0},{"$f":"'Sample Information'!D340","v":0},{"$f":"'Sample Information'!$H$5","v":"00:00:00"}]
[340,{"$f":"'Sample Information'!$H$6","v":0},{"$f":"'Sample Information'!B390","v":0},{"$f":"'Sample Information'!D341","v":0},{"$f":"'Sample Information'!$H$5","v":"00:00:00"}]
[341,{"$f":"'Sample Information'!$H$6","v":0},{"$f":"'Sample Information'!B391","v":0},{"$f":"'Sample Information'!D342","v":0},{"$f":"'Sample Information'!$H$5","v":"00:00:00"}]
[342,{"$f":"'Sample Information'!$H$6","v":0},{"$f":"'Sample Information'!B392","v":0},{"$f":"'Sample Information'!D343","v":0},{"$f":"'Sample Information'!$H$5","v":"00:00:00"}]
[343,{"$f":"'Sample Information'!$H$6","v":0},{"$f":"'Sample Information'!B393","v":0},{"$f":"'Sample Information'!D344","v":0},{"$f":"'Sample Information'!$H$5","v":"00:00:00"}]
[344,{"$f":"'Sample Information'!$H$6","v":0},{"$f":"'Sample Information'!B394","v":0},{"$f":"'Sample Information'!D345","v":0},{"$f":"'Sample Information'!$H$5","v":"00:00:00"}]
[345,{"$f":"'Sample Information'!$H$6","v":0},{"$f":"'Sample Information'!B395","v":0},{"$f":"'Sample Information'!D346","v":0},{"$f":"'Sample Information'!$H$5","v":"00:00:00"}]
[346,{"$f":"'Sample Information'!$H$6","v":0},{"$f":"'Sample Information'!B396","v":0},{"$f":"'Sample Information'!D347","v":0},{"$f":"'Sample Information'!$H$5","v":"00:00:00"}]
[347,{"$f":"'Sample Information'!$H$6","v":0},{"$f":"'Sample Information'!B397","v":0},{"$f":"'Sample Information'!D348","v":0},{"$f":"'Sample Information'!$H$5","v":"00:00:00"}]
[348,{"$f":"'Sample Information'!$H$6","v":0},{"$f":"'Sample Information'!B398","v":0},{"$f":"'Sample Information'!D349","v":0},{"$f":"'Sample Information'!$H$5","v":"00:00:00"}]
[349,{"$f":"'Sample Information'!$H$6","v":0},{"$f":"'Sample Information'!B399","v":0},{"$f":"'Sample Information'!D350","v":0},{"$f":"'Sample Information'!$H$5","v":"00:00:00"}]
[350,{"$f":"'Sample Information'!$H$6","v":0},{"$f":"'Sample Information'!B400","v":0},{"$f":"'Sample Information'!D351","v":0},{"$f":"'Sample Information'!$H$5","v":"00:00:00"}]
[351,{"$f":"'Sample Information'!$H$6","v":0},{"$f":"'Sample Information'!B401","v":0},{"$f":"'Sample Information'!D352","v":0},{"$f":"'Sample Information'!$H$5","v":"00:00:00"}]
[352,{"$f":"'Sample Information'!$H$6","v":0},{"$f":"'Sample Information'!#REF!","v":{"$error":"#REF!"}},{"$f":"'Sample Information'!D353","v":0},{"$f":"'Sample Information'!$H$5","v":"00:00:00"}]
[353,{"$f":"'Sample Information'!$H$6","v":0},{"$f":"'Sample Information'!#REF!","v":{"$error":"#REF!"}},{"$f":"'Sample Information'!D354","v":0},{"$f":"'Sample Information'!$H$5","v":"00:00:00"}]
[354,{"$f":"'Sample Information'!$H$6","v":0},{"$f":"'Sample Information'!#REF!","v":{"$error":"#REF!"}},{"$f":"'Sample Information'!D355","v":0},{"$f":"'Sample Information'!$H$5","v":"00:00:00"}]
[355,{"$f":"'Sample Information'!$H$6","v":0},{"$f":"'Sample Information'!#REF!","v":{"$error":"#REF!"}},{"$f":"'Sample Information'!D356","v":0},{"$f":"'Sample Information'!$H$5","v":"00:00:00"}]
[356,{"$f":"'Sample Information'!$H$6","v":0},{"$f":"'Sample Information'!#REF!","v":{"$error":"#REF!"}},{"$f":"'Sample Information'!D357","v":0},{"$f":"'Sample Information'!$H$5","v":"00:00:00"}]
[357,{"$f":"'Sample Information'!$H$6","v":0},{"$f":"'Sample Information'!#REF!","v":{"$error":"#REF!"}},{"$f":"'Sample Information'!D358","v":0},{"$f":"'Sample Information'!$H$5","v":"00:00:00"}]
[358,{"$f":"'Sample Information'!$H$6","v":0},{"$f":"'Sample Information'!#REF!","v":{"$error":"#REF!"}},{"$f":"'Sample Information'!D359","v":0},{"$f":"'Sample Information'!$H$5","v":"00:00:00"}]
[359,{"$f":"'Sample Information'!$H$6","v":0},{"$f":"'Sample Information'!#REF!","v":{"$error":"#REF!"}},{"$f":"'Sample Information'!D360","v":0},{"$f":"'Sample Information'!$H$5","v":"00:00:00"}]
[360,{"$f":"'Sample Information'!$H$6","v":0},{"$f":"'Sample Information'!#REF!","v":{"$error":"#REF!"}},{"$f":"'Sample Information'!D361","v":0},{"$f":"'Sample Information'!$H$5","v":"00:00:00"}]
[361,{"$f":"'Sample Information'!$H$6","v":0},{"$f":"'Sample Information'!#REF!","v":{"$error":"#REF!"}},{"$f":"'Sample Information'!D362","v":0},{"$f":"'Sample Information'!$H$5","v":"00:00:00"}]
[362,{"$f":"'Sample Information'!$H$6","v":0},{"$f":"'Sample Information'!#REF!","v":{"$error":"#REF!"}},{"$f":"'Sample Information'!D363","v":0},{"$f":"'Sample Information'!$H$5","v":"00:00:00"}]
[363,{"$f":"'Sample Information'!$H$6","v":0},{"$f":"'Sample Information'!#REF!","v":{"$error":"#REF!"}},{"$f":"'Sample Information'!D364","v":0},{"$f":"'Sample Information'!$H$5","v":"00:00:00"}]
[364,{"$f":"'Sample Information'!$H$6","v":0},{"$f":"'Sample Information'!#REF!","v":{"$error":"#REF!"}},{"$f":"'Sample Information'!D365","v":0},{"$f":"'Sample Information'!$H$5","v":"00:00:00"}]
[365,{"$f":"'Sample Information'!$H$6","v":0},{"$f":"'Sample Information'!#REF!","v":{"$error":"#REF!"}},{"$f":"'Sample Information'!D366","v":0},{"$f":"'Sample Information'!$H$5","v":"00:00:00"}]
[366,{"$f":"'Sample Information'!$H$6","v":0},{"$f":"'Sample Information'!#REF!","v":{"$error":"#REF!"}},{"$f":"'Sample Information'!D367","v":0},{"$f":"'Sample Information'!$H$5","v":"00:00:00"}]
[367,{"$f":"'Sample Information'!$H$6","v":0},{"$f":"'Sample Information'!#REF!","v":{"$error":"#REF!"}},{"$f":"'Sample Information'!D368","v":0},{"$f":"'Sample Information'!$H$5","v":"00:00:00"}]
[368,{"$f":"'Sample Information'!$H$6","v":0},{"$f":"'Sample Information'!#REF!","v":{"$error":"#REF!"}},{"$f":"'Sample Information'!D369","v":0},{"$f":"'Sample Information'!$H$5","v":"00:00:00"}]
[369,{"$f":"'Sample Information'!$H$6","v":0},{"$f":"'Sample Information'!B402","v":0},{"$f":"'Sample Information'!D370","v":0},{"$f":"'Sample Information'!$H$5","v":"00:00:00"}]
[370,{"$f":"'Sample Information'!$H$6","v":0},{"$f":"'Sample Information'!B403","v":0},{"$f":"'Sample Information'!D371","v":0},{"$f":"'Sample Information'!$H$5","v":"00:00:00"}]
[371,{"$f":"'Sample Information'!$H$6","v":0},{"$f":"'Sample Information'!B404","v":0},{"$f":"'Sample Information'!D372","v":0},{"$f":"'Sample Information'!$H$5","v":"00:00:00"}]
[372,{"$f":"'Sample Information'!$H$6","v":0},{"$f":"'Sample Information'!B405","v":0},{"$f":"'Sample Information'!D373","v":0},{"$f":"'Sample Information'!$H$5","v":"00:00:00"}]
[373,{"$f":"'Sample Information'!$H$6","v":0},{"$f":"'Sample Information'!B406","v":0},{"$f":"'Sample Information'!D374","v":0},{"$f":"'Sample Information'!$H$5","v":"00:00:00"}]
[374,{"$f":"'Sample Information'!$H$6","v":0},{"$f":"'Sample Information'!B407","v":0},{"$f":"'Sample Information'!D375","v":0},{"$f":"'Sample Information'!$H$5","v":"00:00:00"}]
[375,{"$f":"'Sample Information'!$H$6","v":0},{"$f":"'Sample Information'!B408","v":0},{"$f":"'Sample Information'!D376","v":0},{"$f":"'Sample Information'!$H$5","v":"00:00:00"}]
[376,{"$f":"'Sample Information'!$H$6","v":0},{"$f":"'Sample Information'!B409","v":0},{"$f":"'Sample Information'!D377","v":0},{"$f":"'Sample Information'!$H$5","v":"00:00:00"}]
[377,{"$f":"'Sample Information'!$H$6","v":0},{"$f":"'Sample Information'!B410","v":0},{"$f":"'Sample Information'!D378","v":0},{"$f":"'Sample Information'!$H$5","v":"00:00:00"}]
[378,{"$f":"'Sample Information'!$H$6","v":0},{"$f":"'Sample Information'!B411","v":0},{"$f":"'Sample Information'!D379","v":0},{"$f":"'Sample Information'!$H$5","v":"00:00:00"}]
[379,{"$f":"'Sample Information'!$H$6","v":0},{"$f":"'Sample Information'!B412","v":0},{"$f":"'Sample Information'!D380","v":0},{"$f":"'Sample Information'!$H$5","v":"00:00:00"}]
[380,{"$f":"'Sample Information'!$H$6","v":0},{"$f":"'Sample Information'!B413","v":0},{"$f":"'Sample Information'!D381","v":0},{"$f":"'Sample Information'!$H$5","v":"00:00:00"}]
[381,{"$f":"'Sample Information'!$H$6","v":0},{"$f":"'Sample Information'!B414","v":0},{"$f":"'Sample Information'!D382","v":0},{"$f":"'Sample Information'!$H$5","v":"00:00:00"}]
[382,{"$f":"'Sample Information'!$H$6","v":0},{"$f":"'Sample Information'!B415","v":0},{"$f":"'Sample Information'!D383","v":0},{"$f":"'Sample Information'!$H$5","v":"00:00:00"}]
[383,{"$f":"'Sample Information'!$H$6","v":0},{"$f":"'Sample Information'!B416","v":0},{"$f":"'Sample Information'!D384","v":0},{"$f":"'Sample Information'!$H$5","v":"00:00:00"}]
[384,{"$f":"'Sample Information'!$H$6","v":0},{"$f":"'Sample Information'!B417","v":0},{"$f":"'Sample Information'!D385","v":0},{"$f":"'Sample Information'!$H$5","v":"00:00:00"}]
[385,{"$f":"'Sample Information'!$H$6","v":0},{"$f":"'Sample Information'!B418","v":0},{"$f":"'Sample Information'!D386","v":0},{"$f":"'Sample Information'!$H$5","v":"00:00:00"}]
[386,{"$f":"'Sample Information'!$H$6","v":0},{"$f":"'Sample Information'!B419","v":0},{"$f":"'Sample Information'!D387","v":0},{"$f":"'Sample Information'!$H$5","v":"00:00:00"}]
[387,{"$f":"'Sample Information'!$H$6","v":0},{"$f":"'Sample Information'!B420","v":0},{"$f":"'Sample Information'!D388","v":0},{"$f":"'Sample Information'!$H$5","v":"00:00:00"}]
[388,{"$f":"'Sample Information'!$H$6","v":0},{"$f":"'Sample Information'!B421","v":0},{"$f":"'Sample Information'!D389","v":0},{"$f":"'Sample Information'!$H$5","v":"00:00:00"}]
[389,{"$f":"'Sample Information'!$H$6","v":0},{"$f":"'Sample Information'!B422","v":0},{"$f":"'Sample Information'!D390","v":0},{"$f":"'Sample Information'!$H$5","v":"00:00:00"}]
[390,{"$f":"'Sample Information'!$H$6","v":0},{"$f":"'Sample Information'!B423","v":0},{"$f":"'Sample Information'!D391","v":0},{"$f":"'Sample Information'!$H$5","v":"00:00:00"}]
[391,{"$f":"'Sample Information'!$H$6","v":0},{"$f":"'Sample Information'!B424","v":0},{"$f":"'Sample Information'!D392","v":0},{"$f":"'Sample Information'!$H$5","v":"00:00:00"}]
[392,{"$f":"'Sample Information'!$H$6","v":0},{"$f":"'Sample Information'!B425","v":0},{"$f":"'Sample Information'!D393","v":0},{"$f":"'Sample Information'!$H$5","v":"00:00:00"}]
[393,{"$f":"'Sample Information'!$H$6","v":0},{"$f":"'Sample Information'!B426","v":0},{"$f":"'Sample Information'!D394","v":0},{"$f":"'Sample Information'!$H$5","v":"00:00:00"}]
[394,{"$f":"'Sample Information'!$H$6","v":0},{"$f":"'Sample Information'!B427","v":0},{"$f":"'Sample Information'!D395","v":0},{"$f":"'Sample Information'!$H$5","v":"00:00:00"}]
[395,{"$f":"'Sample Information'!$H$6","v":0},{"$f":"'Sample Information'!B428","v":0},{"$f":"'Sample Information'!D396","v":0},{"$f":"'Sample Information'!$H$5","v":"00:00:00"}]
[396,{"$f":"'Sample Information'!$H$6","v":0},{"$f":"'Sample Information'!B429","v":0},{"$f":"'Sample Information'!D397","v":0},{"$f":"'Sample Information'!$H$5","v":"00:00:00"}]
[397,{"$f":"'Sample Information'!$H$6","v":0},{"$f":"'Sample Information'!B430","v":0},{"$f":"'Sample Information'!D398","v":0},{"$f":"'Sample Information'!$H$5","v":"00:00:00"}]
[398,{"$f":"'Sample Information'!$H$6","v":0},{"$f":"'Sample Information'!B431","v":0},{"$f":"'Sample Information'!D399","v":0},{"$f":"'Sample Information'!$H$5","v":"00:00:00"}]
[399,{"$f":"'Sample Information'!$H$6","v":0},{"$f":"'Sample Information'!B432","v":0},{"$f":"'Sample Information'!D400","v":0},{"$f":"'Sample Information'!$H$5","v":"00:00:00"}]
[400,{"$f":"'Sample Information'!$H$6","v":0},{"$f":"'Sample Information'!B433","v":0},{"$f":"'Sample Information'!D401","v":0},{"$f":"'Sample Information'!$H$5","v":"00:00:00"}]
[401,{"$f":"'Sample Information'!$H$6","v":0},{"$f":"'Sample Information'!B434","v":0},{"$f":"'Sample Information'!#REF!","v":{"$error":"#REF!"}},{"$f":"'Sample Information'!$H$5","v":"00:00:00"}]
[402,{"$f":"'Sample Information'!$H$6","v":0},{"$f":"'Sample Information'!B435","v":0},{"$f":"'Sample Information'!#REF!","v":{"$error":"#REF!"}},{"$f":"'Sample Information'!$H$5","v":"00:00:00"}]
[403,{"$f":"'Sample Information'!$H$6","v":0},{"$f":"'Sample Information'!B436","v":0},{"$f":"'Sample Information'!#REF!","v":{"$error":"#REF!"}},{"$f":"'Sample Information'!$H$5","v":"00:00:00"}]
[404,{"$f":"'Sample Information'!$H$6","v":0},{"$f":"'Sample Information'!B437","v":0},{"$f":"'Sample Information'!#REF!","v":{"$error":"#REF!"}},{"$f":"'Sample Information'!$H$5","v":"00:00:00"}]
[405,{"$f":"'Sample Information'!$H$6","v":0},{"$f":"'Sample Information'!B438","v":0},{"$f":"'Sample Information'!#REF!","v":{"$error":"#REF!"}},{"$f":"'Sample Information'!$H$5","v":"00:00:00"}]
[406,{"$f":"'Sample Information'!$H$6","v":0},{"$f":"'Sample Information'!B439","v":0},{"$f":"'Sample Information'!#REF!","v":{"$error":"#REF!"}},{"$f":"'Sample Information'!$H$5","v":"00:00:00"}]
[407,{"$f":"'Sample Information'!$H$6","v":0},{"$f":"'Sample Information'!B440","v":0},{"$f":"'Sample Information'!#REF!","v":{"$error":"#REF!"}},{"$f":"'Sample Information'!$H$5","v":"00:00:00"}]
[408,{"$f":"'Sample Information'!$H$6","v":0},{"$f":"'Sample Information'!B441","v":0},{"$f":"'Sample Information'!#REF!","v":{"$error":"#REF!"}},{"$f":"'Sample Information'!$H$5","v":"00:00:00"}]
[409,{"$f":"'Sample Information'!$H$6","v":0},{"$f":"'Sample Information'!B442","v":0},{"$f":"'Sample Information'!#REF!","v":{"$error":"#REF!"}},{"$f":"'Sample Information'!$H$5","v":"00:00:00"}]
[410,{"$f":"'Sample Information'!$H$6","v":0},{"$f":"'Sample Information'!B443","v":0},{"$f":"'Sample Information'!#REF!","v":{"$error":"#REF!"}},{"$f":"'Sample Information'!$H$5","v":"00:00:00"}]
[411,{"$f":"'Sample Information'!$H$6","v":0},{"$f":"'Sample Information'!B444","v":0},{"$f":"'Sample Information'!#REF!","v":{"$error":"#REF!"}},{"$f":"'Sample Information'!$H$5","v":"00:00:00"}]
[412,{"$f":"'Sample Information'!$H$6","v":0},{"$f":"'Sample Information'!B445","v":0},{"$f":"'Sample Information'!#REF!","v":{"$error":"#REF!"}},{"$f":"'Sample Information'!$H$5","v":"00:00:00"}]
[413,{"$f":"'Sample Information'!$H$6","v":0},{"$f":"'Sample Information'!B446","v":0},{"$f":"'Sample Information'!#REF!","v":{"$error":"#REF!"}},{"$f":"'Sample Information'!$H$5","v":"00:00:00"}]
[414,{"$f":"'Sample Information'!$H$6","v":0},{"$f":"'Sample Information'!B447","v":0},{"$f":"'Sample Information'!#REF!","v":{"$error":"#REF!"}},{"$f":"'Sample Information'!$H$5","v":"00:00:00"}]
[415,{"$f":"'Sample Information'!$H$6","v":0},{"$f":"'Sample Information'!B448","v":0},{"$f":"'Sample Information'!#REF!","v":{"$error":"#REF!"}},{"$f":"'Sample Information'!$H$5","v":"00:00:00"}]
[416,{"$f":"'Sample Information'!$H$6","v":0},{"$f":"'Sample Information'!B449","v":0},{"$f":"'Sample Information'!#REF!","v":{"$error":"#REF!"}},{"$f":"'Sample Information'!$H$5","v":"00:00:00"}]
[417,{"$f":"'Sample Information'!$H$6","v":0},{"$f":"'Sample Information'!B450","v":0},{"$f":"'Sample Information'!#REF!","v":{"$error":"#REF!"}},{"$f":"'Sample Information'!$H$5","v":"00:00:00"}]
[418,{"$f":"'Sample Information'!$H$6","v":0},{"$f":"'Sample Information'!B451","v":0},{"$f":"'Sample Information'!D402","v":0},{"$f":"'Sample Information'!$H$5","v":"00:00:00"}]
[419,{"$f":"'Sample Information'!$H$6","v":0},{"$f":"'Sample Information'!B452","v":0},{"$f":"'Sample Information'!D403","v":0},{"$f":"'Sample Information'!$H$5","v":"00:00:00"}]
[420,{"$f":"'Sample Information'!$H$6","v":0},{"$f":"'Sample Information'!B453","v":0},{"$f":"'Sample Information'!D404","v":0},{"$f":"'Sample Information'!$H$5","v":"00:00:00"}]
[421,{"$f":"'Sample Information'!$H$6","v":0},{"$f":"'Sample Information'!B454","v":0},{"$f":"'Sample Information'!D405","v":0},{"$f":"'Sample Information'!$H$5","v":"00:00:00"}]
[422,{"$f":"'Sample Information'!$H$6","v":0},{"$f":"'Sample Information'!B455","v":0},{"$f":"'Sample Information'!D406","v":0},{"$f":"'Sample Information'!$H$5","v":"00:00:00"}]
[423,{"$f":"'Sample Information'!$H$6","v":0},{"$f":"'Sample Information'!B456","v":0},{"$f":"'Sample Information'!D407","v":0},{"$f":"'Sample Information'!$H$5","v":"00:00:00"}]
[424,{"$f":"'Sample Information'!$H$6","v":0},{"$f":"'Sample Information'!B457","v":0},{"$f":"'Sample Information'!D408","v":0},{"$f":"'Sample Information'!$H$5","v":"00:00:00"}]
[425,{"$f":"'Sample Information'!$H$6","v":0},{"$f":"'Sample Information'!B458","v":0},{"$f":"'Sample Information'!D409","v":0},{"$f":"'Sample Information'!$H$5","v":"00:00:00"}]
[426,{"$f":"'Sample Information'!$H$6","v":0},{"$f":"'Sample Information'!B459","v":0},{"$f":"'Sample Information'!D410","v":0},{"$f":"'Sample Information'!$H$5","v":"00:00:00"}]
[427,{"$f":"'Sample Information'!$H$6","v":0},{"$f":"'Sample Information'!B460","v":0},{"$f":"'Sample Information'!D411","v":0},{"$f":"'Sample Information'!$H$5","v":"00:00:00"}]
[428,{"$f":"'Sample Information'!$H$6","v":0},{"$f":"'Sample Information'!B461","v":0},{"$f":"'Sample Information'!D412","v":0},{"$f":"'Sample Information'!$H$5","v":"00:00:00"}]
[429,{"$f":"'Sample Information'!$H$6","v":0},{"$f":"'Sample Information'!B462","v":0},{"$f":"'Sample Information'!D413","v":0},{"$f":"'Sample Information'!$H$5","v":"00:00:00"}]
[430,{"$f":"'Sample Information'!$H$6","v":0},{"$f":"'Sample Information'!B463","v":0},{"$f":"'Sample Information'!D414","v":0},{"$f":"'Sample Information'!$H$5","v":"00:00:00"}]
[431,{"$f":"'Sample Information'!$H$6","v":0},{"$f":"'Sample Information'!B464","v":0},{"$f":"'Sample Information'!D415","v":0},{"$f":"'Sample Information'!$H$5","v":"00:00:00"}]
[432,{"$f":"'Sample Information'!$H$6","v":0},{"$f":"'Sample Information'!B465","v":0},{"$f":"'Sample Information'!D416","v":0},{"$f":"'Sample Information'!$H$5","v":"00:00:00"}]
[433,{"$f":"'Sample Information'!$H$6","v":0},{"$f":"'Sample Information'!B466","v":0},{"$f":"'Sample Information'!D417","v":0},{"$f":"'Sample Information'!$H$5","v":"00:00:00"}]
[434,{"$f":"'Sample Information'!$H$6","v":0},{"$f":"'Sample Information'!B467","v":0},{"$f":"'Sample Information'!D418","v":0},{"$f":"'Sample Information'!$H$5","v":"00:00:00"}]
[435,{"$f":"'Sample Information'!$H$6","v":0},{"$f":"'Sample Information'!B468","v":0},{"$f":"'Sample Information'!D419","v":0},{"$f":"'Sample Information'!$H$5","v":"00:00:00"}]
[436,{"$f":"'Sample Information'!$H$6","v":0},{"$f":"'Sample Information'!B469","v":0},{"$f":"'Sample Information'!D420","v":0},{"$f":"'Sample Information'!$H$5","v":"00:00:00"}]
[437,{"$f":"'Sample Information'!$H$6","v":0},{"$f":"'Sample Information'!B470","v":0},{"$f":"'Sample Information'!D421","v":0},{"$f":"'Sample Information'!$H$5","v":"00:00:00"}]
[438,{"$f":"'Sample Information'!$H$6","v":0},{"$f":"'Sample Information'!B471","v":0},{"$f":"'Sample Information'!D422","v":0},{"$f":"'Sample Information'!$H$5","v":"00:00:00"}]
[439,{"$f":"'Sample Information'!$H$6","v":0},{"$f":"'Sample Information'!B472","v":0},{"$f":"'Sample Information'!D423","v":0},{"$f":"'Sample Information'!$H$5","v":"00:00:00"}]
[440,{"$f":"'Sample Information'!$H$6","v":0},{"$f":"'Sample Information'!B473","v":0},{"$f":"'Sample Information'!D424","v":0},{"$f":"'Sample Information'!$H$5","v":"00:00:00"}]
[441,{"$f":"'Sample Information'!$H$6","v":0},{"$f":"'Sample Information'!B474","v":0},{"$f":"'Sample Information'!D425","v":0},{"$f":"'Sample Information'!$H$5","v":"00:00:00"}]
[442,{"$f":"'Sample Information'!$H$6","v":0},{"$f":"'Sample Information'!B475","v":0},{"$f":"'Sample Information'!D426","v":0},{"$f":"'Sample Information'!$H$5","v":"00:00:00"}]
[443,{"$f":"'Sample Information'!$H$6","v":0},{"$f":"'Sample Information'!B476","v":0},{"$f":"'Sample Information'!D427","v":0},{"$f":"'Sample Information'!$H$5","v":"00:00:00"}]
[444,{"$f":"'Sample Information'!$H$6","v":0},{"$f":"'Sample Information'!B477","v":0},{"$f":"'Sample Information'!D428","v":0},{"$f":"'Sample Information'!$H$5","v":"00:00:00"}]
[445,{"$f":"'Sample Information'!$H$6","v":0},{"$f":"'Sample Information'!B478","v":0},{"$f":"'Sample Information'!D429","v":0},{"$f":"'Sample Information'!$H$5","v":"00:00:00"}]
[446,{"$f":"'Sample Information'!$H$6","v":0},{"$f":"'Sample Information'!B479","v":0},{"$f":"'Sample Information'!D430","v":0},{"$f":"'Sample Information'!$H$5","v":"00:00:00"}]
[447,{"$f":"'Sample Information'!$H$6","v":0},{"$f":"'Sample Information'!B480","v":0},{"$f":"'Sample Information'!D431","v":0},{"$f":"'Sample Information'!$H$5","v":"00:00:00"}]
[448,{"$f":"'Sample Information'!$H$6","v":0},{"$f":"'Sample Information'!B481","v":0},{"$f":"'Sample Information'!D432","v":0},{"$f":"'Sample Information'!$H$5","v":"00:00:00"}]
[449,{"$f":"'Sample Information'!$H$6","v":0},{"$f":"'Sample Information'!B482","v":0},{"$f":"'Sample Information'!D433","v":0},{"$f":"'Sample Information'!$H$5","v":"00:00:00"}]
[450,{"$f":"'Sample Information'!$H$6","v":0},{"$f":"'Sample Information'!B483","v":0},{"$f":"'Sample Information'!D434","v":0},{"$f":"'Sample Information'!$H$5","v":"00:00:00"}]
[451,{"$f":"'Sample Information'!$H$6","v":0},{"$f":"'Sample Information'!B484","v":0},{"$f":"'Sample Information'!D435","v":0},{"$f":"'Sample Information'!$H$5","v":"00:00:00"}]
[452,{"$f":"'Sample Information'!$H$6","v":0},{"$f":"'Sample Information'!#REF!","v":{"$error":"#REF!"}},{"$f":"'Sample Information'!D436","v":0},{"$f":"'Sample Information'!$H$5","v":"00:00:00"}]
[453,{"$f":"'Sample Information'!$H$6","v":0},{"$f":"'Sample Information'!#REF!","v":{"$error":"#REF!"}},{"$f":"'Sample Information'!D437","v":0},{"$f":"'Sample Information'!$H$5","v":"00:00:00"}]
[454,{"$f":"'Sample Information'!$H$6","v":0},{"$f":"'Sample Information'!#REF!","v":{"$error":"#REF!"}},{"$f":"'Sample Information'!D438","v":0},{"$f":"'Sample Information'!$H$5","v":"00:00:00"}]
[455,{"$f":"'Sample Information'!$H$6","v":0},{"$f":"'Sample Information'!#REF!","v":{"$error":"#REF!"}},{"$f":"'Sample Information'!D439","v":0},{"$f":"'Sample Information'!$H$5","v":"00:00:00"}]
[456,{"$f":"'Sample Information'!$H$6","v":0},{"$f":"'Sample Information'!#REF!","v":{"$error":"#REF!"}},{"$f":"'Sample Information'!D440","v":0},{"$f":"'Sample Information'!$H$5","v":"00:00:00"}]
[457,{"$f":"'Sample Information'!$H$6","v":0},{"$f":"'Sample Information'!#REF!","v":{"$error":"#REF!"}},{"$f":"'Sample Information'!D441","v":0},{"$f":"'Sample Information'!$H$5","v":"00:00:00"}]
[458,{"$f":"'Sample Information'!$H$6","v":0},{"$f":"'Sample Information'!#REF!","v":{"$error":"#REF!"}},{"$f":"'Sample Information'!D442","v":0},{"$f":"'Sample Information'!$H$5","v":"00:00:00"}]
[459,{"$f":"'Sample Information'!$H$6","v":0},{"$f":"'Sample Information'!#REF!","v":{"$error":"#REF!"}},{"$f":"'Sample Information'!D443","v":0},{"$f":"'Sample Information'!$H$5","v":"00:00:00"}]
[460,{"$f":"'Sample Information'!$H$6","v":0},{"$f":"'Sample Information'!#REF!","v":{"$error":"#REF!"}},{"$f":"'Sample Information'!D444","v":0},{"$f":"'Sample Information'!$H$5","v":"00:00:00"}]
[461,{"$f":"'Sample Information'!$H$6","v":0},{"$f":"'Sample Information'!#REF!","v":{"$error":"#REF!"}},{"$f":"'Sample Information'!D445","v":0},{"$f":"'Sample Information'!$H$5","v":"00:00:00"}]
[462,{"$f":"'Sample Information'!$H$6","v":0},{"$f":"'Sample Information'!#REF!","v":{"$error":"#REF!"}},{"$f":"'Sample Information'!D446","v":0},{"$f":"'Sample Information'!$H$5","v":"00:00:00"}]
[463,{"$f":"'Sample Information'!$H$6","v":0},{"$f":"'Sample Information'!#REF!","v":{"$error":"#REF!"}},{"$f":"'Sample Information'!D447","v":0},{"$f":"'Sample Information'!$H$5","v":"00:00:00"}]
[464,{"$f":"'Sample Information'!$H$6","v":0},{"$f":"'Sample Information'!#REF!","v":{"$error":"#REF!"}},{"$f":"'Sample Information'!D448","v":0},{"$f":"'Sample Information'!$H$5","v":"00:00:00"}]
[465,{"$f":"'Sample Information'!$H$6","v":0},{"$f":"'Sample Information'!#REF!","v":{"$error":"#REF!"}},{"$f":"'Sample Information'!D449","v":0},{"$f":"'Sample Information'!$H$5","v":"00:00:00"}]
[466,{"$f":"'Sample Information'!$H$6","v":0},{"$f":"'Sample Information'!#REF!","v":{"$error":"#REF!"}},{"$f":"'Sample Information'!D450","v":0},{"$f":"'Sample Information'!$H$5","v":"00:00:00"}]
[467,{"$f":"'Sample Information'!$H$6","v":0},{"$f":"'Sample Information'!#REF!","v":{"$error":"#REF!"}},{"$f":"'Sample Information'!D451","v":0},{"$f":"'Sample Information'!$H$5","v":"00:00:00"}]
[468,{"$f":"'Sample Information'!$H$6","v":0},{"$f":"'Sample Information'!#REF!","v":{"$error":"#REF!"}},{"$f":"'Sample Information'!D452","v":0},{"$f":"'Sample Information'!$H$5","v":"00:00:00"}]
[469,{"$f":"'Sample Information'!$H$6","v":0},{"$f":"'Sample Information'!#REF!","v":{"$error":"#REF!"}},{"$f":"'Sample Information'!D453","v":0},{"$f":"'Sample Information'!$H$5","v":"00:00:00"}]
[470,{"$f":"'Sample Information'!$H$6","v":0},{"$f":"'Sample Information'!#REF!","v":{"$error":"#REF!"}},{"$f":"'Sample Information'!D454","v":0},{"$f":"'Sample Information'!$H$5","v":"00:00:00"}]
[471,{"$f":"'Sample Information'!$H$6","v":0},{"$f":"'Sample Information'!#REF!","v":{"$error":"#REF!"}},{"$f":"'Sample Information'!D455","v":0},{"$f":"'Sample Information'!$H$5","v":"00:00:00"}]
[472,{"$f":"'Sample Information'!$H$6","v":0},{"$f":"'Sample Information'!#REF!","v":{"$error":"#REF!"}},{"$f":"'Sample Information'!D456","v":0},{"$f":"'Sample Information'!$H$5","v":"00:00:00"}]
[473,{"$f":"'Sample Information'!$H$6","v":0},{"$f":"'Sample Information'!#REF!","v":{"$error":"#REF!"}},{"$f":"'Sample Information'!D457","v":0},{"$f":"'Sample Information'!$H$5","v":"00:00:00"}]
[474,{"$f":"'Sample Information'!$H$6","v":0},{"$f":"'Sample Information'!#REF!","v":{"$error":"#REF!"}},{"$f":"'Sample Information'!D458","v":0},{"$f":"'Sample Information'!$H$5","v":"00:00:00"}]
[475,{"$f":"'Sample Information'!$H$6","v":0},{"$f":"'Sample Information'!#REF!","v":{"$error":"#REF!"}},{"$f":"'Sample Information'!D459","v":0},{"$f":"'Sample Information'!$H$5","v":"00:00:00"}]
[476,{"$f":"'Sample Information'!$H$6","v":0},{"$f":"'Sample Information'!#REF!","v":{"$error":"#REF!"}},{"$f":"'Sample Information'!D460","v":0},{"$f":"'Sample Information'!$H$5","v":"00:00:00"}]
[477,{"$f":"'Sample Information'!$H$6","v":0},{"$f":"'Sample Information'!#REF!","v":{"$error":"#REF!"}},{"$f":"'Sample Information'!D461","v":0},{"$f":"'Sample Information'!$H$5","v":"00:00:00"}]
[478,{"$f":"'Sample Information'!$H$6","v":0},{"$f":"'Sample Information'!#REF!","v":{"$error":"#REF!"}},{"$f":"'Sample Information'!D462","v":0},{"$f":"'Sample Information'!$H$5","v":"00:00:00"}]
[479,{"$f":"'Sample Information'!$H$6","v":0},{"$f":"'Sample Information'!#REF!","v":{"$error":"#REF!"}},{"$f":"'Sample Information'!D463","v":0},{"$f":"'Sample Information'!$H$5","v":"00:00:00"}]
[480,{"$f":"'Sample Information'!$H$6","v":0},{"$f":"'Sample Information'!#REF!","v":{"$error":"#REF!"}},{"$f":"'Sample Information'!D464","v":0},{"$f":"'Sample Information'!$H$5","v":"00:00:00"}]
[481,{"$f":"'Sample Information'!$H$6","v":0},{"$f":"'Sample Information'!#REF!","v":{"$error":"#REF!"}},{"$f":"'Sample Information'!D465","v":0},{"$f":"'Sample Information'!$H$5","v":"00:00:00"}]
[482,{"$f":"'Sample Information'!$H$6","v":0},{"$f":"'Sample Information'!#REF!","v":{"$error":"#REF!"}},{"$f":"'Sample Information'!D466","v":0},{"$f":"'Sample Information'!$H$5","v":"00:00:00"}]
[483,{"$f":"'Sample Information'!$H$6","v":0},{"$f":"'Sample Information'!#REF!","v":{"$error":"#REF!"}},{"$f":"'Sample Information'!D467","v":0},{"$f":"'Sample Information'!$H$5","v":"00:00:00"}]
[484,{"$f":"'Sample Information'!$H$6","v":0},{"$f":"'Sample Information'!#REF!","v":{"$error":"#REF!"}},{"$f":"'Sample Information'!D468","v":0},{"$f":"'Sample Information'!$H$5","v":"00:00:00"}]
[485,{"$f":"'Sample Information'!$H$6","v":0},{"$f":"'Sample Information'!#REF!","v":{"$error":"#REF!"}},{"$f":"'Sample Information'!D469","v":0},{"$f":"'Sample Information'!$H$5","v":"00:00:00"}]
[486,{"$f":"'Sample Information'!$H$6","v":0},{"$f":"'Sample Information'!#REF!","v":{"$error":"#REF!"}},{"$f":"'Sample Information'!D470","v":0},{"$f":"'Sample Information'!$H$5","v":"00:00:00"}]
[487,{"$f":"'Sample Information'!$H$6","v":0},{"$f":"'Sample Information'!#REF!","v":{"$error":"#REF!"}},{"$f":"'Sample Information'!D471","v":0},{"$f":"'Sample Information'!$H$5","v":"00:00:00"}]
[488,{"$f":"'Sample Information'!$H$6","v":0},{"$f":"'Sample Information'!#REF!","v":{"$error":"#REF!"}},{"$f":"'Sample Information'!D472","v":0},{"$f":"'Sample Information'!$H$5","v":"00:00:00"}]
[489,{"$f":"'Sample Information'!$H$6","v":0},{"$f":"'Sample Information'!#REF!","v":{"$error":"#REF!"}},{"$f":"'Sample Information'!D473","v":0},{"$f":"'Sample Information'!$H$5","v":"00:00:00"}]
[490,{"$f":"'Sample Information'!$H$6","v":0},{"$f":"'Sample Information'!#REF!","v":{"$error":"#REF!"}},{"$f":"'Sample Information'!D474","v":0},{"$f":"'Sample Information'!$H$5","v":"00:00:00"}]
[491,{"$f":"'Sample Information'!$H$6","v":0},{"$f":"'Sample Information'!#REF!","v":{"$error":"#REF!"}},{"$f":"'Sample Information'!D475","v":0},{"$f":"'Sample Information'!$H$5","v":"00:00:00"}]
[492,{"$f":"'Sample Information'!$H$6","v":0},{"$f":"'Sample Information'!#REF!","v":{"$error":"#REF!"}},{"$f":"'Sample Information'!D476","v":0},{"$f":"'Sample Information'!$H$5","v":"00:00:00"}]
[493,{"$f":"'Sample Information'!$H$6","v":0},{"$f":"'Sample Information'!#REF!","v":{"$error":"#REF!"}},{"$f":"'Sample Information'!D477","v":0},{"$f":"'Sample Information'!$H$5","v":"00:00:00"}]
[494,{"$f":"'Sample Information'!$H$6","v":0},{"$f":"'Sample Information'!#REF!","v":{"$error":"#REF!"}},{"$f":"'Sample Information'!D478","v":0},{"$f":"'Sample Information'!$H$5","v":"00:00:00"}]
[495,{"$f":"'Sample Information'!$H$6","v":0},{"$f":"'Sample Information'!#REF!","v":{"$error":"#REF!"}},{"$f":"'Sample Information'!D479","v":0},{"$f":"'Sample Information'!$H$5","v":"00:00:00"}]
[496,{"$f":"'Sample Information'!$H$6","v":0},{"$f":"'Sample Information'!#REF!","v":{"$error":"#REF!"}},{"$f":"'Sample Information'!D480","v":0},{"$f":"'Sample Information'!$H$5","v":"00:00:00"}]
[497,{"$f":"'Sample Information'!$H$6","v":0},{"$f":"'Sample Information'!#REF!","v":{"$error":"#REF!"}},{"$f":"'Sample Information'!D481","v":0},{"$f":"'Sample Information'!$H$5","v":"00:00:00"}]
[498,{"$f":"'Sample Information'!$H$6","v":0},{"$f":"'Sample Information'!#REF!","v":{"$error":"#REF!"}},{"$f":"'Sample Information'!D482","v":0},{"$f":"'Sample Information'!$H$5","v":"00:00:00"}]
[499,{"$f":"'Sample Information'!$H$6","v":0},{"$f":"'Sample Information'!#REF!","v":{"$error":"#REF!"}},{"$f":"'Sample Information'!D483","v":0},{"$f":"'Sample Information'!$H$5","v":"00:00:00"}]
[500,{"$f":"'Sample Information'!$H$6","v":0},{"$f":"'Sample Information'!#REF!","v":{"$error":"#REF!"}},{"$f":"'Sample Information'!D484","v":0},{"$f":"'Sample Information'!$H$5","v":"00:00:00"}]
[501,{"$f":"'Sample Information'!$H$6","v":0},{"$f":"'Sample Information'!B485","v":0},{"$f":"'Sample Information'!D485","v":0},{"$f":"'Sample Information'!$H$5","v":"00:00:00"}]
[502,{"$f":"'Sample Information'!$H$6","v":0},{"$f":"'Sample Information'!B486","v":0},{"$f":"'Sample Information'!D486","v":0},{"$f":"'Sample Information'!$H$5","v":"00:00:00"}]
[503,{"$f":"'Sample Information'!$H$6","v":0},{"$f":"'Sample Information'!B487","v":0},{"$f":"'Sample Information'!D487","v":0},{"$f":"'Sample Information'!$H$5","v":"00:00:00"}]
[504,{"$f":"'Sample Information'!$H$6","v":0},{"$f":"'Sample Information'!B488","v":0},{"$f":"'Sample Information'!D488","v":0},{"$f":"'Sample Information'!$H$5","v":"00:00:00"}]
[505,{"$f":"'Sample Information'!$H$6","v":0},{"$f":"'Sample Information'!B489","v":0},{"$f":"'Sample Information'!D489","v":0},{"$f":"'Sample Information'!$H$5","v":"00:00:00"}]
[506,{"$f":"'Sample Information'!$H$6","v":0},{"$f":"'Sample Information'!B490","v":0},{"$f":"'Sample Information'!D490","v":0},{"$f":"'Sample Information'!$H$5","v":"00:00:00"}]
[507,{"$f":"'Sample Information'!$H$6","v":0},{"$f":"'Sample Information'!B491","v":0},{"$f":"'Sample Information'!D491","v":0},{"$f":"'Sample Information'!$H$5","v":"00:00:00"}]
[508,{"$f":"'Sample Information'!$H$6","v":0},{"$f":"'Sample Information'!B492","v":0},{"$f":"'Sample Information'!D492","v":0},{"$f":"'Sample Information'!$H$5","v":"00:00:00"}]
[509,{"$f":"'Sample Information'!$H$6","v":0},{"$f":"'Sample Information'!B493","v":0},{"$f":"'Sample Information'!D493","v":0},{"$f":"'Sample Information'!$H$5","v":"00:00:00"}]
[510,{"$f":"'Sample Information'!$H$6","v":0},{"$f":"'Sample Information'!B494","v":0},{"$f":"'Sample Information'!D494","v":0},{"$f":"'Sample Information'!$H$5","v":"00:00:00"}]
[511,{"$f":"'Sample Information'!$H$6","v":0},{"$f":"'Sample Information'!B495","v":0},{"$f":"'Sample Information'!D495","v":0},{"$f":"'Sample Information'!$H$5","v":"00:00:00"}]
[512,{"$f":"'Sample Information'!$H$6","v":0},{"$f":"'Sample Information'!B496","v":0},{"$f":"'Sample Information'!D496","v":0},{"$f":"'Sample Information'!$H$5","v":"00:00:00"}]
[513,{"$f":"'Sample Information'!$H$6","v":0},{"$f":"'Sample Information'!B497","v":0},{"$f":"'Sample Information'!D497","v":0},{"$f":"'Sample Information'!$H$5","v":"00:00:00"}]
[514,{"$f":"'Sample Information'!$H$6","v":0},{"$f":"'Sample Information'!B498","v":0},{"$f":"'Sample Information'!D498","v":0},{"$f":"'Sample Information'!$H$5","v":"00:00:00"}]
[515,{"$f":"'Sample Information'!$H$6","v":0},{"$f":"'Sample Information'!B499","v":0},{"$f":"'Sample Information'!D499","v":0},{"$f":"'Sample Information'!$H$5","v":"00:00:00"}]
[516,{"$f":"'Sample Information'!$H$6","v":0},{"$f":"'Sample Information'!B500","v":0},{"$f":"'Sample Information'!D500","v":0},{"$f":"'Sample Information'!$H$5","v":"00:00:00"}]
[517,{"$f":"'Sample Information'!$H$6","v":0},{"$f":"'Sample Information'!B501","v":0},{"$f":"'Sample Information'!D501","v":0},{"$f":"'Sample Information'!$H$5","v":"00:00:00"}]
[518,{"$f":"'Sample Information'!$H$6","v":0},{"$f":"'Sample Information'!B502","v":0},{"$f":"'Sample Information'!D502","v":0},{"$f":"'Sample Information'!$H$5","v":"00:00:00"}]
[519,{"$f":"'Sample Information'!$H$6","v":0},{"$f":"'Sample Information'!B503","v":0},{"$f":"'Sample Information'!D503","v":0},{"$f":"'Sample Information'!$H$5","v":"00:00:00"}]
[520,{"$f":"'Sample Information'!$H$6","v":0},{"$f":"'Sample Information'!B504","v":0},{"$f":"'Sample Information'!D504","v":0},{"$f":"'Sample Information'!$H$5","v":"00:00:00"}]
[521,{"$f":"'Sample Information'!$H$6","v":0},{"$f":"'Sample Information'!B505","v":0},{"$f":"'Sample Information'!D505","v":0},{"$f":"'Sample Information'!$H$5","v":"00:00:00"}]
[522,{"$f":"'Sample Information'!$H$6","v":0},{"$f":"'Sample Information'!B506","v":0},{"$f":"'Sample Information'!D506","v":0},{"$f":"'Sample Information'!$H$5","v":"00:00:00"}]
[523,{"$f":"'Sample Information'!$H$6","v":0},{"$f":"'Sample Information'!B507","v":0},{"$f":"'Sample Information'!D507","v":0},{"$f":"'Sample Information'!$H$5","v":"00:00:00"}]
[524,{"$f":"'Sample Information'!$H$6","v":0},{"$f":"'Sample Information'!B508","v":0},{"$f":"'Sample Information'!D508","v":0},{"$f":"'Sample Information'!$H$5","v":"00:00:00"}]
[525,{"$f":"'Sample Information'!$H$6","v":0},{"$f":"'Sample Information'!B509","v":0},{"$f":"'Sample Information'!D509","v":0},{"$f":"'Sample Information'!$H$5","v":"00:00:00"}]
[526,{"$f":"'Sample Information'!$H$6","v":0},{"$f":"'Sample Information'!B510","v":0},{"$f":"'Sample Information'!D510","v":0},{"$f":"'Sample Information'!$H$5","v":"00:00:00"}]
[527,{"$f":"'Sample Information'!$H$6","v":0},{"$f":"'Sample Information'!B511","v":0},{"$f":"'Sample Information'!D511","v":0},{"$f":"'Sample Information'!$H$5","v":"00:00:00"}]
[528,{"$f":"'Sample Information'!$H$6","v":0},{"$f":"'Sample Information'!B512","v":0},{"$f":"'Sample Information'!D512","v":0},{"$f":"'Sample Information'!$H$5","v":"00:00:00"}]
[529,{"$f":"'Sample Information'!$H$6","v":0},{"$f":"'Sample Information'!B513","v":0},{"$f":"'Sample Information'!D513","v":0},{"$f":"'Sample Information'!$H$5","v":"00:00:00"}]
[530,{"$f":"'Sample Information'!$H$6","v":0},{"$f":"'Sample Information'!B514","v":0},{"$f":"'Sample Information'!D514","v":0},{"$f":"'Sample Information'!$H$5","v":"00:00:00"}]
[531,{"$f":"'Sample Information'!$H$6","v":0},{"$f":"'Sample Information'!B515","v":0},{"$f":"'Sample Information'!D515","v":0},{"$f":"'Sample Information'!$H$5","v":"00:00:00"}]
[532,{"$f":"'Sample Information'!$H$6","v":0},{"$f":"'Sample Information'!B516","v":0},{"$f":"'Sample Information'!D516","v":0},{"$f":"'Sample Information'!$H$5","v":"00:00:00"}]
[533,{"$f":"'Sample Information'!$H$6","v":0},{"$f":"'Sample Information'!B517","v":0},{"$f":"'Sample Information'!D517","v":0},{"$f":"'Sample Information'!$H$5","v":"00:00:00"}]
[534,{"$f":"'Sample Information'!$H$6","v":0},{"$f":"'Sample Information'!B518","v":0},{"$f":"'Sample Information'!D518","v":0},{"$f":"'Sample Information'!$H$5","v":"00:00:00"}]
[535,{"$f":"'Sample Information'!$H$6","v":0},{"$f":"'Sample Information'!B519","v":0},{"$f":"'Sample Information'!D519","v":0},{"$f":"'Sample Information'!$H$5","v":"00:00:00"}]
[536,{"$f":"'Sample Information'!$H$6","v":0},{"$f":"'Sample Information'!B520","v":0},{"$f":"'Sample Information'!D520","v":0},{"$f":"'Sample Information'!$H$5","v":"00:00:00"}]
[537,{"$f":"'Sample Information'!$H$6","v":0},{"$f":"'Sample Information'!B521","v":0},{"$f":"'Sample Information'!D521","v":0},{"$f":"'Sample Information'!$H$5","v":"00:00:00"}]
[538,{"$f":"'Sample Information'!$H$6","v":0},{"$f":"'Sample Information'!B522","v":0},{"$f":"'Sample Information'!D522","v":0},{"$f":"'Sample Information'!$H$5","v":"00:00:00"}]
[539,{"$f":"'Sample Information'!$H$6","v":0},{"$f":"'Sample Information'!B523","v":0},{"$f":"'Sample Information'!D523","v":0},{"$f":"'Sample Information'!$H$5","v":"00:00:00"}]
[540,{"$f":"'Sample Information'!$H$6","v":0},{"$f":"'Sample Information'!B524","v":0},{"$f":"'Sample Information'!D524","v":0},{"$f":"'Sample Information'!$H$5","v":"00:00:00"}]
[541,{"$f":"'Sample Information'!$H$6","v":0},{"$f":"'Sample Information'!B525","v":0},{"$f":"'Sample Information'!D525","v":0},{"$f":"'Sample Information'!$H$5","v":"00:00:00"}]
[542,{"$f":"'Sample Information'!$H$6","v":0},{"$f":"'Sample Information'!B526","v":0},{"$f":"'Sample Information'!D526","v":0},{"$f":"'Sample Information'!$H$5","v":"00:00:00"}]
[543,{"$f":"'Sample Information'!$H$6","v":0},{"$f":"'Sample Information'!B527","v":0},{"$f":"'Sample Information'!D527","v":0},{"$f":"'Sample Information'!$H$5","v":"00:00:00"}]
[544,{"$f":"'Sample Information'!$H$6","v":0},{"$f":"'Sample Information'!B528","v":0},{"$f":"'Sample Information'!D528","v":0},{"$f":"'Sample Information'!$H$5","v":"00:00:00"}]
[545,{"$f":"'Sample Information'!$H$6","v":0},{"$f":"'Sample Information'!B529","v":0},{"$f":"'Sample Information'!D529","v":0},{"$f":"'Sample Information'!$H$5","v":"00:00:00"}]
[546,{"$f":"'Sample Information'!$H$6","v":0},{"$f":"'Sample Information'!B530","v":0},{"$f":"'Sample Information'!D530","v":0},{"$f":"'Sample Information'!$H$5","v":"00:00:00"}]
[547,{"$f":"'Sample Information'!$H$6","v":0},{"$f":"'Sample Information'!B531","v":0},{"$f":"'Sample Information'!D531","v":0},{"$f":"'Sample Information'!$H$5","v":"00:00:00"}]
[548,{"$f":"'Sample Information'!$H$6","v":0},{"$f":"'Sample Information'!B532","v":0},{"$f":"'Sample Information'!D532","v":0},{"$f":"'Sample Information'!$H$5","v":"00:00:00"}]
[549,{"$f":"'Sample Information'!$H$6","v":0},{"$f":"'Sample Information'!B533","v":0},{"$f":"'Sample Information'!D533","v":0},{"$f":"'Sample Information'!$H$5","v":"00:00:00"}]
[550,{"$f":"'Sample Information'!$H$6","v":0},{"$f":"'Sample Information'!B534","v":0},{"$f":"'Sample Information'!D534","v":0},{"$f":"'Sample Information'!$H$5","v":"00:00:00"}]
[551,{"$f":"'Sample Information'!$H$6","v":0},{"$f":"'Sample Information'!B535","v":0},{"$f":"'Sample Information'!D535","v":0},{"$f":"'Sample Information'!$H$5","v":"00:00:00"}]
[552,{"$f":"'Sample Information'!$H$6","v":0},{"$f":"'Sample Information'!B536","v":0},{"$f":"'Sample Information'!D536","v":0},{"$f":"'Sample Information'!$H$5","v":"00:00:00"}]
[553,{"$f":"'Sample Information'!$H$6","v":0},{"$f":"'Sample Information'!B537","v":0},{"$f":"'Sample Information'!D537","v":0},{"$f":"'Sample Information'!$H$5","v":"00:00:00"}]
[554,{"$f":"'Sample Information'!$H$6","v":0},{"$f":"'Sample Information'!B538","v":0},{"$f":"'Sample Information'!D538","v":0},{"$f":"'Sample Information'!$H$5","v":"00:00:00"}]
[555,{"$f":"'Sample Information'!$H$6","v":0},{"$f":"'Sample Information'!B539","v":0},{"$f":"'Sample Information'!D539","v":0},{"$f":"'Sample Information'!$H$5","v":"00:00:00"}]
[556,{"$f":"'Sample Information'!$H$6","v":0},{"$f":"'Sample Information'!B540","v":0},{"$f":"'Sample Information'!D540","v":0},{"$f":"'Sample Information'!$H$5","v":"00:00:00"}]
[557,{"$f":"'Sample Information'!$H$6","v":0},{"$f":"'Sample Information'!B541","v":0},{"$f":"'Sample Information'!D541","v":0},{"$f":"'Sample Information'!$H$5","v":"00:00:00"}]
[558,{"$f":"'Sample Information'!$H$6","v":0},{"$f":"'Sample Information'!B542","v":0},{"$f":"'Sample Information'!D542","v":0},{"$f":"'Sample Information'!$H$5","v":"00:00:00"}]
[559,{"$f":"'Sample Information'!$H$6","v":0},{"$f":"'Sample Information'!B543","v":0},{"$f":"'Sample Information'!D543","v":0},{"$f":"'Sample Information'!$H$5","v":"00:00:00"}]
[560,{"$f":"'Sample Information'!$H$6","v":0},{"$f":"'Sample Information'!B544","v":0},{"$f":"'Sample Information'!D544","v":0},{"$f":"'Sample Information'!$H$5","v":"00:00:00"}]
[561,{"$f":"'Sample Information'!$H$6","v":0},{"$f":"'Sample Information'!B545","v":0},{"$f":"'Sample Information'!D545","v":0},{"$f":"'Sample Information'!$H$5","v":"00:00:00"}]
[562,{"$f":"'Sample Information'!$H$6","v":0},{"$f":"'Sample Information'!B546","v":0},{"$f":"'Sample Information'!D546","v":0},{"$f":"'Sample Information'!$H$5","v":"00:00:00"}]
[563,{"$f":"'Sample Information'!$H$6","v":0},{"$f":"'Sample Information'!B547","v":0},{"$f":"'Sample Information'!D547","v":0},{"$f":"'Sample Information'!$H$5","v":"00:00:00"}]
[564,{"$f":"'Sample Information'!$H$6","v":0},{"$f":"'Sample Information'!B548","v":0},{"$f":"'Sample Information'!D548","v":0},{"$f":"'Sample Information'!$H$5","v":"00:00:00"}]
[565,{"$f":"'Sample Information'!$H$6","v":0},{"$f":"'Sample Information'!B549","v":0},{"$f":"'Sample Information'!D549","v":0},{"$f":"'Sample Information'!$H$5","v":"00:00:00"}]
[566,{"$f":"'Sample Information'!$H$6","v":0},{"$f":"'Sample Information'!B550","v":0},{"$f":"'Sample Information'!D550","v":0},{"$f":"'Sample Information'!$H$5","v":"00:00:00"}]
[567,{"$f":"'Sample Information'!$H$6","v":0},{"$f":"'Sample Information'!B551","v":0},{"$f":"'Sample Information'!D551","v":0},{"$f":"'Sample Information'!$H$5","v":"00:00:00"}]
[568,{"$f":"'Sample Information'!$H$6","v":0},{"$f":"'Sample Information'!B552","v":0},{"$f":"'Sample Information'!D552","v":0},{"$f":"'Sample Information'!$H$5","v":"00:00:00"}]
[569,{"$f":"'Sample Information'!$H$6","v":0},{"$f":"'Sample Information'!B553","v":0},{"$f":"'Sample Information'!D553","v":0},{"$f":"'Sample Information'!$H$5","v":"00:00:00"}]
[570,{"$f":"'Sample Information'!$H$6","v":0},{"$f":"'Sample Information'!B554","v":0},{"$f":"'Sample Information'!D554","v":0},{"$f":"'Sample Information'!$H$5","v":"00:00:00"}]
[571,{"$f":"'Sample Information'!$H$6","v":0},{"$f":"'Sample Information'!B555","v":0},{"$f":"'Sample Information'!D555","v":0},{"$f":"'Sample Information'!$H$5","v":"00:00:00"}]
[572,{"$f":"'Sample Information'!$H$6","v":0},{"$f":"'Sample Information'!B556","v":0},{"$f":"'Sample Information'!D556","v":0},{"$f":"'Sample Information'!$H$5","v":"00:00:00"}]
[573,{"$f":"'Sample Information'!$H$6","v":0},{"$f":"'Sample Information'!B557","v":0},{"$f":"'Sample Information'!D557","v":0},{"$f":"'Sample Information'!$H$5","v":"00:00:00"}]
[574,{"$f":"'Sample Information'!$H$6","v":0},{"$f":"'Sample Information'!B558","v":0},{"$f":"'Sample Information'!D558","v":0},{"$f":"'Sample Information'!$H$5","v":"00:00:00"}]
[575,{"$f":"'Sample Information'!$H$6","v":0},{"$f":"'Sample Information'!B559","v":0},{"$f":"'Sample Information'!D559","v":0},{"$f":"'Sample Information'!$H$5","v":"00:00:00"}]
[576,{"$f":"'Sample Information'!$H$6","v":0},{"$f":"'Sample Information'!B560","v":0},{"$f":"'Sample Information'!D560","v":0},{"$f":"'Sample Information'!$H$5","v":"00:00:00"}]

{"sheet":"DNA Processing Record","index":3,"n_rows":501,"n_cols":23,"rows_kept":501,"cut":false,"hidden":true,"merged":[]}
[null,"Sample_ID\n(Max. 10 characters)","Sample DNA_ID","Sample_Type","*Concentration by Nanodrop (ng/ul)","Elution Volume (ul)","Elution Buffer (EB/Rnase free H2O)","Nucleic Acid Quantity (ug)","A260/280","A260/230","Species","RIN Value                             (For RNA Sample Only)","Gel-photo                             (For DNA Sample Only)","Concentration by Qubit (ng/ul)","iLab Service ID","Submission Date","Reference_ID","Extraction_Date","Extraction Protocol","Operator","Qubit/Nanodrop %","Remarks","*Concentration measured by NanoDrop™ One (A320 adjustment inclusive)"]
[{"$f":"'Sample Information'!A2","v":1},{"$f":"'Sample Information'!B2","v":0},{"$f":"CONCATENATE(B2,\"-DNA\")","v":"0-DNA"},{"$f":"'Sample Information'!D2","v":"Frozen Tissue"},{"$f":"IF(VLOOKUP($C2, 'Nanodrop Data Raw'!$C:$L, 10, FALSE)<>\"\", VLOOKUP($C2, 'Nanodrop Data Raw'!$C:$L, 10, FALSE), VLOOKUP($C2, 'Nanodrop Data Raw'!$C:$L, 2, FALSE))","v":{"$error":"#N/A"}},null,null,{"$f":"E2*F2/1000","v":{"$error":"#N/A"}},{"$f":"VLOOKUP($C2, 'Nanodrop Data Raw'!$C:$L, 3, FALSE)","v":{"$error":"#N/A"}},{"$f":"VLOOKUP($C2, 'Nanodrop Data Raw'!$C:$L, 4, FALSE)","v":{"$error":"#N/A"}},null,null,null,null,{"$f":"'Sample Information'!$H$6","v":0},{"$f":"'Sample Information'!$H$5","v":0},null,null,{"$f":"'Sample Information'!$H$7","v":0},null,{"$f":"$N2/$E2","v":{"$error":"#N/A"}}]
[{"$f":"'Sample Information'!A3","v":2},{"$f":"'Sample Information'!B3","v":0},{"$f":"CONCATENATE(B3,\"-DNA\")","v":"0-DNA"},{"$f":"'Sample Information'!D3","v":0},{"$f":"IF(VLOOKUP($C3, 'Nanodrop Data Raw'!$C:$L, 10, FALSE)<>\"\", VLOOKUP($C3, 'Nanodrop Data Raw'!$C:$L, 10, FALSE), VLOOKUP($C3, 'Nanodrop Data Raw'!$C:$L, 2, FALSE))","v":{"$error":"#N/A"}},null,null,{"$f":"E3*F3/1000","v":{"$error":"#N/A"}},{"$f":"VLOOKUP($C3, 'Nanodrop Data Raw'!$C:$L, 3, FALSE)","v":{"$error":"#N/A"}},{"$f":"VLOOKUP($C3, 'Nanodrop Data Raw'!$C:$L, 4, FALSE)","v":{"$error":"#N/A"}},null,null,null,null,{"$f":"'Sample Information'!$H$6","v":0},{"$f":"'Sample Information'!$H$5","v":0},null,null,{"$f":"'Sample Information'!$H$7","v":0},null,{"$f":"$N3/$E3","v":{"$error":"#N/A"}}]
[{"$f":"'Sample Information'!A4","v":3},{"$f":"'Sample Information'!B4","v":0},"0-DNA",{"$f":"'Sample Information'!D4","v":0},{"$f":"IF(VLOOKUP($C4, 'Nanodrop Data Raw'!$C:$L, 10, FALSE)<>\"\", VLOOKUP($C4, 'Nanodrop Data Raw'!$C:$L, 10, FALSE), VLOOKUP($C4, 'Nanodrop Data Raw'!$C:$L, 2, FALSE))","v":{"$error":"#N/A"}},null,null,{"$error":"#N/A"},{"$f":"VLOOKUP($C4, 'Nanodrop Data Raw'!$C:$L, 3, FALSE)","v":{"$error":"#N/A"}},{"$f":"VLOOKUP($C4, 'Nanodrop Data Raw'!$C:$L, 4, FALSE)","v":{"$error":"#N/A"}},null,null,null,null,{"$f":"'Sample Information'!$H$6","v":0},{"$f":"'Sample Information'!$H$5","v":0},null,null,{"$f":"'Sample Information'!$H$7","v":0},null,{"$error":"#N/A"}]
[{"$f":"'Sample Information'!A5","v":4},{"$f":"'Sample Information'!B5","v":0},"0-DNA",{"$f":"'Sample Information'!D5","v":0},{"$f":"IF(VLOOKUP($C5, 'Nanodrop Data Raw'!$C:$L, 10, FALSE)<>\"\", VLOOKUP($C5, 'Nanodrop Data Raw'!$C:$L, 10, FALSE), VLOOKUP($C5, 'Nanodrop Data Raw'!$C:$L, 2, FALSE))","v":{"$error":"#N/A"}},null,null,{"$error":"#N/A"},{"$f":"VLOOKUP($C5, 'Nanodrop Data Raw'!$C:$L, 3, FALSE)","v":{"$error":"#N/A"}},{"$f":"VLOOKUP($C5, 'Nanodrop Data Raw'!$C:$L, 4, FALSE)","v":{"$error":"#N/A"}},null,null,null,null,{"$f":"'Sample Information'!$H$6","v":0},{"$f":"'Sample Information'!$H$5","v":0},null,null,{"$f":"'Sample Information'!$H$7","v":0},null,{"$error":"#N/A"}]
[{"$f":"'Sample Information'!A6","v":5},{"$f":"'Sample Information'!B6","v":0},"0-DNA",{"$f":"'Sample Information'!D6","v":0},{"$f":"IF(VLOOKUP($C6, 'Nanodrop Data Raw'!$C:$L, 10, FALSE)<>\"\", VLOOKUP($C6, 'Nanodrop Data Raw'!$C:$L, 10, FALSE), VLOOKUP($C6, 'Nanodrop Data Raw'!$C:$L, 2, FALSE))","v":{"$error":"#N/A"}},null,null,{"$error":"#N/A"},{"$f":"VLOOKUP($C6, 'Nanodrop Data Raw'!$C:$L, 3, FALSE)","v":{"$error":"#N/A"}},{"$f":"VLOOKUP($C6, 'Nanodrop Data Raw'!$C:$L, 4, FALSE)","v":{"$error":"#N/A"}},null,null,null,null,{"$f":"'Sample Information'!$H$6","v":0},{"$f":"'Sample Information'!$H$5","v":0},null,null,{"$f":"'Sample Information'!$H$7","v":0},null,{"$error":"#N/A"}]
[{"$f":"'Sample Information'!A7","v":6},{"$f":"'Sample Information'!B7","v":0},"0-DNA",{"$f":"'Sample Information'!D7","v":0},{"$f":"IF(VLOOKUP($C7, 'Nanodrop Data Raw'!$C:$L, 10, FALSE)<>\"\", VLOOKUP($C7, 'Nanodrop Data Raw'!$C:$L, 10, FALSE), VLOOKUP($C7, 'Nanodrop Data Raw'!$C:$L, 2, FALSE))","v":{"$error":"#N/A"}},null,null,{"$error":"#N/A"},{"$f":"VLOOKUP($C7, 'Nanodrop Data Raw'!$C:$L, 3, FALSE)","v":{"$error":"#N/A"}},{"$f":"VLOOKUP($C7, 'Nanodrop Data Raw'!$C:$L, 4, FALSE)","v":{"$error":"#N/A"}},null,null,null,null,{"$f":"'Sample Information'!$H$6","v":0},{"$f":"'Sample Information'!$H$5","v":0},null,null,{"$f":"'Sample Information'!$H$7","v":0},null,{"$error":"#N/A"}]
[{"$f":"'Sample Information'!A8","v":7},{"$f":"'Sample Information'!B8","v":0},"0-DNA",{"$f":"'Sample Information'!D8","v":0},{"$f":"IF(VLOOKUP($C8, 'Nanodrop Data Raw'!$C:$L, 10, FALSE)<>\"\", VLOOKUP($C8, 'Nanodrop Data Raw'!$C:$L, 10, FALSE), VLOOKUP($C8, 'Nanodrop Data Raw'!$C:$L, 2, FALSE))","v":{"$error":"#N/A"}},null,null,{"$error":"#N/A"},{"$f":"VLOOKUP($C8, 'Nanodrop Data Raw'!$C:$L, 3, FALSE)","v":{"$error":"#N/A"}},{"$f":"VLOOKUP($C8, 'Nanodrop Data Raw'!$C:$L, 4, FALSE)","v":{"$error":"#N/A"}},null,null,null,null,{"$f":"'Sample Information'!$H$6","v":0},{"$f":"'Sample Information'!$H$5","v":0},null,null,{"$f":"'Sample Information'!$H$7","v":0},null,{"$error":"#N/A"}]
[{"$f":"'Sample Information'!A9","v":8},{"$f":"'Sample Information'!B9","v":0},"0-DNA",{"$f":"'Sample Information'!D9","v":0},{"$f":"IF(VLOOKUP($C9, 'Nanodrop Data Raw'!$C:$L, 10, FALSE)<>\"\", VLOOKUP($C9, 'Nanodrop Data Raw'!$C:$L, 10, FALSE), VLOOKUP($C9, 'Nanodrop Data Raw'!$C:$L, 2, FALSE))","v":{"$error":"#N/A"}},null,null,{"$error":"#N/A"},{"$f":"VLOOKUP($C9, 'Nanodrop Data Raw'!$C:$L, 3, FALSE)","v":{"$error":"#N/A"}},{"$f":"VLOOKUP($C9, 'Nanodrop Data Raw'!$C:$L, 4, FALSE)","v":{"$error":"#N/A"}},null,null,null,null,{"$f":"'Sample Information'!$H$6","v":0},{"$f":"'Sample Information'!$H$5","v":0},null,null,{"$f":"'Sample Information'!$H$7","v":0},null,{"$error":"#N/A"}]
[{"$f":"'Sample Information'!A10","v":9},{"$f":"'Sample Information'!B10","v":0},"0-DNA",{"$f":"'Sample Information'!D10","v":0},{"$f":"IF(VLOOKUP($C10, 'Nanodrop Data Raw'!$C:$L, 10, FALSE)<>\"\", VLOOKUP($C10, 'Nanodrop Data Raw'!$C:$L, 10, FALSE), VLOOKUP($C10, 'Nanodrop Data Raw'!$C:$L, 2, FALSE))","v":{"$error":"#N/A"}},null,null,{"$error":"#N/A"},{"$f":"VLOOKUP($C10, 'Nanodrop Data Raw'!$C:$L, 3, FALSE)","v":{"$error":"#N/A"}},{"$f":"VLOOKUP($C10, 'Nanodrop Data Raw'!$C:$L, 4, FALSE)","v":{"$error":"#N/A"}},null,null,null,null,{"$f":"'Sample Information'!$H$6","v":0},{"$f":"'Sample Information'!$H$5","v":0},null,null,{"$f":"'Sample Information'!$H$7","v":0},null,{"$error":"#N/A"}]
[{"$f":"'Sample Information'!A11","v":10},{"$f":"'Sample Information'!B11","v":0},"0-DNA",{"$f":"'Sample Information'!D11","v":0},{"$f":"IF(VLOOKUP($C11, 'Nanodrop Data Raw'!$C:$L, 10, FALSE)<>\"\", VLOOKUP($C11, 'Nanodrop Data Raw'!$C:$L, 10, FALSE), VLOOKUP($C11, 'Nanodrop Data Raw'!$C:$L, 2, FALSE))","v":{"$error":"#N/A"}},null,null,{"$error":"#N/A"},{"$f":"VLOOKUP($C11, 'Nanodrop Data Raw'!$C:$L, 3, FALSE)","v":{"$error":"#N/A"}},{"$f":"VLOOKUP($C11, 'Nanodrop Data Raw'!$C:$L, 4, FALSE)","v":{"$error":"#N/A"}},null,null,null,null,{"$f":"'Sample Information'!$H$6","v":0},{"$f":"'Sample Information'!$H$5","v":0},null,null,{"$f":"'Sample Information'!$H$7","v":0},null,{"$error":"#N/A"}]
[{"$f":"'Sample Information'!A12","v":11},{"$f":"'Sample Information'!B12","v":0},"0-DNA",{"$f":"'Sample Information'!D12","v":0},{"$f":"IF(VLOOKUP($C12, 'Nanodrop Data Raw'!$C:$L, 10, FALSE)<>\"\", VLOOKUP($C12, 'Nanodrop Data Raw'!$C:$L, 10, FALSE), VLOOKUP($C12, 'Nanodrop Data Raw'!$C:$L, 2, FALSE))","v":{"$error":"#N/A"}},null,null,{"$error":"#N/A"},{"$f":"VLOOKUP($C12, 'Nanodrop Data Raw'!$C:$L, 3, FALSE)","v":{"$error":"#N/A"}},{"$f":"VLOOKUP($C12, 'Nanodrop Data Raw'!$C:$L, 4, FALSE)","v":{"$error":"#N/A"}},null,null,null,null,{"$f":"'Sample Information'!$H$6","v":0},{"$f":"'Sample Information'!$H$5","v":0},null,null,{"$f":"'Sample Information'!$H$7","v":0},null,{"$error":"#N/A"}]
[{"$f":"'Sample Information'!A13","v":12},{"$f":"'Sample Information'!B13","v":0},"0-DNA",{"$f":"'Sample Information'!D13","v":0},{"$f":"IF(VLOOKUP($C13, 'Nanodrop Data Raw'!$C:$L, 10, FALSE)<>\"\", VLOOKUP($C13, 'Nanodrop Data Raw'!$C:$L, 10, FALSE), VLOOKUP($C13, 'Nanodrop Data Raw'!$C:$L, 2, FALSE))","v":{"$error":"#N/A"}},null,null,{"$error":"#N/A"},{"$f":"VLOOKUP($C13, 'Nanodrop Data Raw'!$C:$L, 3, FALSE)","v":{"$error":"#N/A"}},{"$f":"VLOOKUP($C13, 'Nanodrop Data Raw'!$C:$L, 4, FALSE)","v":{"$error":"#N/A"}},null,null,null,null,{"$f":"'Sample Information'!$H$6","v":0},{"$f":"'Sample Information'!$H$5","v":0},null,null,{"$f":"'Sample Information'!$H$7","v":0},null,{"$error":"#N/A"}]
[{"$f":"'Sample Information'!A14","v":13},{"$f":"'Sample Information'!B14","v":0},"0-DNA",{"$f":"'Sample Information'!D14","v":0},{"$f":"IF(VLOOKUP($C14, 'Nanodrop Data Raw'!$C:$L, 10, FALSE)<>\"\", VLOOKUP($C14, 'Nanodrop Data Raw'!$C:$L, 10, FALSE), VLOOKUP($C14, 'Nanodrop Data Raw'!$C:$L, 2, FALSE))","v":{"$error":"#N/A"}},null,null,{"$error":"#N/A"},{"$f":"VLOOKUP($C14, 'Nanodrop Data Raw'!$C:$L, 3, FALSE)","v":{"$error":"#N/A"}},{"$f":"VLOOKUP($C14, 'Nanodrop Data Raw'!$C:$L, 4, FALSE)","v":{"$error":"#N/A"}},null,null,null,null,{"$f":"'Sample Information'!$H$6","v":0},{"$f":"'Sample Information'!$H$5","v":0},null,null,{"$f":"'Sample Information'!$H$7","v":0},null,{"$error":"#N/A"}]
[{"$f":"'Sample Information'!A15","v":14},{"$f":"'Sample Information'!B15","v":0},"0-DNA",{"$f":"'Sample Information'!D15","v":0},{"$f":"IF(VLOOKUP($C15, 'Nanodrop Data Raw'!$C:$L, 10, FALSE)<>\"\", VLOOKUP($C15, 'Nanodrop Data Raw'!$C:$L, 10, FALSE), VLOOKUP($C15, 'Nanodrop Data Raw'!$C:$L, 2, FALSE))","v":{"$error":"#N/A"}},null,null,{"$error":"#N/A"},{"$f":"VLOOKUP($C15, 'Nanodrop Data Raw'!$C:$L, 3, FALSE)","v":{"$error":"#N/A"}},{"$f":"VLOOKUP($C15, 'Nanodrop Data Raw'!$C:$L, 4, FALSE)","v":{"$error":"#N/A"}},null,null,null,null,{"$f":"'Sample Information'!$H$6","v":0},{"$f":"'Sample Information'!$H$5","v":0},null,null,{"$f":"'Sample Information'!$H$7","v":0},null,{"$error":"#N/A"}]
[{"$f":"'Sample Information'!A16","v":15},{"$f":"'Sample Information'!B16","v":0},"0-DNA",{"$f":"'Sample Information'!D16","v":0},{"$f":"IF(VLOOKUP($C16, 'Nanodrop Data Raw'!$C:$L, 10, FALSE)<>\"\", VLOOKUP($C16, 'Nanodrop Data Raw'!$C:$L, 10, FALSE), VLOOKUP($C16, 'Nanodrop Data Raw'!$C:$L, 2, FALSE))","v":{"$error":"#N/A"}},null,null,{"$error":"#N/A"},{"$f":"VLOOKUP($C16, 'Nanodrop Data Raw'!$C:$L, 3, FALSE)","v":{"$error":"#N/A"}},{"$f":"VLOOKUP($C16, 'Nanodrop Data Raw'!$C:$L, 4, FALSE)","v":{"$error":"#N/A"}},null,null,null,null,{"$f":"'Sample Information'!$H$6","v":0},{"$f":"'Sample Information'!$H$5","v":0},null,null,{"$f":"'Sample Information'!$H$7","v":0},null,{"$error":"#N/A"}]
[{"$f":"'Sample Information'!A17","v":16},{"$f":"'Sample Information'!B17","v":0},"0-DNA",{"$f":"'Sample Information'!D17","v":0},{"$f":"IF(VLOOKUP($C17, 'Nanodrop Data Raw'!$C:$L, 10, FALSE)<>\"\", VLOOKUP($C17, 'Nanodrop Data Raw'!$C:$L, 10, FALSE), VLOOKUP($C17, 'Nanodrop Data Raw'!$C:$L, 2, FALSE))","v":{"$error":"#N/A"}},null,null,{"$error":"#N/A"},{"$f":"VLOOKUP($C17, 'Nanodrop Data Raw'!$C:$L, 3, FALSE)","v":{"$error":"#N/A"}},{"$f":"VLOOKUP($C17, 'Nanodrop Data Raw'!$C:$L, 4, FALSE)","v":{"$error":"#N/A"}},null,null,null,null,{"$f":"'Sample Information'!$H$6","v":0},{"$f":"'Sample Information'!$H$5","v":0},null,null,{"$f":"'Sample Information'!$H$7","v":0},null,{"$error":"#N/A"}]
[{"$f":"'Sample Information'!A18","v":17},{"$f":"'Sample Information'!B18","v":0},"0-DNA",{"$f":"'Sample Information'!D18","v":0},{"$f":"IF(VLOOKUP($C18, 'Nanodrop Data Raw'!$C:$L, 10, FALSE)<>\"\", VLOOKUP($C18, 'Nanodrop Data Raw'!$C:$L, 10, FALSE), VLOOKUP($C18, 'Nanodrop Data Raw'!$C:$L, 2, FALSE))","v":{"$error":"#N/A"}},null,null,{"$error":"#N/A"},{"$f":"VLOOKUP($C18, 'Nanodrop Data Raw'!$C:$L, 3, FALSE)","v":{"$error":"#N/A"}},{"$f":"VLOOKUP($C18, 'Nanodrop Data Raw'!$C:$L, 4, FALSE)","v":{"$error":"#N/A"}},null,null,null,null,{"$f":"'Sample Information'!$H$6","v":0},{"$f":"'Sample Information'!$H$5","v":0},null,null,{"$f":"'Sample Information'!$H$7","v":0},null,{"$error":"#N/A"}]
[{"$f":"'Sample Information'!A19","v":18},{"$f":"'Sample Information'!B19","v":0},"0-DNA",{"$f":"'Sample Information'!D19","v":0},{"$f":"IF(VLOOKUP($C19, 'Nanodrop Data Raw'!$C:$L, 10, FALSE)<>\"\", VLOOKUP($C19, 'Nanodrop Data Raw'!$C:$L, 10, FALSE), VLOOKUP($C19, 'Nanodrop Data Raw'!$C:$L, 2, FALSE))","v":{"$error":"#N/A"}},null,null,{"$error":"#N/A"},{"$f":"VLOOKUP($C19, 'Nanodrop Data Raw'!$C:$L, 3, FALSE)","v":{"$error":"#N/A"}},{"$f":"VLOOKUP($C19, 'Nanodrop Data Raw'!$C:$L, 4, FALSE)","v":{"$error":"#N/A"}},null,null,null,null,{"$f":"'Sample Information'!$H$6","v":0},{"$f":"'Sample Information'!$H$5","v":0},null,null,{"$f":"'Sample Information'!$H$7","v":0},null,{"$error":"#N/A"}]
[{"$f":"'Sample Information'!A20","v":19},{"$f":"'Sample Information'!B20","v":0},"0-DNA",{"$f":"'Sample Information'!D20","v":0},{"$f":"IF(VLOOKUP($C20, 'Nanodrop Data Raw'!$C:$L, 10, FALSE)<>\"\", VLOOKUP($C20, 'Nanodrop Data Raw'!$C:$L, 10, FALSE), VLOOKUP($C20, 'Nanodrop Data Raw'!$C:$L, 2, FALSE))","v":{"$error":"#N/A"}},null,null,{"$error":"#N/A"},{"$f":"VLOOKUP($C20, 'Nanodrop Data Raw'!$C:$L, 3, FALSE)","v":{"$error":"#N/A"}},{"$f":"VLOOKUP($C20, 'Nanodrop Data Raw'!$C:$L, 4, FALSE)","v":{"$error":"#N/A"}},null,null,null,null,{"$f":"'Sample Information'!$H$6","v":0},{"$f":"'Sample Information'!$H$5","v":0},null,null,{"$f":"'Sample Information'!$H$7","v":0},null,{"$error":"#N/A"}]
[{"$f":"'Sample Information'!A21","v":20},{"$f":"'Sample Information'!B21","v":0},"0-DNA",{"$f":"'Sample Information'!D21","v":0},{"$f":"IF(VLOOKUP($C21, 'Nanodrop Data Raw'!$C:$L, 10, FALSE)<>\"\", VLOOKUP($C21, 'Nanodrop Data Raw'!$C:$L, 10, FALSE), VLOOKUP($C21, 'Nanodrop Data Raw'!$C:$L, 2, FALSE))","v":{"$error":"#N/A"}},null,null,{"$error":"#N/A"},{"$f":"VLOOKUP($C21, 'Nanodrop Data Raw'!$C:$L, 3, FALSE)","v":{"$error":"#N/A"}},{"$f":"VLOOKUP($C21, 'Nanodrop Data Raw'!$C:$L, 4, FALSE)","v":{"$error":"#N/A"}},null,null,null,null,{"$f":"'Sample Information'!$H$6","v":0},{"$f":"'Sample Information'!$H$5","v":0},null,null,{"$f":"'Sample Information'!$H$7","v":0},null,{"$error":"#N/A"}]
[{"$f":"'Sample Information'!A22","v":21},{"$f":"'Sample Information'!B22","v":0},"0-DNA",{"$f":"'Sample Information'!D22","v":0},{"$f":"IF(VLOOKUP($C22, 'Nanodrop Data Raw'!$C:$L, 10, FALSE)<>\"\", VLOOKUP($C22, 'Nanodrop Data Raw'!$C:$L, 10, FALSE), VLOOKUP($C22, 'Nanodrop Data Raw'!$C:$L, 2, FALSE))","v":{"$error":"#N/A"}},null,null,{"$error":"#N/A"},{"$f":"VLOOKUP($C22, 'Nanodrop Data Raw'!$C:$L, 3, FALSE)","v":{"$error":"#N/A"}},{"$f":"VLOOKUP($C22, 'Nanodrop Data Raw'!$C:$L, 4, FALSE)","v":{"$error":"#N/A"}},null,null,null,null,{"$f":"'Sample Information'!$H$6","v":0},{"$f":"'Sample Information'!$H$5","v":0},null,null,{"$f":"'Sample Information'!$H$7","v":0},null,{"$error":"#N/A"}]
[{"$f":"'Sample Information'!A23","v":22},{"$f":"'Sample Information'!B23","v":0},"0-DNA",{"$f":"'Sample Information'!D23","v":0},{"$f":"IF(VLOOKUP($C23, 'Nanodrop Data Raw'!$C:$L, 10, FALSE)<>\"\", VLOOKUP($C23, 'Nanodrop Data Raw'!$C:$L, 10, FALSE), VLOOKUP($C23, 'Nanodrop Data Raw'!$C:$L, 2, FALSE))","v":{"$error":"#N/A"}},null,null,{"$error":"#N/A"},{"$f":"VLOOKUP($C23, 'Nanodrop Data Raw'!$C:$L, 3, FALSE)","v":{"$error":"#N/A"}},{"$f":"VLOOKUP($C23, 'Nanodrop Data Raw'!$C:$L, 4, FALSE)","v":{"$error":"#N/A"}},null,null,null,null,{"$f":"'Sample Information'!$H$6","v":0},{"$f":"'Sample Information'!$H$5","v":0},null,null,{"$f":"'Sample Information'!$H$7","v":0},null,{"$error":"#N/A"}]
[{"$f":"'Sample Information'!A24","v":23},{"$f":"'Sample Information'!B24","v":0},"0-DNA",{"$f":"'Sample Information'!D24","v":0},{"$f":"IF(VLOOKUP($C24, 'Nanodrop Data Raw'!$C:$L, 10, FALSE)<>\"\", VLOOKUP($C24, 'Nanodrop Data Raw'!$C:$L, 10, FALSE), VLOOKUP($C24, 'Nanodrop Data Raw'!$C:$L, 2, FALSE))","v":{"$error":"#N/A"}},null,null,{"$error":"#N/A"},{"$f":"VLOOKUP($C24, 'Nanodrop Data Raw'!$C:$L, 3, FALSE)","v":{"$error":"#N/A"}},{"$f":"VLOOKUP($C24, 'Nanodrop Data Raw'!$C:$L, 4, FALSE)","v":{"$error":"#N/A"}},null,null,null,null,{"$f":"'Sample Information'!$H$6","v":0},{"$f":"'Sample Information'!$H$5","v":0},null,null,{"$f":"'Sample Information'!$H$7","v":0},null,{"$error":"#N/A"}]
[{"$f":"'Sample Information'!A25","v":24},{"$f":"'Sample Information'!B25","v":0},"0-DNA",{"$f":"'Sample Information'!D25","v":0},{"$f":"IF(VLOOKUP($C25, 'Nanodrop Data Raw'!$C:$L, 10, FALSE)<>\"\", VLOOKUP($C25, 'Nanodrop Data Raw'!$C:$L, 10, FALSE), VLOOKUP($C25, 'Nanodrop Data Raw'!$C:$L, 2, FALSE))","v":{"$error":"#N/A"}},null,null,{"$error":"#N/A"},{"$f":"VLOOKUP($C25, 'Nanodrop Data Raw'!$C:$L, 3, FALSE)","v":{"$error":"#N/A"}},{"$f":"VLOOKUP($C25, 'Nanodrop Data Raw'!$C:$L, 4, FALSE)","v":{"$error":"#N/A"}},null,null,null,null,{"$f":"'Sample Information'!$H$6","v":0},{"$f":"'Sample Information'!$H$5","v":0},null,null,{"$f":"'Sample Information'!$H$7","v":0},null,{"$error":"#N/A"}]
[{"$f":"'Sample Information'!A26","v":25},{"$f":"'Sample Information'!B26","v":0},"0-DNA",{"$f":"'Sample Information'!D26","v":0},{"$f":"IF(VLOOKUP($C26, 'Nanodrop Data Raw'!$C:$L, 10, FALSE)<>\"\", VLOOKUP($C26, 'Nanodrop Data Raw'!$C:$L, 10, FALSE), VLOOKUP($C26, 'Nanodrop Data Raw'!$C:$L, 2, FALSE))","v":{"$error":"#N/A"}},null,null,{"$error":"#N/A"},{"$f":"VLOOKUP($C26, 'Nanodrop Data Raw'!$C:$L, 3, FALSE)","v":{"$error":"#N/A"}},{"$f":"VLOOKUP($C26, 'Nanodrop Data Raw'!$C:$L, 4, FALSE)","v":{"$error":"#N/A"}},null,null,null,null,{"$f":"'Sample Information'!$H$6","v":0},{"$f":"'Sample Information'!$H$5","v":0},null,null,{"$f":"'Sample Information'!$H$7","v":0},null,{"$error":"#N/A"}]
[{"$f":"'Sample Information'!A27","v":26},{"$f":"'Sample Information'!B27","v":0},"0-DNA",{"$f":"'Sample Information'!D27","v":0},{"$f":"IF(VLOOKUP($C27, 'Nanodrop Data Raw'!$C:$L, 10, FALSE)<>\"\", VLOOKUP($C27, 'Nanodrop Data Raw'!$C:$L, 10, FALSE), VLOOKUP($C27, 'Nanodrop Data Raw'!$C:$L, 2, FALSE))","v":{"$error":"#N/A"}},null,null,{"$error":"#N/A"},{"$f":"VLOOKUP($C27, 'Nanodrop Data Raw'!$C:$L, 3, FALSE)","v":{"$error":"#N/A"}},{"$f":"VLOOKUP($C27, 'Nanodrop Data Raw'!$C:$L, 4, FALSE)","v":{"$error":"#N/A"}},null,null,null,null,{"$f":"'Sample Information'!$H$6","v":0},{"$f":"'Sample Information'!$H$5","v":0},null,null,{"$f":"'Sample Information'!$H$7","v":0},null,{"$error":"#N/A"}]
[{"$f":"'Sample Information'!A28","v":27},{"$f":"'Sample Information'!B28","v":0},"0-DNA",{"$f":"'Sample Information'!D28","v":0},{"$f":"IF(VLOOKUP($C28, 'Nanodrop Data Raw'!$C:$L, 10, FALSE)<>\"\", VLOOKUP($C28, 'Nanodrop Data Raw'!$C:$L, 10, FALSE), VLOOKUP($C28, 'Nanodrop Data Raw'!$C:$L, 2, FALSE))","v":{"$error":"#N/A"}},null,null,{"$error":"#N/A"},{"$f":"VLOOKUP($C28, 'Nanodrop Data Raw'!$C:$L, 3, FALSE)","v":{"$error":"#N/A"}},{"$f":"VLOOKUP($C28, 'Nanodrop Data Raw'!$C:$L, 4, FALSE)","v":{"$error":"#N/A"}},null,null,null,null,{"$f":"'Sample Information'!$H$6","v":0},{"$f":"'Sample Information'!$H$5","v":0},null,null,{"$f":"'Sample Information'!$H$7","v":0},null,{"$error":"#N/A"}]
[{"$f":"'Sample Information'!A29","v":28},{"$f":"'Sample Information'!B29","v":0},"0-DNA",{"$f":"'Sample Information'!D29","v":0},{"$f":"IF(VLOOKUP($C29, 'Nanodrop Data Raw'!$C:$L, 10, FALSE)<>\"\", VLOOKUP($C29, 'Nanodrop Data Raw'!$C:$L, 10, FALSE), VLOOKUP($C29, 'Nanodrop Data Raw'!$C:$L, 2, FALSE))","v":{"$error":"#N/A"}},null,null,{"$error":"#N/A"},{"$f":"VLOOKUP($C29, 'Nanodrop Data Raw'!$C:$L, 3, FALSE)","v":{"$error":"#N/A"}},{"$f":"VLOOKUP($C29, 'Nanodrop Data Raw'!$C:$L, 4, FALSE)","v":{"$error":"#N/A"}},null,null,null,null,{"$f":"'Sample Information'!$H$6","v":0},{"$f":"'Sample Information'!$H$5","v":0},null,null,{"$f":"'Sample Information'!$H$7","v":0},null,{"$error":"#N/A"}]
[{"$f":"'Sample Information'!A30","v":29},{"$f":"'Sample Information'!B30","v":0},"0-DNA",{"$f":"'Sample Information'!D30","v":0},{"$f":"IF(VLOOKUP($C30, 'Nanodrop Data Raw'!$C:$L, 10, FALSE)<>\"\", VLOOKUP($C30, 'Nanodrop Data Raw'!$C:$L, 10, FALSE), VLOOKUP($C30, 'Nanodrop Data Raw'!$C:$L, 2, FALSE))","v":{"$error":"#N/A"}},null,null,{"$error":"#N/A"},{"$f":"VLOOKUP($C30, 'Nanodrop Data Raw'!$C:$L, 3, FALSE)","v":{"$error":"#N/A"}},{"$f":"VLOOKUP($C30, 'Nanodrop Data Raw'!$C:$L, 4, FALSE)","v":{"$error":"#N/A"}},null,null,null,null,{"$f":"'Sample Information'!$H$6","v":0},{"$f":"'Sample Information'!$H$5","v":0},null,null,{"$f":"'Sample Information'!$H$7","v":0},null,{"$error":"#N/A"}]
[{"$f":"'Sample Information'!A31","v":30},{"$f":"'Sample Information'!B31","v":0},"0-DNA",{"$f":"'Sample Information'!D31","v":0},{"$f":"IF(VLOOKUP($C31, 'Nanodrop Data Raw'!$C:$L, 10, FALSE)<>\"\", VLOOKUP($C31, 'Nanodrop Data Raw'!$C:$L, 10, FALSE), VLOOKUP($C31, 'Nanodrop Data Raw'!$C:$L, 2, FALSE))","v":{"$error":"#N/A"}},null,null,{"$error":"#N/A"},{"$f":"VLOOKUP($C31, 'Nanodrop Data Raw'!$C:$L, 3, FALSE)","v":{"$error":"#N/A"}},{"$f":"VLOOKUP($C31, 'Nanodrop Data Raw'!$C:$L, 4, FALSE)","v":{"$error":"#N/A"}},null,null,null,null,{"$f":"'Sample Information'!$H$6","v":0},{"$f":"'Sample Information'!$H$5","v":0},null,null,{"$f":"'Sample Information'!$H$7","v":0},null,{"$error":"#N/A"}]
[{"$f":"'Sample Information'!A32","v":31},{"$f":"'Sample Information'!B32","v":0},"0-DNA",{"$f":"'Sample Information'!D32","v":0},{"$f":"IF(VLOOKUP($C32, 'Nanodrop Data Raw'!$C:$L, 10, FALSE)<>\"\", VLOOKUP($C32, 'Nanodrop Data Raw'!$C:$L, 10, FALSE), VLOOKUP($C32, 'Nanodrop Data Raw'!$C:$L, 2, FALSE))","v":{"$error":"#N/A"}},null,null,{"$error":"#N/A"},{"$f":"VLOOKUP($C32, 'Nanodrop Data Raw'!$C:$L, 3, FALSE)","v":{"$error":"#N/A"}},{"$f":"VLOOKUP($C32, 'Nanodrop Data Raw'!$C:$L, 4, FALSE)","v":{"$error":"#N/A"}},null,null,null,null,{"$f":"'Sample Information'!$H$6","v":0},{"$f":"'Sample Information'!$H$5","v":0},null,null,{"$f":"'Sample Information'!$H$7","v":0},null,{"$error":"#N/A"}]
[{"$f":"'Sample Information'!A33","v":32},{"$f":"'Sample Information'!B33","v":0},"0-DNA",{"$f":"'Sample Information'!D33","v":0},{"$f":"IF(VLOOKUP($C33, 'Nanodrop Data Raw'!$C:$L, 10, FALSE)<>\"\", VLOOKUP($C33, 'Nanodrop Data Raw'!$C:$L, 10, FALSE), VLOOKUP($C33, 'Nanodrop Data Raw'!$C:$L, 2, FALSE))","v":{"$error":"#N/A"}},null,null,{"$error":"#N/A"},{"$f":"VLOOKUP($C33, 'Nanodrop Data Raw'!$C:$L, 3, FALSE)","v":{"$error":"#N/A"}},{"$f":"VLOOKUP($C33, 'Nanodrop Data Raw'!$C:$L, 4, FALSE)","v":{"$error":"#N/A"}},null,null,null,null,{"$f":"'Sample Information'!$H$6","v":0},{"$f":"'Sample Information'!$H$5","v":0},null,null,{"$f":"'Sample Information'!$H$7","v":0},null,{"$error":"#N/A"}]
[{"$f":"'Sample Information'!A34","v":33},{"$f":"'Sample Information'!B34","v":0},"0-DNA",{"$f":"'Sample Information'!D34","v":0},{"$f":"IF(VLOOKUP($C34, 'Nanodrop Data Raw'!$C:$L, 10, FALSE)<>\"\", VLOOKUP($C34, 'Nanodrop Data Raw'!$C:$L, 10, FALSE), VLOOKUP($C34, 'Nanodrop Data Raw'!$C:$L, 2, FALSE))","v":{"$error":"#N/A"}},null,null,{"$error":"#N/A"},{"$f":"VLOOKUP($C34, 'Nanodrop Data Raw'!$C:$L, 3, FALSE)","v":{"$error":"#N/A"}},{"$f":"VLOOKUP($C34, 'Nanodrop Data Raw'!$C:$L, 4, FALSE)","v":{"$error":"#N/A"}},null,null,null,null,{"$f":"'Sample Information'!$H$6","v":0},{"$f":"'Sample Information'!$H$5","v":0},null,null,{"$f":"'Sample Information'!$H$7","v":0},null,{"$error":"#N/A"}]
[{"$f":"'Sample Information'!A35","v":34},{"$f":"'Sample Information'!B35","v":0},"0-DNA",{"$f":"'Sample Information'!D35","v":0},{"$f":"IF(VLOOKUP($C35, 'Nanodrop Data Raw'!$C:$L, 10, FALSE)<>\"\", VLOOKUP($C35, 'Nanodrop Data Raw'!$C:$L, 10, FALSE), VLOOKUP($C35, 'Nanodrop Data Raw'!$C:$L, 2, FALSE))","v":{"$error":"#N/A"}},null,null,{"$error":"#N/A"},{"$f":"VLOOKUP($C35, 'Nanodrop Data Raw'!$C:$L, 3, FALSE)","v":{"$error":"#N/A"}},{"$f":"VLOOKUP($C35, 'Nanodrop Data Raw'!$C:$L, 4, FALSE)","v":{"$error":"#N/A"}},null,null,null,null,{"$f":"'Sample Information'!$H$6","v":0},{"$f":"'Sample Information'!$H$5","v":0},null,null,{"$f":"'Sample Information'!$H$7","v":0},null,{"$error":"#N/A"}]
[{"$f":"'Sample Information'!A36","v":35},{"$f":"'Sample Information'!B36","v":0},"0-DNA",{"$f":"'Sample Information'!D36","v":0},{"$f":"IF(VLOOKUP($C36, 'Nanodrop Data Raw'!$C:$L, 10, FALSE)<>\"\", VLOOKUP($C36, 'Nanodrop Data Raw'!$C:$L, 10, FALSE), VLOOKUP($C36, 'Nanodrop Data Raw'!$C:$L, 2, FALSE))","v":{"$error":"#N/A"}},null,null,{"$error":"#N/A"},{"$f":"VLOOKUP($C36, 'Nanodrop Data Raw'!$C:$L, 3, FALSE)","v":{"$error":"#N/A"}},{"$f":"VLOOKUP($C36, 'Nanodrop Data Raw'!$C:$L, 4, FALSE)","v":{"$error":"#N/A"}},null,null,null,null,{"$f":"'Sample Information'!$H$6","v":0},{"$f":"'Sample Information'!$H$5","v":0},null,null,{"$f":"'Sample Information'!$H$7","v":0},null,{"$error":"#N/A"}]
[{"$f":"'Sample Information'!A37","v":36},{"$f":"'Sample Information'!B37","v":0},"0-DNA",{"$f":"'Sample Information'!D37","v":0},{"$f":"IF(VLOOKUP($C37, 'Nanodrop Data Raw'!$C:$L, 10, FALSE)<>\"\", VLOOKUP($C37, 'Nanodrop Data Raw'!$C:$L, 10, FALSE), VLOOKUP($C37, 'Nanodrop Data Raw'!$C:$L, 2, FALSE))","v":{"$error":"#N/A"}},null,null,{"$error":"#N/A"},{"$f":"VLOOKUP($C37, 'Nanodrop Data Raw'!$C:$L, 3, FALSE)","v":{"$error":"#N/A"}},{"$f":"VLOOKUP($C37, 'Nanodrop Data Raw'!$C:$L, 4, FALSE)","v":{"$error":"#N/A"}},null,null,null,null,{"$f":"'Sample Information'!$H$6","v":0},{"$f":"'Sample Information'!$H$5","v":0},null,null,{"$f":"'Sample Information'!$H$7","v":0},null,{"$error":"#N/A"}]
[{"$f":"'Sample Information'!A38","v":37},{"$f":"'Sample Information'!B38","v":0},"0-DNA",{"$f":"'Sample Information'!D38","v":0},{"$f":"IF(VLOOKUP($C38, 'Nanodrop Data Raw'!$C:$L, 10, FALSE)<>\"\", VLOOKUP($C38, 'Nanodrop Data Raw'!$C:$L, 10, FALSE), VLOOKUP($C38, 'Nanodrop Data Raw'!$C:$L, 2, FALSE))","v":{"$error":"#N/A"}},null,null,{"$error":"#N/A"},{"$f":"VLOOKUP($C38, 'Nanodrop Data Raw'!$C:$L, 3, FALSE)","v":{"$error":"#N/A"}},{"$f":"VLOOKUP($C38, 'Nanodrop Data Raw'!$C:$L, 4, FALSE)","v":{"$error":"#N/A"}},null,null,null,null,{"$f":"'Sample Information'!$H$6","v":0},{"$f":"'Sample Information'!$H$5","v":0},null,null,{"$f":"'Sample Information'!$H$7","v":0},null,{"$error":"#N/A"}]
[{"$f":"'Sample Information'!A39","v":38},{"$f":"'Sample Information'!B39","v":0},"0-DNA",{"$f":"'Sample Information'!D39","v":0},{"$f":"IF(VLOOKUP($C39, 'Nanodrop Data Raw'!$C:$L, 10, FALSE)<>\"\", VLOOKUP($C39, 'Nanodrop Data Raw'!$C:$L, 10, FALSE), VLOOKUP($C39, 'Nanodrop Data Raw'!$C:$L, 2, FALSE))","v":{"$error":"#N/A"}},null,null,{"$error":"#N/A"},{"$f":"VLOOKUP($C39, 'Nanodrop Data Raw'!$C:$L, 3, FALSE)","v":{"$error":"#N/A"}},{"$f":"VLOOKUP($C39, 'Nanodrop Data Raw'!$C:$L, 4, FALSE)","v":{"$error":"#N/A"}},null,null,null,null,{"$f":"'Sample Information'!$H$6","v":0},{"$f":"'Sample Information'!$H$5","v":0},null,null,{"$f":"'Sample Information'!$H$7","v":0},null,{"$error":"#N/A"}]
[{"$f":"'Sample Information'!A40","v":39},{"$f":"'Sample Information'!B40","v":0},"0-DNA",{"$f":"'Sample Information'!D40","v":0},{"$f":"IF(VLOOKUP($C40, 'Nanodrop Data Raw'!$C:$L, 10, FALSE)<>\"\", VLOOKUP($C40, 'Nanodrop Data Raw'!$C:$L, 10, FALSE), VLOOKUP($C40, 'Nanodrop Data Raw'!$C:$L, 2, FALSE))","v":{"$error":"#N/A"}},null,null,{"$error":"#N/A"},{"$f":"VLOOKUP($C40, 'Nanodrop Data Raw'!$C:$L, 3, FALSE)","v":{"$error":"#N/A"}},{"$f":"VLOOKUP($C40, 'Nanodrop Data Raw'!$C:$L, 4, FALSE)","v":{"$error":"#N/A"}},null,null,null,null,{"$f":"'Sample Information'!$H$6","v":0},{"$f":"'Sample Information'!$H$5","v":0},null,null,{"$f":"'Sample Information'!$H$7","v":0},null,{"$error":"#N/A"}]
[{"$f":"'Sample Information'!A41","v":40},{"$f":"'Sample Information'!B41","v":0},"0-DNA",{"$f":"'Sample Information'!D41","v":0},{"$f":"IF(VLOOKUP($C41, 'Nanodrop Data Raw'!$C:$L, 10, FALSE)<>\"\", VLOOKUP($C41, 'Nanodrop Data Raw'!$C:$L, 10, FALSE), VLOOKUP($C41, 'Nanodrop Data Raw'!$C:$L, 2, FALSE))","v":{"$error":"#N/A"}},null,null,{"$error":"#N/A"},{"$f":"VLOOKUP($C41, 'Nanodrop Data Raw'!$C:$L, 3, FALSE)","v":{"$error":"#N/A"}},{"$f":"VLOOKUP($C41, 'Nanodrop Data Raw'!$C:$L, 4, FALSE)","v":{"$error":"#N/A"}},null,null,null,null,{"$f":"'Sample Information'!$H$6","v":0},{"$f":"'Sample Information'!$H$5","v":0},null,null,{"$f":"'Sample Information'!$H$7","v":0},null,{"$error":"#N/A"}]
[{"$f":"'Sample Information'!A42","v":41},{"$f":"'Sample Information'!B42","v":0},"0-DNA",{"$f":"'Sample Information'!D42","v":0},{"$f":"IF(VLOOKUP($C42, 'Nanodrop Data Raw'!$C:$L, 10, FALSE)<>\"\", VLOOKUP($C42, 'Nanodrop Data Raw'!$C:$L, 10, FALSE), VLOOKUP($C42, 'Nanodrop Data Raw'!$C:$L, 2, FALSE))","v":{"$error":"#N/A"}},null,null,{"$error":"#N/A"},{"$f":"VLOOKUP($C42, 'Nanodrop Data Raw'!$C:$L, 3, FALSE)","v":{"$error":"#N/A"}},{"$f":"VLOOKUP($C42, 'Nanodrop Data Raw'!$C:$L, 4, FALSE)","v":{"$error":"#N/A"}},null,null,null,null,{"$f":"'Sample Information'!$H$6","v":0},{"$f":"'Sample Information'!$H$5","v":0},null,null,{"$f":"'Sample Information'!$H$7","v":0},null,{"$error":"#N/A"}]
[{"$f":"'Sample Information'!A43","v":42},{"$f":"'Sample Information'!B43","v":0},"0-DNA",{"$f":"'Sample Information'!D43","v":0},{"$f":"IF(VLOOKUP($C43, 'Nanodrop Data Raw'!$C:$L, 10, FALSE)<>\"\", VLOOKUP($C43, 'Nanodrop Data Raw'!$C:$L, 10, FALSE), VLOOKUP($C43, 'Nanodrop Data Raw'!$C:$L, 2, FALSE))","v":{"$error":"#N/A"}},null,null,{"$error":"#N/A"},{"$f":"VLOOKUP($C43, 'Nanodrop Data Raw'!$C:$L, 3, FALSE)","v":{"$error":"#N/A"}},{"$f":"VLOOKUP($C43, 'Nanodrop Data Raw'!$C:$L, 4, FALSE)","v":{"$error":"#N/A"}},null,null,null,null,{"$f":"'Sample Information'!$H$6","v":0},{"$f":"'Sample Information'!$H$5","v":0},null,null,{"$f":"'Sample Information'!$H$7","v":0},null,{"$error":"#N/A"}]
[{"$f":"'Sample Information'!A44","v":43},{"$f":"'Sample Information'!B44","v":0},"0-DNA",{"$f":"'Sample Information'!D44","v":0},{"$f":"IF(VLOOKUP($C44, 'Nanodrop Data Raw'!$C:$L, 10, FALSE)<>\"\", VLOOKUP($C44, 'Nanodrop Data Raw'!$C:$L, 10, FALSE), VLOOKUP($C44, 'Nanodrop Data Raw'!$C:$L, 2, FALSE))","v":{"$error":"#N/A"}},null,null,{"$error":"#N/A"},{"$f":"VLOOKUP($C44, 'Nanodrop Data Raw'!$C:$L, 3, FALSE)","v":{"$error":"#N/A"}},{"$f":"VLOOKUP($C44, 'Nanodrop Data Raw'!$C:$L, 4, FALSE)","v":{"$error":"#N/A"}},null,null,null,null,{"$f":"'Sample Information'!$H$6","v":0},{"$f":"'Sample Information'!$H$5","v":0},null,null,{"$f":"'Sample Information'!$H$7","v":0},null,{"$error":"#N/A"}]
[{"$f":"'Sample Information'!A45","v":44},{"$f":"'Sample Information'!B45","v":0},"0-DNA",{"$f":"'Sample Information'!D45","v":0},{"$f":"IF(VLOOKUP($C45, 'Nanodrop Data Raw'!$C:$L, 10, FALSE)<>\"\", VLOOKUP($C45, 'Nanodrop Data Raw'!$C:$L, 10, FALSE), VLOOKUP($C45, 'Nanodrop Data Raw'!$C:$L, 2, FALSE))","v":{"$error":"#N/A"}},null,null,{"$error":"#N/A"},{"$f":"VLOOKUP($C45, 'Nanodrop Data Raw'!$C:$L, 3, FALSE)","v":{"$error":"#N/A"}},{"$f":"VLOOKUP($C45, 'Nanodrop Data Raw'!$C:$L, 4, FALSE)","v":{"$error":"#N/A"}},null,null,null,null,{"$f":"'Sample Information'!$H$6","v":0},{"$f":"'Sample Information'!$H$5","v":0},null,null,{"$f":"'Sample Information'!$H$7","v":0},null,{"$error":"#N/A"}]
[{"$f":"'Sample Information'!A46","v":45},{"$f":"'Sample Information'!B46","v":0},"0-DNA",{"$f":"'Sample Information'!D46","v":0},{"$f":"IF(VLOOKUP($C46, 'Nanodrop Data Raw'!$C:$L, 10, FALSE)<>\"\", VLOOKUP($C46, 'Nanodrop Data Raw'!$C:$L, 10, FALSE), VLOOKUP($C46, 'Nanodrop Data Raw'!$C:$L, 2, FALSE))","v":{"$error":"#N/A"}},null,null,{"$error":"#N/A"},{"$f":"VLOOKUP($C46, 'Nanodrop Data Raw'!$C:$L, 3, FALSE)","v":{"$error":"#N/A"}},{"$f":"VLOOKUP($C46, 'Nanodrop Data Raw'!$C:$L, 4, FALSE)","v":{"$error":"#N/A"}},null,null,null,null,{"$f":"'Sample Information'!$H$6","v":0},{"$f":"'Sample Information'!$H$5","v":0},null,null,{"$f":"'Sample Information'!$H$7","v":0},null,{"$error":"#N/A"}]
[{"$f":"'Sample Information'!A47","v":46},{"$f":"'Sample Information'!B47","v":0},"0-DNA",{"$f":"'Sample Information'!D47","v":0},{"$f":"IF(VLOOKUP($C47, 'Nanodrop Data Raw'!$C:$L, 10, FALSE)<>\"\", VLOOKUP($C47, 'Nanodrop Data Raw'!$C:$L, 10, FALSE), VLOOKUP($C47, 'Nanodrop Data Raw'!$C:$L, 2, FALSE))","v":{"$error":"#N/A"}},null,null,{"$error":"#N/A"},{"$f":"VLOOKUP($C47, 'Nanodrop Data Raw'!$C:$L, 3, FALSE)","v":{"$error":"#N/A"}},{"$f":"VLOOKUP($C47, 'Nanodrop Data Raw'!$C:$L, 4, FALSE)","v":{"$error":"#N/A"}},null,null,null,null,{"$f":"'Sample Information'!$H$6","v":0},{"$f":"'Sample Information'!$H$5","v":0},null,null,{"$f":"'Sample Information'!$H$7","v":0},null,{"$error":"#N/A"}]
[{"$f":"'Sample Information'!A48","v":47},{"$f":"'Sample Information'!B48","v":0},"0-DNA",{"$f":"'Sample Information'!D48","v":0},{"$f":"IF(VLOOKUP($C48, 'Nanodrop Data Raw'!$C:$L, 10, FALSE)<>\"\", VLOOKUP($C48, 'Nanodrop Data Raw'!$C:$L, 10, FALSE), VLOOKUP($C48, 'Nanodrop Data Raw'!$C:$L, 2, FALSE))","v":{"$error":"#N/A"}},null,null,{"$error":"#N/A"},{"$f":"VLOOKUP($C48, 'Nanodrop Data Raw'!$C:$L, 3, FALSE)","v":{"$error":"#N/A"}},{"$f":"VLOOKUP($C48, 'Nanodrop Data Raw'!$C:$L, 4, FALSE)","v":{"$error":"#N/A"}},null,null,null,null,{"$f":"'Sample Information'!$H$6","v":0},{"$f":"'Sample Information'!$H$5","v":0},null,null,{"$f":"'Sample Information'!$H$7","v":0},null,{"$error":"#N/A"}]
[{"$f":"'Sample Information'!A49","v":48},{"$f":"'Sample Information'!B49","v":0},"0-DNA",{"$f":"'Sample Information'!D49","v":0},{"$f":"IF(VLOOKUP($C49, 'Nanodrop Data Raw'!$C:$L, 10, FALSE)<>\"\", VLOOKUP($C49, 'Nanodrop Data Raw'!$C:$L, 10, FALSE), VLOOKUP($C49, 'Nanodrop Data Raw'!$C:$L, 2, FALSE))","v":{"$error":"#N/A"}},null,null,{"$error":"#N/A"},{"$f":"VLOOKUP($C49, 'Nanodrop Data Raw'!$C:$L, 3, FALSE)","v":{"$error":"#N/A"}},{"$f":"VLOOKUP($C49, 'Nanodrop Data Raw'!$C:$L, 4, FALSE)","v":{"$error":"#N/A"}},null,null,null,null,{"$f":"'Sample Information'!$H$6","v":0},{"$f":"'Sample Information'!$H$5","v":0},null,null,{"$f":"'Sample Information'!$H$7","v":0},null,{"$error":"#N/A"}]
[{"$f":"'Sample Information'!A50","v":49},{"$f":"'Sample Information'!B50","v":0},"0-DNA",{"$f":"'Sample Information'!D50","v":0},{"$f":"IF(VLOOKUP($C50, 'Nanodrop Data Raw'!$C:$L, 10, FALSE)<>\"\", VLOOKUP($C50, 'Nanodrop Data Raw'!$C:$L, 10, FALSE), VLOOKUP($C50, 'Nanodrop Data Raw'!$C:$L, 2, FALSE))","v":{"$error":"#N/A"}},null,null,{"$error":"#N/A"},{"$f":"VLOOKUP($C50, 'Nanodrop Data Raw'!$C:$L, 3, FALSE)","v":{"$error":"#N/A"}},{"$f":"VLOOKUP($C50, 'Nanodrop Data Raw'!$C:$L, 4, FALSE)","v":{"$error":"#N/A"}},null,null,null,null,{"$f":"'Sample Information'!$H$6","v":0},{"$f":"'Sample Information'!$H$5","v":0},null,null,{"$f":"'Sample Information'!$H$7","v":0},null,{"$error":"#N/A"}]
[{"$f":"'Sample Information'!A51","v":50},{"$f":"'Sample Information'!B51","v":0},"0-DNA",{"$f":"'Sample Information'!D51","v":0},{"$f":"IF(VLOOKUP($C51, 'Nanodrop Data Raw'!$C:$L, 10, FALSE)<>\"\", VLOOKUP($C51, 'Nanodrop Data Raw'!$C:$L, 10, FALSE), VLOOKUP($C51, 'Nanodrop Data Raw'!$C:$L, 2, FALSE))","v":{"$error":"#N/A"}},null,null,{"$error":"#N/A"},{"$f":"VLOOKUP($C51, 'Nanodrop Data Raw'!$C:$L, 3, FALSE)","v":{"$error":"#N/A"}},{"$f":"VLOOKUP($C51, 'Nanodrop Data Raw'!$C:$L, 4, FALSE)","v":{"$error":"#N/A"}},null,null,null,null,{"$f":"'Sample Information'!$H$6","v":0},{"$f":"'Sample Information'!$H$5","v":0},null,null,{"$f":"'Sample Information'!$H$7","v":0},null,{"$error":"#N/A"}]
[{"$f":"'Sample Information'!A52","v":51},{"$f":"'Sample Information'!B52","v":0},"0-DNA",{"$f":"'Sample Information'!D52","v":0},{"$f":"IF(VLOOKUP($C52, 'Nanodrop Data Raw'!$C:$L, 10, FALSE)<>\"\", VLOOKUP($C52, 'Nanodrop Data Raw'!$C:$L, 10, FALSE), VLOOKUP($C52, 'Nanodrop Data Raw'!$C:$L, 2, FALSE))","v":{"$error":"#N/A"}},null,null,{"$error":"#N/A"},{"$f":"VLOOKUP($C52, 'Nanodrop Data Raw'!$C:$L, 3, FALSE)","v":{"$error":"#N/A"}},{"$f":"VLOOKUP($C52, 'Nanodrop Data Raw'!$C:$L, 4, FALSE)","v":{"$error":"#N/A"}},null,null,null,null,{"$f":"'Sample Information'!$H$6","v":0},{"$f":"'Sample Information'!$H$5","v":0},null,null,{"$f":"'Sample Information'!$H$7","v":0},null,{"$error":"#N/A"}]
[{"$f":"'Sample Information'!A53","v":52},{"$f":"'Sample Information'!B53","v":0},"0-DNA",{"$f":"'Sample Information'!D53","v":0},{"$f":"IF(VLOOKUP($C53, 'Nanodrop Data Raw'!$C:$L, 10, FALSE)<>\"\", VLOOKUP($C53, 'Nanodrop Data Raw'!$C:$L, 10, FALSE), VLOOKUP($C53, 'Nanodrop Data Raw'!$C:$L, 2, FALSE))","v":{"$error":"#N/A"}},null,null,{"$error":"#N/A"},{"$f":"VLOOKUP($C53, 'Nanodrop Data Raw'!$C:$L, 3, FALSE)","v":{"$error":"#N/A"}},{"$f":"VLOOKUP($C53, 'Nanodrop Data Raw'!$C:$L, 4, FALSE)","v":{"$error":"#N/A"}},null,null,null,null,{"$f":"'Sample Information'!$H$6","v":0},{"$f":"'Sample Information'!$H$5","v":0},null,null,{"$f":"'Sample Information'!$H$7","v":0},null,{"$error":"#N/A"}]
[{"$f":"'Sample Information'!A54","v":53},{"$f":"'Sample Information'!B54","v":0},"0-DNA",{"$f":"'Sample Information'!D54","v":0},{"$f":"IF(VLOOKUP($C54, 'Nanodrop Data Raw'!$C:$L, 10, FALSE)<>\"\", VLOOKUP($C54, 'Nanodrop Data Raw'!$C:$L, 10, FALSE), VLOOKUP($C54, 'Nanodrop Data Raw'!$C:$L, 2, FALSE))","v":{"$error":"#N/A"}},null,null,{"$error":"#N/A"},{"$f":"VLOOKUP($C54, 'Nanodrop Data Raw'!$C:$L, 3, FALSE)","v":{"$error":"#N/A"}},{"$f":"VLOOKUP($C54, 'Nanodrop Data Raw'!$C:$L, 4, FALSE)","v":{"$error":"#N/A"}},null,null,null,null,{"$f":"'Sample Information'!$H$6","v":0},{"$f":"'Sample Information'!$H$5","v":0},null,null,{"$f":"'Sample Information'!$H$7","v":0},null,{"$error":"#N/A"}]
[{"$f":"'Sample Information'!A55","v":54},{"$f":"'Sample Information'!B55","v":0},"0-DNA",{"$f":"'Sample Information'!D55","v":0},{"$f":"IF(VLOOKUP($C55, 'Nanodrop Data Raw'!$C:$L, 10, FALSE)<>\"\", VLOOKUP($C55, 'Nanodrop Data Raw'!$C:$L, 10, FALSE), VLOOKUP($C55, 'Nanodrop Data Raw'!$C:$L, 2, FALSE))","v":{"$error":"#N/A"}},null,null,{"$error":"#N/A"},{"$f":"VLOOKUP($C55, 'Nanodrop Data Raw'!$C:$L, 3, FALSE)","v":{"$error":"#N/A"}},{"$f":"VLOOKUP($C55, 'Nanodrop Data Raw'!$C:$L, 4, FALSE)","v":{"$error":"#N/A"}},null,null,null,null,{"$f":"'Sample Information'!$H$6","v":0},{"$f":"'Sample Information'!$H$5","v":0},null,null,{"$f":"'Sample Information'!$H$7","v":0},null,{"$error":"#N/A"}]
[{"$f":"'Sample Information'!A56","v":55},{"$f":"'Sample Information'!B56","v":0},"0-DNA",{"$f":"'Sample Information'!D56","v":0},{"$f":"IF(VLOOKUP($C56, 'Nanodrop Data Raw'!$C:$L, 10, FALSE)<>\"\", VLOOKUP($C56, 'Nanodrop Data Raw'!$C:$L, 10, FALSE), VLOOKUP($C56, 'Nanodrop Data Raw'!$C:$L, 2, FALSE))","v":{"$error":"#N/A"}},null,null,{"$error":"#N/A"},{"$f":"VLOOKUP($C56, 'Nanodrop Data Raw'!$C:$L, 3, FALSE)","v":{"$error":"#N/A"}},{"$f":"VLOOKUP($C56, 'Nanodrop Data Raw'!$C:$L, 4, FALSE)","v":{"$error":"#N/A"}},null,null,null,null,{"$f":"'Sample Information'!$H$6","v":0},{"$f":"'Sample Information'!$H$5","v":0},null,null,{"$f":"'Sample Information'!$H$7","v":0},null,{"$error":"#N/A"}]
[{"$f":"'Sample Information'!A57","v":56},{"$f":"'Sample Information'!B57","v":0},"0-DNA",{"$f":"'Sample Information'!D57","v":0},{"$f":"IF(VLOOKUP($C57, 'Nanodrop Data Raw'!$C:$L, 10, FALSE)<>\"\", VLOOKUP($C57, 'Nanodrop Data Raw'!$C:$L, 10, FALSE), VLOOKUP($C57, 'Nanodrop Data Raw'!$C:$L, 2, FALSE))","v":{"$error":"#N/A"}},null,null,{"$error":"#N/A"},{"$f":"VLOOKUP($C57, 'Nanodrop Data Raw'!$C:$L, 3, FALSE)","v":{"$error":"#N/A"}},{"$f":"VLOOKUP($C57, 'Nanodrop Data Raw'!$C:$L, 4, FALSE)","v":{"$error":"#N/A"}},null,null,null,null,{"$f":"'Sample Information'!$H$6","v":0},{"$f":"'Sample Information'!$H$5","v":0},null,null,{"$f":"'Sample Information'!$H$7","v":0},null,{"$error":"#N/A"}]
[{"$f":"'Sample Information'!A58","v":57},{"$f":"'Sample Information'!B58","v":0},"0-DNA",{"$f":"'Sample Information'!D58","v":0},{"$f":"IF(VLOOKUP($C58, 'Nanodrop Data Raw'!$C:$L, 10, FALSE)<>\"\", VLOOKUP($C58, 'Nanodrop Data Raw'!$C:$L, 10, FALSE), VLOOKUP($C58, 'Nanodrop Data Raw'!$C:$L, 2, FALSE))","v":{"$error":"#N/A"}},null,null,{"$error":"#N/A"},{"$f":"VLOOKUP($C58, 'Nanodrop Data Raw'!$C:$L, 3, FALSE)","v":{"$error":"#N/A"}},{"$f":"VLOOKUP($C58, 'Nanodrop Data Raw'!$C:$L, 4, FALSE)","v":{"$error":"#N/A"}},null,null,null,null,{"$f":"'Sample Information'!$H$6","v":0},{"$f":"'Sample Information'!$H$5","v":0},null,null,{"$f":"'Sample Information'!$H$7","v":0},null,{"$error":"#N/A"}]
[{"$f":"'Sample Information'!A59","v":58},{"$f":"'Sample Information'!B59","v":0},"0-DNA",{"$f":"'Sample Information'!D59","v":0},{"$f":"IF(VLOOKUP($C59, 'Nanodrop Data Raw'!$C:$L, 10, FALSE)<>\"\", VLOOKUP($C59, 'Nanodrop Data Raw'!$C:$L, 10, FALSE), VLOOKUP($C59, 'Nanodrop Data Raw'!$C:$L, 2, FALSE))","v":{"$error":"#N/A"}},null,null,{"$error":"#N/A"},{"$f":"VLOOKUP($C59, 'Nanodrop Data Raw'!$C:$L, 3, FALSE)","v":{"$error":"#N/A"}},{"$f":"VLOOKUP($C59, 'Nanodrop Data Raw'!$C:$L, 4, FALSE)","v":{"$error":"#N/A"}},null,null,null,null,{"$f":"'Sample Information'!$H$6","v":0},{"$f":"'Sample Information'!$H$5","v":0},null,null,{"$f":"'Sample Information'!$H$7","v":0},null,{"$error":"#N/A"}]
[{"$f":"'Sample Information'!A60","v":59},{"$f":"'Sample Information'!B60","v":0},"0-DNA",{"$f":"'Sample Information'!D60","v":0},{"$f":"IF(VLOOKUP($C60, 'Nanodrop Data Raw'!$C:$L, 10, FALSE)<>\"\", VLOOKUP($C60, 'Nanodrop Data Raw'!$C:$L, 10, FALSE), VLOOKUP($C60, 'Nanodrop Data Raw'!$C:$L, 2, FALSE))","v":{"$error":"#N/A"}},null,null,{"$error":"#N/A"},{"$f":"VLOOKUP($C60, 'Nanodrop Data Raw'!$C:$L, 3, FALSE)","v":{"$error":"#N/A"}},{"$f":"VLOOKUP($C60, 'Nanodrop Data Raw'!$C:$L, 4, FALSE)","v":{"$error":"#N/A"}},null,null,null,null,{"$f":"'Sample Information'!$H$6","v":0},{"$f":"'Sample Information'!$H$5","v":0},null,null,{"$f":"'Sample Information'!$H$7","v":0},null,{"$error":"#N/A"}]
[{"$f":"'Sample Information'!A61","v":60},{"$f":"'Sample Information'!B61","v":0},"0-DNA",{"$f":"'Sample Information'!D61","v":0},{"$f":"IF(VLOOKUP($C61, 'Nanodrop Data Raw'!$C:$L, 10, FALSE)<>\"\", VLOOKUP($C61, 'Nanodrop Data Raw'!$C:$L, 10, FALSE), VLOOKUP($C61, 'Nanodrop Data Raw'!$C:$L, 2, FALSE))","v":{"$error":"#N/A"}},null,null,{"$error":"#N/A"},{"$f":"VLOOKUP($C61, 'Nanodrop Data Raw'!$C:$L, 3, FALSE)","v":{"$error":"#N/A"}},{"$f":"VLOOKUP($C61, 'Nanodrop Data Raw'!$C:$L, 4, FALSE)","v":{"$error":"#N/A"}},null,null,null,null,{"$f":"'Sample Information'!$H$6","v":0},{"$f":"'Sample Information'!$H$5","v":0},null,null,{"$f":"'Sample Information'!$H$7","v":0},null,{"$error":"#N/A"}]
[{"$f":"'Sample Information'!A62","v":61},{"$f":"'Sample Information'!B62","v":0},"0-DNA",{"$f":"'Sample Information'!D62","v":0},{"$f":"IF(VLOOKUP($C62, 'Nanodrop Data Raw'!$C:$L, 10, FALSE)<>\"\", VLOOKUP($C62, 'Nanodrop Data Raw'!$C:$L, 10, FALSE), VLOOKUP($C62, 'Nanodrop Data Raw'!$C:$L, 2, FALSE))","v":{"$error":"#N/A"}},null,null,{"$error":"#N/A"},{"$f":"VLOOKUP($C62, 'Nanodrop Data Raw'!$C:$L, 3, FALSE)","v":{"$error":"#N/A"}},{"$f":"VLOOKUP($C62, 'Nanodrop Data Raw'!$C:$L, 4, FALSE)","v":{"$error":"#N/A"}},null,null,null,null,{"$f":"'Sample Information'!$H$6","v":0},{"$f":"'Sample Information'!$H$5","v":0},null,null,{"$f":"'Sample Information'!$H$7","v":0},null,{"$error":"#N/A"}]
[{"$f":"'Sample Information'!A63","v":62},{"$f":"'Sample Information'!B63","v":0},"0-DNA",{"$f":"'Sample Information'!D63","v":0},{"$f":"IF(VLOOKUP($C63, 'Nanodrop Data Raw'!$C:$L, 10, FALSE)<>\"\", VLOOKUP($C63, 'Nanodrop Data Raw'!$C:$L, 10, FALSE), VLOOKUP($C63, 'Nanodrop Data Raw'!$C:$L, 2, FALSE))","v":{"$error":"#N/A"}},null,null,{"$error":"#N/A"},{"$f":"VLOOKUP($C63, 'Nanodrop Data Raw'!$C:$L, 3, FALSE)","v":{"$error":"#N/A"}},{"$f":"VLOOKUP($C63, 'Nanodrop Data Raw'!$C:$L, 4, FALSE)","v":{"$error":"#N/A"}},null,null,null,null,{"$f":"'Sample Information'!$H$6","v":0},{"$f":"'Sample Information'!$H$5","v":0},null,null,{"$f":"'Sample Information'!$H$7","v":0},null,{"$error":"#N/A"}]
[{"$f":"'Sample Information'!A64","v":63},{"$f":"'Sample Information'!B64","v":0},"0-DNA",{"$f":"'Sample Information'!D64","v":0},{"$f":"IF(VLOOKUP($C64, 'Nanodrop Data Raw'!$C:$L, 10, FALSE)<>\"\", VLOOKUP($C64, 'Nanodrop Data Raw'!$C:$L, 10, FALSE), VLOOKUP($C64, 'Nanodrop Data Raw'!$C:$L, 2, FALSE))","v":{"$error":"#N/A"}},null,null,{"$error":"#N/A"},{"$f":"VLOOKUP($C64, 'Nanodrop Data Raw'!$C:$L, 3, FALSE)","v":{"$error":"#N/A"}},{"$f":"VLOOKUP($C64, 'Nanodrop Data Raw'!$C:$L, 4, FALSE)","v":{"$error":"#N/A"}},null,null,null,null,{"$f":"'Sample Information'!$H$6","v":0},{"$f":"'Sample Information'!$H$5","v":0},null,null,{"$f":"'Sample Information'!$H$7","v":0},null,{"$error":"#N/A"}]
[{"$f":"'Sample Information'!A65","v":64},{"$f":"'Sample Information'!B65","v":0},"0-DNA",{"$f":"'Sample Information'!D65","v":0},{"$f":"IF(VLOOKUP($C65, 'Nanodrop Data Raw'!$C:$L, 10, FALSE)<>\"\", VLOOKUP($C65, 'Nanodrop Data Raw'!$C:$L, 10, FALSE), VLOOKUP($C65, 'Nanodrop Data Raw'!$C:$L, 2, FALSE))","v":{"$error":"#N/A"}},null,null,{"$error":"#N/A"},{"$f":"VLOOKUP($C65, 'Nanodrop Data Raw'!$C:$L, 3, FALSE)","v":{"$error":"#N/A"}},{"$f":"VLOOKUP($C65, 'Nanodrop Data Raw'!$C:$L, 4, FALSE)","v":{"$error":"#N/A"}},null,null,null,null,{"$f":"'Sample Information'!$H$6","v":0},{"$f":"'Sample Information'!$H$5","v":0},null,null,{"$f":"'Sample Information'!$H$7","v":0},null,{"$error":"#N/A"}]
[{"$f":"'Sample Information'!A66","v":65},{"$f":"'Sample Information'!B66","v":0},"0-DNA",{"$f":"'Sample Information'!D66","v":0},{"$f":"IF(VLOOKUP($C66, 'Nanodrop Data Raw'!$C:$L, 10, FALSE)<>\"\", VLOOKUP($C66, 'Nanodrop Data Raw'!$C:$L, 10, FALSE), VLOOKUP($C66, 'Nanodrop Data Raw'!$C:$L, 2, FALSE))","v":{"$error":"#N/A"}},null,null,{"$error":"#N/A"},{"$f":"VLOOKUP($C66, 'Nanodrop Data Raw'!$C:$L, 3, FALSE)","v":{"$error":"#N/A"}},{"$f":"VLOOKUP($C66, 'Nanodrop Data Raw'!$C:$L, 4, FALSE)","v":{"$error":"#N/A"}},null,null,null,null,{"$f":"'Sample Information'!$H$6","v":0},{"$f":"'Sample Information'!$H$5","v":0},null,null,{"$f":"'Sample Information'!$H$7","v":0},null,{"$error":"#N/A"}]
[{"$f":"'Sample Information'!A67","v":66},{"$f":"'Sample Information'!B67","v":0},{"$f":"CONCATENATE(B67,\"-DNA\")","v":"0-DNA"},{"$f":"'Sample Information'!D67","v":0},{"$f":"IF(VLOOKUP($C67, 'Nanodrop Data Raw'!$C:$L, 10, FALSE)<>\"\", VLOOKUP($C67, 'Nanodrop Data Raw'!$C:$L, 10, FALSE), VLOOKUP($C67, 'Nanodrop Data Raw'!$C:$L, 2, FALSE))","v":{"$error":"#N/A"}},null,null,{"$f":"E67*F67/1000","v":{"$error":"#N/A"}},{"$f":"VLOOKUP($C67, 'Nanodrop Data Raw'!$C:$L, 3, FALSE)","v":{"$error":"#N/A"}},{"$f":"VLOOKUP($C67, 'Nanodrop Data Raw'!$C:$L, 4, FALSE)","v":{"$error":"#N/A"}},null,null,null,null,{"$f":"'Sample Information'!$H$6","v":0},{"$f":"'Sample Information'!$H$5","v":0},null,null,{"$f":"'Sample Information'!$H$7","v":0},null,{"$f":"$N67/$E67","v":{"$error":"#N/A"}}]
[{"$f":"'Sample Information'!A68","v":67},{"$f":"'Sample Information'!B68","v":0},"0-DNA",{"$f":"'Sample Information'!D68","v":0},{"$f":"IF(VLOOKUP($C68, 'Nanodrop Data Raw'!$C:$L, 10, FALSE)<>\"\", VLOOKUP($C68, 'Nanodrop Data Raw'!$C:$L, 10, FALSE), VLOOKUP($C68, 'Nanodrop Data Raw'!$C:$L, 2, FALSE))","v":{"$error":"#N/A"}},null,null,{"$error":"#N/A"},{"$f":"VLOOKUP($C68, 'Nanodrop Data Raw'!$C:$L, 3, FALSE)","v":{"$error":"#N/A"}},{"$f":"VLOOKUP($C68, 'Nanodrop Data Raw'!$C:$L, 4, FALSE)","v":{"$error":"#N/A"}},null,null,null,null,{"$f":"'Sample Information'!$H$6","v":0},{"$f":"'Sample Information'!$H$5","v":0},null,null,{"$f":"'Sample Information'!$H$7","v":0},null,{"$error":"#N/A"}]
[{"$f":"'Sample Information'!A69","v":68},{"$f":"'Sample Information'!B69","v":0},"0-DNA",{"$f":"'Sample Information'!D69","v":0},{"$f":"IF(VLOOKUP($C69, 'Nanodrop Data Raw'!$C:$L, 10, FALSE)<>\"\", VLOOKUP($C69, 'Nanodrop Data Raw'!$C:$L, 10, FALSE), VLOOKUP($C69, 'Nanodrop Data Raw'!$C:$L, 2, FALSE))","v":{"$error":"#N/A"}},null,null,{"$error":"#N/A"},{"$f":"VLOOKUP($C69, 'Nanodrop Data Raw'!$C:$L, 3, FALSE)","v":{"$error":"#N/A"}},{"$f":"VLOOKUP($C69, 'Nanodrop Data Raw'!$C:$L, 4, FALSE)","v":{"$error":"#N/A"}},null,null,null,null,{"$f":"'Sample Information'!$H$6","v":0},{"$f":"'Sample Information'!$H$5","v":0},null,null,{"$f":"'Sample Information'!$H$7","v":0},null,{"$error":"#N/A"}]
[{"$f":"'Sample Information'!A70","v":69},{"$f":"'Sample Information'!B70","v":0},"0-DNA",{"$f":"'Sample Information'!D70","v":0},{"$f":"IF(VLOOKUP($C70, 'Nanodrop Data Raw'!$C:$L, 10, FALSE)<>\"\", VLOOKUP($C70, 'Nanodrop Data Raw'!$C:$L, 10, FALSE), VLOOKUP($C70, 'Nanodrop Data Raw'!$C:$L, 2, FALSE))","v":{"$error":"#N/A"}},null,null,{"$error":"#N/A"},{"$f":"VLOOKUP($C70, 'Nanodrop Data Raw'!$C:$L, 3, FALSE)","v":{"$error":"#N/A"}},{"$f":"VLOOKUP($C70, 'Nanodrop Data Raw'!$C:$L, 4, FALSE)","v":{"$error":"#N/A"}},null,null,null,null,{"$f":"'Sample Information'!$H$6","v":0},{"$f":"'Sample Information'!$H$5","v":0},null,null,{"$f":"'Sample Information'!$H$7","v":0},null,{"$error":"#N/A"}]
[{"$f":"'Sample Information'!A71","v":70},{"$f":"'Sample Information'!B71","v":0},"0-DNA",{"$f":"'Sample Information'!D71","v":0},{"$f":"IF(VLOOKUP($C71, 'Nanodrop Data Raw'!$C:$L, 10, FALSE)<>\"\", VLOOKUP($C71, 'Nanodrop Data Raw'!$C:$L, 10, FALSE), VLOOKUP($C71, 'Nanodrop Data Raw'!$C:$L, 2, FALSE))","v":{"$error":"#N/A"}},null,null,{"$error":"#N/A"},{"$f":"VLOOKUP($C71, 'Nanodrop Data Raw'!$C:$L, 3, FALSE)","v":{"$error":"#N/A"}},{"$f":"VLOOKUP($C71, 'Nanodrop Data Raw'!$C:$L, 4, FALSE)","v":{"$error":"#N/A"}},null,null,null,null,{"$f":"'Sample Information'!$H$6","v":0},{"$f":"'Sample Information'!$H$5","v":0},null,null,{"$f":"'Sample Information'!$H$7","v":0},null,{"$error":"#N/A"}]
[{"$f":"'Sample Information'!A72","v":71},{"$f":"'Sample Information'!B72","v":0},"0-DNA",{"$f":"'Sample Information'!D72","v":0},{"$f":"IF(VLOOKUP($C72, 'Nanodrop Data Raw'!$C:$L, 10, FALSE)<>\"\", VLOOKUP($C72, 'Nanodrop Data Raw'!$C:$L, 10, FALSE), VLOOKUP($C72, 'Nanodrop Data Raw'!$C:$L, 2, FALSE))","v":{"$error":"#N/A"}},null,null,{"$error":"#N/A"},{"$f":"VLOOKUP($C72, 'Nanodrop Data Raw'!$C:$L, 3, FALSE)","v":{"$error":"#N/A"}},{"$f":"VLOOKUP($C72, 'Nanodrop Data Raw'!$C:$L, 4, FALSE)","v":{"$error":"#N/A"}},null,null,null,null,{"$f":"'Sample Information'!$H$6","v":0},{"$f":"'Sample Information'!$H$5","v":0},null,null,{"$f":"'Sample Information'!$H$7","v":0},null,{"$error":"#N/A"}]
[{"$f":"'Sample Information'!A73","v":72},{"$f":"'Sample Information'!B73","v":0},"0-DNA",{"$f":"'Sample Information'!D73","v":0},{"$f":"IF(VLOOKUP($C73, 'Nanodrop Data Raw'!$C:$L, 10, FALSE)<>\"\", VLOOKUP($C73, 'Nanodrop Data Raw'!$C:$L, 10, FALSE), VLOOKUP($C73, 'Nanodrop Data Raw'!$C:$L, 2, FALSE))","v":{"$error":"#N/A"}},null,null,{"$error":"#N/A"},{"$f":"VLOOKUP($C73, 'Nanodrop Data Raw'!$C:$L, 3, FALSE)","v":{"$error":"#N/A"}},{"$f":"VLOOKUP($C73, 'Nanodrop Data Raw'!$C:$L, 4, FALSE)","v":{"$error":"#N/A"}},null,null,null,null,{"$f":"'Sample Information'!$H$6","v":0},{"$f":"'Sample Information'!$H$5","v":0},null,null,{"$f":"'Sample Information'!$H$7","v":0},null,{"$error":"#N/A"}]
[{"$f":"'Sample Information'!A74","v":73},{"$f":"'Sample Information'!B74","v":0},"0-DNA",{"$f":"'Sample Information'!D74","v":0},{"$f":"IF(VLOOKUP($C74, 'Nanodrop Data Raw'!$C:$L, 10, FALSE)<>\"\", VLOOKUP($C74, 'Nanodrop Data Raw'!$C:$L, 10, FALSE), VLOOKUP($C74, 'Nanodrop Data Raw'!$C:$L, 2, FALSE))","v":{"$error":"#N/A"}},null,null,{"$error":"#N/A"},{"$f":"VLOOKUP($C74, 'Nanodrop Data Raw'!$C:$L, 3, FALSE)","v":{"$error":"#N/A"}},{"$f":"VLOOKUP($C74, 'Nanodrop Data Raw'!$C:$L, 4, FALSE)","v":{"$error":"#N/A"}},null,null,null,null,{"$f":"'Sample Information'!$H$6","v":0},{"$f":"'Sample Information'!$H$5","v":0},null,null,{"$f":"'Sample Information'!$H$7","v":0},null,{"$error":"#N/A"}]
[{"$f":"'Sample Information'!A75","v":74},{"$f":"'Sample Information'!B75","v":0},"0-DNA",{"$f":"'Sample Information'!D75","v":0},{"$f":"IF(VLOOKUP($C75, 'Nanodrop Data Raw'!$C:$L, 10, FALSE)<>\"\", VLOOKUP($C75, 'Nanodrop Data Raw'!$C:$L, 10, FALSE), VLOOKUP($C75, 'Nanodrop Data Raw'!$C:$L, 2, FALSE))","v":{"$error":"#N/A"}},null,null,{"$error":"#N/A"},{"$f":"VLOOKUP($C75, 'Nanodrop Data Raw'!$C:$L, 3, FALSE)","v":{"$error":"#N/A"}},{"$f":"VLOOKUP($C75, 'Nanodrop Data Raw'!$C:$L, 4, FALSE)","v":{"$error":"#N/A"}},null,null,null,null,{"$f":"'Sample Information'!$H$6","v":0},{"$f":"'Sample Information'!$H$5","v":0},null,null,{"$f":"'Sample Information'!$H$7","v":0},null,{"$error":"#N/A"}]
[{"$f":"'Sample Information'!A76","v":75},{"$f":"'Sample Information'!B76","v":0},"0-DNA",{"$f":"'Sample Information'!D76","v":0},{"$f":"IF(VLOOKUP($C76, 'Nanodrop Data Raw'!$C:$L, 10, FALSE)<>\"\", VLOOKUP($C76, 'Nanodrop Data Raw'!$C:$L, 10, FALSE), VLOOKUP($C76, 'Nanodrop Data Raw'!$C:$L, 2, FALSE))","v":{"$error":"#N/A"}},null,null,{"$error":"#N/A"},{"$f":"VLOOKUP($C76, 'Nanodrop Data Raw'!$C:$L, 3, FALSE)","v":{"$error":"#N/A"}},{"$f":"VLOOKUP($C76, 'Nanodrop Data Raw'!$C:$L, 4, FALSE)","v":{"$error":"#N/A"}},null,null,null,null,{"$f":"'Sample Information'!$H$6","v":0},{"$f":"'Sample Information'!$H$5","v":0},null,null,{"$f":"'Sample Information'!$H$7","v":0},null,{"$error":"#N/A"}]
[{"$f":"'Sample Information'!A77","v":76},{"$f":"'Sample Information'!B77","v":0},"0-DNA",{"$f":"'Sample Information'!D77","v":0},{"$f":"IF(VLOOKUP($C77, 'Nanodrop Data Raw'!$C:$L, 10, FALSE)<>\"\", VLOOKUP($C77, 'Nanodrop Data Raw'!$C:$L, 10, FALSE), VLOOKUP($C77, 'Nanodrop Data Raw'!$C:$L, 2, FALSE))","v":{"$error":"#N/A"}},null,null,{"$error":"#N/A"},{"$f":"VLOOKUP($C77, 'Nanodrop Data Raw'!$C:$L, 3, FALSE)","v":{"$error":"#N/A"}},{"$f":"VLOOKUP($C77, 'Nanodrop Data Raw'!$C:$L, 4, FALSE)","v":{"$error":"#N/A"}},null,null,null,null,{"$f":"'Sample Information'!$H$6","v":0},{"$f":"'Sample Information'!$H$5","v":0},null,null,{"$f":"'Sample Information'!$H$7","v":0},null,{"$error":"#N/A"}]
[{"$f":"'Sample Information'!A78","v":77},{"$f":"'Sample Information'!B78","v":0},"0-DNA",{"$f":"'Sample Information'!D78","v":0},{"$f":"IF(VLOOKUP($C78, 'Nanodrop Data Raw'!$C:$L, 10, FALSE)<>\"\", VLOOKUP($C78, 'Nanodrop Data Raw'!$C:$L, 10, FALSE), VLOOKUP($C78, 'Nanodrop Data Raw'!$C:$L, 2, FALSE))","v":{"$error":"#N/A"}},null,null,{"$error":"#N/A"},{"$f":"VLOOKUP($C78, 'Nanodrop Data Raw'!$C:$L, 3, FALSE)","v":{"$error":"#N/A"}},{"$f":"VLOOKUP($C78, 'Nanodrop Data Raw'!$C:$L, 4, FALSE)","v":{"$error":"#N/A"}},null,null,null,null,{"$f":"'Sample Information'!$H$6","v":0},{"$f":"'Sample Information'!$H$5","v":0},null,null,{"$f":"'Sample Information'!$H$7","v":0},null,{"$error":"#N/A"}]
[{"$f":"'Sample Information'!A79","v":78},{"$f":"'Sample Information'!B79","v":0},"0-DNA",{"$f":"'Sample Information'!D79","v":0},{"$f":"IF(VLOOKUP($C79, 'Nanodrop Data Raw'!$C:$L, 10, FALSE)<>\"\", VLOOKUP($C79, 'Nanodrop Data Raw'!$C:$L, 10, FALSE), VLOOKUP($C79, 'Nanodrop Data Raw'!$C:$L, 2, FALSE))","v":{"$error":"#N/A"}},null,null,{"$error":"#N/A"},{"$f":"VLOOKUP($C79, 'Nanodrop Data Raw'!$C:$L, 3, FALSE)","v":{"$error":"#N/A"}},{"$f":"VLOOKUP($C79, 'Nanodrop Data Raw'!$C:$L, 4, FALSE)","v":{"$error":"#N/A"}},null,null,null,null,{"$f":"'Sample Information'!$H$6","v":0},{"$f":"'Sample Information'!$H$5","v":0},null,null,{"$f":"'Sample Information'!$H$7","v":0},null,{"$error":"#N/A"}]
[{"$f":"'Sample Information'!A80","v":79},{"$f":"'Sample Information'!B80","v":0},"0-DNA",{"$f":"'Sample Information'!D80","v":0},{"$f":"IF(VLOOKUP($C80, 'Nanodrop Data Raw'!$C:$L, 10, FALSE)<>\"\", VLOOKUP($C80, 'Nanodrop Data Raw'!$C:$L, 10, FALSE), VLOOKUP($C80, 'Nanodrop Data Raw'!$C:$L, 2, FALSE))","v":{"$error":"#N/A"}},null,null,{"$error":"#N/A"},{"$f":"VLOOKUP($C80, 'Nanodrop Data Raw'!$C:$L, 3, FALSE)","v":{"$error":"#N/A"}},{"$f":"VLOOKUP($C80, 'Nanodrop Data Raw'!$C:$L, 4, FALSE)","v":{"$error":"#N/A"}},null,null,null,null,{"$f":"'Sample Information'!$H$6","v":0},{"$f":"'Sample Information'!$H$5","v":0},null,null,{"$f":"'Sample Information'!$H$7","v":0},null,{"$error":"#N/A"}]
[{"$f":"'Sample Information'!A81","v":80},{"$f":"'Sample Information'!B81","v":0},"0-DNA",{"$f":"'Sample Information'!D81","v":0},{"$f":"IF(VLOOKUP($C81, 'Nanodrop Data Raw'!$C:$L, 10, FALSE)<>\"\", VLOOKUP($C81, 'Nanodrop Data Raw'!$C:$L, 10, FALSE), VLOOKUP($C81, 'Nanodrop Data Raw'!$C:$L, 2, FALSE))","v":{"$error":"#N/A"}},null,null,{"$error":"#N/A"},{"$f":"VLOOKUP($C81, 'Nanodrop Data Raw'!$C:$L, 3, FALSE)","v":{"$error":"#N/A"}},{"$f":"VLOOKUP($C81, 'Nanodrop Data Raw'!$C:$L, 4, FALSE)","v":{"$error":"#N/A"}},null,null,null,null,{"$f":"'Sample Information'!$H$6","v":0},{"$f":"'Sample Information'!$H$5","v":0},null,null,{"$f":"'Sample Information'!$H$7","v":0},null,{"$error":"#N/A"}]
[{"$f":"'Sample Information'!A82","v":81},{"$f":"'Sample Information'!B82","v":0},"0-DNA",{"$f":"'Sample Information'!D82","v":0},{"$f":"IF(VLOOKUP($C82, 'Nanodrop Data Raw'!$C:$L, 10, FALSE)<>\"\", VLOOKUP($C82, 'Nanodrop Data Raw'!$C:$L, 10, FALSE), VLOOKUP($C82, 'Nanodrop Data Raw'!$C:$L, 2, FALSE))","v":{"$error":"#N/A"}},null,null,{"$error":"#N/A"},{"$f":"VLOOKUP($C82, 'Nanodrop Data Raw'!$C:$L, 3, FALSE)","v":{"$error":"#N/A"}},{"$f":"VLOOKUP($C82, 'Nanodrop Data Raw'!$C:$L, 4, FALSE)","v":{"$error":"#N/A"}},null,null,null,null,{"$f":"'Sample Information'!$H$6","v":0},{"$f":"'Sample Information'!$H$5","v":0},null,null,{"$f":"'Sample Information'!$H$7","v":0},null,{"$error":"#N/A"}]
[{"$f":"'Sample Information'!A83","v":82},{"$f":"'Sample Information'!B83","v":0},"0-DNA",{"$f":"'Sample Information'!D83","v":0},{"$f":"IF(VLOOKUP($C83, 'Nanodrop Data Raw'!$C:$L, 10, FALSE)<>\"\", VLOOKUP($C83, 'Nanodrop Data Raw'!$C:$L, 10, FALSE), VLOOKUP($C83, 'Nanodrop Data Raw'!$C:$L, 2, FALSE))","v":{"$error":"#N/A"}},null,null,{"$error":"#N/A"},{"$f":"VLOOKUP($C83, 'Nanodrop Data Raw'!$C:$L, 3, FALSE)","v":{"$error":"#N/A"}},{"$f":"VLOOKUP($C83, 'Nanodrop Data Raw'!$C:$L, 4, FALSE)","v":{"$error":"#N/A"}},null,null,null,null,{"$f":"'Sample Information'!$H$6","v":0},{"$f":"'Sample Information'!$H$5","v":0},null,null,{"$f":"'Sample Information'!$H$7","v":0},null,{"$error":"#N/A"}]
[{"$f":"'Sample Information'!A84","v":83},{"$f":"'Sample Information'!B84","v":0},"0-DNA",{"$f":"'Sample Information'!D84","v":0},{"$f":"IF(VLOOKUP($C84, 'Nanodrop Data Raw'!$C:$L, 10, FALSE)<>\"\", VLOOKUP($C84, 'Nanodrop Data Raw'!$C:$L, 10, FALSE), VLOOKUP($C84, 'Nanodrop Data Raw'!$C:$L, 2, FALSE))","v":{"$error":"#N/A"}},null,null,{"$error":"#N/A"},{"$f":"VLOOKUP($C84, 'Nanodrop Data Raw'!$C:$L, 3, FALSE)","v":{"$error":"#N/A"}},{"$f":"VLOOKUP($C84, 'Nanodrop Data Raw'!$C:$L, 4, FALSE)","v":{"$error":"#N/A"}},null,null,null,null,{"$f":"'Sample Information'!$H$6","v":0},{"$f":"'Sample Information'!$H$5","v":0},null,null,{"$f":"'Sample Information'!$H$7","v":0},null,{"$error":"#N/A"}]
[{"$f":"'Sample Information'!A85","v":84},{"$f":"'Sample Information'!B85","v":0},"0-DNA",{"$f":"'Sample Information'!D85","v":0},{"$f":"IF(VLOOKUP($C85, 'Nanodrop Data Raw'!$C:$L, 10, FALSE)<>\"\", VLOOKUP($C85, 'Nanodrop Data Raw'!$C:$L, 10, FALSE), VLOOKUP($C85, 'Nanodrop Data Raw'!$C:$L, 2, FALSE))","v":{"$error":"#N/A"}},null,null,{"$error":"#N/A"},{"$f":"VLOOKUP($C85, 'Nanodrop Data Raw'!$C:$L, 3, FALSE)","v":{"$error":"#N/A"}},{"$f":"VLOOKUP($C85, 'Nanodrop Data Raw'!$C:$L, 4, FALSE)","v":{"$error":"#N/A"}},null,null,null,null,{"$f":"'Sample Information'!$H$6","v":0},{"$f":"'Sample Information'!$H$5","v":0},null,null,{"$f":"'Sample Information'!$H$7","v":0},null,{"$error":"#N/A"}]
[{"$f":"'Sample Information'!A86","v":85},{"$f":"'Sample Information'!B86","v":0},"0-DNA",{"$f":"'Sample Information'!D86","v":0},{"$f":"IF(VLOOKUP($C86, 'Nanodrop Data Raw'!$C:$L, 10, FALSE)<>\"\", VLOOKUP($C86, 'Nanodrop Data Raw'!$C:$L, 10, FALSE), VLOOKUP($C86, 'Nanodrop Data Raw'!$C:$L, 2, FALSE))","v":{"$error":"#N/A"}},null,null,{"$error":"#N/A"},{"$f":"VLOOKUP($C86, 'Nanodrop Data Raw'!$C:$L, 3, FALSE)","v":{"$error":"#N/A"}},{"$f":"VLOOKUP($C86, 'Nanodrop Data Raw'!$C:$L, 4, FALSE)","v":{"$error":"#N/A"}},null,null,null,null,{"$f":"'Sample Information'!$H$6","v":0},{"$f":"'Sample Information'!$H$5","v":0},null,null,{"$f":"'Sample Information'!$H$7","v":0},null,{"$error":"#N/A"}]
[{"$f":"'Sample Information'!A87","v":86},{"$f":"'Sample Information'!B87","v":0},"0-DNA",{"$f":"'Sample Information'!D87","v":0},{"$f":"IF(VLOOKUP($C87, 'Nanodrop Data Raw'!$C:$L, 10, FALSE)<>\"\", VLOOKUP($C87, 'Nanodrop Data Raw'!$C:$L, 10, FALSE), VLOOKUP($C87, 'Nanodrop Data Raw'!$C:$L, 2, FALSE))","v":{"$error":"#N/A"}},null,null,{"$error":"#N/A"},{"$f":"VLOOKUP($C87, 'Nanodrop Data Raw'!$C:$L, 3, FALSE)","v":{"$error":"#N/A"}},{"$f":"VLOOKUP($C87, 'Nanodrop Data Raw'!$C:$L, 4, FALSE)","v":{"$error":"#N/A"}},null,null,null,null,{"$f":"'Sample Information'!$H$6","v":0},{"$f":"'Sample Information'!$H$5","v":0},null,null,{"$f":"'Sample Information'!$H$7","v":0},null,{"$error":"#N/A"}]
[{"$f":"'Sample Information'!A88","v":87},{"$f":"'Sample Information'!B88","v":0},"0-DNA",{"$f":"'Sample Information'!D88","v":0},{"$f":"IF(VLOOKUP($C88, 'Nanodrop Data Raw'!$C:$L, 10, FALSE)<>\"\", VLOOKUP($C88, 'Nanodrop Data Raw'!$C:$L, 10, FALSE), VLOOKUP($C88, 'Nanodrop Data Raw'!$C:$L, 2, FALSE))","v":{"$error":"#N/A"}},null,null,{"$error":"#N/A"},{"$f":"VLOOKUP($C88, 'Nanodrop Data Raw'!$C:$L, 3, FALSE)","v":{"$error":"#N/A"}},{"$f":"VLOOKUP($C88, 'Nanodrop Data Raw'!$C:$L, 4, FALSE)","v":{"$error":"#N/A"}},null,null,null,null,{"$f":"'Sample Information'!$H$6","v":0},{"$f":"'Sample Information'!$H$5","v":0},null,null,{"$f":"'Sample Information'!$H$7","v":0},null,{"$error":"#N/A"}]
[{"$f":"'Sample Information'!A89","v":88},{"$f":"'Sample Information'!B89","v":0},"0-DNA",{"$f":"'Sample Information'!D89","v":0},{"$f":"IF(VLOOKUP($C89, 'Nanodrop Data Raw'!$C:$L, 10, FALSE)<>\"\", VLOOKUP($C89, 'Nanodrop Data Raw'!$C:$L, 10, FALSE), VLOOKUP($C89, 'Nanodrop Data Raw'!$C:$L, 2, FALSE))","v":{"$error":"#N/A"}},null,null,{"$error":"#N/A"},{"$f":"VLOOKUP($C89, 'Nanodrop Data Raw'!$C:$L, 3, FALSE)","v":{"$error":"#N/A"}},{"$f":"VLOOKUP($C89, 'Nanodrop Data Raw'!$C:$L, 4, FALSE)","v":{"$error":"#N/A"}},null,null,null,null,{"$f":"'Sample Information'!$H$6","v":0},{"$f":"'Sample Information'!$H$5","v":0},null,null,{"$f":"'Sample Information'!$H$7","v":0},null,{"$error":"#N/A"}]
[{"$f":"'Sample Information'!A90","v":89},{"$f":"'Sample Information'!B90","v":0},"0-DNA",{"$f":"'Sample Information'!D90","v":0},{"$f":"IF(VLOOKUP($C90, 'Nanodrop Data Raw'!$C:$L, 10, FALSE)<>\"\", VLOOKUP($C90, 'Nanodrop Data Raw'!$C:$L, 10, FALSE), VLOOKUP($C90, 'Nanodrop Data Raw'!$C:$L, 2, FALSE))","v":{"$error":"#N/A"}},null,null,{"$error":"#N/A"},{"$f":"VLOOKUP($C90, 'Nanodrop Data Raw'!$C:$L, 3, FALSE)","v":{"$error":"#N/A"}},{"$f":"VLOOKUP($C90, 'Nanodrop Data Raw'!$C:$L, 4, FALSE)","v":{"$error":"#N/A"}},null,null,null,null,{"$f":"'Sample Information'!$H$6","v":0},{"$f":"'Sample Information'!$H$5","v":0},null,null,{"$f":"'Sample Information'!$H$7","v":0},null,{"$error":"#N/A"}]
[{"$f":"'Sample Information'!A91","v":90},{"$f":"'Sample Information'!B91","v":0},"0-DNA",{"$f":"'Sample Information'!D91","v":0},{"$f":"IF(VLOOKUP($C91, 'Nanodrop Data Raw'!$C:$L, 10, FALSE)<>\"\", VLOOKUP($C91, 'Nanodrop Data Raw'!$C:$L, 10, FALSE), VLOOKUP($C91, 'Nanodrop Data Raw'!$C:$L, 2, FALSE))","v":{"$error":"#N/A"}},null,null,{"$error":"#N/A"},{"$f":"VLOOKUP($C91, 'Nanodrop Data Raw'!$C:$L, 3, FALSE)","v":{"$error":"#N/A"}},{"$f":"VLOOKUP($C91, 'Nanodrop Data Raw'!$C:$L, 4, FALSE)","v":{"$error":"#N/A"}},null,null,null,null,{"$f":"'Sample Information'!$H$6","v":0},{"$f":"'Sample Information'!$H$5","v":0},null,null,{"$f":"'Sample Information'!$H$7","v":0},null,{"$error":"#N/A"}]
[{"$f":"'Sample Information'!A92","v":91},{"$f":"'Sample Information'!B92","v":0},"0-DNA",{"$f":"'Sample Information'!D92","v":0},{"$f":"IF(VLOOKUP($C92, 'Nanodrop Data Raw'!$C:$L, 10, FALSE)<>\"\", VLOOKUP($C92, 'Nanodrop Data Raw'!$C:$L, 10, FALSE), VLOOKUP($C92, 'Nanodrop Data Raw'!$C:$L, 2, FALSE))","v":{"$error":"#N/A"}},null,null,{"$error":"#N/A"},{"$f":"VLOOKUP($C92, 'Nanodrop Data Raw'!$C:$L, 3, FALSE)","v":{"$error":"#N/A"}},{"$f":"VLOOKUP($C92, 'Nanodrop Data Raw'!$C:$L, 4, FALSE)","v":{"$error":"#N/A"}},null,null,null,null,{"$f":"'Sample Information'!$H$6","v":0},{"$f":"'Sample Information'!$H$5","v":0},null,null,{"$f":"'Sample Information'!$H$7","v":0},null,{"$error":"#N/A"}]
[{"$f":"'Sample Information'!A93","v":92},{"$f":"'Sample Information'!B93","v":0},"0-DNA",{"$f":"'Sample Information'!D93","v":0},{"$f":"IF(VLOOKUP($C93, 'Nanodrop Data Raw'!$C:$L, 10, FALSE)<>\"\", VLOOKUP($C93, 'Nanodrop Data Raw'!$C:$L, 10, FALSE), VLOOKUP($C93, 'Nanodrop Data Raw'!$C:$L, 2, FALSE))","v":{"$error":"#N/A"}},null,null,{"$error":"#N/A"},{"$f":"VLOOKUP($C93, 'Nanodrop Data Raw'!$C:$L, 3, FALSE)","v":{"$error":"#N/A"}},{"$f":"VLOOKUP($C93, 'Nanodrop Data Raw'!$C:$L, 4, FALSE)","v":{"$error":"#N/A"}},null,null,null,null,{"$f":"'Sample Information'!$H$6","v":0},{"$f":"'Sample Information'!$H$5","v":0},null,null,{"$f":"'Sample Information'!$H$7","v":0},null,{"$error":"#N/A"}]
[{"$f":"'Sample Information'!A94","v":93},{"$f":"'Sample Information'!B94","v":0},"0-DNA",{"$f":"'Sample Information'!D94","v":0},{"$f":"IF(VLOOKUP($C94, 'Nanodrop Data Raw'!$C:$L, 10, FALSE)<>\"\", VLOOKUP($C94, 'Nanodrop Data Raw'!$C:$L, 10, FALSE), VLOOKUP($C94, 'Nanodrop Data Raw'!$C:$L, 2, FALSE))","v":{"$error":"#N/A"}},null,null,{"$error":"#N/A"},{"$f":"VLOOKUP($C94, 'Nanodrop Data Raw'!$C:$L, 3, FALSE)","v":{"$error":"#N/A"}},{"$f":"VLOOKUP($C94, 'Nanodrop Data Raw'!$C:$L, 4, FALSE)","v":{"$error":"#N/A"}},null,null,null,null,{"$f":"'Sample Information'!$H$6","v":0},{"$f":"'Sample Information'!$H$5","v":0},null,null,{"$f":"'Sample Information'!$H$7","v":0},null,{"$error":"#N/A"}]
[{"$f":"'Sample Information'!A95","v":94},{"$f":"'Sample Information'!B95","v":0},"0-DNA",{"$f":"'Sample Information'!D95","v":0},{"$f":"IF(VLOOKUP($C95, 'Nanodrop Data Raw'!$C:$L, 10, FALSE)<>\"\", VLOOKUP($C95, 'Nanodrop Data Raw'!$C:$L, 10, FALSE), VLOOKUP($C95, 'Nanodrop Data Raw'!$C:$L, 2, FALSE))","v":{"$error":"#N/A"}},null,null,{"$error":"#N/A"},{"$f":"VLOOKUP($C95, 'Nanodrop Data Raw'!$C:$L, 3, FALSE)","v":{"$error":"#N/A"}},{"$f":"VLOOKUP($C95, 'Nanodrop Data Raw'!$C:$L, 4, FALSE)","v":{"$error":"#N/A"}},null,null,null,null,{"$f":"'Sample Information'!$H$6","v":0},{"$f":"'Sample Information'!$H$5","v":0},null,null,{"$f":"'Sample Information'!$H$7","v":0},null,{"$error":"#N/A"}]
[{"$f":"'Sample Information'!A96","v":95},{"$f":"'Sample Information'!B96","v":0},"0-DNA",{"$f":"'Sample Information'!D96","v":0},{"$f":"IF(VLOOKUP($C96, 'Nanodrop Data Raw'!$C:$L, 10, FALSE)<>\"\", VLOOKUP($C96, 'Nanodrop Data Raw'!$C:$L, 10, FALSE), VLOOKUP($C96, 'Nanodrop Data Raw'!$C:$L, 2, FALSE))","v":{"$error":"#N/A"}},null,null,{"$error":"#N/A"},{"$f":"VLOOKUP($C96, 'Nanodrop Data Raw'!$C:$L, 3, FALSE)","v":{"$error":"#N/A"}},{"$f":"VLOOKUP($C96, 'Nanodrop Data Raw'!$C:$L, 4, FALSE)","v":{"$error":"#N/A"}},null,null,null,null,{"$f":"'Sample Information'!$H$6","v":0},{"$f":"'Sample Information'!$H$5","v":0},null,null,{"$f":"'Sample Information'!$H$7","v":0},null,{"$error":"#N/A"}]
[{"$f":"'Sample Information'!A97","v":96},{"$f":"'Sample Information'!B97","v":0},"0-DNA",{"$f":"'Sample Information'!D97","v":0},{"$f":"IF(VLOOKUP($C97, 'Nanodrop Data Raw'!$C:$L, 10, FALSE)<>\"\", VLOOKUP($C97, 'Nanodrop Data Raw'!$C:$L, 10, FALSE), VLOOKUP($C97, 'Nanodrop Data Raw'!$C:$L, 2, FALSE))","v":{"$error":"#N/A"}},null,null,{"$error":"#N/A"},{"$f":"VLOOKUP($C97, 'Nanodrop Data Raw'!$C:$L, 3, FALSE)","v":{"$error":"#N/A"}},{"$f":"VLOOKUP($C97, 'Nanodrop Data Raw'!$C:$L, 4, FALSE)","v":{"$error":"#N/A"}},null,null,null,null,{"$f":"'Sample Information'!$H$6","v":0},{"$f":"'Sample Information'!$H$5","v":0},null,null,{"$f":"'Sample Information'!$H$7","v":0},null,{"$error":"#N/A"}]
[{"$f":"'Sample Information'!A98","v":97},{"$f":"'Sample Information'!B98","v":0},"0-DNA",{"$f":"'Sample Information'!D98","v":0},{"$f":"IF(VLOOKUP($C98, 'Nanodrop Data Raw'!$C:$L, 10, FALSE)<>\"\", VLOOKUP($C98, 'Nanodrop Data Raw'!$C:$L, 10, FALSE), VLOOKUP($C98, 'Nanodrop Data Raw'!$C:$L, 2, FALSE))","v":{"$error":"#N/A"}},null,null,{"$error":"#N/A"},{"$f":"VLOOKUP($C98, 'Nanodrop Data Raw'!$C:$L, 3, FALSE)","v":{"$error":"#N/A"}},{"$f":"VLOOKUP($C98, 'Nanodrop Data Raw'!$C:$L, 4, FALSE)","v":{"$error":"#N/A"}},null,null,null,null,{"$f":"'Sample Information'!$H$6","v":0},{"$f":"'Sample Information'!$H$5","v":0},null,null,{"$f":"'Sample Information'!$H$7","v":0},null,{"$error":"#N/A"}]
[{"$f":"'Sample Information'!A99","v":98},{"$f":"'Sample Information'!B99","v":0},"0-DNA",{"$f":"'Sample Information'!D99","v":0},{"$f":"IF(VLOOKUP($C99, 'Nanodrop Data Raw'!$C:$L, 10, FALSE)<>\"\", VLOOKUP($C99, 'Nanodrop Data Raw'!$C:$L, 10, FALSE), VLOOKUP($C99, 'Nanodrop Data Raw'!$C:$L, 2, FALSE))","v":{"$error":"#N/A"}},null,null,{"$error":"#N/A"},{"$f":"VLOOKUP($C99, 'Nanodrop Data Raw'!$C:$L, 3, FALSE)","v":{"$error":"#N/A"}},{"$f":"VLOOKUP($C99, 'Nanodrop Data Raw'!$C:$L, 4, FALSE)","v":{"$error":"#N/A"}},null,null,null,null,{"$f":"'Sample Information'!$H$6","v":0},{"$f":"'Sample Information'!$H$5","v":0},null,null,{"$f":"'Sample Information'!$H$7","v":0},null,{"$error":"#N/A"}]
[{"$f":"'Sample Information'!A100","v":99},{"$f":"'Sample Information'!B100","v":0},"0-DNA",{"$f":"'Sample Information'!D100","v":0},{"$f":"IF(VLOOKUP($C100, 'Nanodrop Data Raw'!$C:$L, 10, FALSE)<>\"\", VLOOKUP($C100, 'Nanodrop Data Raw'!$C:$L, 10, FALSE), VLOOKUP($C100, 'Nanodrop Data Raw'!$C:$L, 2, FALSE))","v":{"$error":"#N/A"}},null,null,{"$error":"#N/A"},{"$f":"VLOOKUP($C100, 'Nanodrop Data Raw'!$C:$L, 3, FALSE)","v":{"$error":"#N/A"}},{"$f":"VLOOKUP($C100, 'Nanodrop Data Raw'!$C:$L, 4, FALSE)","v":{"$error":"#N/A"}},null,null,null,null,{"$f":"'Sample Information'!$H$6","v":0},{"$f":"'Sample Information'!$H$5","v":0},null,null,{"$f":"'Sample Information'!$H$7","v":0},null,{"$error":"#N/A"}]
[{"$f":"'Sample Information'!A101","v":100},{"$f":"'Sample Information'!B101","v":0},"0-DNA",{"$f":"'Sample Information'!D101","v":0},{"$f":"IF(VLOOKUP($C101, 'Nanodrop Data Raw'!$C:$L, 10, FALSE)<>\"\", VLOOKUP($C101, 'Nanodrop Data Raw'!$C:$L, 10, FALSE), VLOOKUP($C101, 'Nanodrop Data Raw'!$C:$L, 2, FALSE))","v":{"$error":"#N/A"}},null,null,{"$error":"#N/A"},{"$f":"VLOOKUP($C101, 'Nanodrop Data Raw'!$C:$L, 3, FALSE)","v":{"$error":"#N/A"}},{"$f":"VLOOKUP($C101, 'Nanodrop Data Raw'!$C:$L, 4, FALSE)","v":{"$error":"#N/A"}},null,null,null,null,{"$f":"'Sample Information'!$H$6","v":0},{"$f":"'Sample Information'!$H$5","v":0},null,null,{"$f":"'Sample Information'!$H$7","v":0},null,{"$error":"#N/A"}]
[{"$f":"'Sample Information'!A102","v":101},{"$f":"'Sample Information'!B102","v":0},"0-DNA",{"$f":"'Sample Information'!D102","v":0},{"$f":"IF(VLOOKUP($C102, 'Nanodrop Data Raw'!$C:$L, 10, FALSE)<>\"\", VLOOKUP($C102, 'Nanodrop Data Raw'!$C:$L, 10, FALSE), VLOOKUP($C102, 'Nanodrop Data Raw'!$C:$L, 2, FALSE))","v":{"$error":"#N/A"}},null,null,{"$error":"#N/A"},{"$f":"VLOOKUP($C102, 'Nanodrop Data Raw'!$C:$L, 3, FALSE)","v":{"$error":"#N/A"}},{"$f":"VLOOKUP($C102, 'Nanodrop Data Raw'!$C:$L, 4, FALSE)","v":{"$error":"#N/A"}},null,null,null,null,{"$f":"'Sample Information'!$H$6","v":0},{"$f":"'Sample Information'!$H$5","v":0},null,null,{"$f":"'Sample Information'!$H$7","v":0},null,{"$error":"#N/A"}]
[{"$f":"'Sample Information'!A103","v":102},{"$f":"'Sample Information'!B103","v":0},"0-DNA",{"$f":"'Sample Information'!D103","v":0},{"$f":"IF(VLOOKUP($C103, 'Nanodrop Data Raw'!$C:$L, 10, FALSE)<>\"\", VLOOKUP($C103, 'Nanodrop Data Raw'!$C:$L, 10, FALSE), VLOOKUP($C103, 'Nanodrop Data Raw'!$C:$L, 2, FALSE))","v":{"$error":"#N/A"}},null,null,{"$error":"#N/A"},{"$f":"VLOOKUP($C103, 'Nanodrop Data Raw'!$C:$L, 3, FALSE)","v":{"$error":"#N/A"}},{"$f":"VLOOKUP($C103, 'Nanodrop Data Raw'!$C:$L, 4, FALSE)","v":{"$error":"#N/A"}},null,null,null,null,{"$f":"'Sample Information'!$H$6","v":0},{"$f":"'Sample Information'!$H$5","v":0},null,null,{"$f":"'Sample Information'!$H$7","v":0},null,{"$error":"#N/A"}]
[{"$f":"'Sample Information'!A104","v":103},{"$f":"'Sample Information'!B104","v":0},"0-DNA",{"$f":"'Sample Information'!D104","v":0},{"$f":"IF(VLOOKUP($C104, 'Nanodrop Data Raw'!$C:$L, 10, FALSE)<>\"\", VLOOKUP($C104, 'Nanodrop Data Raw'!$C:$L, 10, FALSE), VLOOKUP($C104, 'Nanodrop Data Raw'!$C:$L, 2, FALSE))","v":{"$error":"#N/A"}},null,null,{"$error":"#N/A"},{"$f":"VLOOKUP($C104, 'Nanodrop Data Raw'!$C:$L, 3, FALSE)","v":{"$error":"#N/A"}},{"$f":"VLOOKUP($C104, 'Nanodrop Data Raw'!$C:$L, 4, FALSE)","v":{"$error":"#N/A"}},null,null,null,null,{"$f":"'Sample Information'!$H$6","v":0},{"$f":"'Sample Information'!$H$5","v":0},null,null,{"$f":"'Sample Information'!$H$7","v":0},null,{"$error":"#N/A"}]
[{"$f":"'Sample Information'!A105","v":104},{"$f":"'Sample Information'!B105","v":0},"0-DNA",{"$f":"'Sample Information'!D105","v":0},{"$f":"IF(VLOOKUP($C105, 'Nanodrop Data Raw'!$C:$L, 10, FALSE)<>\"\", VLOOKUP($C105, 'Nanodrop Data Raw'!$C:$L, 10, FALSE), VLOOKUP($C105, 'Nanodrop Data Raw'!$C:$L, 2, FALSE))","v":{"$error":"#N/A"}},null,null,{"$error":"#N/A"},{"$f":"VLOOKUP($C105, 'Nanodrop Data Raw'!$C:$L, 3, FALSE)","v":{"$error":"#N/A"}},{"$f":"VLOOKUP($C105, 'Nanodrop Data Raw'!$C:$L, 4, FALSE)","v":{"$error":"#N/A"}},null,null,null,null,{"$f":"'Sample Information'!$H$6","v":0},{"$f":"'Sample Information'!$H$5","v":0},null,null,{"$f":"'Sample Information'!$H$7","v":0},null,{"$error":"#N/A"}]
[{"$f":"'Sample Information'!A106","v":105},{"$f":"'Sample Information'!B106","v":0},"0-DNA",{"$f":"'Sample Information'!D106","v":0},{"$f":"IF(VLOOKUP($C106, 'Nanodrop Data Raw'!$C:$L, 10, FALSE)<>\"\", VLOOKUP($C106, 'Nanodrop Data Raw'!$C:$L, 10, FALSE), VLOOKUP($C106, 'Nanodrop Data Raw'!$C:$L, 2, FALSE))","v":{"$error":"#N/A"}},null,null,{"$error":"#N/A"},{"$f":"VLOOKUP($C106, 'Nanodrop Data Raw'!$C:$L, 3, FALSE)","v":{"$error":"#N/A"}},{"$f":"VLOOKUP($C106, 'Nanodrop Data Raw'!$C:$L, 4, FALSE)","v":{"$error":"#N/A"}},null,null,null,null,{"$f":"'Sample Information'!$H$6","v":0},{"$f":"'Sample Information'!$H$5","v":0},null,null,{"$f":"'Sample Information'!$H$7","v":0},null,{"$error":"#N/A"}]
[{"$f":"'Sample Information'!A107","v":106},{"$f":"'Sample Information'!B107","v":0},"0-DNA",{"$f":"'Sample Information'!D107","v":0},{"$f":"IF(VLOOKUP($C107, 'Nanodrop Data Raw'!$C:$L, 10, FALSE)<>\"\", VLOOKUP($C107, 'Nanodrop Data Raw'!$C:$L, 10, FALSE), VLOOKUP($C107, 'Nanodrop Data Raw'!$C:$L, 2, FALSE))","v":{"$error":"#N/A"}},null,null,{"$error":"#N/A"},{"$f":"VLOOKUP($C107, 'Nanodrop Data Raw'!$C:$L, 3, FALSE)","v":{"$error":"#N/A"}},{"$f":"VLOOKUP($C107, 'Nanodrop Data Raw'!$C:$L, 4, FALSE)","v":{"$error":"#N/A"}},null,null,null,null,{"$f":"'Sample Information'!$H$6","v":0},{"$f":"'Sample Information'!$H$5","v":0},null,null,{"$f":"'Sample Information'!$H$7","v":0},null,{"$error":"#N/A"}]
[{"$f":"'Sample Information'!A108","v":107},{"$f":"'Sample Information'!B108","v":0},"0-DNA",{"$f":"'Sample Information'!D108","v":0},{"$f":"IF(VLOOKUP($C108, 'Nanodrop Data Raw'!$C:$L, 10, FALSE)<>\"\", VLOOKUP($C108, 'Nanodrop Data Raw'!$C:$L, 10, FALSE), VLOOKUP($C108, 'Nanodrop Data Raw'!$C:$L, 2, FALSE))","v":{"$error":"#N/A"}},null,null,{"$error":"#N/A"},{"$f":"VLOOKUP($C108, 'Nanodrop Data Raw'!$C:$L, 3, FALSE)","v":{"$error":"#N/A"}},{"$f":"VLOOKUP($C108, 'Nanodrop Data Raw'!$C:$L, 4, FALSE)","v":{"$error":"#N/A"}},null,null,null,null,{"$f":"'Sample Information'!$H$6","v":0},{"$f":"'Sample Information'!$H$5","v":0},null,null,{"$f":"'Sample Information'!$H$7","v":0},null,{"$error":"#N/A"}]
[{"$f":"'Sample Information'!A109","v":108},{"$f":"'Sample Information'!B109","v":0},"0-DNA",{"$f":"'Sample Information'!D109","v":0},{"$f":"IF(VLOOKUP($C109, 'Nanodrop Data Raw'!$C:$L, 10, FALSE)<>\"\", VLOOKUP($C109, 'Nanodrop Data Raw'!$C:$L, 10, FALSE), VLOOKUP($C109, 'Nanodrop Data Raw'!$C:$L, 2, FALSE))","v":{"$error":"#N/A"}},null,null,{"$error":"#N/A"},{"$f":"VLOOKUP($C109, 'Nanodrop Data Raw'!$C:$L, 3, FALSE)","v":{"$error":"#N/A"}},{"$f":"VLOOKUP($C109, 'Nanodrop Data Raw'!$C:$L, 4, FALSE)","v":{"$error":"#N/A"}},null,null,null,null,{"$f":"'Sample Information'!$H$6","v":0},{"$f":"'Sample Information'!$H$5","v":0},null,null,{"$f":"'Sample Information'!$H$7","v":0},null,{"$error":"#N/A"}]
[{"$f":"'Sample Information'!A110","v":109},{"$f":"'Sample Information'!B110","v":0},"0-DNA",{"$f":"'Sample Information'!D110","v":0},{"$f":"IF(VLOOKUP($C110, 'Nanodrop Data Raw'!$C:$L, 10, FALSE)<>\"\", VLOOKUP($C110, 'Nanodrop Data Raw'!$C:$L, 10, FALSE), VLOOKUP($C110, 'Nanodrop Data Raw'!$C:$L, 2, FALSE))","v":{"$error":"#N/A"}},null,null,{"$error":"#N/A"},{"$f":"VLOOKUP($C110, 'Nanodrop Data Raw'!$C:$L, 3, FALSE)","v":{"$error":"#N/A"}},{"$f":"VLOOKUP($C110, 'Nanodrop Data Raw'!$C:$L, 4, FALSE)","v":{"$error":"#N/A"}},null,null,null,null,{"$f":"'Sample Information'!$H$6","v":0},{"$f":"'Sample Information'!$H$5","v":0},null,null,{"$f":"'Sample Information'!$H$7","v":0},null,{"$error":"#N/A"}]
[{"$f":"'Sample Information'!A111","v":110},{"$f":"'Sample Information'!B111","v":0},"0-DNA",{"$f":"'Sample Information'!D111","v":0},{"$f":"IF(VLOOKUP($C111, 'Nanodrop Data Raw'!$C:$L, 10, FALSE)<>\"\", VLOOKUP($C111, 'Nanodrop Data Raw'!$C:$L, 10, FALSE), VLOOKUP($C111, 'Nanodrop Data Raw'!$C:$L, 2, FALSE))","v":{"$error":"#N/A"}},null,null,{"$error":"#N/A"},{"$f":"VLOOKUP($C111, 'Nanodrop Data Raw'!$C:$L, 3, FALSE)","v":{"$error":"#N/A"}},{"$f":"VLOOKUP($C111, 'Nanodrop Data Raw'!$C:$L, 4, FALSE)","v":{"$error":"#N/A"}},null,null,null,null,{"$f":"'Sample Information'!$H$6","v":0},{"$f":"'Sample Information'!$H$5","v":0},null,null,{"$f":"'Sample Information'!$H$7","v":0},null,{"$error":"#N/A"}]
[{"$f":"'Sample Information'!A112","v":111},{"$f":"'Sample Information'!B112","v":0},"0-DNA",{"$f":"'Sample Information'!D112","v":0},{"$f":"IF(VLOOKUP($C112, 'Nanodrop Data Raw'!$C:$L, 10, FALSE)<>\"\", VLOOKUP($C112, 'Nanodrop Data Raw'!$C:$L, 10, FALSE), VLOOKUP($C112, 'Nanodrop Data Raw'!$C:$L, 2, FALSE))","v":{"$error":"#N/A"}},null,null,{"$error":"#N/A"},{"$f":"VLOOKUP($C112, 'Nanodrop Data Raw'!$C:$L, 3, FALSE)","v":{"$error":"#N/A"}},{"$f":"VLOOKUP($C112, 'Nanodrop Data Raw'!$C:$L, 4, FALSE)","v":{"$error":"#N/A"}},null,null,null,null,{"$f":"'Sample Information'!$H$6","v":0},{"$f":"'Sample Information'!$H$5","v":0},null,null,{"$f":"'Sample Information'!$H$7","v":0},null,{"$error":"#N/A"}]
[{"$f":"'Sample Information'!A113","v":112},{"$f":"'Sample Information'!B113","v":0},"0-DNA",{"$f":"'Sample Information'!D113","v":0},{"$f":"IF(VLOOKUP($C113, 'Nanodrop Data Raw'!$C:$L, 10, FALSE)<>\"\", VLOOKUP($C113, 'Nanodrop Data Raw'!$C:$L, 10, FALSE), VLOOKUP($C113, 'Nanodrop Data Raw'!$C:$L, 2, FALSE))","v":{"$error":"#N/A"}},null,null,{"$error":"#N/A"},{"$f":"VLOOKUP($C113, 'Nanodrop Data Raw'!$C:$L, 3, FALSE)","v":{"$error":"#N/A"}},{"$f":"VLOOKUP($C113, 'Nanodrop Data Raw'!$C:$L, 4, FALSE)","v":{"$error":"#N/A"}},null,null,null,null,{"$f":"'Sample Information'!$H$6","v":0},{"$f":"'Sample Information'!$H$5","v":0},null,null,{"$f":"'Sample Information'!$H$7","v":0},null,{"$error":"#N/A"}]
[{"$f":"'Sample Information'!A114","v":113},{"$f":"'Sample Information'!B114","v":0},"0-DNA",{"$f":"'Sample Information'!D114","v":0},{"$f":"IF(VLOOKUP($C114, 'Nanodrop Data Raw'!$C:$L, 10, FALSE)<>\"\", VLOOKUP($C114, 'Nanodrop Data Raw'!$C:$L, 10, FALSE), VLOOKUP($C114, 'Nanodrop Data Raw'!$C:$L, 2, FALSE))","v":{"$error":"#N/A"}},null,null,{"$error":"#N/A"},{"$f":"VLOOKUP($C114, 'Nanodrop Data Raw'!$C:$L, 3, FALSE)","v":{"$error":"#N/A"}},{"$f":"VLOOKUP($C114, 'Nanodrop Data Raw'!$C:$L, 4, FALSE)","v":{"$error":"#N/A"}},null,null,null,null,{"$f":"'Sample Information'!$H$6","v":0},{"$f":"'Sample Information'!$H$5","v":0},null,null,{"$f":"'Sample Information'!$H$7","v":0},null,{"$error":"#N/A"}]
[{"$f":"'Sample Information'!A115","v":114},{"$f":"'Sample Information'!B115","v":0},"0-DNA",{"$f":"'Sample Information'!D115","v":0},{"$f":"IF(VLOOKUP($C115, 'Nanodrop Data Raw'!$C:$L, 10, FALSE)<>\"\", VLOOKUP($C115, 'Nanodrop Data Raw'!$C:$L, 10, FALSE), VLOOKUP($C115, 'Nanodrop Data Raw'!$C:$L, 2, FALSE))","v":{"$error":"#N/A"}},null,null,{"$error":"#N/A"},{"$f":"VLOOKUP($C115, 'Nanodrop Data Raw'!$C:$L, 3, FALSE)","v":{"$error":"#N/A"}},{"$f":"VLOOKUP($C115, 'Nanodrop Data Raw'!$C:$L, 4, FALSE)","v":{"$error":"#N/A"}},null,null,null,null,{"$f":"'Sample Information'!$H$6","v":0},{"$f":"'Sample Information'!$H$5","v":0},null,null,{"$f":"'Sample Information'!$H$7","v":0},null,{"$error":"#N/A"}]
[{"$f":"'Sample Information'!A116","v":115},{"$f":"'Sample Information'!B116","v":0},"0-DNA",{"$f":"'Sample Information'!D116","v":0},{"$f":"IF(VLOOKUP($C116, 'Nanodrop Data Raw'!$C:$L, 10, FALSE)<>\"\", VLOOKUP($C116, 'Nanodrop Data Raw'!$C:$L, 10, FALSE), VLOOKUP($C116, 'Nanodrop Data Raw'!$C:$L, 2, FALSE))","v":{"$error":"#N/A"}},null,null,{"$error":"#N/A"},{"$f":"VLOOKUP($C116, 'Nanodrop Data Raw'!$C:$L, 3, FALSE)","v":{"$error":"#N/A"}},{"$f":"VLOOKUP($C116, 'Nanodrop Data Raw'!$C:$L, 4, FALSE)","v":{"$error":"#N/A"}},null,null,null,null,{"$f":"'Sample Information'!$H$6","v":0},{"$f":"'Sample Information'!$H$5","v":0},null,null,{"$f":"'Sample Information'!$H$7","v":0},null,{"$error":"#N/A"}]
[{"$f":"'Sample Information'!A117","v":116},{"$f":"'Sample Information'!B117","v":0},"0-DNA",{"$f":"'Sample Information'!D117","v":0},{"$f":"IF(VLOOKUP($C117, 'Nanodrop Data Raw'!$C:$L, 10, FALSE)<>\"\", VLOOKUP($C117, 'Nanodrop Data Raw'!$C:$L, 10, FALSE), VLOOKUP($C117, 'Nanodrop Data Raw'!$C:$L, 2, FALSE))","v":{"$error":"#N/A"}},null,null,{"$error":"#N/A"},{"$f":"VLOOKUP($C117, 'Nanodrop Data Raw'!$C:$L, 3, FALSE)","v":{"$error":"#N/A"}},{"$f":"VLOOKUP($C117, 'Nanodrop Data Raw'!$C:$L, 4, FALSE)","v":{"$error":"#N/A"}},null,null,null,null,{"$f":"'Sample Information'!$H$6","v":0},{"$f":"'Sample Information'!$H$5","v":0},null,null,{"$f":"'Sample Information'!$H$7","v":0},null,{"$error":"#N/A"}]
[{"$f":"'Sample Information'!A118","v":117},{"$f":"'Sample Information'!B118","v":0},"0-DNA",{"$f":"'Sample Information'!D118","v":0},{"$f":"IF(VLOOKUP($C118, 'Nanodrop Data Raw'!$C:$L, 10, FALSE)<>\"\", VLOOKUP($C118, 'Nanodrop Data Raw'!$C:$L, 10, FALSE), VLOOKUP($C118, 'Nanodrop Data Raw'!$C:$L, 2, FALSE))","v":{"$error":"#N/A"}},null,null,{"$error":"#N/A"},{"$f":"VLOOKUP($C118, 'Nanodrop Data Raw'!$C:$L, 3, FALSE)","v":{"$error":"#N/A"}},{"$f":"VLOOKUP($C118, 'Nanodrop Data Raw'!$C:$L, 4, FALSE)","v":{"$error":"#N/A"}},null,null,null,null,{"$f":"'Sample Information'!$H$6","v":0},{"$f":"'Sample Information'!$H$5","v":0},null,null,{"$f":"'Sample Information'!$H$7","v":0},null,{"$error":"#N/A"}]
[{"$f":"'Sample Information'!A119","v":118},{"$f":"'Sample Information'!B119","v":0},"0-DNA",{"$f":"'Sample Information'!D119","v":0},{"$f":"IF(VLOOKUP($C119, 'Nanodrop Data Raw'!$C:$L, 10, FALSE)<>\"\", VLOOKUP($C119, 'Nanodrop Data Raw'!$C:$L, 10, FALSE), VLOOKUP($C119, 'Nanodrop Data Raw'!$C:$L, 2, FALSE))","v":{"$error":"#N/A"}},null,null,{"$error":"#N/A"},{"$f":"VLOOKUP($C119, 'Nanodrop Data Raw'!$C:$L, 3, FALSE)","v":{"$error":"#N/A"}},{"$f":"VLOOKUP($C119, 'Nanodrop Data Raw'!$C:$L, 4, FALSE)","v":{"$error":"#N/A"}},null,null,null,null,{"$f":"'Sample Information'!$H$6","v":0},{"$f":"'Sample Information'!$H$5","v":0},null,null,{"$f":"'Sample Information'!$H$7","v":0},null,{"$error":"#N/A"}]
[{"$f":"'Sample Information'!A120","v":119},{"$f":"'Sample Information'!B120","v":0},"0-DNA",{"$f":"'Sample Information'!D120","v":0},{"$f":"IF(VLOOKUP($C120, 'Nanodrop Data Raw'!$C:$L, 10, FALSE)<>\"\", VLOOKUP($C120, 'Nanodrop Data Raw'!$C:$L, 10, FALSE), VLOOKUP($C120, 'Nanodrop Data Raw'!$C:$L, 2, FALSE))","v":{"$error":"#N/A"}},null,null,{"$error":"#N/A"},{"$f":"VLOOKUP($C120, 'Nanodrop Data Raw'!$C:$L, 3, FALSE)","v":{"$error":"#N/A"}},{"$f":"VLOOKUP($C120, 'Nanodrop Data Raw'!$C:$L, 4, FALSE)","v":{"$error":"#N/A"}},null,null,null,null,{"$f":"'Sample Information'!$H$6","v":0},{"$f":"'Sample Information'!$H$5","v":0},null,null,{"$f":"'Sample Information'!$H$7","v":0},null,{"$error":"#N/A"}]
[{"$f":"'Sample Information'!A121","v":120},{"$f":"'Sample Information'!B121","v":0},"0-DNA",{"$f":"'Sample Information'!D121","v":0},{"$f":"IF(VLOOKUP($C121, 'Nanodrop Data Raw'!$C:$L, 10, FALSE)<>\"\", VLOOKUP($C121, 'Nanodrop Data Raw'!$C:$L, 10, FALSE), VLOOKUP($C121, 'Nanodrop Data Raw'!$C:$L, 2, FALSE))","v":{"$error":"#N/A"}},null,null,{"$error":"#N/A"},{"$f":"VLOOKUP($C121, 'Nanodrop Data Raw'!$C:$L, 3, FALSE)","v":{"$error":"#N/A"}},{"$f":"VLOOKUP($C121, 'Nanodrop Data Raw'!$C:$L, 4, FALSE)","v":{"$error":"#N/A"}},null,null,null,null,{"$f":"'Sample Information'!$H$6","v":0},{"$f":"'Sample Information'!$H$5","v":0},null,null,{"$f":"'Sample Information'!$H$7","v":0},null,{"$error":"#N/A"}]
[{"$f":"'Sample Information'!A122","v":121},{"$f":"'Sample Information'!B122","v":0},"0-DNA",{"$f":"'Sample Information'!D122","v":0},{"$f":"IF(VLOOKUP($C122, 'Nanodrop Data Raw'!$C:$L, 10, FALSE)<>\"\", VLOOKUP($C122, 'Nanodrop Data Raw'!$C:$L, 10, FALSE), VLOOKUP($C122, 'Nanodrop Data Raw'!$C:$L, 2, FALSE))","v":{"$error":"#N/A"}},null,null,{"$error":"#N/A"},{"$f":"VLOOKUP($C122, 'Nanodrop Data Raw'!$C:$L, 3, FALSE)","v":{"$error":"#N/A"}},{"$f":"VLOOKUP($C122, 'Nanodrop Data Raw'!$C:$L, 4, FALSE)","v":{"$error":"#N/A"}},null,null,null,null,{"$f":"'Sample Information'!$H$6","v":0},{"$f":"'Sample Information'!$H$5","v":0},null,null,{"$f":"'Sample Information'!$H$7","v":0},null,{"$error":"#N/A"}]
[{"$f":"'Sample Information'!A123","v":122},{"$f":"'Sample Information'!B123","v":0},"0-DNA",{"$f":"'Sample Information'!D123","v":0},{"$f":"IF(VLOOKUP($C123, 'Nanodrop Data Raw'!$C:$L, 10, FALSE)<>\"\", VLOOKUP($C123, 'Nanodrop Data Raw'!$C:$L, 10, FALSE), VLOOKUP($C123, 'Nanodrop Data Raw'!$C:$L, 2, FALSE))","v":{"$error":"#N/A"}},null,null,{"$error":"#N/A"},{"$f":"VLOOKUP($C123, 'Nanodrop Data Raw'!$C:$L, 3, FALSE)","v":{"$error":"#N/A"}},{"$f":"VLOOKUP($C123, 'Nanodrop Data Raw'!$C:$L, 4, FALSE)","v":{"$error":"#N/A"}},null,null,null,null,{"$f":"'Sample Information'!$H$6","v":0},{"$f":"'Sample Information'!$H$5","v":0},null,null,{"$f":"'Sample Information'!$H$7","v":0},null,{"$error":"#N/A"}]
[{"$f":"'Sample Information'!A124","v":123},{"$f":"'Sample Information'!B124","v":0},"0-DNA",{"$f":"'Sample Information'!D124","v":0},{"$f":"IF(VLOOKUP($C124, 'Nanodrop Data Raw'!$C:$L, 10, FALSE)<>\"\", VLOOKUP($C124, 'Nanodrop Data Raw'!$C:$L, 10, FALSE), VLOOKUP($C124, 'Nanodrop Data Raw'!$C:$L, 2, FALSE))","v":{"$error":"#N/A"}},null,null,{"$error":"#N/A"},{"$f":"VLOOKUP($C124, 'Nanodrop Data Raw'!$C:$L, 3, FALSE)","v":{"$error":"#N/A"}},{"$f":"VLOOKUP($C124, 'Nanodrop Data Raw'!$C:$L, 4, FALSE)","v":{"$error":"#N/A"}},null,null,null,null,{"$f":"'Sample Information'!$H$6","v":0},{"$f":"'Sample Information'!$H$5","v":0},null,null,{"$f":"'Sample Information'!$H$7","v":0},null,{"$error":"#N/A"}]
[{"$f":"'Sample Information'!A125","v":124},{"$f":"'Sample Information'!B125","v":0},"0-DNA",{"$f":"'Sample Information'!D125","v":0},{"$f":"IF(VLOOKUP($C125, 'Nanodrop Data Raw'!$C:$L, 10, FALSE)<>\"\", VLOOKUP($C125, 'Nanodrop Data Raw'!$C:$L, 10, FALSE), VLOOKUP($C125, 'Nanodrop Data Raw'!$C:$L, 2, FALSE))","v":{"$error":"#N/A"}},null,null,{"$error":"#N/A"},{"$f":"VLOOKUP($C125, 'Nanodrop Data Raw'!$C:$L, 3, FALSE)","v":{"$error":"#N/A"}},{"$f":"VLOOKUP($C125, 'Nanodrop Data Raw'!$C:$L, 4, FALSE)","v":{"$error":"#N/A"}},null,null,null,null,{"$f":"'Sample Information'!$H$6","v":0},{"$f":"'Sample Information'!$H$5","v":0},null,null,{"$f":"'Sample Information'!$H$7","v":0},null,{"$error":"#N/A"}]
[{"$f":"'Sample Information'!A126","v":125},{"$f":"'Sample Information'!B126","v":0},"0-DNA",{"$f":"'Sample Information'!D126","v":0},{"$f":"IF(VLOOKUP($C126, 'Nanodrop Data Raw'!$C:$L, 10, FALSE)<>\"\", VLOOKUP($C126, 'Nanodrop Data Raw'!$C:$L, 10, FALSE), VLOOKUP($C126, 'Nanodrop Data Raw'!$C:$L, 2, FALSE))","v":{"$error":"#N/A"}},null,null,{"$error":"#N/A"},{"$f":"VLOOKUP($C126, 'Nanodrop Data Raw'!$C:$L, 3, FALSE)","v":{"$error":"#N/A"}},{"$f":"VLOOKUP($C126, 'Nanodrop Data Raw'!$C:$L, 4, FALSE)","v":{"$error":"#N/A"}},null,null,null,null,{"$f":"'Sample Information'!$H$6","v":0},{"$f":"'Sample Information'!$H$5","v":0},null,null,{"$f":"'Sample Information'!$H$7","v":0},null,{"$error":"#N/A"}]
[{"$f":"'Sample Information'!A127","v":126},{"$f":"'Sample Information'!B127","v":0},"0-DNA",{"$f":"'Sample Information'!D127","v":0},{"$f":"IF(VLOOKUP($C127, 'Nanodrop Data Raw'!$C:$L, 10, FALSE)<>\"\", VLOOKUP($C127, 'Nanodrop Data Raw'!$C:$L, 10, FALSE), VLOOKUP($C127, 'Nanodrop Data Raw'!$C:$L, 2, FALSE))","v":{"$error":"#N/A"}},null,null,{"$error":"#N/A"},{"$f":"VLOOKUP($C127, 'Nanodrop Data Raw'!$C:$L, 3, FALSE)","v":{"$error":"#N/A"}},{"$f":"VLOOKUP($C127, 'Nanodrop Data Raw'!$C:$L, 4, FALSE)","v":{"$error":"#N/A"}},null,null,null,null,{"$f":"'Sample Information'!$H$6","v":0},{"$f":"'Sample Information'!$H$5","v":0},null,null,{"$f":"'Sample Information'!$H$7","v":0},null,{"$error":"#N/A"}]
[{"$f":"'Sample Information'!A128","v":127},{"$f":"'Sample Information'!B128","v":0},"0-DNA",{"$f":"'Sample Information'!D128","v":0},{"$f":"IF(VLOOKUP($C128, 'Nanodrop Data Raw'!$C:$L, 10, FALSE)<>\"\", VLOOKUP($C128, 'Nanodrop Data Raw'!$C:$L, 10, FALSE), VLOOKUP($C128, 'Nanodrop Data Raw'!$C:$L, 2, FALSE))","v":{"$error":"#N/A"}},null,null,{"$error":"#N/A"},{"$f":"VLOOKUP($C128, 'Nanodrop Data Raw'!$C:$L, 3, FALSE)","v":{"$error":"#N/A"}},{"$f":"VLOOKUP($C128, 'Nanodrop Data Raw'!$C:$L, 4, FALSE)","v":{"$error":"#N/A"}},null,null,null,null,{"$f":"'Sample Information'!$H$6","v":0},{"$f":"'Sample Information'!$H$5","v":0},null,null,{"$f":"'Sample Information'!$H$7","v":0},null,{"$error":"#N/A"}]
[{"$f":"'Sample Information'!A129","v":128},{"$f":"'Sample Information'!B129","v":0},"0-DNA",{"$f":"'Sample Information'!D129","v":0},{"$f":"IF(VLOOKUP($C129, 'Nanodrop Data Raw'!$C:$L, 10, FALSE)<>\"\", VLOOKUP($C129, 'Nanodrop Data Raw'!$C:$L, 10, FALSE), VLOOKUP($C129, 'Nanodrop Data Raw'!$C:$L, 2, FALSE))","v":{"$error":"#N/A"}},null,null,{"$error":"#N/A"},{"$f":"VLOOKUP($C129, 'Nanodrop Data Raw'!$C:$L, 3, FALSE)","v":{"$error":"#N/A"}},{"$f":"VLOOKUP($C129, 'Nanodrop Data Raw'!$C:$L, 4, FALSE)","v":{"$error":"#N/A"}},null,null,null,null,{"$f":"'Sample Information'!$H$6","v":0},{"$f":"'Sample Information'!$H$5","v":0},null,null,{"$f":"'Sample Information'!$H$7","v":0},null,{"$error":"#N/A"}]
[{"$f":"'Sample Information'!A130","v":129},{"$f":"'Sample Information'!B130","v":0},"0-DNA",{"$f":"'Sample Information'!D130","v":0},{"$f":"IF(VLOOKUP($C130, 'Nanodrop Data Raw'!$C:$L, 10, FALSE)<>\"\", VLOOKUP($C130, 'Nanodrop Data Raw'!$C:$L, 10, FALSE), VLOOKUP($C130, 'Nanodrop Data Raw'!$C:$L, 2, FALSE))","v":{"$error":"#N/A"}},null,null,{"$error":"#N/A"},{"$f":"VLOOKUP($C130, 'Nanodrop Data Raw'!$C:$L, 3, FALSE)","v":{"$error":"#N/A"}},{"$f":"VLOOKUP($C130, 'Nanodrop Data Raw'!$C:$L, 4, FALSE)","v":{"$error":"#N/A"}},null,null,null,null,{"$f":"'Sample Information'!$H$6","v":0},{"$f":"'Sample Information'!$H$5","v":0},null,null,{"$f":"'Sample Information'!$H$7","v":0},null,{"$error":"#N/A"}]
[{"$f":"'Sample Information'!A131","v":130},{"$f":"'Sample Information'!B131","v":0},{"$f":"CONCATENATE(B131,\"-DNA\")","v":"0-DNA"},{"$f":"'Sample Information'!D131","v":0},{"$f":"IF(VLOOKUP($C131, 'Nanodrop Data Raw'!$C:$L, 10, FALSE)<>\"\", VLOOKUP($C131, 'Nanodrop Data Raw'!$C:$L, 10, FALSE), VLOOKUP($C131, 'Nanodrop Data Raw'!$C:$L, 2, FALSE))","v":{"$error":"#N/A"}},null,null,{"$f":"E131*F131/1000","v":{"$error":"#N/A"}},{"$f":"VLOOKUP($C131, 'Nanodrop Data Raw'!$C:$L, 3, FALSE)","v":{"$error":"#N/A"}},{"$f":"VLOOKUP($C131, 'Nanodrop Data Raw'!$C:$L, 4, FALSE)","v":{"$error":"#N/A"}},null,null,null,null,{"$f":"'Sample Information'!$H$6","v":0},{"$f":"'Sample Information'!$H$5","v":0},null,null,{"$f":"'Sample Information'!$H$7","v":0},null,{"$f":"$N131/$E131","v":{"$error":"#N/A"}}]
[{"$f":"'Sample Information'!A132","v":131},{"$f":"'Sample Information'!B132","v":0},"0-DNA",{"$f":"'Sample Information'!D132","v":0},{"$f":"IF(VLOOKUP($C132, 'Nanodrop Data Raw'!$C:$L, 10, FALSE)<>\"\", VLOOKUP($C132, 'Nanodrop Data Raw'!$C:$L, 10, FALSE), VLOOKUP($C132, 'Nanodrop Data Raw'!$C:$L, 2, FALSE))","v":{"$error":"#N/A"}},null,null,{"$error":"#N/A"},{"$f":"VLOOKUP($C132, 'Nanodrop Data Raw'!$C:$L, 3, FALSE)","v":{"$error":"#N/A"}},{"$f":"VLOOKUP($C132, 'Nanodrop Data Raw'!$C:$L, 4, FALSE)","v":{"$error":"#N/A"}},null,null,null,null,{"$f":"'Sample Information'!$H$6","v":0},{"$f":"'Sample Information'!$H$5","v":0},null,null,{"$f":"'Sample Information'!$H$7","v":0},null,{"$error":"#N/A"}]
[{"$f":"'Sample Information'!A133","v":132},{"$f":"'Sample Information'!B133","v":0},"0-DNA",{"$f":"'Sample Information'!D133","v":0},{"$f":"IF(VLOOKUP($C133, 'Nanodrop Data Raw'!$C:$L, 10, FALSE)<>\"\", VLOOKUP($C133, 'Nanodrop Data Raw'!$C:$L, 10, FALSE), VLOOKUP($C133, 'Nanodrop Data Raw'!$C:$L, 2, FALSE))","v":{"$error":"#N/A"}},null,null,{"$error":"#N/A"},{"$f":"VLOOKUP($C133, 'Nanodrop Data Raw'!$C:$L, 3, FALSE)","v":{"$error":"#N/A"}},{"$f":"VLOOKUP($C133, 'Nanodrop Data Raw'!$C:$L, 4, FALSE)","v":{"$error":"#N/A"}},null,null,null,null,{"$f":"'Sample Information'!$H$6","v":0},{"$f":"'Sample Information'!$H$5","v":0},null,null,{"$f":"'Sample Information'!$H$7","v":0},null,{"$error":"#N/A"}]
[{"$f":"'Sample Information'!A134","v":133},{"$f":"'Sample Information'!B134","v":0},"0-DNA",{"$f":"'Sample Information'!D134","v":0},{"$f":"IF(VLOOKUP($C134, 'Nanodrop Data Raw'!$C:$L, 10, FALSE)<>\"\", VLOOKUP($C134, 'Nanodrop Data Raw'!$C:$L, 10, FALSE), VLOOKUP($C134, 'Nanodrop Data Raw'!$C:$L, 2, FALSE))","v":{"$error":"#N/A"}},null,null,{"$error":"#N/A"},{"$f":"VLOOKUP($C134, 'Nanodrop Data Raw'!$C:$L, 3, FALSE)","v":{"$error":"#N/A"}},{"$f":"VLOOKUP($C134, 'Nanodrop Data Raw'!$C:$L, 4, FALSE)","v":{"$error":"#N/A"}},null,null,null,null,{"$f":"'Sample Information'!$H$6","v":0},{"$f":"'Sample Information'!$H$5","v":0},null,null,{"$f":"'Sample Information'!$H$7","v":0},null,{"$error":"#N/A"}]
[{"$f":"'Sample Information'!A135","v":134},{"$f":"'Sample Information'!B135","v":0},"0-DNA",{"$f":"'Sample Information'!D135","v":0},{"$f":"IF(VLOOKUP($C135, 'Nanodrop Data Raw'!$C:$L, 10, FALSE)<>\"\", VLOOKUP($C135, 'Nanodrop Data Raw'!$C:$L, 10, FALSE), VLOOKUP($C135, 'Nanodrop Data Raw'!$C:$L, 2, FALSE))","v":{"$error":"#N/A"}},null,null,{"$error":"#N/A"},{"$f":"VLOOKUP($C135, 'Nanodrop Data Raw'!$C:$L, 3, FALSE)","v":{"$error":"#N/A"}},{"$f":"VLOOKUP($C135, 'Nanodrop Data Raw'!$C:$L, 4, FALSE)","v":{"$error":"#N/A"}},null,null,null,null,{"$f":"'Sample Information'!$H$6","v":0},{"$f":"'Sample Information'!$H$5","v":0},null,null,{"$f":"'Sample Information'!$H$7","v":0},null,{"$error":"#N/A"}]
[{"$f":"'Sample Information'!A136","v":135},{"$f":"'Sample Information'!B136","v":0},"0-DNA",{"$f":"'Sample Information'!D136","v":0},{"$f":"IF(VLOOKUP($C136, 'Nanodrop Data Raw'!$C:$L, 10, FALSE)<>\"\", VLOOKUP($C136, 'Nanodrop Data Raw'!$C:$L, 10, FALSE), VLOOKUP($C136, 'Nanodrop Data Raw'!$C:$L, 2, FALSE))","v":{"$error":"#N/A"}},null,null,{"$error":"#N/A"},{"$f":"VLOOKUP($C136, 'Nanodrop Data Raw'!$C:$L, 3, FALSE)","v":{"$error":"#N/A"}},{"$f":"VLOOKUP($C136, 'Nanodrop Data Raw'!$C:$L, 4, FALSE)","v":{"$error":"#N/A"}},null,null,null,null,{"$f":"'Sample Information'!$H$6","v":0},{"$f":"'Sample Information'!$H$5","v":0},null,null,{"$f":"'Sample Information'!$H$7","v":0},null,{"$error":"#N/A"}]
[{"$f":"'Sample Information'!A137","v":136},{"$f":"'Sample Information'!B137","v":0},"0-DNA",{"$f":"'Sample Information'!D137","v":0},{"$f":"IF(VLOOKUP($C137, 'Nanodrop Data Raw'!$C:$L, 10, FALSE)<>\"\", VLOOKUP($C137, 'Nanodrop Data Raw'!$C:$L, 10, FALSE), VLOOKUP($C137, 'Nanodrop Data Raw'!$C:$L, 2, FALSE))","v":{"$error":"#N/A"}},null,null,{"$error":"#N/A"},{"$f":"VLOOKUP($C137, 'Nanodrop Data Raw'!$C:$L, 3, FALSE)","v":{"$error":"#N/A"}},{"$f":"VLOOKUP($C137, 'Nanodrop Data Raw'!$C:$L, 4, FALSE)","v":{"$error":"#N/A"}},null,null,null,null,{"$f":"'Sample Information'!$H$6","v":0},{"$f":"'Sample Information'!$H$5","v":0},null,null,{"$f":"'Sample Information'!$H$7","v":0},null,{"$error":"#N/A"}]
[{"$f":"'Sample Information'!A138","v":137},{"$f":"'Sample Information'!B138","v":0},"0-DNA",{"$f":"'Sample Information'!D138","v":0},{"$f":"IF(VLOOKUP($C138, 'Nanodrop Data Raw'!$C:$L, 10, FALSE)<>\"\", VLOOKUP($C138, 'Nanodrop Data Raw'!$C:$L, 10, FALSE), VLOOKUP($C138, 'Nanodrop Data Raw'!$C:$L, 2, FALSE))","v":{"$error":"#N/A"}},null,null,{"$error":"#N/A"},{"$f":"VLOOKUP($C138, 'Nanodrop Data Raw'!$C:$L, 3, FALSE)","v":{"$error":"#N/A"}},{"$f":"VLOOKUP($C138, 'Nanodrop Data Raw'!$C:$L, 4, FALSE)","v":{"$error":"#N/A"}},null,null,null,null,{"$f":"'Sample Information'!$H$6","v":0},{"$f":"'Sample Information'!$H$5","v":0},null,null,{"$f":"'Sample Information'!$H$7","v":0},null,{"$error":"#N/A"}]
[{"$f":"'Sample Information'!A139","v":138},{"$f":"'Sample Information'!B139","v":0},"0-DNA",{"$f":"'Sample Information'!D139","v":0},{"$f":"IF(VLOOKUP($C139, 'Nanodrop Data Raw'!$C:$L, 10, FALSE)<>\"\", VLOOKUP($C139, 'Nanodrop Data Raw'!$C:$L, 10, FALSE), VLOOKUP($C139, 'Nanodrop Data Raw'!$C:$L, 2, FALSE))","v":{"$error":"#N/A"}},null,null,{"$error":"#N/A"},{"$f":"VLOOKUP($C139, 'Nanodrop Data Raw'!$C:$L, 3, FALSE)","v":{"$error":"#N/A"}},{"$f":"VLOOKUP($C139, 'Nanodrop Data Raw'!$C:$L, 4, FALSE)","v":{"$error":"#N/A"}},null,null,null,null,{"$f":"'Sample Information'!$H$6","v":0},{"$f":"'Sample Information'!$H$5","v":0},null,null,{"$f":"'Sample Information'!$H$7","v":0},null,{"$error":"#N/A"}]
[{"$f":"'Sample Information'!A140","v":139},{"$f":"'Sample Information'!B140","v":0},"0-DNA",{"$f":"'Sample Information'!D140","v":0},{"$f":"IF(VLOOKUP($C140, 'Nanodrop Data Raw'!$C:$L, 10, FALSE)<>\"\", VLOOKUP($C140, 'Nanodrop Data Raw'!$C:$L, 10, FALSE), VLOOKUP($C140, 'Nanodrop Data Raw'!$C:$L, 2, FALSE))","v":{"$error":"#N/A"}},null,null,{"$error":"#N/A"},{"$f":"VLOOKUP($C140, 'Nanodrop Data Raw'!$C:$L, 3, FALSE)","v":{"$error":"#N/A"}},{"$f":"VLOOKUP($C140, 'Nanodrop Data Raw'!$C:$L, 4, FALSE)","v":{"$error":"#N/A"}},null,null,null,null,{"$f":"'Sample Information'!$H$6","v":0},{"$f":"'Sample Information'!$H$5","v":0},null,null,{"$f":"'Sample Information'!$H$7","v":0},null,{"$error":"#N/A"}]
[{"$f":"'Sample Information'!A141","v":140},{"$f":"'Sample Information'!B141","v":0},"0-DNA",{"$f":"'Sample Information'!D141","v":0},{"$f":"IF(VLOOKUP($C141, 'Nanodrop Data Raw'!$C:$L, 10, FALSE)<>\"\", VLOOKUP($C141, 'Nanodrop Data Raw'!$C:$L, 10, FALSE), VLOOKUP($C141, 'Nanodrop Data Raw'!$C:$L, 2, FALSE))","v":{"$error":"#N/A"}},null,null,{"$error":"#N/A"},{"$f":"VLOOKUP($C141, 'Nanodrop Data Raw'!$C:$L, 3, FALSE)","v":{"$error":"#N/A"}},{"$f":"VLOOKUP($C141, 'Nanodrop Data Raw'!$C:$L, 4, FALSE)","v":{"$error":"#N/A"}},null,null,null,null,{"$f":"'Sample Information'!$H$6","v":0},{"$f":"'Sample Information'!$H$5","v":0},null,null,{"$f":"'Sample Information'!$H$7","v":0},null,{"$error":"#N/A"}]
[{"$f":"'Sample Information'!A142","v":141},{"$f":"'Sample Information'!B142","v":0},"0-DNA",{"$f":"'Sample Information'!D142","v":0},{"$f":"IF(VLOOKUP($C142, 'Nanodrop Data Raw'!$C:$L, 10, FALSE)<>\"\", VLOOKUP($C142, 'Nanodrop Data Raw'!$C:$L, 10, FALSE), VLOOKUP($C142, 'Nanodrop Data Raw'!$C:$L, 2, FALSE))","v":{"$error":"#N/A"}},null,null,{"$error":"#N/A"},{"$f":"VLOOKUP($C142, 'Nanodrop Data Raw'!$C:$L, 3, FALSE)","v":{"$error":"#N/A"}},{"$f":"VLOOKUP($C142, 'Nanodrop Data Raw'!$C:$L, 4, FALSE)","v":{"$error":"#N/A"}},null,null,null,null,{"$f":"'Sample Information'!$H$6","v":0},{"$f":"'Sample Information'!$H$5","v":0},null,null,{"$f":"'Sample Information'!$H$7","v":0},null,{"$error":"#N/A"}]
[{"$f":"'Sample Information'!A143","v":142},{"$f":"'Sample Information'!B143","v":0},"0-DNA",{"$f":"'Sample Information'!D143","v":0},{"$f":"IF(VLOOKUP($C143, 'Nanodrop Data Raw'!$C:$L, 10, FALSE)<>\"\", VLOOKUP($C143, 'Nanodrop Data Raw'!$C:$L, 10, FALSE), VLOOKUP($C143, 'Nanodrop Data Raw'!$C:$L, 2, FALSE))","v":{"$error":"#N/A"}},null,null,{"$error":"#N/A"},{"$f":"VLOOKUP($C143, 'Nanodrop Data Raw'!$C:$L, 3, FALSE)","v":{"$error":"#N/A"}},{"$f":"VLOOKUP($C143, 'Nanodrop Data Raw'!$C:$L, 4, FALSE)","v":{"$error":"#N/A"}},null,null,null,null,{"$f":"'Sample Information'!$H$6","v":0},{"$f":"'Sample Information'!$H$5","v":0},null,null,{"$f":"'Sample Information'!$H$7","v":0},null,{"$error":"#N/A"}]
[{"$f":"'Sample Information'!A144","v":143},{"$f":"'Sample Information'!B144","v":0},"0-DNA",{"$f":"'Sample Information'!D144","v":0},{"$f":"IF(VLOOKUP($C144, 'Nanodrop Data Raw'!$C:$L, 10, FALSE)<>\"\", VLOOKUP($C144, 'Nanodrop Data Raw'!$C:$L, 10, FALSE), VLOOKUP($C144, 'Nanodrop Data Raw'!$C:$L, 2, FALSE))","v":{"$error":"#N/A"}},null,null,{"$error":"#N/A"},{"$f":"VLOOKUP($C144, 'Nanodrop Data Raw'!$C:$L, 3, FALSE)","v":{"$error":"#N/A"}},{"$f":"VLOOKUP($C144, 'Nanodrop Data Raw'!$C:$L, 4, FALSE)","v":{"$error":"#N/A"}},null,null,null,null,{"$f":"'Sample Information'!$H$6","v":0},{"$f":"'Sample Information'!$H$5","v":0},null,null,{"$f":"'Sample Information'!$H$7","v":0},null,{"$error":"#N/A"}]
[{"$f":"'Sample Information'!A145","v":144},{"$f":"'Sample Information'!B145","v":0},"0-DNA",{"$f":"'Sample Information'!D145","v":0},{"$f":"IF(VLOOKUP($C145, 'Nanodrop Data Raw'!$C:$L, 10, FALSE)<>\"\", VLOOKUP($C145, 'Nanodrop Data Raw'!$C:$L, 10, FALSE), VLOOKUP($C145, 'Nanodrop Data Raw'!$C:$L, 2, FALSE))","v":{"$error":"#N/A"}},null,null,{"$error":"#N/A"},{"$f":"VLOOKUP($C145, 'Nanodrop Data Raw'!$C:$L, 3, FALSE)","v":{"$error":"#N/A"}},{"$f":"VLOOKUP($C145, 'Nanodrop Data Raw'!$C:$L, 4, FALSE)","v":{"$error":"#N/A"}},null,null,null,null,{"$f":"'Sample Information'!$H$6","v":0},{"$f":"'Sample Information'!$H$5","v":0},null,null,{"$f":"'Sample Information'!$H$7","v":0},null,{"$error":"#N/A"}]
[{"$f":"'Sample Information'!A146","v":145},{"$f":"'Sample Information'!B146","v":0},"0-DNA",{"$f":"'Sample Information'!D146","v":0},{"$f":"IF(VLOOKUP($C146, 'Nanodrop Data Raw'!$C:$L, 10, FALSE)<>\"\", VLOOKUP($C146, 'Nanodrop Data Raw'!$C:$L, 10, FALSE), VLOOKUP($C146, 'Nanodrop Data Raw'!$C:$L, 2, FALSE))","v":{"$error":"#N/A"}},null,null,{"$error":"#N/A"},{"$f":"VLOOKUP($C146, 'Nanodrop Data Raw'!$C:$L, 3, FALSE)","v":{"$error":"#N/A"}},{"$f":"VLOOKUP($C146, 'Nanodrop Data Raw'!$C:$L, 4, FALSE)","v":{"$error":"#N/A"}},null,null,null,null,{"$f":"'Sample Information'!$H$6","v":0},{"$f":"'Sample Information'!$H$5","v":0},null,null,{"$f":"'Sample Information'!$H$7","v":0},null,{"$error":"#N/A"}]
[{"$f":"'Sample Information'!A147","v":146},{"$f":"'Sample Information'!B147","v":0},"0-DNA",{"$f":"'Sample Information'!D147","v":0},{"$f":"IF(VLOOKUP($C147, 'Nanodrop Data Raw'!$C:$L, 10, FALSE)<>\"\", VLOOKUP($C147, 'Nanodrop Data Raw'!$C:$L, 10, FALSE), VLOOKUP($C147, 'Nanodrop Data Raw'!$C:$L, 2, FALSE))","v":{"$error":"#N/A"}},null,null,{"$error":"#N/A"},{"$f":"VLOOKUP($C147, 'Nanodrop Data Raw'!$C:$L, 3, FALSE)","v":{"$error":"#N/A"}},{"$f":"VLOOKUP($C147, 'Nanodrop Data Raw'!$C:$L, 4, FALSE)","v":{"$error":"#N/A"}},null,null,null,null,{"$f":"'Sample Information'!$H$6","v":0},{"$f":"'Sample Information'!$H$5","v":0},null,null,{"$f":"'Sample Information'!$H$7","v":0},null,{"$error":"#N/A"}]
[{"$f":"'Sample Information'!A148","v":147},{"$f":"'Sample Information'!B148","v":0},"0-DNA",{"$f":"'Sample Information'!D148","v":0},{"$f":"IF(VLOOKUP($C148, 'Nanodrop Data Raw'!$C:$L, 10, FALSE)<>\"\", VLOOKUP($C148, 'Nanodrop Data Raw'!$C:$L, 10, FALSE), VLOOKUP($C148, 'Nanodrop Data Raw'!$C:$L, 2, FALSE))","v":{"$error":"#N/A"}},null,null,{"$error":"#N/A"},{"$f":"VLOOKUP($C148, 'Nanodrop Data Raw'!$C:$L, 3, FALSE)","v":{"$error":"#N/A"}},{"$f":"VLOOKUP($C148, 'Nanodrop Data Raw'!$C:$L, 4, FALSE)","v":{"$error":"#N/A"}},null,null,null,null,{"$f":"'Sample Information'!$H$6","v":0},{"$f":"'Sample Information'!$H$5","v":0},null,null,{"$f":"'Sample Information'!$H$7","v":0},null,{"$error":"#N/A"}]
[{"$f":"'Sample Information'!A149","v":148},{"$f":"'Sample Information'!B149","v":0},"0-DNA",{"$f":"'Sample Information'!D149","v":0},{"$f":"IF(VLOOKUP($C149, 'Nanodrop Data Raw'!$C:$L, 10, FALSE)<>\"\", VLOOKUP($C149, 'Nanodrop Data Raw'!$C:$L, 10, FALSE), VLOOKUP($C149, 'Nanodrop Data Raw'!$C:$L, 2, FALSE))","v":{"$error":"#N/A"}},null,null,{"$error":"#N/A"},{"$f":"VLOOKUP($C149, 'Nanodrop Data Raw'!$C:$L, 3, FALSE)","v":{"$error":"#N/A"}},{"$f":"VLOOKUP($C149, 'Nanodrop Data Raw'!$C:$L, 4, FALSE)","v":{"$error":"#N/A"}},null,null,null,null,{"$f":"'Sample Information'!$H$6","v":0},{"$f":"'Sample Information'!$H$5","v":0},null,null,{"$f":"'Sample Information'!$H$7","v":0},null,{"$error":"#N/A"}]
[{"$f":"'Sample Information'!A150","v":149},{"$f":"'Sample Information'!B150","v":0},"0-DNA",{"$f":"'Sample Information'!D150","v":0},{"$f":"IF(VLOOKUP($C150, 'Nanodrop Data Raw'!$C:$L, 10, FALSE)<>\"\", VLOOKUP($C150, 'Nanodrop Data Raw'!$C:$L, 10, FALSE), VLOOKUP($C150, 'Nanodrop Data Raw'!$C:$L, 2, FALSE))","v":{"$error":"#N/A"}},null,null,{"$error":"#N/A"},{"$f":"VLOOKUP($C150, 'Nanodrop Data Raw'!$C:$L, 3, FALSE)","v":{"$error":"#N/A"}},{"$f":"VLOOKUP($C150, 'Nanodrop Data Raw'!$C:$L, 4, FALSE)","v":{"$error":"#N/A"}},null,null,null,null,{"$f":"'Sample Information'!$H$6","v":0},{"$f":"'Sample Information'!$H$5","v":0},null,null,{"$f":"'Sample Information'!$H$7","v":0},null,{"$error":"#N/A"}]
[{"$f":"'Sample Information'!A151","v":150},{"$f":"'Sample Information'!B151","v":0},"0-DNA",{"$f":"'Sample Information'!D151","v":0},{"$f":"IF(VLOOKUP($C151, 'Nanodrop Data Raw'!$C:$L, 10, FALSE)<>\"\", VLOOKUP($C151, 'Nanodrop Data Raw'!$C:$L, 10, FALSE), VLOOKUP($C151, 'Nanodrop Data Raw'!$C:$L, 2, FALSE))","v":{"$error":"#N/A"}},null,null,{"$error":"#N/A"},{"$f":"VLOOKUP($C151, 'Nanodrop Data Raw'!$C:$L, 3, FALSE)","v":{"$error":"#N/A"}},{"$f":"VLOOKUP($C151, 'Nanodrop Data Raw'!$C:$L, 4, FALSE)","v":{"$error":"#N/A"}},null,null,null,null,{"$f":"'Sample Information'!$H$6","v":0},{"$f":"'Sample Information'!$H$5","v":0},null,null,{"$f":"'Sample Information'!$H$7","v":0},null,{"$error":"#N/A"}]
[{"$f":"'Sample Information'!A152","v":151},{"$f":"'Sample Information'!B152","v":0},"0-DNA",{"$f":"'Sample Information'!D152","v":0},{"$f":"IF(VLOOKUP($C152, 'Nanodrop Data Raw'!$C:$L, 10, FALSE)<>\"\", VLOOKUP($C152, 'Nanodrop Data Raw'!$C:$L, 10, FALSE), VLOOKUP($C152, 'Nanodrop Data Raw'!$C:$L, 2, FALSE))","v":{"$error":"#N/A"}},null,null,{"$error":"#N/A"},{"$f":"VLOOKUP($C152, 'Nanodrop Data Raw'!$C:$L, 3, FALSE)","v":{"$error":"#N/A"}},{"$f":"VLOOKUP($C152, 'Nanodrop Data Raw'!$C:$L, 4, FALSE)","v":{"$error":"#N/A"}},null,null,null,null,{"$f":"'Sample Information'!$H$6","v":0},{"$f":"'Sample Information'!$H$5","v":0},null,null,{"$f":"'Sample Information'!$H$7","v":0},null,{"$error":"#N/A"}]
[{"$f":"'Sample Information'!A153","v":152},{"$f":"'Sample Information'!B153","v":0},"0-DNA",{"$f":"'Sample Information'!D153","v":0},{"$f":"IF(VLOOKUP($C153, 'Nanodrop Data Raw'!$C:$L, 10, FALSE)<>\"\", VLOOKUP($C153, 'Nanodrop Data Raw'!$C:$L, 10, FALSE), VLOOKUP($C153, 'Nanodrop Data Raw'!$C:$L, 2, FALSE))","v":{"$error":"#N/A"}},null,null,{"$error":"#N/A"},{"$f":"VLOOKUP($C153, 'Nanodrop Data Raw'!$C:$L, 3, FALSE)","v":{"$error":"#N/A"}},{"$f":"VLOOKUP($C153, 'Nanodrop Data Raw'!$C:$L, 4, FALSE)","v":{"$error":"#N/A"}},null,null,null,null,{"$f":"'Sample Information'!$H$6","v":0},{"$f":"'Sample Information'!$H$5","v":0},null,null,{"$f":"'Sample Information'!$H$7","v":0},null,{"$error":"#N/A"}]
[{"$f":"'Sample Information'!A154","v":153},{"$f":"'Sample Information'!B154","v":0},"0-DNA",{"$f":"'Sample Information'!D154","v":0},{"$f":"IF(VLOOKUP($C154, 'Nanodrop Data Raw'!$C:$L, 10, FALSE)<>\"\", VLOOKUP($C154, 'Nanodrop Data Raw'!$C:$L, 10, FALSE), VLOOKUP($C154, 'Nanodrop Data Raw'!$C:$L, 2, FALSE))","v":{"$error":"#N/A"}},null,null,{"$error":"#N/A"},{"$f":"VLOOKUP($C154, 'Nanodrop Data Raw'!$C:$L, 3, FALSE)","v":{"$error":"#N/A"}},{"$f":"VLOOKUP($C154, 'Nanodrop Data Raw'!$C:$L, 4, FALSE)","v":{"$error":"#N/A"}},null,null,null,null,{"$f":"'Sample Information'!$H$6","v":0},{"$f":"'Sample Information'!$H$5","v":0},null,null,{"$f":"'Sample Information'!$H$7","v":0},null,{"$error":"#N/A"}]
[{"$f":"'Sample Information'!A155","v":154},{"$f":"'Sample Information'!B155","v":0},"0-DNA",{"$f":"'Sample Information'!D155","v":0},{"$f":"IF(VLOOKUP($C155, 'Nanodrop Data Raw'!$C:$L, 10, FALSE)<>\"\", VLOOKUP($C155, 'Nanodrop Data Raw'!$C:$L, 10, FALSE), VLOOKUP($C155, 'Nanodrop Data Raw'!$C:$L, 2, FALSE))","v":{"$error":"#N/A"}},null,null,{"$error":"#N/A"},{"$f":"VLOOKUP($C155, 'Nanodrop Data Raw'!$C:$L, 3, FALSE)","v":{"$error":"#N/A"}},{"$f":"VLOOKUP($C155, 'Nanodrop Data Raw'!$C:$L, 4, FALSE)","v":{"$error":"#N/A"}},null,null,null,null,{"$f":"'Sample Information'!$H$6","v":0},{"$f":"'Sample Information'!$H$5","v":0},null,null,{"$f":"'Sample Information'!$H$7","v":0},null,{"$error":"#N/A"}]
[{"$f":"'Sample Information'!A156","v":155},{"$f":"'Sample Information'!B156","v":0},"0-DNA",{"$f":"'Sample Information'!D156","v":0},{"$f":"IF(VLOOKUP($C156, 'Nanodrop Data Raw'!$C:$L, 10, FALSE)<>\"\", VLOOKUP($C156, 'Nanodrop Data Raw'!$C:$L, 10, FALSE), VLOOKUP($C156, 'Nanodrop Data Raw'!$C:$L, 2, FALSE))","v":{"$error":"#N/A"}},null,null,{"$error":"#N/A"},{"$f":"VLOOKUP($C156, 'Nanodrop Data Raw'!$C:$L, 3, FALSE)","v":{"$error":"#N/A"}},{"$f":"VLOOKUP($C156, 'Nanodrop Data Raw'!$C:$L, 4, FALSE)","v":{"$error":"#N/A"}},null,null,null,null,{"$f":"'Sample Information'!$H$6","v":0},{"$f":"'Sample Information'!$H$5","v":0},null,null,{"$f":"'Sample Information'!$H$7","v":0},null,{"$error":"#N/A"}]
[{"$f":"'Sample Information'!A157","v":156},{"$f":"'Sample Information'!B157","v":0},"0-DNA",{"$f":"'Sample Information'!D157","v":0},{"$f":"IF(VLOOKUP($C157, 'Nanodrop Data Raw'!$C:$L, 10, FALSE)<>\"\", VLOOKUP($C157, 'Nanodrop Data Raw'!$C:$L, 10, FALSE), VLOOKUP($C157, 'Nanodrop Data Raw'!$C:$L, 2, FALSE))","v":{"$error":"#N/A"}},null,null,{"$error":"#N/A"},{"$f":"VLOOKUP($C157, 'Nanodrop Data Raw'!$C:$L, 3, FALSE)","v":{"$error":"#N/A"}},{"$f":"VLOOKUP($C157, 'Nanodrop Data Raw'!$C:$L, 4, FALSE)","v":{"$error":"#N/A"}},null,null,null,null,{"$f":"'Sample Information'!$H$6","v":0},{"$f":"'Sample Information'!$H$5","v":0},null,null,{"$f":"'Sample Information'!$H$7","v":0},null,{"$error":"#N/A"}]
[{"$f":"'Sample Information'!A158","v":157},{"$f":"'Sample Information'!B158","v":0},"0-DNA",{"$f":"'Sample Information'!D158","v":0},{"$f":"IF(VLOOKUP($C158, 'Nanodrop Data Raw'!$C:$L, 10, FALSE)<>\"\", VLOOKUP($C158, 'Nanodrop Data Raw'!$C:$L, 10, FALSE), VLOOKUP($C158, 'Nanodrop Data Raw'!$C:$L, 2, FALSE))","v":{"$error":"#N/A"}},null,null,{"$error":"#N/A"},{"$f":"VLOOKUP($C158, 'Nanodrop Data Raw'!$C:$L, 3, FALSE)","v":{"$error":"#N/A"}},{"$f":"VLOOKUP($C158, 'Nanodrop Data Raw'!$C:$L, 4, FALSE)","v":{"$error":"#N/A"}},null,null,null,null,{"$f":"'Sample Information'!$H$6","v":0},{"$f":"'Sample Information'!$H$5","v":0},null,null,{"$f":"'Sample Information'!$H$7","v":0},null,{"$error":"#N/A"}]
[{"$f":"'Sample Information'!A159","v":158},{"$f":"'Sample Information'!B159","v":0},"0-DNA",{"$f":"'Sample Information'!D159","v":0},{"$f":"IF(VLOOKUP($C159, 'Nanodrop Data Raw'!$C:$L, 10, FALSE)<>\"\", VLOOKUP($C159, 'Nanodrop Data Raw'!$C:$L, 10, FALSE), VLOOKUP($C159, 'Nanodrop Data Raw'!$C:$L, 2, FALSE))","v":{"$error":"#N/A"}},null,null,{"$error":"#N/A"},{"$f":"VLOOKUP($C159, 'Nanodrop Data Raw'!$C:$L, 3, FALSE)","v":{"$error":"#N/A"}},{"$f":"VLOOKUP($C159, 'Nanodrop Data Raw'!$C:$L, 4, FALSE)","v":{"$error":"#N/A"}},null,null,null,null,{"$f":"'Sample Information'!$H$6","v":0},{"$f":"'Sample Information'!$H$5","v":0},null,null,{"$f":"'Sample Information'!$H$7","v":0},null,{"$error":"#N/A"}]
[{"$f":"'Sample Information'!A160","v":159},{"$f":"'Sample Information'!B160","v":0},"0-DNA",{"$f":"'Sample Information'!D160","v":0},{"$f":"IF(VLOOKUP($C160, 'Nanodrop Data Raw'!$C:$L, 10, FALSE)<>\"\", VLOOKUP($C160, 'Nanodrop Data Raw'!$C:$L, 10, FALSE), VLOOKUP($C160, 'Nanodrop Data Raw'!$C:$L, 2, FALSE))","v":{"$error":"#N/A"}},null,null,{"$error":"#N/A"},{"$f":"VLOOKUP($C160, 'Nanodrop Data Raw'!$C:$L, 3, FALSE)","v":{"$error":"#N/A"}},{"$f":"VLOOKUP($C160, 'Nanodrop Data Raw'!$C:$L, 4, FALSE)","v":{"$error":"#N/A"}},null,null,null,null,{"$f":"'Sample Information'!$H$6","v":0},{"$f":"'Sample Information'!$H$5","v":0},null,null,{"$f":"'Sample Information'!$H$7","v":0},null,{"$error":"#N/A"}]
[{"$f":"'Sample Information'!A161","v":160},{"$f":"'Sample Information'!B161","v":0},"0-DNA",{"$f":"'Sample Information'!D161","v":0},{"$f":"IF(VLOOKUP($C161, 'Nanodrop Data Raw'!$C:$L, 10, FALSE)<>\"\", VLOOKUP($C161, 'Nanodrop Data Raw'!$C:$L, 10, FALSE), VLOOKUP($C161, 'Nanodrop Data Raw'!$C:$L, 2, FALSE))","v":{"$error":"#N/A"}},null,null,{"$error":"#N/A"},{"$f":"VLOOKUP($C161, 'Nanodrop Data Raw'!$C:$L, 3, FALSE)","v":{"$error":"#N/A"}},{"$f":"VLOOKUP($C161, 'Nanodrop Data Raw'!$C:$L, 4, FALSE)","v":{"$error":"#N/A"}},null,null,null,null,{"$f":"'Sample Information'!$H$6","v":0},{"$f":"'Sample Information'!$H$5","v":0},null,null,{"$f":"'Sample Information'!$H$7","v":0},null,{"$error":"#N/A"}]
[{"$f":"'Sample Information'!A162","v":161},{"$f":"'Sample Information'!B162","v":0},"0-DNA",{"$f":"'Sample Information'!D162","v":0},{"$f":"IF(VLOOKUP($C162, 'Nanodrop Data Raw'!$C:$L, 10, FALSE)<>\"\", VLOOKUP($C162, 'Nanodrop Data Raw'!$C:$L, 10, FALSE), VLOOKUP($C162, 'Nanodrop Data Raw'!$C:$L, 2, FALSE))","v":{"$error":"#N/A"}},null,null,{"$error":"#N/A"},{"$f":"VLOOKUP($C162, 'Nanodrop Data Raw'!$C:$L, 3, FALSE)","v":{"$error":"#N/A"}},{"$f":"VLOOKUP($C162, 'Nanodrop Data Raw'!$C:$L, 4, FALSE)","v":{"$error":"#N/A"}},null,null,null,null,{"$f":"'Sample Information'!$H$6","v":0},{"$f":"'Sample Information'!$H$5","v":0},null,null,{"$f":"'Sample Information'!$H$7","v":0},null,{"$error":"#N/A"}]
[{"$f":"'Sample Information'!A163","v":162},{"$f":"'Sample Information'!B163","v":0},"0-DNA",{"$f":"'Sample Information'!D163","v":0},{"$f":"IF(VLOOKUP($C163, 'Nanodrop Data Raw'!$C:$L, 10, FALSE)<>\"\", VLOOKUP($C163, 'Nanodrop Data Raw'!$C:$L, 10, FALSE), VLOOKUP($C163, 'Nanodrop Data Raw'!$C:$L, 2, FALSE))","v":{"$error":"#N/A"}},null,null,{"$error":"#N/A"},{"$f":"VLOOKUP($C163, 'Nanodrop Data Raw'!$C:$L, 3, FALSE)","v":{"$error":"#N/A"}},{"$f":"VLOOKUP($C163, 'Nanodrop Data Raw'!$C:$L, 4, FALSE)","v":{"$error":"#N/A"}},null,null,null,null,{"$f":"'Sample Information'!$H$6","v":0},{"$f":"'Sample Information'!$H$5","v":0},null,null,{"$f":"'Sample Information'!$H$7","v":0},null,{"$error":"#N/A"}]
[{"$f":"'Sample Information'!A164","v":163},{"$f":"'Sample Information'!B164","v":0},"0-DNA",{"$f":"'Sample Information'!D164","v":0},{"$f":"IF(VLOOKUP($C164, 'Nanodrop Data Raw'!$C:$L, 10, FALSE)<>\"\", VLOOKUP($C164, 'Nanodrop Data Raw'!$C:$L, 10, FALSE), VLOOKUP($C164, 'Nanodrop Data Raw'!$C:$L, 2, FALSE))","v":{"$error":"#N/A"}},null,null,{"$error":"#N/A"},{"$f":"VLOOKUP($C164, 'Nanodrop Data Raw'!$C:$L, 3, FALSE)","v":{"$error":"#N/A"}},{"$f":"VLOOKUP($C164, 'Nanodrop Data Raw'!$C:$L, 4, FALSE)","v":{"$error":"#N/A"}},null,null,null,null,{"$f":"'Sample Information'!$H$6","v":0},{"$f":"'Sample Information'!$H$5","v":0},null,null,{"$f":"'Sample Information'!$H$7","v":0},null,{"$error":"#N/A"}]
[{"$f":"'Sample Information'!A165","v":164},{"$f":"'Sample Information'!B165","v":0},"0-DNA",{"$f":"'Sample Information'!D165","v":0},{"$f":"IF(VLOOKUP($C165, 'Nanodrop Data Raw'!$C:$L, 10, FALSE)<>\"\", VLOOKUP($C165, 'Nanodrop Data Raw'!$C:$L, 10, FALSE), VLOOKUP($C165, 'Nanodrop Data Raw'!$C:$L, 2, FALSE))","v":{"$error":"#N/A"}},null,null,{"$error":"#N/A"},{"$f":"VLOOKUP($C165, 'Nanodrop Data Raw'!$C:$L, 3, FALSE)","v":{"$error":"#N/A"}},{"$f":"VLOOKUP($C165, 'Nanodrop Data Raw'!$C:$L, 4, FALSE)","v":{"$error":"#N/A"}},null,null,null,null,{"$f":"'Sample Information'!$H$6","v":0},{"$f":"'Sample Information'!$H$5","v":0},null,null,{"$f":"'Sample Information'!$H$7","v":0},null,{"$error":"#N/A"}]
[{"$f":"'Sample Information'!A166","v":165},{"$f":"'Sample Information'!B166","v":0},"0-DNA",{"$f":"'Sample Information'!D166","v":0},{"$f":"IF(VLOOKUP($C166, 'Nanodrop Data Raw'!$C:$L, 10, FALSE)<>\"\", VLOOKUP($C166, 'Nanodrop Data Raw'!$C:$L, 10, FALSE), VLOOKUP($C166, 'Nanodrop Data Raw'!$C:$L, 2, FALSE))","v":{"$error":"#N/A"}},null,null,{"$error":"#N/A"},{"$f":"VLOOKUP($C166, 'Nanodrop Data Raw'!$C:$L, 3, FALSE)","v":{"$error":"#N/A"}},{"$f":"VLOOKUP($C166, 'Nanodrop Data Raw'!$C:$L, 4, FALSE)","v":{"$error":"#N/A"}},null,null,null,null,{"$f":"'Sample Information'!$H$6","v":0},{"$f":"'Sample Information'!$H$5","v":0},null,null,{"$f":"'Sample Information'!$H$7","v":0},null,{"$error":"#N/A"}]
[{"$f":"'Sample Information'!A167","v":166},{"$f":"'Sample Information'!B167","v":0},"0-DNA",{"$f":"'Sample Information'!D167","v":0},{"$f":"IF(VLOOKUP($C167, 'Nanodrop Data Raw'!$C:$L, 10, FALSE)<>\"\", VLOOKUP($C167, 'Nanodrop Data Raw'!$C:$L, 10, FALSE), VLOOKUP($C167, 'Nanodrop Data Raw'!$C:$L, 2, FALSE))","v":{"$error":"#N/A"}},null,null,{"$error":"#N/A"},{"$f":"VLOOKUP($C167, 'Nanodrop Data Raw'!$C:$L, 3, FALSE)","v":{"$error":"#N/A"}},{"$f":"VLOOKUP($C167, 'Nanodrop Data Raw'!$C:$L, 4, FALSE)","v":{"$error":"#N/A"}},null,null,null,null,{"$f":"'Sample Information'!$H$6","v":0},{"$f":"'Sample Information'!$H$5","v":0},null,null,{"$f":"'Sample Information'!$H$7","v":0},null,{"$error":"#N/A"}]
[{"$f":"'Sample Information'!A168","v":167},{"$f":"'Sample Information'!B168","v":0},"0-DNA",{"$f":"'Sample Information'!D168","v":0},{"$f":"IF(VLOOKUP($C168, 'Nanodrop Data Raw'!$C:$L, 10, FALSE)<>\"\", VLOOKUP($C168, 'Nanodrop Data Raw'!$C:$L, 10, FALSE), VLOOKUP($C168, 'Nanodrop Data Raw'!$C:$L, 2, FALSE))","v":{"$error":"#N/A"}},null,null,{"$error":"#N/A"},{"$f":"VLOOKUP($C168, 'Nanodrop Data Raw'!$C:$L, 3, FALSE)","v":{"$error":"#N/A"}},{"$f":"VLOOKUP($C168, 'Nanodrop Data Raw'!$C:$L, 4, FALSE)","v":{"$error":"#N/A"}},null,null,null,null,{"$f":"'Sample Information'!$H$6","v":0},{"$f":"'Sample Information'!$H$5","v":0},null,null,{"$f":"'Sample Information'!$H$7","v":0},null,{"$error":"#N/A"}]
[{"$f":"'Sample Information'!A169","v":168},{"$f":"'Sample Information'!B169","v":0},"0-DNA",{"$f":"'Sample Information'!D169","v":0},{"$f":"IF(VLOOKUP($C169, 'Nanodrop Data Raw'!$C:$L, 10, FALSE)<>\"\", VLOOKUP($C169, 'Nanodrop Data Raw'!$C:$L, 10, FALSE), VLOOKUP($C169, 'Nanodrop Data Raw'!$C:$L, 2, FALSE))","v":{"$error":"#N/A"}},null,null,{"$error":"#N/A"},{"$f":"VLOOKUP($C169, 'Nanodrop Data Raw'!$C:$L, 3, FALSE)","v":{"$error":"#N/A"}},{"$f":"VLOOKUP($C169, 'Nanodrop Data Raw'!$C:$L, 4, FALSE)","v":{"$error":"#N/A"}},null,null,null,null,{"$f":"'Sample Information'!$H$6","v":0},{"$f":"'Sample Information'!$H$5","v":0},null,null,{"$f":"'Sample Information'!$H$7","v":0},null,{"$error":"#N/A"}]
[{"$f":"'Sample Information'!A170","v":169},{"$f":"'Sample Information'!B170","v":0},"0-DNA",{"$f":"'Sample Information'!D170","v":0},{"$f":"IF(VLOOKUP($C170, 'Nanodrop Data Raw'!$C:$L, 10, FALSE)<>\"\", VLOOKUP($C170, 'Nanodrop Data Raw'!$C:$L, 10, FALSE), VLOOKUP($C170, 'Nanodrop Data Raw'!$C:$L, 2, FALSE))","v":{"$error":"#N/A"}},null,null,{"$error":"#N/A"},{"$f":"VLOOKUP($C170, 'Nanodrop Data Raw'!$C:$L, 3, FALSE)","v":{"$error":"#N/A"}},{"$f":"VLOOKUP($C170, 'Nanodrop Data Raw'!$C:$L, 4, FALSE)","v":{"$error":"#N/A"}},null,null,null,null,{"$f":"'Sample Information'!$H$6","v":0},{"$f":"'Sample Information'!$H$5","v":0},null,null,{"$f":"'Sample Information'!$H$7","v":0},null,{"$error":"#N/A"}]
[{"$f":"'Sample Information'!A171","v":170},{"$f":"'Sample Information'!B171","v":0},"0-DNA",{"$f":"'Sample Information'!D171","v":0},{"$f":"IF(VLOOKUP($C171, 'Nanodrop Data Raw'!$C:$L, 10, FALSE)<>\"\", VLOOKUP($C171, 'Nanodrop Data Raw'!$C:$L, 10, FALSE), VLOOKUP($C171, 'Nanodrop Data Raw'!$C:$L, 2, FALSE))","v":{"$error":"#N/A"}},null,null,{"$error":"#N/A"},{"$f":"VLOOKUP($C171, 'Nanodrop Data Raw'!$C:$L, 3, FALSE)","v":{"$error":"#N/A"}},{"$f":"VLOOKUP($C171, 'Nanodrop Data Raw'!$C:$L, 4, FALSE)","v":{"$error":"#N/A"}},null,null,null,null,{"$f":"'Sample Information'!$H$6","v":0},{"$f":"'Sample Information'!$H$5","v":0},null,null,{"$f":"'Sample Information'!$H$7","v":0},null,{"$error":"#N/A"}]
[{"$f":"'Sample Information'!A172","v":171},{"$f":"'Sample Information'!B172","v":0},"0-DNA",{"$f":"'Sample Information'!D172","v":0},{"$f":"IF(VLOOKUP($C172, 'Nanodrop Data Raw'!$C:$L, 10, FALSE)<>\"\", VLOOKUP($C172, 'Nanodrop Data Raw'!$C:$L, 10, FALSE), VLOOKUP($C172, 'Nanodrop Data Raw'!$C:$L, 2, FALSE))","v":{"$error":"#N/A"}},null,null,{"$error":"#N/A"},{"$f":"VLOOKUP($C172, 'Nanodrop Data Raw'!$C:$L, 3, FALSE)","v":{"$error":"#N/A"}},{"$f":"VLOOKUP($C172, 'Nanodrop Data Raw'!$C:$L, 4, FALSE)","v":{"$error":"#N/A"}},null,null,null,null,{"$f":"'Sample Information'!$H$6","v":0},{"$f":"'Sample Information'!$H$5","v":0},null,null,{"$f":"'Sample Information'!$H$7","v":0},null,{"$error":"#N/A"}]
[{"$f":"'Sample Information'!A173","v":172},{"$f":"'Sample Information'!B173","v":0},"0-DNA",{"$f":"'Sample Information'!D173","v":0},{"$f":"IF(VLOOKUP($C173, 'Nanodrop Data Raw'!$C:$L, 10, FALSE)<>\"\", VLOOKUP($C173, 'Nanodrop Data Raw'!$C:$L, 10, FALSE), VLOOKUP($C173, 'Nanodrop Data Raw'!$C:$L, 2, FALSE))","v":{"$error":"#N/A"}},null,null,{"$error":"#N/A"},{"$f":"VLOOKUP($C173, 'Nanodrop Data Raw'!$C:$L, 3, FALSE)","v":{"$error":"#N/A"}},{"$f":"VLOOKUP($C173, 'Nanodrop Data Raw'!$C:$L, 4, FALSE)","v":{"$error":"#N/A"}},null,null,null,null,{"$f":"'Sample Information'!$H$6","v":0},{"$f":"'Sample Information'!$H$5","v":0},null,null,{"$f":"'Sample Information'!$H$7","v":0},null,{"$error":"#N/A"}]
[{"$f":"'Sample Information'!A174","v":173},{"$f":"'Sample Information'!B174","v":0},"0-DNA",{"$f":"'Sample Information'!D174","v":0},{"$f":"IF(VLOOKUP($C174, 'Nanodrop Data Raw'!$C:$L, 10, FALSE)<>\"\", VLOOKUP($C174, 'Nanodrop Data Raw'!$C:$L, 10, FALSE), VLOOKUP($C174, 'Nanodrop Data Raw'!$C:$L, 2, FALSE))","v":{"$error":"#N/A"}},null,null,{"$error":"#N/A"},{"$f":"VLOOKUP($C174, 'Nanodrop Data Raw'!$C:$L, 3, FALSE)","v":{"$error":"#N/A"}},{"$f":"VLOOKUP($C174, 'Nanodrop Data Raw'!$C:$L, 4, FALSE)","v":{"$error":"#N/A"}},null,null,null,null,{"$f":"'Sample Information'!$H$6","v":0},{"$f":"'Sample Information'!$H$5","v":0},null,null,{"$f":"'Sample Information'!$H$7","v":0},null,{"$error":"#N/A"}]
[{"$f":"'Sample Information'!A175","v":174},{"$f":"'Sample Information'!B175","v":0},"0-DNA",{"$f":"'Sample Information'!D175","v":0},{"$f":"IF(VLOOKUP($C175, 'Nanodrop Data Raw'!$C:$L, 10, FALSE)<>\"\", VLOOKUP($C175, 'Nanodrop Data Raw'!$C:$L, 10, FALSE), VLOOKUP($C175, 'Nanodrop Data Raw'!$C:$L, 2, FALSE))","v":{"$error":"#N/A"}},null,null,{"$error":"#N/A"},{"$f":"VLOOKUP($C175, 'Nanodrop Data Raw'!$C:$L, 3, FALSE)","v":{"$error":"#N/A"}},{"$f":"VLOOKUP($C175, 'Nanodrop Data Raw'!$C:$L, 4, FALSE)","v":{"$error":"#N/A"}},null,null,null,null,{"$f":"'Sample Information'!$H$6","v":0},{"$f":"'Sample Information'!$H$5","v":0},null,null,{"$f":"'Sample Information'!$H$7","v":0},null,{"$error":"#N/A"}]
[{"$f":"'Sample Information'!A176","v":175},{"$f":"'Sample Information'!B176","v":0},"0-DNA",{"$f":"'Sample Information'!D176","v":0},{"$f":"IF(VLOOKUP($C176, 'Nanodrop Data Raw'!$C:$L, 10, FALSE)<>\"\", VLOOKUP($C176, 'Nanodrop Data Raw'!$C:$L, 10, FALSE), VLOOKUP($C176, 'Nanodrop Data Raw'!$C:$L, 2, FALSE))","v":{"$error":"#N/A"}},null,null,{"$error":"#N/A"},{"$f":"VLOOKUP($C176, 'Nanodrop Data Raw'!$C:$L, 3, FALSE)","v":{"$error":"#N/A"}},{"$f":"VLOOKUP($C176, 'Nanodrop Data Raw'!$C:$L, 4, FALSE)","v":{"$error":"#N/A"}},null,null,null,null,{"$f":"'Sample Information'!$H$6","v":0},{"$f":"'Sample Information'!$H$5","v":0},null,null,{"$f":"'Sample Information'!$H$7","v":0},null,{"$error":"#N/A"}]
[{"$f":"'Sample Information'!A177","v":176},{"$f":"'Sample Information'!B177","v":0},"0-DNA",{"$f":"'Sample Information'!D177","v":0},{"$f":"IF(VLOOKUP($C177, 'Nanodrop Data Raw'!$C:$L, 10, FALSE)<>\"\", VLOOKUP($C177, 'Nanodrop Data Raw'!$C:$L, 10, FALSE), VLOOKUP($C177, 'Nanodrop Data Raw'!$C:$L, 2, FALSE))","v":{"$error":"#N/A"}},null,null,{"$error":"#N/A"},{"$f":"VLOOKUP($C177, 'Nanodrop Data Raw'!$C:$L, 3, FALSE)","v":{"$error":"#N/A"}},{"$f":"VLOOKUP($C177, 'Nanodrop Data Raw'!$C:$L, 4, FALSE)","v":{"$error":"#N/A"}},null,null,null,null,{"$f":"'Sample Information'!$H$6","v":0},{"$f":"'Sample Information'!$H$5","v":0},null,null,{"$f":"'Sample Information'!$H$7","v":0},null,{"$error":"#N/A"}]
[{"$f":"'Sample Information'!A178","v":177},{"$f":"'Sample Information'!B178","v":0},"0-DNA",{"$f":"'Sample Information'!D178","v":0},{"$f":"IF(VLOOKUP($C178, 'Nanodrop Data Raw'!$C:$L, 10, FALSE)<>\"\", VLOOKUP($C178, 'Nanodrop Data Raw'!$C:$L, 10, FALSE), VLOOKUP($C178, 'Nanodrop Data Raw'!$C:$L, 2, FALSE))","v":{"$error":"#N/A"}},null,null,{"$error":"#N/A"},{"$f":"VLOOKUP($C178, 'Nanodrop Data Raw'!$C:$L, 3, FALSE)","v":{"$error":"#N/A"}},{"$f":"VLOOKUP($C178, 'Nanodrop Data Raw'!$C:$L, 4, FALSE)","v":{"$error":"#N/A"}},null,null,null,null,{"$f":"'Sample Information'!$H$6","v":0},{"$f":"'Sample Information'!$H$5","v":0},null,null,{"$f":"'Sample Information'!$H$7","v":0},null,{"$error":"#N/A"}]
[{"$f":"'Sample Information'!A179","v":178},{"$f":"'Sample Information'!B179","v":0},"0-DNA",{"$f":"'Sample Information'!D179","v":0},{"$f":"IF(VLOOKUP($C179, 'Nanodrop Data Raw'!$C:$L, 10, FALSE)<>\"\", VLOOKUP($C179, 'Nanodrop Data Raw'!$C:$L, 10, FALSE), VLOOKUP($C179, 'Nanodrop Data Raw'!$C:$L, 2, FALSE))","v":{"$error":"#N/A"}},null,null,{"$error":"#N/A"},{"$f":"VLOOKUP($C179, 'Nanodrop Data Raw'!$C:$L, 3, FALSE)","v":{"$error":"#N/A"}},{"$f":"VLOOKUP($C179, 'Nanodrop Data Raw'!$C:$L, 4, FALSE)","v":{"$error":"#N/A"}},null,null,null,null,{"$f":"'Sample Information'!$H$6","v":0},{"$f":"'Sample Information'!$H$5","v":0},null,null,{"$f":"'Sample Information'!$H$7","v":0},null,{"$error":"#N/A"}]
[{"$f":"'Sample Information'!A180","v":179},{"$f":"'Sample Information'!B180","v":0},"0-DNA",{"$f":"'Sample Information'!D180","v":0},{"$f":"IF(VLOOKUP($C180, 'Nanodrop Data Raw'!$C:$L, 10, FALSE)<>\"\", VLOOKUP($C180, 'Nanodrop Data Raw'!$C:$L, 10, FALSE), VLOOKUP($C180, 'Nanodrop Data Raw'!$C:$L, 2, FALSE))","v":{"$error":"#N/A"}},null,null,{"$error":"#N/A"},{"$f":"VLOOKUP($C180, 'Nanodrop Data Raw'!$C:$L, 3, FALSE)","v":{"$error":"#N/A"}},{"$f":"VLOOKUP($C180, 'Nanodrop Data Raw'!$C:$L, 4, FALSE)","v":{"$error":"#N/A"}},null,null,null,null,{"$f":"'Sample Information'!$H$6","v":0},{"$f":"'Sample Information'!$H$5","v":0},null,null,{"$f":"'Sample Information'!$H$7","v":0},null,{"$error":"#N/A"}]
[{"$f":"'Sample Information'!A181","v":180},{"$f":"'Sample Information'!B181","v":0},"0-DNA",{"$f":"'Sample Information'!D181","v":0},{"$f":"IF(VLOOKUP($C181, 'Nanodrop Data Raw'!$C:$L, 10, FALSE)<>\"\", VLOOKUP($C181, 'Nanodrop Data Raw'!$C:$L, 10, FALSE), VLOOKUP($C181, 'Nanodrop Data Raw'!$C:$L, 2, FALSE))","v":{"$error":"#N/A"}},null,null,{"$error":"#N/A"},{"$f":"VLOOKUP($C181, 'Nanodrop Data Raw'!$C:$L, 3, FALSE)","v":{"$error":"#N/A"}},{"$f":"VLOOKUP($C181, 'Nanodrop Data Raw'!$C:$L, 4, FALSE)","v":{"$error":"#N/A"}},null,null,null,null,{"$f":"'Sample Information'!$H$6","v":0},{"$f":"'Sample Information'!$H$5","v":0},null,null,{"$f":"'Sample Information'!$H$7","v":0},null,{"$error":"#N/A"}]
[{"$f":"'Sample Information'!A182","v":181},{"$f":"'Sample Information'!B182","v":0},"0-DNA",{"$f":"'Sample Information'!D182","v":0},{"$f":"IF(VLOOKUP($C182, 'Nanodrop Data Raw'!$C:$L, 10, FALSE)<>\"\", VLOOKUP($C182, 'Nanodrop Data Raw'!$C:$L, 10, FALSE), VLOOKUP($C182, 'Nanodrop Data Raw'!$C:$L, 2, FALSE))","v":{"$error":"#N/A"}},null,null,{"$error":"#N/A"},{"$f":"VLOOKUP($C182, 'Nanodrop Data Raw'!$C:$L, 3, FALSE)","v":{"$error":"#N/A"}},{"$f":"VLOOKUP($C182, 'Nanodrop Data Raw'!$C:$L, 4, FALSE)","v":{"$error":"#N/A"}},null,null,null,null,{"$f":"'Sample Information'!$H$6","v":0},{"$f":"'Sample Information'!$H$5","v":0},null,null,{"$f":"'Sample Information'!$H$7","v":0},null,{"$error":"#N/A"}]
[{"$f":"'Sample Information'!A183","v":182},{"$f":"'Sample Information'!B183","v":0},"0-DNA",{"$f":"'Sample Information'!D183","v":0},{"$f":"IF(VLOOKUP($C183, 'Nanodrop Data Raw'!$C:$L, 10, FALSE)<>\"\", VLOOKUP($C183, 'Nanodrop Data Raw'!$C:$L, 10, FALSE), VLOOKUP($C183, 'Nanodrop Data Raw'!$C:$L, 2, FALSE))","v":{"$error":"#N/A"}},null,null,{"$error":"#N/A"},{"$f":"VLOOKUP($C183, 'Nanodrop Data Raw'!$C:$L, 3, FALSE)","v":{"$error":"#N/A"}},{"$f":"VLOOKUP($C183, 'Nanodrop Data Raw'!$C:$L, 4, FALSE)","v":{"$error":"#N/A"}},null,null,null,null,{"$f":"'Sample Information'!$H$6","v":0},{"$f":"'Sample Information'!$H$5","v":0},null,null,{"$f":"'Sample Information'!$H$7","v":0},null,{"$error":"#N/A"}]
[{"$f":"'Sample Information'!A184","v":183},{"$f":"'Sample Information'!B184","v":0},"0-DNA",{"$f":"'Sample Information'!D184","v":0},{"$f":"IF(VLOOKUP($C184, 'Nanodrop Data Raw'!$C:$L, 10, FALSE)<>\"\", VLOOKUP($C184, 'Nanodrop Data Raw'!$C:$L, 10, FALSE), VLOOKUP($C184, 'Nanodrop Data Raw'!$C:$L, 2, FALSE))","v":{"$error":"#N/A"}},null,null,{"$error":"#N/A"},{"$f":"VLOOKUP($C184, 'Nanodrop Data Raw'!$C:$L, 3, FALSE)","v":{"$error":"#N/A"}},{"$f":"VLOOKUP($C184, 'Nanodrop Data Raw'!$C:$L, 4, FALSE)","v":{"$error":"#N/A"}},null,null,null,null,{"$f":"'Sample Information'!$H$6","v":0},{"$f":"'Sample Information'!$H$5","v":0},null,null,{"$f":"'Sample Information'!$H$7","v":0},null,{"$error":"#N/A"}]
[{"$f":"'Sample Information'!A185","v":184},{"$f":"'Sample Information'!B185","v":0},"0-DNA",{"$f":"'Sample Information'!D185","v":0},{"$f":"IF(VLOOKUP($C185, 'Nanodrop Data Raw'!$C:$L, 10, FALSE)<>\"\", VLOOKUP($C185, 'Nanodrop Data Raw'!$C:$L, 10, FALSE), VLOOKUP($C185, 'Nanodrop Data Raw'!$C:$L, 2, FALSE))","v":{"$error":"#N/A"}},null,null,{"$error":"#N/A"},{"$f":"VLOOKUP($C185, 'Nanodrop Data Raw'!$C:$L, 3, FALSE)","v":{"$error":"#N/A"}},{"$f":"VLOOKUP($C185, 'Nanodrop Data Raw'!$C:$L, 4, FALSE)","v":{"$error":"#N/A"}},null,null,null,null,{"$f":"'Sample Information'!$H$6","v":0},{"$f":"'Sample Information'!$H$5","v":0},null,null,{"$f":"'Sample Information'!$H$7","v":0},null,{"$error":"#N/A"}]
[{"$f":"'Sample Information'!A186","v":185},{"$f":"'Sample Information'!B186","v":0},"0-DNA",{"$f":"'Sample Information'!D186","v":0},{"$f":"IF(VLOOKUP($C186, 'Nanodrop Data Raw'!$C:$L, 10, FALSE)<>\"\", VLOOKUP($C186, 'Nanodrop Data Raw'!$C:$L, 10, FALSE), VLOOKUP($C186, 'Nanodrop Data Raw'!$C:$L, 2, FALSE))","v":{"$error":"#N/A"}},null,null,{"$error":"#N/A"},{"$f":"VLOOKUP($C186, 'Nanodrop Data Raw'!$C:$L, 3, FALSE)","v":{"$error":"#N/A"}},{"$f":"VLOOKUP($C186, 'Nanodrop Data Raw'!$C:$L, 4, FALSE)","v":{"$error":"#N/A"}},null,null,null,null,{"$f":"'Sample Information'!$H$6","v":0},{"$f":"'Sample Information'!$H$5","v":0},null,null,{"$f":"'Sample Information'!$H$7","v":0},null,{"$error":"#N/A"}]
[{"$f":"'Sample Information'!A187","v":186},{"$f":"'Sample Information'!B187","v":0},"0-DNA",{"$f":"'Sample Information'!D187","v":0},{"$f":"IF(VLOOKUP($C187, 'Nanodrop Data Raw'!$C:$L, 10, FALSE)<>\"\", VLOOKUP($C187, 'Nanodrop Data Raw'!$C:$L, 10, FALSE), VLOOKUP($C187, 'Nanodrop Data Raw'!$C:$L, 2, FALSE))","v":{"$error":"#N/A"}},null,null,{"$error":"#N/A"},{"$f":"VLOOKUP($C187, 'Nanodrop Data Raw'!$C:$L, 3, FALSE)","v":{"$error":"#N/A"}},{"$f":"VLOOKUP($C187, 'Nanodrop Data Raw'!$C:$L, 4, FALSE)","v":{"$error":"#N/A"}},null,null,null,null,{"$f":"'Sample Information'!$H$6","v":0},{"$f":"'Sample Information'!$H$5","v":0},null,null,{"$f":"'Sample Information'!$H$7","v":0},null,{"$error":"#N/A"}]
[{"$f":"'Sample Information'!A188","v":187},{"$f":"'Sample Information'!B188","v":0},"0-DNA",{"$f":"'Sample Information'!D188","v":0},{"$f":"IF(VLOOKUP($C188, 'Nanodrop Data Raw'!$C:$L, 10, FALSE)<>\"\", VLOOKUP($C188, 'Nanodrop Data Raw'!$C:$L, 10, FALSE), VLOOKUP($C188, 'Nanodrop Data Raw'!$C:$L, 2, FALSE))","v":{"$error":"#N/A"}},null,null,{"$error":"#N/A"},{"$f":"VLOOKUP($C188, 'Nanodrop Data Raw'!$C:$L, 3, FALSE)","v":{"$error":"#N/A"}},{"$f":"VLOOKUP($C188, 'Nanodrop Data Raw'!$C:$L, 4, FALSE)","v":{"$error":"#N/A"}},null,null,null,null,{"$f":"'Sample Information'!$H$6","v":0},{"$f":"'Sample Information'!$H$5","v":0},null,null,{"$f":"'Sample Information'!$H$7","v":0},null,{"$error":"#N/A"}]
[{"$f":"'Sample Information'!A189","v":188},{"$f":"'Sample Information'!B189","v":0},"0-DNA",{"$f":"'Sample Information'!D189","v":0},{"$f":"IF(VLOOKUP($C189, 'Nanodrop Data Raw'!$C:$L, 10, FALSE)<>\"\", VLOOKUP($C189, 'Nanodrop Data Raw'!$C:$L, 10, FALSE), VLOOKUP($C189, 'Nanodrop Data Raw'!$C:$L, 2, FALSE))","v":{"$error":"#N/A"}},null,null,{"$error":"#N/A"},{"$f":"VLOOKUP($C189, 'Nanodrop Data Raw'!$C:$L, 3, FALSE)","v":{"$error":"#N/A"}},{"$f":"VLOOKUP($C189, 'Nanodrop Data Raw'!$C:$L, 4, FALSE)","v":{"$error":"#N/A"}},null,null,null,null,{"$f":"'Sample Information'!$H$6","v":0},{"$f":"'Sample Information'!$H$5","v":0},null,null,{"$f":"'Sample Information'!$H$7","v":0},null,{"$error":"#N/A"}]
[{"$f":"'Sample Information'!A190","v":189},{"$f":"'Sample Information'!B190","v":0},"0-DNA",{"$f":"'Sample Information'!D190","v":0},{"$f":"IF(VLOOKUP($C190, 'Nanodrop Data Raw'!$C:$L, 10, FALSE)<>\"\", VLOOKUP($C190, 'Nanodrop Data Raw'!$C:$L, 10, FALSE), VLOOKUP($C190, 'Nanodrop Data Raw'!$C:$L, 2, FALSE))","v":{"$error":"#N/A"}},null,null,{"$error":"#N/A"},{"$f":"VLOOKUP($C190, 'Nanodrop Data Raw'!$C:$L, 3, FALSE)","v":{"$error":"#N/A"}},{"$f":"VLOOKUP($C190, 'Nanodrop Data Raw'!$C:$L, 4, FALSE)","v":{"$error":"#N/A"}},null,null,null,null,{"$f":"'Sample Information'!$H$6","v":0},{"$f":"'Sample Information'!$H$5","v":0},null,null,{"$f":"'Sample Information'!$H$7","v":0},null,{"$error":"#N/A"}]
[{"$f":"'Sample Information'!A191","v":190},{"$f":"'Sample Information'!B191","v":0},"0-DNA",{"$f":"'Sample Information'!D191","v":0},{"$f":"IF(VLOOKUP($C191, 'Nanodrop Data Raw'!$C:$L, 10, FALSE)<>\"\", VLOOKUP($C191, 'Nanodrop Data Raw'!$C:$L, 10, FALSE), VLOOKUP($C191, 'Nanodrop Data Raw'!$C:$L, 2, FALSE))","v":{"$error":"#N/A"}},null,null,{"$error":"#N/A"},{"$f":"VLOOKUP($C191, 'Nanodrop Data Raw'!$C:$L, 3, FALSE)","v":{"$error":"#N/A"}},{"$f":"VLOOKUP($C191, 'Nanodrop Data Raw'!$C:$L, 4, FALSE)","v":{"$error":"#N/A"}},null,null,null,null,{"$f":"'Sample Information'!$H$6","v":0},{"$f":"'Sample Information'!$H$5","v":0},null,null,{"$f":"'Sample Information'!$H$7","v":0},null,{"$error":"#N/A"}]
[{"$f":"'Sample Information'!A192","v":191},{"$f":"'Sample Information'!B192","v":0},"0-DNA",{"$f":"'Sample Information'!D192","v":0},{"$f":"IF(VLOOKUP($C192, 'Nanodrop Data Raw'!$C:$L, 10, FALSE)<>\"\", VLOOKUP($C192, 'Nanodrop Data Raw'!$C:$L, 10, FALSE), VLOOKUP($C192, 'Nanodrop Data Raw'!$C:$L, 2, FALSE))","v":{"$error":"#N/A"}},null,null,{"$error":"#N/A"},{"$f":"VLOOKUP($C192, 'Nanodrop Data Raw'!$C:$L, 3, FALSE)","v":{"$error":"#N/A"}},{"$f":"VLOOKUP($C192, 'Nanodrop Data Raw'!$C:$L, 4, FALSE)","v":{"$error":"#N/A"}},null,null,null,null,{"$f":"'Sample Information'!$H$6","v":0},{"$f":"'Sample Information'!$H$5","v":0},null,null,{"$f":"'Sample Information'!$H$7","v":0},null,{"$error":"#N/A"}]
[{"$f":"'Sample Information'!A193","v":192},{"$f":"'Sample Information'!B193","v":0},"0-DNA",{"$f":"'Sample Information'!D193","v":0},{"$f":"IF(VLOOKUP($C193, 'Nanodrop Data Raw'!$C:$L, 10, FALSE)<>\"\", VLOOKUP($C193, 'Nanodrop Data Raw'!$C:$L, 10, FALSE), VLOOKUP($C193, 'Nanodrop Data Raw'!$C:$L, 2, FALSE))","v":{"$error":"#N/A"}},null,null,{"$error":"#N/A"},{"$f":"VLOOKUP($C193, 'Nanodrop Data Raw'!$C:$L, 3, FALSE)","v":{"$error":"#N/A"}},{"$f":"VLOOKUP($C193, 'Nanodrop Data Raw'!$C:$L, 4, FALSE)","v":{"$error":"#N/A"}},null,null,null,null,{"$f":"'Sample Information'!$H$6","v":0},{"$f":"'Sample Information'!$H$5","v":0},null,null,{"$f":"'Sample Information'!$H$7","v":0},null,{"$error":"#N/A"}]
[{"$f":"'Sample Information'!A194","v":193},{"$f":"'Sample Information'!B194","v":0},"0-DNA",{"$f":"'Sample Information'!D194","v":0},{"$f":"IF(VLOOKUP($C194, 'Nanodrop Data Raw'!$C:$L, 10, FALSE)<>\"\", VLOOKUP($C194, 'Nanodrop Data Raw'!$C:$L, 10, FALSE), VLOOKUP($C194, 'Nanodrop Data Raw'!$C:$L, 2, FALSE))","v":{"$error":"#N/A"}},null,null,{"$error":"#N/A"},{"$f":"VLOOKUP($C194, 'Nanodrop Data Raw'!$C:$L, 3, FALSE)","v":{"$error":"#N/A"}},{"$f":"VLOOKUP($C194, 'Nanodrop Data Raw'!$C:$L, 4, FALSE)","v":{"$error":"#N/A"}},null,null,null,null,{"$f":"'Sample Information'!$H$6","v":0},{"$f":"'Sample Information'!$H$5","v":0},null,null,{"$f":"'Sample Information'!$H$7","v":0},null,{"$error":"#N/A"}]
[{"$f":"'Sample Information'!A195","v":194},{"$f":"'Sample Information'!B195","v":0},{"$f":"CONCATENATE(B195,\"-DNA\")","v":"0-DNA"},{"$f":"'Sample Information'!D195","v":0},{"$f":"IF(VLOOKUP($C195, 'Nanodrop Data Raw'!$C:$L, 10, FALSE)<>\"\", VLOOKUP($C195, 'Nanodrop Data Raw'!$C:$L, 10, FALSE), VLOOKUP($C195, 'Nanodrop Data Raw'!$C:$L, 2, FALSE))","v":{"$error":"#N/A"}},null,null,{"$f":"E195*F195/1000","v":{"$error":"#N/A"}},{"$f":"VLOOKUP($C195, 'Nanodrop Data Raw'!$C:$L, 3, FALSE)","v":{"$error":"#N/A"}},{"$f":"VLOOKUP($C195, 'Nanodrop Data Raw'!$C:$L, 4, FALSE)","v":{"$error":"#N/A"}},null,null,null,null,{"$f":"'Sample Information'!$H$6","v":0},{"$f":"'Sample Information'!$H$5","v":0},null,null,{"$f":"'Sample Information'!$H$7","v":0},null,{"$f":"$N195/$E195","v":{"$error":"#N/A"}}]
[{"$f":"'Sample Information'!A196","v":195},{"$f":"'Sample Information'!B196","v":0},"0-DNA",{"$f":"'Sample Information'!D196","v":0},{"$f":"IF(VLOOKUP($C196, 'Nanodrop Data Raw'!$C:$L, 10, FALSE)<>\"\", VLOOKUP($C196, 'Nanodrop Data Raw'!$C:$L, 10, FALSE), VLOOKUP($C196, 'Nanodrop Data Raw'!$C:$L, 2, FALSE))","v":{"$error":"#N/A"}},null,null,{"$error":"#N/A"},{"$f":"VLOOKUP($C196, 'Nanodrop Data Raw'!$C:$L, 3, FALSE)","v":{"$error":"#N/A"}},{"$f":"VLOOKUP($C196, 'Nanodrop Data Raw'!$C:$L, 4, FALSE)","v":{"$error":"#N/A"}},null,null,null,null,{"$f":"'Sample Information'!$H$6","v":0},{"$f":"'Sample Information'!$H$5","v":0},null,null,{"$f":"'Sample Information'!$H$7","v":0},null,{"$error":"#N/A"}]
[{"$f":"'Sample Information'!A197","v":196},{"$f":"'Sample Information'!B197","v":0},"0-DNA",{"$f":"'Sample Information'!D197","v":0},{"$f":"IF(VLOOKUP($C197, 'Nanodrop Data Raw'!$C:$L, 10, FALSE)<>\"\", VLOOKUP($C197, 'Nanodrop Data Raw'!$C:$L, 10, FALSE), VLOOKUP($C197, 'Nanodrop Data Raw'!$C:$L, 2, FALSE))","v":{"$error":"#N/A"}},null,null,{"$error":"#N/A"},{"$f":"VLOOKUP($C197, 'Nanodrop Data Raw'!$C:$L, 3, FALSE)","v":{"$error":"#N/A"}},{"$f":"VLOOKUP($C197, 'Nanodrop Data Raw'!$C:$L, 4, FALSE)","v":{"$error":"#N/A"}},null,null,null,null,{"$f":"'Sample Information'!$H$6","v":0},{"$f":"'Sample Information'!$H$5","v":0},null,null,{"$f":"'Sample Information'!$H$7","v":0},null,{"$error":"#N/A"}]
[{"$f":"'Sample Information'!A198","v":197},{"$f":"'Sample Information'!B198","v":0},"0-DNA",{"$f":"'Sample Information'!D198","v":0},{"$f":"IF(VLOOKUP($C198, 'Nanodrop Data Raw'!$C:$L, 10, FALSE)<>\"\", VLOOKUP($C198, 'Nanodrop Data Raw'!$C:$L, 10, FALSE), VLOOKUP($C198, 'Nanodrop Data Raw'!$C:$L, 2, FALSE))","v":{"$error":"#N/A"}},null,null,{"$error":"#N/A"},{"$f":"VLOOKUP($C198, 'Nanodrop Data Raw'!$C:$L, 3, FALSE)","v":{"$error":"#N/A"}},{"$f":"VLOOKUP($C198, 'Nanodrop Data Raw'!$C:$L, 4, FALSE)","v":{"$error":"#N/A"}},null,null,null,null,{"$f":"'Sample Information'!$H$6","v":0},{"$f":"'Sample Information'!$H$5","v":0},null,null,{"$f":"'Sample Information'!$H$7","v":0},null,{"$error":"#N/A"}]
[{"$f":"'Sample Information'!A199","v":198},{"$f":"'Sample Information'!B199","v":0},"0-DNA",{"$f":"'Sample Information'!D199","v":0},{"$f":"IF(VLOOKUP($C199, 'Nanodrop Data Raw'!$C:$L, 10, FALSE)<>\"\", VLOOKUP($C199, 'Nanodrop Data Raw'!$C:$L, 10, FALSE), VLOOKUP($C199, 'Nanodrop Data Raw'!$C:$L, 2, FALSE))","v":{"$error":"#N/A"}},null,null,{"$error":"#N/A"},{"$f":"VLOOKUP($C199, 'Nanodrop Data Raw'!$C:$L, 3, FALSE)","v":{"$error":"#N/A"}},{"$f":"VLOOKUP($C199, 'Nanodrop Data Raw'!$C:$L, 4, FALSE)","v":{"$error":"#N/A"}},null,null,null,null,{"$f":"'Sample Information'!$H$6","v":0},{"$f":"'Sample Information'!$H$5","v":0},null,null,{"$f":"'Sample Information'!$H$7","v":0},null,{"$error":"#N/A"}]
[{"$f":"'Sample Information'!A200","v":199},{"$f":"'Sample Information'!B200","v":0},"0-DNA",{"$f":"'Sample Information'!D200","v":0},{"$f":"IF(VLOOKUP($C200, 'Nanodrop Data Raw'!$C:$L, 10, FALSE)<>\"\", VLOOKUP($C200, 'Nanodrop Data Raw'!$C:$L, 10, FALSE), VLOOKUP($C200, 'Nanodrop Data Raw'!$C:$L, 2, FALSE))","v":{"$error":"#N/A"}},null,null,{"$error":"#N/A"},{"$f":"VLOOKUP($C200, 'Nanodrop Data Raw'!$C:$L, 3, FALSE)","v":{"$error":"#N/A"}},{"$f":"VLOOKUP($C200, 'Nanodrop Data Raw'!$C:$L, 4, FALSE)","v":{"$error":"#N/A"}},null,null,null,null,{"$f":"'Sample Information'!$H$6","v":0},{"$f":"'Sample Information'!$H$5","v":0},null,null,{"$f":"'Sample Information'!$H$7","v":0},null,{"$error":"#N/A"}]
[{"$f":"'Sample Information'!A201","v":200},{"$f":"'Sample Information'!B201","v":0},"0-DNA",{"$f":"'Sample Information'!D201","v":0},{"$f":"IF(VLOOKUP($C201, 'Nanodrop Data Raw'!$C:$L, 10, FALSE)<>\"\", VLOOKUP($C201, 'Nanodrop Data Raw'!$C:$L, 10, FALSE), VLOOKUP($C201, 'Nanodrop Data Raw'!$C:$L, 2, FALSE))","v":{"$error":"#N/A"}},null,null,{"$error":"#N/A"},{"$f":"VLOOKUP($C201, 'Nanodrop Data Raw'!$C:$L, 3, FALSE)","v":{"$error":"#N/A"}},{"$f":"VLOOKUP($C201, 'Nanodrop Data Raw'!$C:$L, 4, FALSE)","v":{"$error":"#N/A"}},null,null,null,null,{"$f":"'Sample Information'!$H$6","v":0},{"$f":"'Sample Information'!$H$5","v":0},null,null,{"$f":"'Sample Information'!$H$7","v":0},null,{"$error":"#N/A"}]
[{"$f":"'Sample Information'!A202","v":201},{"$f":"'Sample Information'!B202","v":0},"0-DNA",{"$f":"'Sample Information'!D202","v":0},{"$f":"IF(VLOOKUP($C202, 'Nanodrop Data Raw'!$C:$L, 10, FALSE)<>\"\", VLOOKUP($C202, 'Nanodrop Data Raw'!$C:$L, 10, FALSE), VLOOKUP($C202, 'Nanodrop Data Raw'!$C:$L, 2, FALSE))","v":{"$error":"#N/A"}},null,null,{"$error":"#N/A"},{"$f":"VLOOKUP($C202, 'Nanodrop Data Raw'!$C:$L, 3, FALSE)","v":{"$error":"#N/A"}},{"$f":"VLOOKUP($C202, 'Nanodrop Data Raw'!$C:$L, 4, FALSE)","v":{"$error":"#N/A"}},null,null,null,null,{"$f":"'Sample Information'!$H$6","v":0},{"$f":"'Sample Information'!$H$5","v":0},null,null,{"$f":"'Sample Information'!$H$7","v":0},null,{"$error":"#N/A"}]
[{"$f":"'Sample Information'!A203","v":202},{"$f":"'Sample Information'!B203","v":0},"0-DNA",{"$f":"'Sample Information'!D203","v":0},{"$f":"IF(VLOOKUP($C203, 'Nanodrop Data Raw'!$C:$L, 10, FALSE)<>\"\", VLOOKUP($C203, 'Nanodrop Data Raw'!$C:$L, 10, FALSE), VLOOKUP($C203, 'Nanodrop Data Raw'!$C:$L, 2, FALSE))","v":{"$error":"#N/A"}},null,null,{"$error":"#N/A"},{"$f":"VLOOKUP($C203, 'Nanodrop Data Raw'!$C:$L, 3, FALSE)","v":{"$error":"#N/A"}},{"$f":"VLOOKUP($C203, 'Nanodrop Data Raw'!$C:$L, 4, FALSE)","v":{"$error":"#N/A"}},null,null,null,null,{"$f":"'Sample Information'!$H$6","v":0},{"$f":"'Sample Information'!$H$5","v":0},null,null,{"$f":"'Sample Information'!$H$7","v":0},null,{"$error":"#N/A"}]
[{"$f":"'Sample Information'!A204","v":203},{"$f":"'Sample Information'!B204","v":0},"0-DNA",{"$f":"'Sample Information'!D204","v":0},{"$f":"IF(VLOOKUP($C204, 'Nanodrop Data Raw'!$C:$L, 10, FALSE)<>\"\", VLOOKUP($C204, 'Nanodrop Data Raw'!$C:$L, 10, FALSE), VLOOKUP($C204, 'Nanodrop Data Raw'!$C:$L, 2, FALSE))","v":{"$error":"#N/A"}},null,null,{"$error":"#N/A"},{"$f":"VLOOKUP($C204, 'Nanodrop Data Raw'!$C:$L, 3, FALSE)","v":{"$error":"#N/A"}},{"$f":"VLOOKUP($C204, 'Nanodrop Data Raw'!$C:$L, 4, FALSE)","v":{"$error":"#N/A"}},null,null,null,null,{"$f":"'Sample Information'!$H$6","v":0},{"$f":"'Sample Information'!$H$5","v":0},null,null,{"$f":"'Sample Information'!$H$7","v":0},null,{"$error":"#N/A"}]
[{"$f":"'Sample Information'!A205","v":204},{"$f":"'Sample Information'!B205","v":0},"0-DNA",{"$f":"'Sample Information'!D205","v":0},{"$f":"IF(VLOOKUP($C205, 'Nanodrop Data Raw'!$C:$L, 10, FALSE)<>\"\", VLOOKUP($C205, 'Nanodrop Data Raw'!$C:$L, 10, FALSE), VLOOKUP($C205, 'Nanodrop Data Raw'!$C:$L, 2, FALSE))","v":{"$error":"#N/A"}},null,null,{"$error":"#N/A"},{"$f":"VLOOKUP($C205, 'Nanodrop Data Raw'!$C:$L, 3, FALSE)","v":{"$error":"#N/A"}},{"$f":"VLOOKUP($C205, 'Nanodrop Data Raw'!$C:$L, 4, FALSE)","v":{"$error":"#N/A"}},null,null,null,null,{"$f":"'Sample Information'!$H$6","v":0},{"$f":"'Sample Information'!$H$5","v":0},null,null,{"$f":"'Sample Information'!$H$7","v":0},null,{"$error":"#N/A"}]
[{"$f":"'Sample Information'!A206","v":205},{"$f":"'Sample Information'!B206","v":0},"0-DNA",{"$f":"'Sample Information'!D206","v":0},{"$f":"IF(VLOOKUP($C206, 'Nanodrop Data Raw'!$C:$L, 10, FALSE)<>\"\", VLOOKUP($C206, 'Nanodrop Data Raw'!$C:$L, 10, FALSE), VLOOKUP($C206, 'Nanodrop Data Raw'!$C:$L, 2, FALSE))","v":{"$error":"#N/A"}},null,null,{"$error":"#N/A"},{"$f":"VLOOKUP($C206, 'Nanodrop Data Raw'!$C:$L, 3, FALSE)","v":{"$error":"#N/A"}},{"$f":"VLOOKUP($C206, 'Nanodrop Data Raw'!$C:$L, 4, FALSE)","v":{"$error":"#N/A"}},null,null,null,null,{"$f":"'Sample Information'!$H$6","v":0},{"$f":"'Sample Information'!$H$5","v":0},null,null,{"$f":"'Sample Information'!$H$7","v":0},null,{"$error":"#N/A"}]
[{"$f":"'Sample Information'!A207","v":206},{"$f":"'Sample Information'!B207","v":0},"0-DNA",{"$f":"'Sample Information'!D207","v":0},{"$f":"IF(VLOOKUP($C207, 'Nanodrop Data Raw'!$C:$L, 10, FALSE)<>\"\", VLOOKUP($C207, 'Nanodrop Data Raw'!$C:$L, 10, FALSE), VLOOKUP($C207, 'Nanodrop Data Raw'!$C:$L, 2, FALSE))","v":{"$error":"#N/A"}},null,null,{"$error":"#N/A"},{"$f":"VLOOKUP($C207, 'Nanodrop Data Raw'!$C:$L, 3, FALSE)","v":{"$error":"#N/A"}},{"$f":"VLOOKUP($C207, 'Nanodrop Data Raw'!$C:$L, 4, FALSE)","v":{"$error":"#N/A"}},null,null,null,null,{"$f":"'Sample Information'!$H$6","v":0},{"$f":"'Sample Information'!$H$5","v":0},null,null,{"$f":"'Sample Information'!$H$7","v":0},null,{"$error":"#N/A"}]
[{"$f":"'Sample Information'!A208","v":207},{"$f":"'Sample Information'!B208","v":0},"0-DNA",{"$f":"'Sample Information'!D208","v":0},{"$f":"IF(VLOOKUP($C208, 'Nanodrop Data Raw'!$C:$L, 10, FALSE)<>\"\", VLOOKUP($C208, 'Nanodrop Data Raw'!$C:$L, 10, FALSE), VLOOKUP($C208, 'Nanodrop Data Raw'!$C:$L, 2, FALSE))","v":{"$error":"#N/A"}},null,null,{"$error":"#N/A"},{"$f":"VLOOKUP($C208, 'Nanodrop Data Raw'!$C:$L, 3, FALSE)","v":{"$error":"#N/A"}},{"$f":"VLOOKUP($C208, 'Nanodrop Data Raw'!$C:$L, 4, FALSE)","v":{"$error":"#N/A"}},null,null,null,null,{"$f":"'Sample Information'!$H$6","v":0},{"$f":"'Sample Information'!$H$5","v":0},null,null,{"$f":"'Sample Information'!$H$7","v":0},null,{"$error":"#N/A"}]
[{"$f":"'Sample Information'!A209","v":208},{"$f":"'Sample Information'!B209","v":0},"0-DNA",{"$f":"'Sample Information'!D209","v":0},{"$f":"IF(VLOOKUP($C209, 'Nanodrop Data Raw'!$C:$L, 10, FALSE)<>\"\", VLOOKUP($C209, 'Nanodrop Data Raw'!$C:$L, 10, FALSE), VLOOKUP($C209, 'Nanodrop Data Raw'!$C:$L, 2, FALSE))","v":{"$error":"#N/A"}},null,null,{"$error":"#N/A"},{"$f":"VLOOKUP($C209, 'Nanodrop Data Raw'!$C:$L, 3, FALSE)","v":{"$error":"#N/A"}},{"$f":"VLOOKUP($C209, 'Nanodrop Data Raw'!$C:$L, 4, FALSE)","v":{"$error":"#N/A"}},null,null,null,null,{"$f":"'Sample Information'!$H$6","v":0},{"$f":"'Sample Information'!$H$5","v":0},null,null,{"$f":"'Sample Information'!$H$7","v":0},null,{"$error":"#N/A"}]
[{"$f":"'Sample Information'!A210","v":209},{"$f":"'Sample Information'!B210","v":0},"0-DNA",{"$f":"'Sample Information'!D210","v":0},{"$f":"IF(VLOOKUP($C210, 'Nanodrop Data Raw'!$C:$L, 10, FALSE)<>\"\", VLOOKUP($C210, 'Nanodrop Data Raw'!$C:$L, 10, FALSE), VLOOKUP($C210, 'Nanodrop Data Raw'!$C:$L, 2, FALSE))","v":{"$error":"#N/A"}},null,null,{"$error":"#N/A"},{"$f":"VLOOKUP($C210, 'Nanodrop Data Raw'!$C:$L, 3, FALSE)","v":{"$error":"#N/A"}},{"$f":"VLOOKUP($C210, 'Nanodrop Data Raw'!$C:$L, 4, FALSE)","v":{"$error":"#N/A"}},null,null,null,null,{"$f":"'Sample Information'!$H$6","v":0},{"$f":"'Sample Information'!$H$5","v":0},null,null,{"$f":"'Sample Information'!$H$7","v":0},null,{"$error":"#N/A"}]
[{"$f":"'Sample Information'!A211","v":210},{"$f":"'Sample Information'!B211","v":0},"0-DNA",{"$f":"'Sample Information'!D211","v":0},{"$f":"IF(VLOOKUP($C211, 'Nanodrop Data Raw'!$C:$L, 10, FALSE)<>\"\", VLOOKUP($C211, 'Nanodrop Data Raw'!$C:$L, 10, FALSE), VLOOKUP($C211, 'Nanodrop Data Raw'!$C:$L, 2, FALSE))","v":{"$error":"#N/A"}},null,null,{"$error":"#N/A"},{"$f":"VLOOKUP($C211, 'Nanodrop Data Raw'!$C:$L, 3, FALSE)","v":{"$error":"#N/A"}},{"$f":"VLOOKUP($C211, 'Nanodrop Data Raw'!$C:$L, 4, FALSE)","v":{"$error":"#N/A"}},null,null,null,null,{"$f":"'Sample Information'!$H$6","v":0},{"$f":"'Sample Information'!$H$5","v":0},null,null,{"$f":"'Sample Information'!$H$7","v":0},null,{"$error":"#N/A"}]
[{"$f":"'Sample Information'!A212","v":211},{"$f":"'Sample Information'!B212","v":0},"0-DNA",{"$f":"'Sample Information'!D212","v":0},{"$f":"IF(VLOOKUP($C212, 'Nanodrop Data Raw'!$C:$L, 10, FALSE)<>\"\", VLOOKUP($C212, 'Nanodrop Data Raw'!$C:$L, 10, FALSE), VLOOKUP($C212, 'Nanodrop Data Raw'!$C:$L, 2, FALSE))","v":{"$error":"#N/A"}},null,null,{"$error":"#N/A"},{"$f":"VLOOKUP($C212, 'Nanodrop Data Raw'!$C:$L, 3, FALSE)","v":{"$error":"#N/A"}},{"$f":"VLOOKUP($C212, 'Nanodrop Data Raw'!$C:$L, 4, FALSE)","v":{"$error":"#N/A"}},null,null,null,null,{"$f":"'Sample Information'!$H$6","v":0},{"$f":"'Sample Information'!$H$5","v":0},null,null,{"$f":"'Sample Information'!$H$7","v":0},null,{"$error":"#N/A"}]
[{"$f":"'Sample Information'!A213","v":212},{"$f":"'Sample Information'!B213","v":0},"0-DNA",{"$f":"'Sample Information'!D213","v":0},{"$f":"IF(VLOOKUP($C213, 'Nanodrop Data Raw'!$C:$L, 10, FALSE)<>\"\", VLOOKUP($C213, 'Nanodrop Data Raw'!$C:$L, 10, FALSE), VLOOKUP($C213, 'Nanodrop Data Raw'!$C:$L, 2, FALSE))","v":{"$error":"#N/A"}},null,null,{"$error":"#N/A"},{"$f":"VLOOKUP($C213, 'Nanodrop Data Raw'!$C:$L, 3, FALSE)","v":{"$error":"#N/A"}},{"$f":"VLOOKUP($C213, 'Nanodrop Data Raw'!$C:$L, 4, FALSE)","v":{"$error":"#N/A"}},null,null,null,null,{"$f":"'Sample Information'!$H$6","v":0},{"$f":"'Sample Information'!$H$5","v":0},null,null,{"$f":"'Sample Information'!$H$7","v":0},null,{"$error":"#N/A"}]
[{"$f":"'Sample Information'!A214","v":213},{"$f":"'Sample Information'!B214","v":0},"0-DNA",{"$f":"'Sample Information'!D214","v":0},{"$f":"IF(VLOOKUP($C214, 'Nanodrop Data Raw'!$C:$L, 10, FALSE)<>\"\", VLOOKUP($C214, 'Nanodrop Data Raw'!$C:$L, 10, FALSE), VLOOKUP($C214, 'Nanodrop Data Raw'!$C:$L, 2, FALSE))","v":{"$error":"#N/A"}},null,null,{"$error":"#N/A"},{"$f":"VLOOKUP($C214, 'Nanodrop Data Raw'!$C:$L, 3, FALSE)","v":{"$error":"#N/A"}},{"$f":"VLOOKUP($C214, 'Nanodrop Data Raw'!$C:$L, 4, FALSE)","v":{"$error":"#N/A"}},null,null,null,null,{"$f":"'Sample Information'!$H$6","v":0},{"$f":"'Sample Information'!$H$5","v":0},null,null,{"$f":"'Sample Information'!$H$7","v":0},null,{"$error":"#N/A"}]
[{"$f":"'Sample Information'!A215","v":214},{"$f":"'Sample Information'!B215","v":0},"0-DNA",{"$f":"'Sample Information'!D215","v":0},{"$f":"IF(VLOOKUP($C215, 'Nanodrop Data Raw'!$C:$L, 10, FALSE)<>\"\", VLOOKUP($C215, 'Nanodrop Data Raw'!$C:$L, 10, FALSE), VLOOKUP($C215, 'Nanodrop Data Raw'!$C:$L, 2, FALSE))","v":{"$error":"#N/A"}},null,null,{"$error":"#N/A"},{"$f":"VLOOKUP($C215, 'Nanodrop Data Raw'!$C:$L, 3, FALSE)","v":{"$error":"#N/A"}},{"$f":"VLOOKUP($C215, 'Nanodrop Data Raw'!$C:$L, 4, FALSE)","v":{"$error":"#N/A"}},null,null,null,null,{"$f":"'Sample Information'!$H$6","v":0},{"$f":"'Sample Information'!$H$5","v":0},null,null,{"$f":"'Sample Information'!$H$7","v":0},null,{"$error":"#N/A"}]
[{"$f":"'Sample Information'!A216","v":215},{"$f":"'Sample Information'!B216","v":0},"0-DNA",{"$f":"'Sample Information'!D216","v":0},{"$f":"IF(VLOOKUP($C216, 'Nanodrop Data Raw'!$C:$L, 10, FALSE)<>\"\", VLOOKUP($C216, 'Nanodrop Data Raw'!$C:$L, 10, FALSE), VLOOKUP($C216, 'Nanodrop Data Raw'!$C:$L, 2, FALSE))","v":{"$error":"#N/A"}},null,null,{"$error":"#N/A"},{"$f":"VLOOKUP($C216, 'Nanodrop Data Raw'!$C:$L, 3, FALSE)","v":{"$error":"#N/A"}},{"$f":"VLOOKUP($C216, 'Nanodrop Data Raw'!$C:$L, 4, FALSE)","v":{"$error":"#N/A"}},null,null,null,null,{"$f":"'Sample Information'!$H$6","v":0},{"$f":"'Sample Information'!$H$5","v":0},null,null,{"$f":"'Sample Information'!$H$7","v":0},null,{"$error":"#N/A"}]
[{"$f":"'Sample Information'!A217","v":216},{"$f":"'Sample Information'!B217","v":0},"0-DNA",{"$f":"'Sample Information'!D217","v":0},{"$f":"IF(VLOOKUP($C217, 'Nanodrop Data Raw'!$C:$L, 10, FALSE)<>\"\", VLOOKUP($C217, 'Nanodrop Data Raw'!$C:$L, 10, FALSE), VLOOKUP($C217, 'Nanodrop Data Raw'!$C:$L, 2, FALSE))","v":{"$error":"#N/A"}},null,null,{"$error":"#N/A"},{"$f":"VLOOKUP($C217, 'Nanodrop Data Raw'!$C:$L, 3, FALSE)","v":{"$error":"#N/A"}},{"$f":"VLOOKUP($C217, 'Nanodrop Data Raw'!$C:$L, 4, FALSE)","v":{"$error":"#N/A"}},null,null,null,null,{"$f":"'Sample Information'!$H$6","v":0},{"$f":"'Sample Information'!$H$5","v":0},null,null,{"$f":"'Sample Information'!$H$7","v":0},null,{"$error":"#N/A"}]
[{"$f":"'Sample Information'!A218","v":217},{"$f":"'Sample Information'!B218","v":0},"0-DNA",{"$f":"'Sample Information'!D218","v":0},{"$f":"IF(VLOOKUP($C218, 'Nanodrop Data Raw'!$C:$L, 10, FALSE)<>\"\", VLOOKUP($C218, 'Nanodrop Data Raw'!$C:$L, 10, FALSE), VLOOKUP($C218, 'Nanodrop Data Raw'!$C:$L, 2, FALSE))","v":{"$error":"#N/A"}},null,null,{"$error":"#N/A"},{"$f":"VLOOKUP($C218, 'Nanodrop Data Raw'!$C:$L, 3, FALSE)","v":{"$error":"#N/A"}},{"$f":"VLOOKUP($C218, 'Nanodrop Data Raw'!$C:$L, 4, FALSE)","v":{"$error":"#N/A"}},null,null,null,null,{"$f":"'Sample Information'!$H$6","v":0},{"$f":"'Sample Information'!$H$5","v":0},null,null,{"$f":"'Sample Information'!$H$7","v":0},null,{"$error":"#N/A"}]
[{"$f":"'Sample Information'!A219","v":218},{"$f":"'Sample Information'!B219","v":0},"0-DNA",{"$f":"'Sample Information'!D219","v":0},{"$f":"IF(VLOOKUP($C219, 'Nanodrop Data Raw'!$C:$L, 10, FALSE)<>\"\", VLOOKUP($C219, 'Nanodrop Data Raw'!$C:$L, 10, FALSE), VLOOKUP($C219, 'Nanodrop Data Raw'!$C:$L, 2, FALSE))","v":{"$error":"#N/A"}},null,null,{"$error":"#N/A"},{"$f":"VLOOKUP($C219, 'Nanodrop Data Raw'!$C:$L, 3, FALSE)","v":{"$error":"#N/A"}},{"$f":"VLOOKUP($C219, 'Nanodrop Data Raw'!$C:$L, 4, FALSE)","v":{"$error":"#N/A"}},null,null,null,null,{"$f":"'Sample Information'!$H$6","v":0},{"$f":"'Sample Information'!$H$5","v":0},null,null,{"$f":"'Sample Information'!$H$7","v":0},null,{"$error":"#N/A"}]
[{"$f":"'Sample Information'!A220","v":219},{"$f":"'Sample Information'!B220","v":0},"0-DNA",{"$f":"'Sample Information'!D220","v":0},{"$f":"IF(VLOOKUP($C220, 'Nanodrop Data Raw'!$C:$L, 10, FALSE)<>\"\", VLOOKUP($C220, 'Nanodrop Data Raw'!$C:$L, 10, FALSE), VLOOKUP($C220, 'Nanodrop Data Raw'!$C:$L, 2, FALSE))","v":{"$error":"#N/A"}},null,null,{"$error":"#N/A"},{"$f":"VLOOKUP($C220, 'Nanodrop Data Raw'!$C:$L, 3, FALSE)","v":{"$error":"#N/A"}},{"$f":"VLOOKUP($C220, 'Nanodrop Data Raw'!$C:$L, 4, FALSE)","v":{"$error":"#N/A"}},null,null,null,null,{"$f":"'Sample Information'!$H$6","v":0},{"$f":"'Sample Information'!$H$5","v":0},null,null,{"$f":"'Sample Information'!$H$7","v":0},null,{"$error":"#N/A"}]
[{"$f":"'Sample Information'!A221","v":220},{"$f":"'Sample Information'!B221","v":0},"0-DNA",{"$f":"'Sample Information'!D221","v":0},{"$f":"IF(VLOOKUP($C221, 'Nanodrop Data Raw'!$C:$L, 10, FALSE)<>\"\", VLOOKUP($C221, 'Nanodrop Data Raw'!$C:$L, 10, FALSE), VLOOKUP($C221, 'Nanodrop Data Raw'!$C:$L, 2, FALSE))","v":{"$error":"#N/A"}},null,null,{"$error":"#N/A"},{"$f":"VLOOKUP($C221, 'Nanodrop Data Raw'!$C:$L, 3, FALSE)","v":{"$error":"#N/A"}},{"$f":"VLOOKUP($C221, 'Nanodrop Data Raw'!$C:$L, 4, FALSE)","v":{"$error":"#N/A"}},null,null,null,null,{"$f":"'Sample Information'!$H$6","v":0},{"$f":"'Sample Information'!$H$5","v":0},null,null,{"$f":"'Sample Information'!$H$7","v":0},null,{"$error":"#N/A"}]
[{"$f":"'Sample Information'!A222","v":221},{"$f":"'Sample Information'!B222","v":0},"0-DNA",{"$f":"'Sample Information'!D222","v":0},{"$f":"IF(VLOOKUP($C222, 'Nanodrop Data Raw'!$C:$L, 10, FALSE)<>\"\", VLOOKUP($C222, 'Nanodrop Data Raw'!$C:$L, 10, FALSE), VLOOKUP($C222, 'Nanodrop Data Raw'!$C:$L, 2, FALSE))","v":{"$error":"#N/A"}},null,null,{"$error":"#N/A"},{"$f":"VLOOKUP($C222, 'Nanodrop Data Raw'!$C:$L, 3, FALSE)","v":{"$error":"#N/A"}},{"$f":"VLOOKUP($C222, 'Nanodrop Data Raw'!$C:$L, 4, FALSE)","v":{"$error":"#N/A"}},null,null,null,null,{"$f":"'Sample Information'!$H$6","v":0},{"$f":"'Sample Information'!$H$5","v":0},null,null,{"$f":"'Sample Information'!$H$7","v":0},null,{"$error":"#N/A"}]
[{"$f":"'Sample Information'!A223","v":222},{"$f":"'Sample Information'!B223","v":0},"0-DNA",{"$f":"'Sample Information'!D223","v":0},{"$f":"IF(VLOOKUP($C223, 'Nanodrop Data Raw'!$C:$L, 10, FALSE)<>\"\", VLOOKUP($C223, 'Nanodrop Data Raw'!$C:$L, 10, FALSE), VLOOKUP($C223, 'Nanodrop Data Raw'!$C:$L, 2, FALSE))","v":{"$error":"#N/A"}},null,null,{"$error":"#N/A"},{"$f":"VLOOKUP($C223, 'Nanodrop Data Raw'!$C:$L, 3, FALSE)","v":{"$error":"#N/A"}},{"$f":"VLOOKUP($C223, 'Nanodrop Data Raw'!$C:$L, 4, FALSE)","v":{"$error":"#N/A"}},null,null,null,null,{"$f":"'Sample Information'!$H$6","v":0},{"$f":"'Sample Information'!$H$5","v":0},null,null,{"$f":"'Sample Information'!$H$7","v":0},null,{"$error":"#N/A"}]
[{"$f":"'Sample Information'!A224","v":223},{"$f":"'Sample Information'!B224","v":0},"0-DNA",{"$f":"'Sample Information'!D224","v":0},{"$f":"IF(VLOOKUP($C224, 'Nanodrop Data Raw'!$C:$L, 10, FALSE)<>\"\", VLOOKUP($C224, 'Nanodrop Data Raw'!$C:$L, 10, FALSE), VLOOKUP($C224, 'Nanodrop Data Raw'!$C:$L, 2, FALSE))","v":{"$error":"#N/A"}},null,null,{"$error":"#N/A"},{"$f":"VLOOKUP($C224, 'Nanodrop Data Raw'!$C:$L, 3, FALSE)","v":{"$error":"#N/A"}},{"$f":"VLOOKUP($C224, 'Nanodrop Data Raw'!$C:$L, 4, FALSE)","v":{"$error":"#N/A"}},null,null,null,null,{"$f":"'Sample Information'!$H$6","v":0},{"$f":"'Sample Information'!$H$5","v":0},null,null,{"$f":"'Sample Information'!$H$7","v":0},null,{"$error":"#N/A"}]
[{"$f":"'Sample Information'!A225","v":224},{"$f":"'Sample Information'!B225","v":0},"0-DNA",{"$f":"'Sample Information'!D225","v":0},{"$f":"IF(VLOOKUP($C225, 'Nanodrop Data Raw'!$C:$L, 10, FALSE)<>\"\", VLOOKUP($C225, 'Nanodrop Data Raw'!$C:$L, 10, FALSE), VLOOKUP($C225, 'Nanodrop Data Raw'!$C:$L, 2, FALSE))","v":{"$error":"#N/A"}},null,null,{"$error":"#N/A"},{"$f":"VLOOKUP($C225, 'Nanodrop Data Raw'!$C:$L, 3, FALSE)","v":{"$error":"#N/A"}},{"$f":"VLOOKUP($C225, 'Nanodrop Data Raw'!$C:$L, 4, FALSE)","v":{"$error":"#N/A"}},null,null,null,null,{"$f":"'Sample Information'!$H$6","v":0},{"$f":"'Sample Information'!$H$5","v":0},null,null,{"$f":"'Sample Information'!$H$7","v":0},null,{"$error":"#N/A"}]
[{"$f":"'Sample Information'!A226","v":225},{"$f":"'Sample Information'!B226","v":0},"0-DNA",{"$f":"'Sample Information'!D226","v":0},{"$f":"IF(VLOOKUP($C226, 'Nanodrop Data Raw'!$C:$L, 10, FALSE)<>\"\", VLOOKUP($C226, 'Nanodrop Data Raw'!$C:$L, 10, FALSE), VLOOKUP($C226, 'Nanodrop Data Raw'!$C:$L, 2, FALSE))","v":{"$error":"#N/A"}},null,null,{"$error":"#N/A"},{"$f":"VLOOKUP($C226, 'Nanodrop Data Raw'!$C:$L, 3, FALSE)","v":{"$error":"#N/A"}},{"$f":"VLOOKUP($C226, 'Nanodrop Data Raw'!$C:$L, 4, FALSE)","v":{"$error":"#N/A"}},null,null,null,null,{"$f":"'Sample Information'!$H$6","v":0},{"$f":"'Sample Information'!$H$5","v":0},null,null,{"$f":"'Sample Information'!$H$7","v":0},null,{"$error":"#N/A"}]
[{"$f":"'Sample Information'!A227","v":226},{"$f":"'Sample Information'!B227","v":0},"0-DNA",{"$f":"'Sample Information'!D227","v":0},{"$f":"IF(VLOOKUP($C227, 'Nanodrop Data Raw'!$C:$L, 10, FALSE)<>\"\", VLOOKUP($C227, 'Nanodrop Data Raw'!$C:$L, 10, FALSE), VLOOKUP($C227, 'Nanodrop Data Raw'!$C:$L, 2, FALSE))","v":{"$error":"#N/A"}},null,null,{"$error":"#N/A"},{"$f":"VLOOKUP($C227, 'Nanodrop Data Raw'!$C:$L, 3, FALSE)","v":{"$error":"#N/A"}},{"$f":"VLOOKUP($C227, 'Nanodrop Data Raw'!$C:$L, 4, FALSE)","v":{"$error":"#N/A"}},null,null,null,null,{"$f":"'Sample Information'!$H$6","v":0},{"$f":"'Sample Information'!$H$5","v":0},null,null,{"$f":"'Sample Information'!$H$7","v":0},null,{"$error":"#N/A"}]
[{"$f":"'Sample Information'!A228","v":227},{"$f":"'Sample Information'!B228","v":0},"0-DNA",{"$f":"'Sample Information'!D228","v":0},{"$f":"IF(VLOOKUP($C228, 'Nanodrop Data Raw'!$C:$L, 10, FALSE)<>\"\", VLOOKUP($C228, 'Nanodrop Data Raw'!$C:$L, 10, FALSE), VLOOKUP($C228, 'Nanodrop Data Raw'!$C:$L, 2, FALSE))","v":{"$error":"#N/A"}},null,null,{"$error":"#N/A"},{"$f":"VLOOKUP($C228, 'Nanodrop Data Raw'!$C:$L, 3, FALSE)","v":{"$error":"#N/A"}},{"$f":"VLOOKUP($C228, 'Nanodrop Data Raw'!$C:$L, 4, FALSE)","v":{"$error":"#N/A"}},null,null,null,null,{"$f":"'Sample Information'!$H$6","v":0},{"$f":"'Sample Information'!$H$5","v":0},null,null,{"$f":"'Sample Information'!$H$7","v":0},null,{"$error":"#N/A"}]
[{"$f":"'Sample Information'!A229","v":228},{"$f":"'Sample Information'!B229","v":0},"0-DNA",{"$f":"'Sample Information'!D229","v":0},{"$f":"IF(VLOOKUP($C229, 'Nanodrop Data Raw'!$C:$L, 10, FALSE)<>\"\", VLOOKUP($C229, 'Nanodrop Data Raw'!$C:$L, 10, FALSE), VLOOKUP($C229, 'Nanodrop Data Raw'!$C:$L, 2, FALSE))","v":{"$error":"#N/A"}},null,null,{"$error":"#N/A"},{"$f":"VLOOKUP($C229, 'Nanodrop Data Raw'!$C:$L, 3, FALSE)","v":{"$error":"#N/A"}},{"$f":"VLOOKUP($C229, 'Nanodrop Data Raw'!$C:$L, 4, FALSE)","v":{"$error":"#N/A"}},null,null,null,null,{"$f":"'Sample Information'!$H$6","v":0},{"$f":"'Sample Information'!$H$5","v":0},null,null,{"$f":"'Sample Information'!$H$7","v":0},null,{"$error":"#N/A"}]
[{"$f":"'Sample Information'!A230","v":229},{"$f":"'Sample Information'!B230","v":0},"0-DNA",{"$f":"'Sample Information'!D230","v":0},{"$f":"IF(VLOOKUP($C230, 'Nanodrop Data Raw'!$C:$L, 10, FALSE)<>\"\", VLOOKUP($C230, 'Nanodrop Data Raw'!$C:$L, 10, FALSE), VLOOKUP($C230, 'Nanodrop Data Raw'!$C:$L, 2, FALSE))","v":{"$error":"#N/A"}},null,null,{"$error":"#N/A"},{"$f":"VLOOKUP($C230, 'Nanodrop Data Raw'!$C:$L, 3, FALSE)","v":{"$error":"#N/A"}},{"$f":"VLOOKUP($C230, 'Nanodrop Data Raw'!$C:$L, 4, FALSE)","v":{"$error":"#N/A"}},null,null,null,null,{"$f":"'Sample Information'!$H$6","v":0},{"$f":"'Sample Information'!$H$5","v":0},null,null,{"$f":"'Sample Information'!$H$7","v":0},null,{"$error":"#N/A"}]
[{"$f":"'Sample Information'!A231","v":230},{"$f":"'Sample Information'!B231","v":0},"0-DNA",{"$f":"'Sample Information'!D231","v":0},{"$f":"IF(VLOOKUP($C231, 'Nanodrop Data Raw'!$C:$L, 10, FALSE)<>\"\", VLOOKUP($C231, 'Nanodrop Data Raw'!$C:$L, 10, FALSE), VLOOKUP($C231, 'Nanodrop Data Raw'!$C:$L, 2, FALSE))","v":{"$error":"#N/A"}},null,null,{"$error":"#N/A"},{"$f":"VLOOKUP($C231, 'Nanodrop Data Raw'!$C:$L, 3, FALSE)","v":{"$error":"#N/A"}},{"$f":"VLOOKUP($C231, 'Nanodrop Data Raw'!$C:$L, 4, FALSE)","v":{"$error":"#N/A"}},null,null,null,null,{"$f":"'Sample Information'!$H$6","v":0},{"$f":"'Sample Information'!$H$5","v":0},null,null,{"$f":"'Sample Information'!$H$7","v":0},null,{"$error":"#N/A"}]
[{"$f":"'Sample Information'!A232","v":231},{"$f":"'Sample Information'!B232","v":0},"0-DNA",{"$f":"'Sample Information'!D232","v":0},{"$f":"IF(VLOOKUP($C232, 'Nanodrop Data Raw'!$C:$L, 10, FALSE)<>\"\", VLOOKUP($C232, 'Nanodrop Data Raw'!$C:$L, 10, FALSE), VLOOKUP($C232, 'Nanodrop Data Raw'!$C:$L, 2, FALSE))","v":{"$error":"#N/A"}},null,null,{"$error":"#N/A"},{"$f":"VLOOKUP($C232, 'Nanodrop Data Raw'!$C:$L, 3, FALSE)","v":{"$error":"#N/A"}},{"$f":"VLOOKUP($C232, 'Nanodrop Data Raw'!$C:$L, 4, FALSE)","v":{"$error":"#N/A"}},null,null,null,null,{"$f":"'Sample Information'!$H$6","v":0},{"$f":"'Sample Information'!$H$5","v":0},null,null,{"$f":"'Sample Information'!$H$7","v":0},null,{"$error":"#N/A"}]
[{"$f":"'Sample Information'!A233","v":232},{"$f":"'Sample Information'!B233","v":0},"0-DNA",{"$f":"'Sample Information'!D233","v":0},{"$f":"IF(VLOOKUP($C233, 'Nanodrop Data Raw'!$C:$L, 10, FALSE)<>\"\", VLOOKUP($C233, 'Nanodrop Data Raw'!$C:$L, 10, FALSE), VLOOKUP($C233, 'Nanodrop Data Raw'!$C:$L, 2, FALSE))","v":{"$error":"#N/A"}},null,null,{"$error":"#N/A"},{"$f":"VLOOKUP($C233, 'Nanodrop Data Raw'!$C:$L, 3, FALSE)","v":{"$error":"#N/A"}},{"$f":"VLOOKUP($C233, 'Nanodrop Data Raw'!$C:$L, 4, FALSE)","v":{"$error":"#N/A"}},null,null,null,null,{"$f":"'Sample Information'!$H$6","v":0},{"$f":"'Sample Information'!$H$5","v":0},null,null,{"$f":"'Sample Information'!$H$7","v":0},null,{"$error":"#N/A"}]
[{"$f":"'Sample Information'!A234","v":233},{"$f":"'Sample Information'!B234","v":0},"0-DNA",{"$f":"'Sample Information'!D234","v":0},{"$f":"IF(VLOOKUP($C234, 'Nanodrop Data Raw'!$C:$L, 10, FALSE)<>\"\", VLOOKUP($C234, 'Nanodrop Data Raw'!$C:$L, 10, FALSE), VLOOKUP($C234, 'Nanodrop Data Raw'!$C:$L, 2, FALSE))","v":{"$error":"#N/A"}},null,null,{"$error":"#N/A"},{"$f":"VLOOKUP($C234, 'Nanodrop Data Raw'!$C:$L, 3, FALSE)","v":{"$error":"#N/A"}},{"$f":"VLOOKUP($C234, 'Nanodrop Data Raw'!$C:$L, 4, FALSE)","v":{"$error":"#N/A"}},null,null,null,null,{"$f":"'Sample Information'!$H$6","v":0},{"$f":"'Sample Information'!$H$5","v":0},null,null,{"$f":"'Sample Information'!$H$7","v":0},null,{"$error":"#N/A"}]
[{"$f":"'Sample Information'!A235","v":234},{"$f":"'Sample Information'!B235","v":0},"0-DNA",{"$f":"'Sample Information'!D235","v":0},{"$f":"IF(VLOOKUP($C235, 'Nanodrop Data Raw'!$C:$L, 10, FALSE)<>\"\", VLOOKUP($C235, 'Nanodrop Data Raw'!$C:$L, 10, FALSE), VLOOKUP($C235, 'Nanodrop Data Raw'!$C:$L, 2, FALSE))","v":{"$error":"#N/A"}},null,null,{"$error":"#N/A"},{"$f":"VLOOKUP($C235, 'Nanodrop Data Raw'!$C:$L, 3, FALSE)","v":{"$error":"#N/A"}},{"$f":"VLOOKUP($C235, 'Nanodrop Data Raw'!$C:$L, 4, FALSE)","v":{"$error":"#N/A"}},null,null,null,null,{"$f":"'Sample Information'!$H$6","v":0},{"$f":"'Sample Information'!$H$5","v":0},null,null,{"$f":"'Sample Information'!$H$7","v":0},null,{"$error":"#N/A"}]
[{"$f":"'Sample Information'!A236","v":235},{"$f":"'Sample Information'!B236","v":0},"0-DNA",{"$f":"'Sample Information'!D236","v":0},{"$f":"IF(VLOOKUP($C236, 'Nanodrop Data Raw'!$C:$L, 10, FALSE)<>\"\", VLOOKUP($C236, 'Nanodrop Data Raw'!$C:$L, 10, FALSE), VLOOKUP($C236, 'Nanodrop Data Raw'!$C:$L, 2, FALSE))","v":{"$error":"#N/A"}},null,null,{"$error":"#N/A"},{"$f":"VLOOKUP($C236, 'Nanodrop Data Raw'!$C:$L, 3, FALSE)","v":{"$error":"#N/A"}},{"$f":"VLOOKUP($C236, 'Nanodrop Data Raw'!$C:$L, 4, FALSE)","v":{"$error":"#N/A"}},null,null,null,null,{"$f":"'Sample Information'!$H$6","v":0},{"$f":"'Sample Information'!$H$5","v":0},null,null,{"$f":"'Sample Information'!$H$7","v":0},null,{"$error":"#N/A"}]
[{"$f":"'Sample Information'!A237","v":236},{"$f":"'Sample Information'!B237","v":0},"0-DNA",{"$f":"'Sample Information'!D237","v":0},{"$f":"IF(VLOOKUP($C237, 'Nanodrop Data Raw'!$C:$L, 10, FALSE)<>\"\", VLOOKUP($C237, 'Nanodrop Data Raw'!$C:$L, 10, FALSE), VLOOKUP($C237, 'Nanodrop Data Raw'!$C:$L, 2, FALSE))","v":{"$error":"#N/A"}},null,null,{"$error":"#N/A"},{"$f":"VLOOKUP($C237, 'Nanodrop Data Raw'!$C:$L, 3, FALSE)","v":{"$error":"#N/A"}},{"$f":"VLOOKUP($C237, 'Nanodrop Data Raw'!$C:$L, 4, FALSE)","v":{"$error":"#N/A"}},null,null,null,null,{"$f":"'Sample Information'!$H$6","v":0},{"$f":"'Sample Information'!$H$5","v":0},null,null,{"$f":"'Sample Information'!$H$7","v":0},null,{"$error":"#N/A"}]
[{"$f":"'Sample Information'!A238","v":237},{"$f":"'Sample Information'!B238","v":0},"0-DNA",{"$f":"'Sample Information'!D238","v":0},{"$f":"IF(VLOOKUP($C238, 'Nanodrop Data Raw'!$C:$L, 10, FALSE)<>\"\", VLOOKUP($C238, 'Nanodrop Data Raw'!$C:$L, 10, FALSE), VLOOKUP($C238, 'Nanodrop Data Raw'!$C:$L, 2, FALSE))","v":{"$error":"#N/A"}},null,null,{"$error":"#N/A"},{"$f":"VLOOKUP($C238, 'Nanodrop Data Raw'!$C:$L, 3, FALSE)","v":{"$error":"#N/A"}},{"$f":"VLOOKUP($C238, 'Nanodrop Data Raw'!$C:$L, 4, FALSE)","v":{"$error":"#N/A"}},null,null,null,null,{"$f":"'Sample Information'!$H$6","v":0},{"$f":"'Sample Information'!$H$5","v":0},null,null,{"$f":"'Sample Information'!$H$7","v":0},null,{"$error":"#N/A"}]
[{"$f":"'Sample Information'!A239","v":238},{"$f":"'Sample Information'!B239","v":0},"0-DNA",{"$f":"'Sample Information'!D239","v":0},{"$f":"IF(VLOOKUP($C239, 'Nanodrop Data Raw'!$C:$L, 10, FALSE)<>\"\", VLOOKUP($C239, 'Nanodrop Data Raw'!$C:$L, 10, FALSE), VLOOKUP($C239, 'Nanodrop Data Raw'!$C:$L, 2, FALSE))","v":{"$error":"#N/A"}},null,null,{"$error":"#N/A"},{"$f":"VLOOKUP($C239, 'Nanodrop Data Raw'!$C:$L, 3, FALSE)","v":{"$error":"#N/A"}},{"$f":"VLOOKUP($C239, 'Nanodrop Data Raw'!$C:$L, 4, FALSE)","v":{"$error":"#N/A"}},null,null,null,null,{"$f":"'Sample Information'!$H$6","v":0},{"$f":"'Sample Information'!$H$5","v":0},null,null,{"$f":"'Sample Information'!$H$7","v":0},null,{"$error":"#N/A"}]
[{"$f":"'Sample Information'!A240","v":239},{"$f":"'Sample Information'!B240","v":0},"0-DNA",{"$f":"'Sample Information'!D240","v":0},{"$f":"IF(VLOOKUP($C240, 'Nanodrop Data Raw'!$C:$L, 10, FALSE)<>\"\", VLOOKUP($C240, 'Nanodrop Data Raw'!$C:$L, 10, FALSE), VLOOKUP($C240, 'Nanodrop Data Raw'!$C:$L, 2, FALSE))","v":{"$error":"#N/A"}},null,null,{"$error":"#N/A"},{"$f":"VLOOKUP($C240, 'Nanodrop Data Raw'!$C:$L, 3, FALSE)","v":{"$error":"#N/A"}},{"$f":"VLOOKUP($C240, 'Nanodrop Data Raw'!$C:$L, 4, FALSE)","v":{"$error":"#N/A"}},null,null,null,null,{"$f":"'Sample Information'!$H$6","v":0},{"$f":"'Sample Information'!$H$5","v":0},null,null,{"$f":"'Sample Information'!$H$7","v":0},null,{"$error":"#N/A"}]
[{"$f":"'Sample Information'!A241","v":240},{"$f":"'Sample Information'!B241","v":0},"0-DNA",{"$f":"'Sample Information'!D241","v":0},{"$f":"IF(VLOOKUP($C241, 'Nanodrop Data Raw'!$C:$L, 10, FALSE)<>\"\", VLOOKUP($C241, 'Nanodrop Data Raw'!$C:$L, 10, FALSE), VLOOKUP($C241, 'Nanodrop Data Raw'!$C:$L, 2, FALSE))","v":{"$error":"#N/A"}},null,null,{"$error":"#N/A"},{"$f":"VLOOKUP($C241, 'Nanodrop Data Raw'!$C:$L, 3, FALSE)","v":{"$error":"#N/A"}},{"$f":"VLOOKUP($C241, 'Nanodrop Data Raw'!$C:$L, 4, FALSE)","v":{"$error":"#N/A"}},null,null,null,null,{"$f":"'Sample Information'!$H$6","v":0},{"$f":"'Sample Information'!$H$5","v":0},null,null,{"$f":"'Sample Information'!$H$7","v":0},null,{"$error":"#N/A"}]
[{"$f":"'Sample Information'!A242","v":241},{"$f":"'Sample Information'!B242","v":0},"0-DNA",{"$f":"'Sample Information'!D242","v":0},{"$f":"IF(VLOOKUP($C242, 'Nanodrop Data Raw'!$C:$L, 10, FALSE)<>\"\", VLOOKUP($C242, 'Nanodrop Data Raw'!$C:$L, 10, FALSE), VLOOKUP($C242, 'Nanodrop Data Raw'!$C:$L, 2, FALSE))","v":{"$error":"#N/A"}},null,null,{"$error":"#N/A"},{"$f":"VLOOKUP($C242, 'Nanodrop Data Raw'!$C:$L, 3, FALSE)","v":{"$error":"#N/A"}},{"$f":"VLOOKUP($C242, 'Nanodrop Data Raw'!$C:$L, 4, FALSE)","v":{"$error":"#N/A"}},null,null,null,null,{"$f":"'Sample Information'!$H$6","v":0},{"$f":"'Sample Information'!$H$5","v":0},null,null,{"$f":"'Sample Information'!$H$7","v":0},null,{"$error":"#N/A"}]
[{"$f":"'Sample Information'!A243","v":242},{"$f":"'Sample Information'!B243","v":0},"0-DNA",{"$f":"'Sample Information'!D243","v":0},{"$f":"IF(VLOOKUP($C243, 'Nanodrop Data Raw'!$C:$L, 10, FALSE)<>\"\", VLOOKUP($C243, 'Nanodrop Data Raw'!$C:$L, 10, FALSE), VLOOKUP($C243, 'Nanodrop Data Raw'!$C:$L, 2, FALSE))","v":{"$error":"#N/A"}},null,null,{"$error":"#N/A"},{"$f":"VLOOKUP($C243, 'Nanodrop Data Raw'!$C:$L, 3, FALSE)","v":{"$error":"#N/A"}},{"$f":"VLOOKUP($C243, 'Nanodrop Data Raw'!$C:$L, 4, FALSE)","v":{"$error":"#N/A"}},null,null,null,null,{"$f":"'Sample Information'!$H$6","v":0},{"$f":"'Sample Information'!$H$5","v":0},null,null,{"$f":"'Sample Information'!$H$7","v":0},null,{"$error":"#N/A"}]
[{"$f":"'Sample Information'!A244","v":243},{"$f":"'Sample Information'!B244","v":0},"0-DNA",{"$f":"'Sample Information'!D244","v":0},{"$f":"IF(VLOOKUP($C244, 'Nanodrop Data Raw'!$C:$L, 10, FALSE)<>\"\", VLOOKUP($C244, 'Nanodrop Data Raw'!$C:$L, 10, FALSE), VLOOKUP($C244, 'Nanodrop Data Raw'!$C:$L, 2, FALSE))","v":{"$error":"#N/A"}},null,null,{"$error":"#N/A"},{"$f":"VLOOKUP($C244, 'Nanodrop Data Raw'!$C:$L, 3, FALSE)","v":{"$error":"#N/A"}},{"$f":"VLOOKUP($C244, 'Nanodrop Data Raw'!$C:$L, 4, FALSE)","v":{"$error":"#N/A"}},null,null,null,null,{"$f":"'Sample Information'!$H$6","v":0},{"$f":"'Sample Information'!$H$5","v":0},null,null,{"$f":"'Sample Information'!$H$7","v":0},null,{"$error":"#N/A"}]
[{"$f":"'Sample Information'!A245","v":244},{"$f":"'Sample Information'!B245","v":0},"0-DNA",{"$f":"'Sample Information'!D245","v":0},{"$f":"IF(VLOOKUP($C245, 'Nanodrop Data Raw'!$C:$L, 10, FALSE)<>\"\", VLOOKUP($C245, 'Nanodrop Data Raw'!$C:$L, 10, FALSE), VLOOKUP($C245, 'Nanodrop Data Raw'!$C:$L, 2, FALSE))","v":{"$error":"#N/A"}},null,null,{"$error":"#N/A"},{"$f":"VLOOKUP($C245, 'Nanodrop Data Raw'!$C:$L, 3, FALSE)","v":{"$error":"#N/A"}},{"$f":"VLOOKUP($C245, 'Nanodrop Data Raw'!$C:$L, 4, FALSE)","v":{"$error":"#N/A"}},null,null,null,null,{"$f":"'Sample Information'!$H$6","v":0},{"$f":"'Sample Information'!$H$5","v":0},null,null,{"$f":"'Sample Information'!$H$7","v":0},null,{"$error":"#N/A"}]
[{"$f":"'Sample Information'!A246","v":245},{"$f":"'Sample Information'!B246","v":0},"0-DNA",{"$f":"'Sample Information'!D246","v":0},{"$f":"IF(VLOOKUP($C246, 'Nanodrop Data Raw'!$C:$L, 10, FALSE)<>\"\", VLOOKUP($C246, 'Nanodrop Data Raw'!$C:$L, 10, FALSE), VLOOKUP($C246, 'Nanodrop Data Raw'!$C:$L, 2, FALSE))","v":{"$error":"#N/A"}},null,null,{"$error":"#N/A"},{"$f":"VLOOKUP($C246, 'Nanodrop Data Raw'!$C:$L, 3, FALSE)","v":{"$error":"#N/A"}},{"$f":"VLOOKUP($C246, 'Nanodrop Data Raw'!$C:$L, 4, FALSE)","v":{"$error":"#N/A"}},null,null,null,null,{"$f":"'Sample Information'!$H$6","v":0},{"$f":"'Sample Information'!$H$5","v":0},null,null,{"$f":"'Sample Information'!$H$7","v":0},null,{"$error":"#N/A"}]
[{"$f":"'Sample Information'!A247","v":246},{"$f":"'Sample Information'!B247","v":0},"0-DNA",{"$f":"'Sample Information'!D247","v":0},{"$f":"IF(VLOOKUP($C247, 'Nanodrop Data Raw'!$C:$L, 10, FALSE)<>\"\", VLOOKUP($C247, 'Nanodrop Data Raw'!$C:$L, 10, FALSE), VLOOKUP($C247, 'Nanodrop Data Raw'!$C:$L, 2, FALSE))","v":{"$error":"#N/A"}},null,null,{"$error":"#N/A"},{"$f":"VLOOKUP($C247, 'Nanodrop Data Raw'!$C:$L, 3, FALSE)","v":{"$error":"#N/A"}},{"$f":"VLOOKUP($C247, 'Nanodrop Data Raw'!$C:$L, 4, FALSE)","v":{"$error":"#N/A"}},null,null,null,null,{"$f":"'Sample Information'!$H$6","v":0},{"$f":"'Sample Information'!$H$5","v":0},null,null,{"$f":"'Sample Information'!$H$7","v":0},null,{"$error":"#N/A"}]
[{"$f":"'Sample Information'!A248","v":247},{"$f":"'Sample Information'!B248","v":0},"0-DNA",{"$f":"'Sample Information'!D248","v":0},{"$f":"IF(VLOOKUP($C248, 'Nanodrop Data Raw'!$C:$L, 10, FALSE)<>\"\", VLOOKUP($C248, 'Nanodrop Data Raw'!$C:$L, 10, FALSE), VLOOKUP($C248, 'Nanodrop Data Raw'!$C:$L, 2, FALSE))","v":{"$error":"#N/A"}},null,null,{"$error":"#N/A"},{"$f":"VLOOKUP($C248, 'Nanodrop Data Raw'!$C:$L, 3, FALSE)","v":{"$error":"#N/A"}},{"$f":"VLOOKUP($C248, 'Nanodrop Data Raw'!$C:$L, 4, FALSE)","v":{"$error":"#N/A"}},null,null,null,null,{"$f":"'Sample Information'!$H$6","v":0},{"$f":"'Sample Information'!$H$5","v":0},null,null,{"$f":"'Sample Information'!$H$7","v":0},null,{"$error":"#N/A"}]
[{"$f":"'Sample Information'!A249","v":248},{"$f":"'Sample Information'!B249","v":0},"0-DNA",{"$f":"'Sample Information'!D249","v":0},{"$f":"IF(VLOOKUP($C249, 'Nanodrop Data Raw'!$C:$L, 10, FALSE)<>\"\", VLOOKUP($C249, 'Nanodrop Data Raw'!$C:$L, 10, FALSE), VLOOKUP($C249, 'Nanodrop Data Raw'!$C:$L, 2, FALSE))","v":{"$error":"#N/A"}},null,null,{"$error":"#N/A"},{"$f":"VLOOKUP($C249, 'Nanodrop Data Raw'!$C:$L, 3, FALSE)","v":{"$error":"#N/A"}},{"$f":"VLOOKUP($C249, 'Nanodrop Data Raw'!$C:$L, 4, FALSE)","v":{"$error":"#N/A"}},null,null,null,null,{"$f":"'Sample Information'!$H$6","v":0},{"$f":"'Sample Information'!$H$5","v":0},null,null,{"$f":"'Sample Information'!$H$7","v":0},null,{"$error":"#N/A"}]
[{"$f":"'Sample Information'!A250","v":249},{"$f":"'Sample Information'!B250","v":0},"0-DNA",{"$f":"'Sample Information'!D250","v":0},{"$f":"IF(VLOOKUP($C250, 'Nanodrop Data Raw'!$C:$L, 10, FALSE)<>\"\", VLOOKUP($C250, 'Nanodrop Data Raw'!$C:$L, 10, FALSE), VLOOKUP($C250, 'Nanodrop Data Raw'!$C:$L, 2, FALSE))","v":{"$error":"#N/A"}},null,null,{"$error":"#N/A"},{"$f":"VLOOKUP($C250, 'Nanodrop Data Raw'!$C:$L, 3, FALSE)","v":{"$error":"#N/A"}},{"$f":"VLOOKUP($C250, 'Nanodrop Data Raw'!$C:$L, 4, FALSE)","v":{"$error":"#N/A"}},null,null,null,null,{"$f":"'Sample Information'!$H$6","v":0},{"$f":"'Sample Information'!$H$5","v":0},null,null,{"$f":"'Sample Information'!$H$7","v":0},null,{"$error":"#N/A"}]
[{"$f":"'Sample Information'!A251","v":250},{"$f":"'Sample Information'!B251","v":0},"0-DNA",{"$f":"'Sample Information'!D251","v":0},{"$f":"IF(VLOOKUP($C251, 'Nanodrop Data Raw'!$C:$L, 10, FALSE)<>\"\", VLOOKUP($C251, 'Nanodrop Data Raw'!$C:$L, 10, FALSE), VLOOKUP($C251, 'Nanodrop Data Raw'!$C:$L, 2, FALSE))","v":{"$error":"#N/A"}},null,null,{"$error":"#N/A"},{"$f":"VLOOKUP($C251, 'Nanodrop Data Raw'!$C:$L, 3, FALSE)","v":{"$error":"#N/A"}},{"$f":"VLOOKUP($C251, 'Nanodrop Data Raw'!$C:$L, 4, FALSE)","v":{"$error":"#N/A"}},null,null,null,null,{"$f":"'Sample Information'!$H$6","v":0},{"$f":"'Sample Information'!$H$5","v":0},null,null,{"$f":"'Sample Information'!$H$7","v":0},null,{"$error":"#N/A"}]
[{"$f":"'Sample Information'!A252","v":251},{"$f":"'Sample Information'!B252","v":0},"0-DNA",{"$f":"'Sample Information'!D252","v":0},{"$f":"IF(VLOOKUP($C252, 'Nanodrop Data Raw'!$C:$L, 10, FALSE)<>\"\", VLOOKUP($C252, 'Nanodrop Data Raw'!$C:$L, 10, FALSE), VLOOKUP($C252, 'Nanodrop Data Raw'!$C:$L, 2, FALSE))","v":{"$error":"#N/A"}},null,null,{"$error":"#N/A"},{"$f":"VLOOKUP($C252, 'Nanodrop Data Raw'!$C:$L, 3, FALSE)","v":{"$error":"#N/A"}},{"$f":"VLOOKUP($C252, 'Nanodrop Data Raw'!$C:$L, 4, FALSE)","v":{"$error":"#N/A"}},null,null,null,null,{"$f":"'Sample Information'!$H$6","v":0},{"$f":"'Sample Information'!$H$5","v":0},null,null,{"$f":"'Sample Information'!$H$7","v":0},null,{"$error":"#N/A"}]
[{"$f":"'Sample Information'!A253","v":252},{"$f":"'Sample Information'!B253","v":0},"0-DNA",{"$f":"'Sample Information'!D253","v":0},{"$f":"IF(VLOOKUP($C253, 'Nanodrop Data Raw'!$C:$L, 10, FALSE)<>\"\", VLOOKUP($C253, 'Nanodrop Data Raw'!$C:$L, 10, FALSE), VLOOKUP($C253, 'Nanodrop Data Raw'!$C:$L, 2, FALSE))","v":{"$error":"#N/A"}},null,null,{"$error":"#N/A"},{"$f":"VLOOKUP($C253, 'Nanodrop Data Raw'!$C:$L, 3, FALSE)","v":{"$error":"#N/A"}},{"$f":"VLOOKUP($C253, 'Nanodrop Data Raw'!$C:$L, 4, FALSE)","v":{"$error":"#N/A"}},null,null,null,null,{"$f":"'Sample Information'!$H$6","v":0},{"$f":"'Sample Information'!$H$5","v":0},null,null,{"$f":"'Sample Information'!$H$7","v":0},null,{"$error":"#N/A"}]
[{"$f":"'Sample Information'!A254","v":253},{"$f":"'Sample Information'!B254","v":0},"0-DNA",{"$f":"'Sample Information'!D254","v":0},{"$f":"IF(VLOOKUP($C254, 'Nanodrop Data Raw'!$C:$L, 10, FALSE)<>\"\", VLOOKUP($C254, 'Nanodrop Data Raw'!$C:$L, 10, FALSE), VLOOKUP($C254, 'Nanodrop Data Raw'!$C:$L, 2, FALSE))","v":{"$error":"#N/A"}},null,null,{"$error":"#N/A"},{"$f":"VLOOKUP($C254, 'Nanodrop Data Raw'!$C:$L, 3, FALSE)","v":{"$error":"#N/A"}},{"$f":"VLOOKUP($C254, 'Nanodrop Data Raw'!$C:$L, 4, FALSE)","v":{"$error":"#N/A"}},null,null,null,null,{"$f":"'Sample Information'!$H$6","v":0},{"$f":"'Sample Information'!$H$5","v":0},null,null,{"$f":"'Sample Information'!$H$7","v":0},null,{"$error":"#N/A"}]
[{"$f":"'Sample Information'!A255","v":254},{"$f":"'Sample Information'!B255","v":0},"0-DNA",{"$f":"'Sample Information'!D255","v":0},{"$f":"IF(VLOOKUP($C255, 'Nanodrop Data Raw'!$C:$L, 10, FALSE)<>\"\", VLOOKUP($C255, 'Nanodrop Data Raw'!$C:$L, 10, FALSE), VLOOKUP($C255, 'Nanodrop Data Raw'!$C:$L, 2, FALSE))","v":{"$error":"#N/A"}},null,null,{"$error":"#N/A"},{"$f":"VLOOKUP($C255, 'Nanodrop Data Raw'!$C:$L, 3, FALSE)","v":{"$error":"#N/A"}},{"$f":"VLOOKUP($C255, 'Nanodrop Data Raw'!$C:$L, 4, FALSE)","v":{"$error":"#N/A"}},null,null,null,null,{"$f":"'Sample Information'!$H$6","v":0},{"$f":"'Sample Information'!$H$5","v":0},null,null,{"$f":"'Sample Information'!$H$7","v":0},null,{"$error":"#N/A"}]
[{"$f":"'Sample Information'!A256","v":255},{"$f":"'Sample Information'!B256","v":0},"0-DNA",{"$f":"'Sample Information'!D256","v":0},{"$f":"IF(VLOOKUP($C256, 'Nanodrop Data Raw'!$C:$L, 10, FALSE)<>\"\", VLOOKUP($C256, 'Nanodrop Data Raw'!$C:$L, 10, FALSE), VLOOKUP($C256, 'Nanodrop Data Raw'!$C:$L, 2, FALSE))","v":{"$error":"#N/A"}},null,null,{"$error":"#N/A"},{"$f":"VLOOKUP($C256, 'Nanodrop Data Raw'!$C:$L, 3, FALSE)","v":{"$error":"#N/A"}},{"$f":"VLOOKUP($C256, 'Nanodrop Data Raw'!$C:$L, 4, FALSE)","v":{"$error":"#N/A"}},null,null,null,null,{"$f":"'Sample Information'!$H$6","v":0},{"$f":"'Sample Information'!$H$5","v":0},null,null,{"$f":"'Sample Information'!$H$7","v":0},null,{"$error":"#N/A"}]
[{"$f":"'Sample Information'!A257","v":256},{"$f":"'Sample Information'!B257","v":0},"0-DNA",{"$f":"'Sample Information'!D257","v":0},{"$f":"IF(VLOOKUP($C257, 'Nanodrop Data Raw'!$C:$L, 10, FALSE)<>\"\", VLOOKUP($C257, 'Nanodrop Data Raw'!$C:$L, 10, FALSE), VLOOKUP($C257, 'Nanodrop Data Raw'!$C:$L, 2, FALSE))","v":{"$error":"#N/A"}},null,null,{"$error":"#N/A"},{"$f":"VLOOKUP($C257, 'Nanodrop Data Raw'!$C:$L, 3, FALSE)","v":{"$error":"#N/A"}},{"$f":"VLOOKUP($C257, 'Nanodrop Data Raw'!$C:$L, 4, FALSE)","v":{"$error":"#N/A"}},null,null,null,null,{"$f":"'Sample Information'!$H$6","v":0},{"$f":"'Sample Information'!$H$5","v":0},null,null,{"$f":"'Sample Information'!$H$7","v":0},null,{"$error":"#N/A"}]
[{"$f":"'Sample Information'!A258","v":257},{"$f":"'Sample Information'!B258","v":0},"0-DNA",{"$f":"'Sample Information'!D258","v":0},{"$f":"IF(VLOOKUP($C258, 'Nanodrop Data Raw'!$C:$L, 10, FALSE)<>\"\", VLOOKUP($C258, 'Nanodrop Data Raw'!$C:$L, 10, FALSE), VLOOKUP($C258, 'Nanodrop Data Raw'!$C:$L, 2, FALSE))","v":{"$error":"#N/A"}},null,null,{"$error":"#N/A"},{"$f":"VLOOKUP($C258, 'Nanodrop Data Raw'!$C:$L, 3, FALSE)","v":{"$error":"#N/A"}},{"$f":"VLOOKUP($C258, 'Nanodrop Data Raw'!$C:$L, 4, FALSE)","v":{"$error":"#N/A"}},null,null,null,null,{"$f":"'Sample Information'!$H$6","v":0},{"$f":"'Sample Information'!$H$5","v":0},null,null,{"$f":"'Sample Information'!$H$7","v":0},null,{"$error":"#N/A"}]
[{"$f":"'Sample Information'!A259","v":258},{"$f":"'Sample Information'!B259","v":0},{"$f":"CONCATENATE(B259,\"-DNA\")","v":"0-DNA"},{"$f":"'Sample Information'!D259","v":0},{"$f":"IF(VLOOKUP($C259, 'Nanodrop Data Raw'!$C:$L, 10, FALSE)<>\"\", VLOOKUP($C259, 'Nanodrop Data Raw'!$C:$L, 10, FALSE), VLOOKUP($C259, 'Nanodrop Data Raw'!$C:$L, 2, FALSE))","v":{"$error":"#N/A"}},null,null,{"$f":"E259*F259/1000","v":{"$error":"#N/A"}},{"$f":"VLOOKUP($C259, 'Nanodrop Data Raw'!$C:$L, 3, FALSE)","v":{"$error":"#N/A"}},{"$f":"VLOOKUP($C259, 'Nanodrop Data Raw'!$C:$L, 4, FALSE)","v":{"$error":"#N/A"}},null,null,null,null,{"$f":"'Sample Information'!$H$6","v":0},{"$f":"'Sample Information'!$H$5","v":0},null,null,{"$f":"'Sample Information'!$H$7","v":0},null,{"$f":"$N259/$E259","v":{"$error":"#N/A"}}]
[{"$f":"'Sample Information'!A260","v":259},{"$f":"'Sample Information'!B260","v":0},"0-DNA",{"$f":"'Sample Information'!D260","v":0},{"$f":"IF(VLOOKUP($C260, 'Nanodrop Data Raw'!$C:$L, 10, FALSE)<>\"\", VLOOKUP($C260, 'Nanodrop Data Raw'!$C:$L, 10, FALSE), VLOOKUP($C260, 'Nanodrop Data Raw'!$C:$L, 2, FALSE))","v":{"$error":"#N/A"}},null,null,{"$error":"#N/A"},{"$f":"VLOOKUP($C260, 'Nanodrop Data Raw'!$C:$L, 3, FALSE)","v":{"$error":"#N/A"}},{"$f":"VLOOKUP($C260, 'Nanodrop Data Raw'!$C:$L, 4, FALSE)","v":{"$error":"#N/A"}},null,null,null,null,{"$f":"'Sample Information'!$H$6","v":0},{"$f":"'Sample Information'!$H$5","v":0},null,null,{"$f":"'Sample Information'!$H$7","v":0},null,{"$error":"#N/A"}]
[{"$f":"'Sample Information'!A261","v":260},{"$f":"'Sample Information'!B261","v":0},"0-DNA",{"$f":"'Sample Information'!D261","v":0},{"$f":"IF(VLOOKUP($C261, 'Nanodrop Data Raw'!$C:$L, 10, FALSE)<>\"\", VLOOKUP($C261, 'Nanodrop Data Raw'!$C:$L, 10, FALSE), VLOOKUP($C261, 'Nanodrop Data Raw'!$C:$L, 2, FALSE))","v":{"$error":"#N/A"}},null,null,{"$error":"#N/A"},{"$f":"VLOOKUP($C261, 'Nanodrop Data Raw'!$C:$L, 3, FALSE)","v":{"$error":"#N/A"}},{"$f":"VLOOKUP($C261, 'Nanodrop Data Raw'!$C:$L, 4, FALSE)","v":{"$error":"#N/A"}},null,null,null,null,{"$f":"'Sample Information'!$H$6","v":0},{"$f":"'Sample Information'!$H$5","v":0},null,null,{"$f":"'Sample Information'!$H$7","v":0},null,{"$error":"#N/A"}]
[{"$f":"'Sample Information'!A262","v":261},{"$f":"'Sample Information'!B262","v":0},"0-DNA",{"$f":"'Sample Information'!D262","v":0},{"$f":"IF(VLOOKUP($C262, 'Nanodrop Data Raw'!$C:$L, 10, FALSE)<>\"\", VLOOKUP($C262, 'Nanodrop Data Raw'!$C:$L, 10, FALSE), VLOOKUP($C262, 'Nanodrop Data Raw'!$C:$L, 2, FALSE))","v":{"$error":"#N/A"}},null,null,{"$error":"#N/A"},{"$f":"VLOOKUP($C262, 'Nanodrop Data Raw'!$C:$L, 3, FALSE)","v":{"$error":"#N/A"}},{"$f":"VLOOKUP($C262, 'Nanodrop Data Raw'!$C:$L, 4, FALSE)","v":{"$error":"#N/A"}},null,null,null,null,{"$f":"'Sample Information'!$H$6","v":0},{"$f":"'Sample Information'!$H$5","v":0},null,null,{"$f":"'Sample Information'!$H$7","v":0},null,{"$error":"#N/A"}]
[{"$f":"'Sample Information'!A263","v":262},{"$f":"'Sample Information'!B263","v":0},"0-DNA",{"$f":"'Sample Information'!D263","v":0},{"$f":"IF(VLOOKUP($C263, 'Nanodrop Data Raw'!$C:$L, 10, FALSE)<>\"\", VLOOKUP($C263, 'Nanodrop Data Raw'!$C:$L, 10, FALSE), VLOOKUP($C263, 'Nanodrop Data Raw'!$C:$L, 2, FALSE))","v":{"$error":"#N/A"}},null,null,{"$error":"#N/A"},{"$f":"VLOOKUP($C263, 'Nanodrop Data Raw'!$C:$L, 3, FALSE)","v":{"$error":"#N/A"}},{"$f":"VLOOKUP($C263, 'Nanodrop Data Raw'!$C:$L, 4, FALSE)","v":{"$error":"#N/A"}},null,null,null,null,{"$f":"'Sample Information'!$H$6","v":0},{"$f":"'Sample Information'!$H$5","v":0},null,null,{"$f":"'Sample Information'!$H$7","v":0},null,{"$error":"#N/A"}]
[{"$f":"'Sample Information'!A264","v":263},{"$f":"'Sample Information'!B264","v":0},"0-DNA",{"$f":"'Sample Information'!D264","v":0},{"$f":"IF(VLOOKUP($C264, 'Nanodrop Data Raw'!$C:$L, 10, FALSE)<>\"\", VLOOKUP($C264, 'Nanodrop Data Raw'!$C:$L, 10, FALSE), VLOOKUP($C264, 'Nanodrop Data Raw'!$C:$L, 2, FALSE))","v":{"$error":"#N/A"}},null,null,{"$error":"#N/A"},{"$f":"VLOOKUP($C264, 'Nanodrop Data Raw'!$C:$L, 3, FALSE)","v":{"$error":"#N/A"}},{"$f":"VLOOKUP($C264, 'Nanodrop Data Raw'!$C:$L, 4, FALSE)","v":{"$error":"#N/A"}},null,null,null,null,{"$f":"'Sample Information'!$H$6","v":0},{"$f":"'Sample Information'!$H$5","v":0},null,null,{"$f":"'Sample Information'!$H$7","v":0},null,{"$error":"#N/A"}]
[{"$f":"'Sample Information'!A265","v":264},{"$f":"'Sample Information'!B265","v":0},"0-DNA",{"$f":"'Sample Information'!D265","v":0},{"$f":"IF(VLOOKUP($C265, 'Nanodrop Data Raw'!$C:$L, 10, FALSE)<>\"\", VLOOKUP($C265, 'Nanodrop Data Raw'!$C:$L, 10, FALSE), VLOOKUP($C265, 'Nanodrop Data Raw'!$C:$L, 2, FALSE))","v":{"$error":"#N/A"}},null,null,{"$error":"#N/A"},{"$f":"VLOOKUP($C265, 'Nanodrop Data Raw'!$C:$L, 3, FALSE)","v":{"$error":"#N/A"}},{"$f":"VLOOKUP($C265, 'Nanodrop Data Raw'!$C:$L, 4, FALSE)","v":{"$error":"#N/A"}},null,null,null,null,{"$f":"'Sample Information'!$H$6","v":0},{"$f":"'Sample Information'!$H$5","v":0},null,null,{"$f":"'Sample Information'!$H$7","v":0},null,{"$error":"#N/A"}]
[{"$f":"'Sample Information'!A266","v":265},{"$f":"'Sample Information'!B266","v":0},"0-DNA",{"$f":"'Sample Information'!D266","v":0},{"$f":"IF(VLOOKUP($C266, 'Nanodrop Data Raw'!$C:$L, 10, FALSE)<>\"\", VLOOKUP($C266, 'Nanodrop Data Raw'!$C:$L, 10, FALSE), VLOOKUP($C266, 'Nanodrop Data Raw'!$C:$L, 2, FALSE))","v":{"$error":"#N/A"}},null,null,{"$error":"#N/A"},{"$f":"VLOOKUP($C266, 'Nanodrop Data Raw'!$C:$L, 3, FALSE)","v":{"$error":"#N/A"}},{"$f":"VLOOKUP($C266, 'Nanodrop Data Raw'!$C:$L, 4, FALSE)","v":{"$error":"#N/A"}},null,null,null,null,{"$f":"'Sample Information'!$H$6","v":0},{"$f":"'Sample Information'!$H$5","v":0},null,null,{"$f":"'Sample Information'!$H$7","v":0},null,{"$error":"#N/A"}]
[{"$f":"'Sample Information'!A267","v":266},{"$f":"'Sample Information'!B267","v":0},"0-DNA",{"$f":"'Sample Information'!D267","v":0},{"$f":"IF(VLOOKUP($C267, 'Nanodrop Data Raw'!$C:$L, 10, FALSE)<>\"\", VLOOKUP($C267, 'Nanodrop Data Raw'!$C:$L, 10, FALSE), VLOOKUP($C267, 'Nanodrop Data Raw'!$C:$L, 2, FALSE))","v":{"$error":"#N/A"}},null,null,{"$error":"#N/A"},{"$f":"VLOOKUP($C267, 'Nanodrop Data Raw'!$C:$L, 3, FALSE)","v":{"$error":"#N/A"}},{"$f":"VLOOKUP($C267, 'Nanodrop Data Raw'!$C:$L, 4, FALSE)","v":{"$error":"#N/A"}},null,null,null,null,{"$f":"'Sample Information'!$H$6","v":0},{"$f":"'Sample Information'!$H$5","v":0},null,null,{"$f":"'Sample Information'!$H$7","v":0},null,{"$error":"#N/A"}]
[{"$f":"'Sample Information'!A268","v":267},{"$f":"'Sample Information'!B268","v":0},"0-DNA",{"$f":"'Sample Information'!D268","v":0},{"$f":"IF(VLOOKUP($C268, 'Nanodrop Data Raw'!$C:$L, 10, FALSE)<>\"\", VLOOKUP($C268, 'Nanodrop Data Raw'!$C:$L, 10, FALSE), VLOOKUP($C268, 'Nanodrop Data Raw'!$C:$L, 2, FALSE))","v":{"$error":"#N/A"}},null,null,{"$error":"#N/A"},{"$f":"VLOOKUP($C268, 'Nanodrop Data Raw'!$C:$L, 3, FALSE)","v":{"$error":"#N/A"}},{"$f":"VLOOKUP($C268, 'Nanodrop Data Raw'!$C:$L, 4, FALSE)","v":{"$error":"#N/A"}},null,null,null,null,{"$f":"'Sample Information'!$H$6","v":0},{"$f":"'Sample Information'!$H$5","v":0},null,null,{"$f":"'Sample Information'!$H$7","v":0},null,{"$error":"#N/A"}]
[{"$f":"'Sample Information'!A269","v":268},{"$f":"'Sample Information'!B269","v":0},"0-DNA",{"$f":"'Sample Information'!D269","v":0},{"$f":"IF(VLOOKUP($C269, 'Nanodrop Data Raw'!$C:$L, 10, FALSE)<>\"\", VLOOKUP($C269, 'Nanodrop Data Raw'!$C:$L, 10, FALSE), VLOOKUP($C269, 'Nanodrop Data Raw'!$C:$L, 2, FALSE))","v":{"$error":"#N/A"}},null,null,{"$error":"#N/A"},{"$f":"VLOOKUP($C269, 'Nanodrop Data Raw'!$C:$L, 3, FALSE)","v":{"$error":"#N/A"}},{"$f":"VLOOKUP($C269, 'Nanodrop Data Raw'!$C:$L, 4, FALSE)","v":{"$error":"#N/A"}},null,null,null,null,{"$f":"'Sample Information'!$H$6","v":0},{"$f":"'Sample Information'!$H$5","v":0},null,null,{"$f":"'Sample Information'!$H$7","v":0},null,{"$error":"#N/A"}]
[{"$f":"'Sample Information'!A270","v":269},{"$f":"'Sample Information'!B270","v":0},"0-DNA",{"$f":"'Sample Information'!D270","v":0},{"$f":"IF(VLOOKUP($C270, 'Nanodrop Data Raw'!$C:$L, 10, FALSE)<>\"\", VLOOKUP($C270, 'Nanodrop Data Raw'!$C:$L, 10, FALSE), VLOOKUP($C270, 'Nanodrop Data Raw'!$C:$L, 2, FALSE))","v":{"$error":"#N/A"}},null,null,{"$error":"#N/A"},{"$f":"VLOOKUP($C270, 'Nanodrop Data Raw'!$C:$L, 3, FALSE)","v":{"$error":"#N/A"}},{"$f":"VLOOKUP($C270, 'Nanodrop Data Raw'!$C:$L, 4, FALSE)","v":{"$error":"#N/A"}},null,null,null,null,{"$f":"'Sample Information'!$H$6","v":0},{"$f":"'Sample Information'!$H$5","v":0},null,null,{"$f":"'Sample Information'!$H$7","v":0},null,{"$error":"#N/A"}]
[{"$f":"'Sample Information'!A271","v":270},{"$f":"'Sample Information'!B271","v":0},"0-DNA",{"$f":"'Sample Information'!D271","v":0},{"$f":"IF(VLOOKUP($C271, 'Nanodrop Data Raw'!$C:$L, 10, FALSE)<>\"\", VLOOKUP($C271, 'Nanodrop Data Raw'!$C:$L, 10, FALSE), VLOOKUP($C271, 'Nanodrop Data Raw'!$C:$L, 2, FALSE))","v":{"$error":"#N/A"}},null,null,{"$error":"#N/A"},{"$f":"VLOOKUP($C271, 'Nanodrop Data Raw'!$C:$L, 3, FALSE)","v":{"$error":"#N/A"}},{"$f":"VLOOKUP($C271, 'Nanodrop Data Raw'!$C:$L, 4, FALSE)","v":{"$error":"#N/A"}},null,null,null,null,{"$f":"'Sample Information'!$H$6","v":0},{"$f":"'Sample Information'!$H$5","v":0},null,null,{"$f":"'Sample Information'!$H$7","v":0},null,{"$error":"#N/A"}]
[{"$f":"'Sample Information'!A272","v":271},{"$f":"'Sample Information'!B272","v":0},"0-DNA",{"$f":"'Sample Information'!D272","v":0},{"$f":"IF(VLOOKUP($C272, 'Nanodrop Data Raw'!$C:$L, 10, FALSE)<>\"\", VLOOKUP($C272, 'Nanodrop Data Raw'!$C:$L, 10, FALSE), VLOOKUP($C272, 'Nanodrop Data Raw'!$C:$L, 2, FALSE))","v":{"$error":"#N/A"}},null,null,{"$error":"#N/A"},{"$f":"VLOOKUP($C272, 'Nanodrop Data Raw'!$C:$L, 3, FALSE)","v":{"$error":"#N/A"}},{"$f":"VLOOKUP($C272, 'Nanodrop Data Raw'!$C:$L, 4, FALSE)","v":{"$error":"#N/A"}},null,null,null,null,{"$f":"'Sample Information'!$H$6","v":0},{"$f":"'Sample Information'!$H$5","v":0},null,null,{"$f":"'Sample Information'!$H$7","v":0},null,{"$error":"#N/A"}]
[{"$f":"'Sample Information'!A273","v":272},{"$f":"'Sample Information'!B273","v":0},"0-DNA",{"$f":"'Sample Information'!D273","v":0},{"$f":"IF(VLOOKUP($C273, 'Nanodrop Data Raw'!$C:$L, 10, FALSE)<>\"\", VLOOKUP($C273, 'Nanodrop Data Raw'!$C:$L, 10, FALSE), VLOOKUP($C273, 'Nanodrop Data Raw'!$C:$L, 2, FALSE))","v":{"$error":"#N/A"}},null,null,{"$error":"#N/A"},{"$f":"VLOOKUP($C273, 'Nanodrop Data Raw'!$C:$L, 3, FALSE)","v":{"$error":"#N/A"}},{"$f":"VLOOKUP($C273, 'Nanodrop Data Raw'!$C:$L, 4, FALSE)","v":{"$error":"#N/A"}},null,null,null,null,{"$f":"'Sample Information'!$H$6","v":0},{"$f":"'Sample Information'!$H$5","v":0},null,null,{"$f":"'Sample Information'!$H$7","v":0},null,{"$error":"#N/A"}]
[{"$f":"'Sample Information'!A274","v":273},{"$f":"'Sample Information'!B274","v":0},"0-DNA",{"$f":"'Sample Information'!D274","v":0},{"$f":"IF(VLOOKUP($C274, 'Nanodrop Data Raw'!$C:$L, 10, FALSE)<>\"\", VLOOKUP($C274, 'Nanodrop Data Raw'!$C:$L, 10, FALSE), VLOOKUP($C274, 'Nanodrop Data Raw'!$C:$L, 2, FALSE))","v":{"$error":"#N/A"}},null,null,{"$error":"#N/A"},{"$f":"VLOOKUP($C274, 'Nanodrop Data Raw'!$C:$L, 3, FALSE)","v":{"$error":"#N/A"}},{"$f":"VLOOKUP($C274, 'Nanodrop Data Raw'!$C:$L, 4, FALSE)","v":{"$error":"#N/A"}},null,null,null,null,{"$f":"'Sample Information'!$H$6","v":0},{"$f":"'Sample Information'!$H$5","v":0},null,null,{"$f":"'Sample Information'!$H$7","v":0},null,{"$error":"#N/A"}]
[{"$f":"'Sample Information'!A275","v":274},{"$f":"'Sample Information'!B275","v":0},"0-DNA",{"$f":"'Sample Information'!D275","v":0},{"$f":"IF(VLOOKUP($C275, 'Nanodrop Data Raw'!$C:$L, 10, FALSE)<>\"\", VLOOKUP($C275, 'Nanodrop Data Raw'!$C:$L, 10, FALSE), VLOOKUP($C275, 'Nanodrop Data Raw'!$C:$L, 2, FALSE))","v":{"$error":"#N/A"}},null,null,{"$error":"#N/A"},{"$f":"VLOOKUP($C275, 'Nanodrop Data Raw'!$C:$L, 3, FALSE)","v":{"$error":"#N/A"}},{"$f":"VLOOKUP($C275, 'Nanodrop Data Raw'!$C:$L, 4, FALSE)","v":{"$error":"#N/A"}},null,null,null,null,{"$f":"'Sample Information'!$H$6","v":0},{"$f":"'Sample Information'!$H$5","v":0},null,null,{"$f":"'Sample Information'!$H$7","v":0},null,{"$error":"#N/A"}]
[{"$f":"'Sample Information'!A276","v":275},{"$f":"'Sample Information'!B276","v":0},"0-DNA",{"$f":"'Sample Information'!D276","v":0},{"$f":"IF(VLOOKUP($C276, 'Nanodrop Data Raw'!$C:$L, 10, FALSE)<>\"\", VLOOKUP($C276, 'Nanodrop Data Raw'!$C:$L, 10, FALSE), VLOOKUP($C276, 'Nanodrop Data Raw'!$C:$L, 2, FALSE))","v":{"$error":"#N/A"}},null,null,{"$error":"#N/A"},{"$f":"VLOOKUP($C276, 'Nanodrop Data Raw'!$C:$L, 3, FALSE)","v":{"$error":"#N/A"}},{"$f":"VLOOKUP($C276, 'Nanodrop Data Raw'!$C:$L, 4, FALSE)","v":{"$error":"#N/A"}},null,null,null,null,{"$f":"'Sample Information'!$H$6","v":0},{"$f":"'Sample Information'!$H$5","v":0},null,null,{"$f":"'Sample Information'!$H$7","v":0},null,{"$error":"#N/A"}]
[{"$f":"'Sample Information'!A277","v":276},{"$f":"'Sample Information'!B277","v":0},"0-DNA",{"$f":"'Sample Information'!D277","v":0},{"$f":"IF(VLOOKUP($C277, 'Nanodrop Data Raw'!$C:$L, 10, FALSE)<>\"\", VLOOKUP($C277, 'Nanodrop Data Raw'!$C:$L, 10, FALSE), VLOOKUP($C277, 'Nanodrop Data Raw'!$C:$L, 2, FALSE))","v":{"$error":"#N/A"}},null,null,{"$error":"#N/A"},{"$f":"VLOOKUP($C277, 'Nanodrop Data Raw'!$C:$L, 3, FALSE)","v":{"$error":"#N/A"}},{"$f":"VLOOKUP($C277, 'Nanodrop Data Raw'!$C:$L, 4, FALSE)","v":{"$error":"#N/A"}},null,null,null,null,{"$f":"'Sample Information'!$H$6","v":0},{"$f":"'Sample Information'!$H$5","v":0},null,null,{"$f":"'Sample Information'!$H$7","v":0},null,{"$error":"#N/A"}]
[{"$f":"'Sample Information'!A278","v":277},{"$f":"'Sample Information'!B278","v":0},"0-DNA",{"$f":"'Sample Information'!D278","v":0},{"$f":"IF(VLOOKUP($C278, 'Nanodrop Data Raw'!$C:$L, 10, FALSE)<>\"\", VLOOKUP($C278, 'Nanodrop Data Raw'!$C:$L, 10, FALSE), VLOOKUP($C278, 'Nanodrop Data Raw'!$C:$L, 2, FALSE))","v":{"$error":"#N/A"}},null,null,{"$error":"#N/A"},{"$f":"VLOOKUP($C278, 'Nanodrop Data Raw'!$C:$L, 3, FALSE)","v":{"$error":"#N/A"}},{"$f":"VLOOKUP($C278, 'Nanodrop Data Raw'!$C:$L, 4, FALSE)","v":{"$error":"#N/A"}},null,null,null,null,{"$f":"'Sample Information'!$H$6","v":0},{"$f":"'Sample Information'!$H$5","v":0},null,null,{"$f":"'Sample Information'!$H$7","v":0},null,{"$error":"#N/A"}]
[{"$f":"'Sample Information'!A279","v":278},{"$f":"'Sample Information'!B279","v":0},"0-DNA",{"$f":"'Sample Information'!D279","v":0},{"$f":"IF(VLOOKUP($C279, 'Nanodrop Data Raw'!$C:$L, 10, FALSE)<>\"\", VLOOKUP($C279, 'Nanodrop Data Raw'!$C:$L, 10, FALSE), VLOOKUP($C279, 'Nanodrop Data Raw'!$C:$L, 2, FALSE))","v":{"$error":"#N/A"}},null,null,{"$error":"#N/A"},{"$f":"VLOOKUP($C279, 'Nanodrop Data Raw'!$C:$L, 3, FALSE)","v":{"$error":"#N/A"}},{"$f":"VLOOKUP($C279, 'Nanodrop Data Raw'!$C:$L, 4, FALSE)","v":{"$error":"#N/A"}},null,null,null,null,{"$f":"'Sample Information'!$H$6","v":0},{"$f":"'Sample Information'!$H$5","v":0},null,null,{"$f":"'Sample Information'!$H$7","v":0},null,{"$error":"#N/A"}]
[{"$f":"'Sample Information'!A280","v":279},{"$f":"'Sample Information'!B280","v":0},"0-DNA",{"$f":"'Sample Information'!D280","v":0},{"$f":"IF(VLOOKUP($C280, 'Nanodrop Data Raw'!$C:$L, 10, FALSE)<>\"\", VLOOKUP($C280, 'Nanodrop Data Raw'!$C:$L, 10, FALSE), VLOOKUP($C280, 'Nanodrop Data Raw'!$C:$L, 2, FALSE))","v":{"$error":"#N/A"}},null,null,{"$error":"#N/A"},{"$f":"VLOOKUP($C280, 'Nanodrop Data Raw'!$C:$L, 3, FALSE)","v":{"$error":"#N/A"}},{"$f":"VLOOKUP($C280, 'Nanodrop Data Raw'!$C:$L, 4, FALSE)","v":{"$error":"#N/A"}},null,null,null,null,{"$f":"'Sample Information'!$H$6","v":0},{"$f":"'Sample Information'!$H$5","v":0},null,null,{"$f":"'Sample Information'!$H$7","v":0},null,{"$error":"#N/A"}]
[{"$f":"'Sample Information'!A281","v":280},{"$f":"'Sample Information'!B281","v":0},"0-DNA",{"$f":"'Sample Information'!D281","v":0},{"$f":"IF(VLOOKUP($C281, 'Nanodrop Data Raw'!$C:$L, 10, FALSE)<>\"\", VLOOKUP($C281, 'Nanodrop Data Raw'!$C:$L, 10, FALSE), VLOOKUP($C281, 'Nanodrop Data Raw'!$C:$L, 2, FALSE))","v":{"$error":"#N/A"}},null,null,{"$error":"#N/A"},{"$f":"VLOOKUP($C281, 'Nanodrop Data Raw'!$C:$L, 3, FALSE)","v":{"$error":"#N/A"}},{"$f":"VLOOKUP($C281, 'Nanodrop Data Raw'!$C:$L, 4, FALSE)","v":{"$error":"#N/A"}},null,null,null,null,{"$f":"'Sample Information'!$H$6","v":0},{"$f":"'Sample Information'!$H$5","v":0},null,null,{"$f":"'Sample Information'!$H$7","v":0},null,{"$error":"#N/A"}]
[{"$f":"'Sample Information'!A282","v":281},{"$f":"'Sample Information'!B282","v":0},"0-DNA",{"$f":"'Sample Information'!D282","v":0},{"$f":"IF(VLOOKUP($C282, 'Nanodrop Data Raw'!$C:$L, 10, FALSE)<>\"\", VLOOKUP($C282, 'Nanodrop Data Raw'!$C:$L, 10, FALSE), VLOOKUP($C282, 'Nanodrop Data Raw'!$C:$L, 2, FALSE))","v":{"$error":"#N/A"}},null,null,{"$error":"#N/A"},{"$f":"VLOOKUP($C282, 'Nanodrop Data Raw'!$C:$L, 3, FALSE)","v":{"$error":"#N/A"}},{"$f":"VLOOKUP($C282, 'Nanodrop Data Raw'!$C:$L, 4, FALSE)","v":{"$error":"#N/A"}},null,null,null,null,{"$f":"'Sample Information'!$H$6","v":0},{"$f":"'Sample Information'!$H$5","v":0},null,null,{"$f":"'Sample Information'!$H$7","v":0},null,{"$error":"#N/A"}]
[{"$f":"'Sample Information'!A283","v":282},{"$f":"'Sample Information'!B283","v":0},"0-DNA",{"$f":"'Sample Information'!D283","v":0},{"$f":"IF(VLOOKUP($C283, 'Nanodrop Data Raw'!$C:$L, 10, FALSE)<>\"\", VLOOKUP($C283, 'Nanodrop Data Raw'!$C:$L, 10, FALSE), VLOOKUP($C283, 'Nanodrop Data Raw'!$C:$L, 2, FALSE))","v":{"$error":"#N/A"}},null,null,{"$error":"#N/A"},{"$f":"VLOOKUP($C283, 'Nanodrop Data Raw'!$C:$L, 3, FALSE)","v":{"$error":"#N/A"}},{"$f":"VLOOKUP($C283, 'Nanodrop Data Raw'!$C:$L, 4, FALSE)","v":{"$error":"#N/A"}},null,null,null,null,{"$f":"'Sample Information'!$H$6","v":0},{"$f":"'Sample Information'!$H$5","v":0},null,null,{"$f":"'Sample Information'!$H$7","v":0},null,{"$error":"#N/A"}]
[{"$f":"'Sample Information'!A284","v":283},{"$f":"'Sample Information'!B284","v":0},"0-DNA",{"$f":"'Sample Information'!D284","v":0},{"$f":"IF(VLOOKUP($C284, 'Nanodrop Data Raw'!$C:$L, 10, FALSE)<>\"\", VLOOKUP($C284, 'Nanodrop Data Raw'!$C:$L, 10, FALSE), VLOOKUP($C284, 'Nanodrop Data Raw'!$C:$L, 2, FALSE))","v":{"$error":"#N/A"}},null,null,{"$error":"#N/A"},{"$f":"VLOOKUP($C284, 'Nanodrop Data Raw'!$C:$L, 3, FALSE)","v":{"$error":"#N/A"}},{"$f":"VLOOKUP($C284, 'Nanodrop Data Raw'!$C:$L, 4, FALSE)","v":{"$error":"#N/A"}},null,null,null,null,{"$f":"'Sample Information'!$H$6","v":0},{"$f":"'Sample Information'!$H$5","v":0},null,null,{"$f":"'Sample Information'!$H$7","v":0},null,{"$error":"#N/A"}]
[{"$f":"'Sample Information'!A285","v":284},{"$f":"'Sample Information'!B285","v":0},"0-DNA",{"$f":"'Sample Information'!D285","v":0},{"$f":"IF(VLOOKUP($C285, 'Nanodrop Data Raw'!$C:$L, 10, FALSE)<>\"\", VLOOKUP($C285, 'Nanodrop Data Raw'!$C:$L, 10, FALSE), VLOOKUP($C285, 'Nanodrop Data Raw'!$C:$L, 2, FALSE))","v":{"$error":"#N/A"}},null,null,{"$error":"#N/A"},{"$f":"VLOOKUP($C285, 'Nanodrop Data Raw'!$C:$L, 3, FALSE)","v":{"$error":"#N/A"}},{"$f":"VLOOKUP($C285, 'Nanodrop Data Raw'!$C:$L, 4, FALSE)","v":{"$error":"#N/A"}},null,null,null,null,{"$f":"'Sample Information'!$H$6","v":0},{"$f":"'Sample Information'!$H$5","v":0},null,null,{"$f":"'Sample Information'!$H$7","v":0},null,{"$error":"#N/A"}]
[{"$f":"'Sample Information'!A286","v":285},{"$f":"'Sample Information'!B286","v":0},"0-DNA",{"$f":"'Sample Information'!D286","v":0},{"$f":"IF(VLOOKUP($C286, 'Nanodrop Data Raw'!$C:$L, 10, FALSE)<>\"\", VLOOKUP($C286, 'Nanodrop Data Raw'!$C:$L, 10, FALSE), VLOOKUP($C286, 'Nanodrop Data Raw'!$C:$L, 2, FALSE))","v":{"$error":"#N/A"}},null,null,{"$error":"#N/A"},{"$f":"VLOOKUP($C286, 'Nanodrop Data Raw'!$C:$L, 3, FALSE)","v":{"$error":"#N/A"}},{"$f":"VLOOKUP($C286, 'Nanodrop Data Raw'!$C:$L, 4, FALSE)","v":{"$error":"#N/A"}},null,null,null,null,{"$f":"'Sample Information'!$H$6","v":0},{"$f":"'Sample Information'!$H$5","v":0},null,null,{"$f":"'Sample Information'!$H$7","v":0},null,{"$error":"#N/A"}]
[{"$f":"'Sample Information'!A287","v":286},{"$f":"'Sample Information'!B287","v":0},"0-DNA",{"$f":"'Sample Information'!D287","v":0},{"$f":"IF(VLOOKUP($C287, 'Nanodrop Data Raw'!$C:$L, 10, FALSE)<>\"\", VLOOKUP($C287, 'Nanodrop Data Raw'!$C:$L, 10, FALSE), VLOOKUP($C287, 'Nanodrop Data Raw'!$C:$L, 2, FALSE))","v":{"$error":"#N/A"}},null,null,{"$error":"#N/A"},{"$f":"VLOOKUP($C287, 'Nanodrop Data Raw'!$C:$L, 3, FALSE)","v":{"$error":"#N/A"}},{"$f":"VLOOKUP($C287, 'Nanodrop Data Raw'!$C:$L, 4, FALSE)","v":{"$error":"#N/A"}},null,null,null,null,{"$f":"'Sample Information'!$H$6","v":0},{"$f":"'Sample Information'!$H$5","v":0},null,null,{"$f":"'Sample Information'!$H$7","v":0},null,{"$error":"#N/A"}]
[{"$f":"'Sample Information'!A288","v":287},{"$f":"'Sample Information'!B288","v":0},"0-DNA",{"$f":"'Sample Information'!D288","v":0},{"$f":"IF(VLOOKUP($C288, 'Nanodrop Data Raw'!$C:$L, 10, FALSE)<>\"\", VLOOKUP($C288, 'Nanodrop Data Raw'!$C:$L, 10, FALSE), VLOOKUP($C288, 'Nanodrop Data Raw'!$C:$L, 2, FALSE))","v":{"$error":"#N/A"}},null,null,{"$error":"#N/A"},{"$f":"VLOOKUP($C288, 'Nanodrop Data Raw'!$C:$L, 3, FALSE)","v":{"$error":"#N/A"}},{"$f":"VLOOKUP($C288, 'Nanodrop Data Raw'!$C:$L, 4, FALSE)","v":{"$error":"#N/A"}},null,null,null,null,{"$f":"'Sample Information'!$H$6","v":0},{"$f":"'Sample Information'!$H$5","v":0},null,null,{"$f":"'Sample Information'!$H$7","v":0},null,{"$error":"#N/A"}]
[{"$f":"'Sample Information'!A289","v":288},{"$f":"'Sample Information'!B289","v":0},"0-DNA",{"$f":"'Sample Information'!D289","v":0},{"$f":"IF(VLOOKUP($C289, 'Nanodrop Data Raw'!$C:$L, 10, FALSE)<>\"\", VLOOKUP($C289, 'Nanodrop Data Raw'!$C:$L, 10, FALSE), VLOOKUP($C289, 'Nanodrop Data Raw'!$C:$L, 2, FALSE))","v":{"$error":"#N/A"}},null,null,{"$error":"#N/A"},{"$f":"VLOOKUP($C289, 'Nanodrop Data Raw'!$C:$L, 3, FALSE)","v":{"$error":"#N/A"}},{"$f":"VLOOKUP($C289, 'Nanodrop Data Raw'!$C:$L, 4, FALSE)","v":{"$error":"#N/A"}},null,null,null,null,{"$f":"'Sample Information'!$H$6","v":0},{"$f":"'Sample Information'!$H$5","v":0},null,null,{"$f":"'Sample Information'!$H$7","v":0},null,{"$error":"#N/A"}]
[{"$f":"'Sample Information'!A290","v":289},{"$f":"'Sample Information'!B290","v":0},"0-DNA",{"$f":"'Sample Information'!D290","v":0},{"$f":"IF(VLOOKUP($C290, 'Nanodrop Data Raw'!$C:$L, 10, FALSE)<>\"\", VLOOKUP($C290, 'Nanodrop Data Raw'!$C:$L, 10, FALSE), VLOOKUP($C290, 'Nanodrop Data Raw'!$C:$L, 2, FALSE))","v":{"$error":"#N/A"}},null,null,{"$error":"#N/A"},{"$f":"VLOOKUP($C290, 'Nanodrop Data Raw'!$C:$L, 3, FALSE)","v":{"$error":"#N/A"}},{"$f":"VLOOKUP($C290, 'Nanodrop Data Raw'!$C:$L, 4, FALSE)","v":{"$error":"#N/A"}},null,null,null,null,{"$f":"'Sample Information'!$H$6","v":0},{"$f":"'Sample Information'!$H$5","v":0},null,null,{"$f":"'Sample Information'!$H$7","v":0},null,{"$error":"#N/A"}]
[{"$f":"'Sample Information'!A291","v":290},{"$f":"'Sample Information'!B291","v":0},"0-DNA",{"$f":"'Sample Information'!D291","v":0},{"$f":"IF(VLOOKUP($C291, 'Nanodrop Data Raw'!$C:$L, 10, FALSE)<>\"\", VLOOKUP($C291, 'Nanodrop Data Raw'!$C:$L, 10, FALSE), VLOOKUP($C291, 'Nanodrop Data Raw'!$C:$L, 2, FALSE))","v":{"$error":"#N/A"}},null,null,{"$error":"#N/A"},{"$f":"VLOOKUP($C291, 'Nanodrop Data Raw'!$C:$L, 3, FALSE)","v":{"$error":"#N/A"}},{"$f":"VLOOKUP($C291, 'Nanodrop Data Raw'!$C:$L, 4, FALSE)","v":{"$error":"#N/A"}},null,null,null,null,{"$f":"'Sample Information'!$H$6","v":0},{"$f":"'Sample Information'!$H$5","v":0},null,null,{"$f":"'Sample Information'!$H$7","v":0},null,{"$error":"#N/A"}]
[{"$f":"'Sample Information'!A292","v":291},{"$f":"'Sample Information'!B292","v":0},"0-DNA",{"$f":"'Sample Information'!D292","v":0},{"$f":"IF(VLOOKUP($C292, 'Nanodrop Data Raw'!$C:$L, 10, FALSE)<>\"\", VLOOKUP($C292, 'Nanodrop Data Raw'!$C:$L, 10, FALSE), VLOOKUP($C292, 'Nanodrop Data Raw'!$C:$L, 2, FALSE))","v":{"$error":"#N/A"}},null,null,{"$error":"#N/A"},{"$f":"VLOOKUP($C292, 'Nanodrop Data Raw'!$C:$L, 3, FALSE)","v":{"$error":"#N/A"}},{"$f":"VLOOKUP($C292, 'Nanodrop Data Raw'!$C:$L, 4, FALSE)","v":{"$error":"#N/A"}},null,null,null,null,{"$f":"'Sample Information'!$H$6","v":0},{"$f":"'Sample Information'!$H$5","v":0},null,null,{"$f":"'Sample Information'!$H$7","v":0},null,{"$error":"#N/A"}]
[{"$f":"'Sample Information'!A293","v":292},{"$f":"'Sample Information'!B293","v":0},"0-DNA",{"$f":"'Sample Information'!D293","v":0},{"$f":"IF(VLOOKUP($C293, 'Nanodrop Data Raw'!$C:$L, 10, FALSE)<>\"\", VLOOKUP($C293, 'Nanodrop Data Raw'!$C:$L, 10, FALSE), VLOOKUP($C293, 'Nanodrop Data Raw'!$C:$L, 2, FALSE))","v":{"$error":"#N/A"}},null,null,{"$error":"#N/A"},{"$f":"VLOOKUP($C293, 'Nanodrop Data Raw'!$C:$L, 3, FALSE)","v":{"$error":"#N/A"}},{"$f":"VLOOKUP($C293, 'Nanodrop Data Raw'!$C:$L, 4, FALSE)","v":{"$error":"#N/A"}},null,null,null,null,{"$f":"'Sample Information'!$H$6","v":0},{"$f":"'Sample Information'!$H$5","v":0},null,null,{"$f":"'Sample Information'!$H$7","v":0},null,{"$error":"#N/A"}]
[{"$f":"'Sample Information'!A294","v":293},{"$f":"'Sample Information'!B294","v":0},"0-DNA",{"$f":"'Sample Information'!D294","v":0},{"$f":"IF(VLOOKUP($C294, 'Nanodrop Data Raw'!$C:$L, 10, FALSE)<>\"\", VLOOKUP($C294, 'Nanodrop Data Raw'!$C:$L, 10, FALSE), VLOOKUP($C294, 'Nanodrop Data Raw'!$C:$L, 2, FALSE))","v":{"$error":"#N/A"}},null,null,{"$error":"#N/A"},{"$f":"VLOOKUP($C294, 'Nanodrop Data Raw'!$C:$L, 3, FALSE)","v":{"$error":"#N/A"}},{"$f":"VLOOKUP($C294, 'Nanodrop Data Raw'!$C:$L, 4, FALSE)","v":{"$error":"#N/A"}},null,null,null,null,{"$f":"'Sample Information'!$H$6","v":0},{"$f":"'Sample Information'!$H$5","v":0},null,null,{"$f":"'Sample Information'!$H$7","v":0},null,{"$error":"#N/A"}]
[{"$f":"'Sample Information'!A295","v":294},{"$f":"'Sample Information'!B295","v":0},"0-DNA",{"$f":"'Sample Information'!D295","v":0},{"$f":"IF(VLOOKUP($C295, 'Nanodrop Data Raw'!$C:$L, 10, FALSE)<>\"\", VLOOKUP($C295, 'Nanodrop Data Raw'!$C:$L, 10, FALSE), VLOOKUP($C295, 'Nanodrop Data Raw'!$C:$L, 2, FALSE))","v":{"$error":"#N/A"}},null,null,{"$error":"#N/A"},{"$f":"VLOOKUP($C295, 'Nanodrop Data Raw'!$C:$L, 3, FALSE)","v":{"$error":"#N/A"}},{"$f":"VLOOKUP($C295, 'Nanodrop Data Raw'!$C:$L, 4, FALSE)","v":{"$error":"#N/A"}},null,null,null,null,{"$f":"'Sample Information'!$H$6","v":0},{"$f":"'Sample Information'!$H$5","v":0},null,null,{"$f":"'Sample Information'!$H$7","v":0},null,{"$error":"#N/A"}]
[{"$f":"'Sample Information'!A296","v":295},{"$f":"'Sample Information'!B296","v":0},"0-DNA",{"$f":"'Sample Information'!D296","v":0},{"$f":"IF(VLOOKUP($C296, 'Nanodrop Data Raw'!$C:$L, 10, FALSE)<>\"\", VLOOKUP($C296, 'Nanodrop Data Raw'!$C:$L, 10, FALSE), VLOOKUP($C296, 'Nanodrop Data Raw'!$C:$L, 2, FALSE))","v":{"$error":"#N/A"}},null,null,{"$error":"#N/A"},{"$f":"VLOOKUP($C296, 'Nanodrop Data Raw'!$C:$L, 3, FALSE)","v":{"$error":"#N/A"}},{"$f":"VLOOKUP($C296, 'Nanodrop Data Raw'!$C:$L, 4, FALSE)","v":{"$error":"#N/A"}},null,null,null,null,{"$f":"'Sample Information'!$H$6","v":0},{"$f":"'Sample Information'!$H$5","v":0},null,null,{"$f":"'Sample Information'!$H$7","v":0},null,{"$error":"#N/A"}]
[{"$f":"'Sample Information'!A297","v":296},{"$f":"'Sample Information'!B297","v":0},"0-DNA",{"$f":"'Sample Information'!D297","v":0},{"$f":"IF(VLOOKUP($C297, 'Nanodrop Data Raw'!$C:$L, 10, FALSE)<>\"\", VLOOKUP($C297, 'Nanodrop Data Raw'!$C:$L, 10, FALSE), VLOOKUP($C297, 'Nanodrop Data Raw'!$C:$L, 2, FALSE))","v":{"$error":"#N/A"}},null,null,{"$error":"#N/A"},{"$f":"VLOOKUP($C297, 'Nanodrop Data Raw'!$C:$L, 3, FALSE)","v":{"$error":"#N/A"}},{"$f":"VLOOKUP($C297, 'Nanodrop Data Raw'!$C:$L, 4, FALSE)","v":{"$error":"#N/A"}},null,null,null,null,{"$f":"'Sample Information'!$H$6","v":0},{"$f":"'Sample Information'!$H$5","v":0},null,null,{"$f":"'Sample Information'!$H$7","v":0},null,{"$error":"#N/A"}]
[{"$f":"'Sample Information'!A298","v":297},{"$f":"'Sample Information'!B298","v":0},"0-DNA",{"$f":"'Sample Information'!D298","v":0},{"$f":"IF(VLOOKUP($C298, 'Nanodrop Data Raw'!$C:$L, 10, FALSE)<>\"\", VLOOKUP($C298, 'Nanodrop Data Raw'!$C:$L, 10, FALSE), VLOOKUP($C298, 'Nanodrop Data Raw'!$C:$L, 2, FALSE))","v":{"$error":"#N/A"}},null,null,{"$error":"#N/A"},{"$f":"VLOOKUP($C298, 'Nanodrop Data Raw'!$C:$L, 3, FALSE)","v":{"$error":"#N/A"}},{"$f":"VLOOKUP($C298, 'Nanodrop Data Raw'!$C:$L, 4, FALSE)","v":{"$error":"#N/A"}},null,null,null,null,{"$f":"'Sample Information'!$H$6","v":0},{"$f":"'Sample Information'!$H$5","v":0},null,null,{"$f":"'Sample Information'!$H$7","v":0},null,{"$error":"#N/A"}]
[{"$f":"'Sample Information'!A299","v":298},{"$f":"'Sample Information'!B299","v":0},"0-DNA",{"$f":"'Sample Information'!D299","v":0},{"$f":"IF(VLOOKUP($C299, 'Nanodrop Data Raw'!$C:$L, 10, FALSE)<>\"\", VLOOKUP($C299, 'Nanodrop Data Raw'!$C:$L, 10, FALSE), VLOOKUP($C299, 'Nanodrop Data Raw'!$C:$L, 2, FALSE))","v":{"$error":"#N/A"}},null,null,{"$error":"#N/A"},{"$f":"VLOOKUP($C299, 'Nanodrop Data Raw'!$C:$L, 3, FALSE)","v":{"$error":"#N/A"}},{"$f":"VLOOKUP($C299, 'Nanodrop Data Raw'!$C:$L, 4, FALSE)","v":{"$error":"#N/A"}},null,null,null,null,{"$f":"'Sample Information'!$H$6","v":0},{"$f":"'Sample Information'!$H$5","v":0},null,null,{"$f":"'Sample Information'!$H$7","v":0},null,{"$error":"#N/A"}]
[{"$f":"'Sample Information'!A300","v":299},{"$f":"'Sample Information'!B300","v":0},"0-DNA",{"$f":"'Sample Information'!D300","v":0},{"$f":"IF(VLOOKUP($C300, 'Nanodrop Data Raw'!$C:$L, 10, FALSE)<>\"\", VLOOKUP($C300, 'Nanodrop Data Raw'!$C:$L, 10, FALSE), VLOOKUP($C300, 'Nanodrop Data Raw'!$C:$L, 2, FALSE))","v":{"$error":"#N/A"}},null,null,{"$error":"#N/A"},{"$f":"VLOOKUP($C300, 'Nanodrop Data Raw'!$C:$L, 3, FALSE)","v":{"$error":"#N/A"}},{"$f":"VLOOKUP($C300, 'Nanodrop Data Raw'!$C:$L, 4, FALSE)","v":{"$error":"#N/A"}},null,null,null,null,{"$f":"'Sample Information'!$H$6","v":0},{"$f":"'Sample Information'!$H$5","v":0},null,null,{"$f":"'Sample Information'!$H$7","v":0},null,{"$error":"#N/A"}]
[{"$f":"'Sample Information'!A301","v":300},{"$f":"'Sample Information'!B301","v":0},"0-DNA",{"$f":"'Sample Information'!D301","v":0},{"$f":"IF(VLOOKUP($C301, 'Nanodrop Data Raw'!$C:$L, 10, FALSE)<>\"\", VLOOKUP($C301, 'Nanodrop Data Raw'!$C:$L, 10, FALSE), VLOOKUP($C301, 'Nanodrop Data Raw'!$C:$L, 2, FALSE))","v":{"$error":"#N/A"}},null,null,{"$error":"#N/A"},{"$f":"VLOOKUP($C301, 'Nanodrop Data Raw'!$C:$L, 3, FALSE)","v":{"$error":"#N/A"}},{"$f":"VLOOKUP($C301, 'Nanodrop Data Raw'!$C:$L, 4, FALSE)","v":{"$error":"#N/A"}},null,null,null,null,{"$f":"'Sample Information'!$H$6","v":0},{"$f":"'Sample Information'!$H$5","v":0},null,null,{"$f":"'Sample Information'!$H$7","v":0},null,{"$error":"#N/A"}]
[{"$f":"'Sample Information'!A302","v":301},{"$f":"'Sample Information'!B302","v":0},"0-DNA",{"$f":"'Sample Information'!D302","v":0},{"$f":"IF(VLOOKUP($C302, 'Nanodrop Data Raw'!$C:$L, 10, FALSE)<>\"\", VLOOKUP($C302, 'Nanodrop Data Raw'!$C:$L, 10, FALSE), VLOOKUP($C302, 'Nanodrop Data Raw'!$C:$L, 2, FALSE))","v":{"$error":"#N/A"}},null,null,{"$error":"#N/A"},{"$f":"VLOOKUP($C302, 'Nanodrop Data Raw'!$C:$L, 3, FALSE)","v":{"$error":"#N/A"}},{"$f":"VLOOKUP($C302, 'Nanodrop Data Raw'!$C:$L, 4, FALSE)","v":{"$error":"#N/A"}},null,null,null,null,{"$f":"'Sample Information'!$H$6","v":0},{"$f":"'Sample Information'!$H$5","v":0},null,null,{"$f":"'Sample Information'!$H$7","v":0},null,{"$error":"#N/A"}]
[{"$f":"'Sample Information'!A303","v":302},{"$f":"'Sample Information'!B303","v":0},"0-DNA",{"$f":"'Sample Information'!D303","v":0},{"$f":"IF(VLOOKUP($C303, 'Nanodrop Data Raw'!$C:$L, 10, FALSE)<>\"\", VLOOKUP($C303, 'Nanodrop Data Raw'!$C:$L, 10, FALSE), VLOOKUP($C303, 'Nanodrop Data Raw'!$C:$L, 2, FALSE))","v":{"$error":"#N/A"}},null,null,{"$error":"#N/A"},{"$f":"VLOOKUP($C303, 'Nanodrop Data Raw'!$C:$L, 3, FALSE)","v":{"$error":"#N/A"}},{"$f":"VLOOKUP($C303, 'Nanodrop Data Raw'!$C:$L, 4, FALSE)","v":{"$error":"#N/A"}},null,null,null,null,{"$f":"'Sample Information'!$H$6","v":0},{"$f":"'Sample Information'!$H$5","v":0},null,null,{"$f":"'Sample Information'!$H$7","v":0},null,{"$error":"#N/A"}]
[{"$f":"'Sample Information'!A304","v":303},{"$f":"'Sample Information'!B304","v":0},"0-DNA",{"$f":"'Sample Information'!D304","v":0},{"$f":"IF(VLOOKUP($C304, 'Nanodrop Data Raw'!$C:$L, 10, FALSE)<>\"\", VLOOKUP($C304, 'Nanodrop Data Raw'!$C:$L, 10, FALSE), VLOOKUP($C304, 'Nanodrop Data Raw'!$C:$L, 2, FALSE))","v":{"$error":"#N/A"}},null,null,{"$error":"#N/A"},{"$f":"VLOOKUP($C304, 'Nanodrop Data Raw'!$C:$L, 3, FALSE)","v":{"$error":"#N/A"}},{"$f":"VLOOKUP($C304, 'Nanodrop Data Raw'!$C:$L, 4, FALSE)","v":{"$error":"#N/A"}},null,null,null,null,{"$f":"'Sample Information'!$H$6","v":0},{"$f":"'Sample Information'!$H$5","v":0},null,null,{"$f":"'Sample Information'!$H$7","v":0},null,{"$error":"#N/A"}]
[{"$f":"'Sample Information'!A305","v":304},{"$f":"'Sample Information'!B305","v":0},"0-DNA",{"$f":"'Sample Information'!D305","v":0},{"$f":"IF(VLOOKUP($C305, 'Nanodrop Data Raw'!$C:$L, 10, FALSE)<>\"\", VLOOKUP($C305, 'Nanodrop Data Raw'!$C:$L, 10, FALSE), VLOOKUP($C305, 'Nanodrop Data Raw'!$C:$L, 2, FALSE))","v":{"$error":"#N/A"}},null,null,{"$error":"#N/A"},{"$f":"VLOOKUP($C305, 'Nanodrop Data Raw'!$C:$L, 3, FALSE)","v":{"$error":"#N/A"}},{"$f":"VLOOKUP($C305, 'Nanodrop Data Raw'!$C:$L, 4, FALSE)","v":{"$error":"#N/A"}},null,null,null,null,{"$f":"'Sample Information'!$H$6","v":0},{"$f":"'Sample Information'!$H$5","v":0},null,null,{"$f":"'Sample Information'!$H$7","v":0},null,{"$error":"#N/A"}]
[{"$f":"'Sample Information'!A306","v":305},{"$f":"'Sample Information'!B306","v":0},"0-DNA",{"$f":"'Sample Information'!D306","v":0},{"$f":"IF(VLOOKUP($C306, 'Nanodrop Data Raw'!$C:$L, 10, FALSE)<>\"\", VLOOKUP($C306, 'Nanodrop Data Raw'!$C:$L, 10, FALSE), VLOOKUP($C306, 'Nanodrop Data Raw'!$C:$L, 2, FALSE))","v":{"$error":"#N/A"}},null,null,{"$error":"#N/A"},{"$f":"VLOOKUP($C306, 'Nanodrop Data Raw'!$C:$L, 3, FALSE)","v":{"$error":"#N/A"}},{"$f":"VLOOKUP($C306, 'Nanodrop Data Raw'!$C:$L, 4, FALSE)","v":{"$error":"#N/A"}},null,null,null,null,{"$f":"'Sample Information'!$H$6","v":0},{"$f":"'Sample Information'!$H$5","v":0},null,null,{"$f":"'Sample Information'!$H$7","v":0},null,{"$error":"#N/A"}]
[{"$f":"'Sample Information'!A307","v":306},{"$f":"'Sample Information'!B307","v":0},"0-DNA",{"$f":"'Sample Information'!D307","v":0},{"$f":"IF(VLOOKUP($C307, 'Nanodrop Data Raw'!$C:$L, 10, FALSE)<>\"\", VLOOKUP($C307, 'Nanodrop Data Raw'!$C:$L, 10, FALSE), VLOOKUP($C307, 'Nanodrop Data Raw'!$C:$L, 2, FALSE))","v":{"$error":"#N/A"}},null,null,{"$error":"#N/A"},{"$f":"VLOOKUP($C307, 'Nanodrop Data Raw'!$C:$L, 3, FALSE)","v":{"$error":"#N/A"}},{"$f":"VLOOKUP($C307, 'Nanodrop Data Raw'!$C:$L, 4, FALSE)","v":{"$error":"#N/A"}},null,null,null,null,{"$f":"'Sample Information'!$H$6","v":0},{"$f":"'Sample Information'!$H$5","v":0},null,null,{"$f":"'Sample Information'!$H$7","v":0},null,{"$error":"#N/A"}]
[{"$f":"'Sample Information'!A308","v":307},{"$f":"'Sample Information'!B308","v":0},"0-DNA",{"$f":"'Sample Information'!D308","v":0},{"$f":"IF(VLOOKUP($C308, 'Nanodrop Data Raw'!$C:$L, 10, FALSE)<>\"\", VLOOKUP($C308, 'Nanodrop Data Raw'!$C:$L, 10, FALSE), VLOOKUP($C308, 'Nanodrop Data Raw'!$C:$L, 2, FALSE))","v":{"$error":"#N/A"}},null,null,{"$error":"#N/A"},{"$f":"VLOOKUP($C308, 'Nanodrop Data Raw'!$C:$L, 3, FALSE)","v":{"$error":"#N/A"}},{"$f":"VLOOKUP($C308, 'Nanodrop Data Raw'!$C:$L, 4, FALSE)","v":{"$error":"#N/A"}},null,null,null,null,{"$f":"'Sample Information'!$H$6","v":0},{"$f":"'Sample Information'!$H$5","v":0},null,null,{"$f":"'Sample Information'!$H$7","v":0},null,{"$error":"#N/A"}]
[{"$f":"'Sample Information'!A309","v":308},{"$f":"'Sample Information'!B309","v":0},"0-DNA",{"$f":"'Sample Information'!D309","v":0},{"$f":"IF(VLOOKUP($C309, 'Nanodrop Data Raw'!$C:$L, 10, FALSE)<>\"\", VLOOKUP($C309, 'Nanodrop Data Raw'!$C:$L, 10, FALSE), VLOOKUP($C309, 'Nanodrop Data Raw'!$C:$L, 2, FALSE))","v":{"$error":"#N/A"}},null,null,{"$error":"#N/A"},{"$f":"VLOOKUP($C309, 'Nanodrop Data Raw'!$C:$L, 3, FALSE)","v":{"$error":"#N/A"}},{"$f":"VLOOKUP($C309, 'Nanodrop Data Raw'!$C:$L, 4, FALSE)","v":{"$error":"#N/A"}},null,null,null,null,{"$f":"'Sample Information'!$H$6","v":0},{"$f":"'Sample Information'!$H$5","v":0},null,null,{"$f":"'Sample Information'!$H$7","v":0},null,{"$error":"#N/A"}]
[{"$f":"'Sample Information'!A310","v":309},{"$f":"'Sample Information'!B310","v":0},"0-DNA",{"$f":"'Sample Information'!D310","v":0},{"$f":"IF(VLOOKUP($C310, 'Nanodrop Data Raw'!$C:$L, 10, FALSE)<>\"\", VLOOKUP($C310, 'Nanodrop Data Raw'!$C:$L, 10, FALSE), VLOOKUP($C310, 'Nanodrop Data Raw'!$C:$L, 2, FALSE))","v":{"$error":"#N/A"}},null,null,{"$error":"#N/A"},{"$f":"VLOOKUP($C310, 'Nanodrop Data Raw'!$C:$L, 3, FALSE)","v":{"$error":"#N/A"}},{"$f":"VLOOKUP($C310, 'Nanodrop Data Raw'!$C:$L, 4, FALSE)","v":{"$error":"#N/A"}},null,null,null,null,{"$f":"'Sample Information'!$H$6","v":0},{"$f":"'Sample Information'!$H$5","v":0},null,null,{"$f":"'Sample Information'!$H$7","v":0},null,{"$error":"#N/A"}]
[{"$f":"'Sample Information'!A311","v":310},{"$f":"'Sample Information'!B311","v":0},"0-DNA",{"$f":"'Sample Information'!D311","v":0},{"$f":"IF(VLOOKUP($C311, 'Nanodrop Data Raw'!$C:$L, 10, FALSE)<>\"\", VLOOKUP($C311, 'Nanodrop Data Raw'!$C:$L, 10, FALSE), VLOOKUP($C311, 'Nanodrop Data Raw'!$C:$L, 2, FALSE))","v":{"$error":"#N/A"}},null,null,{"$error":"#N/A"},{"$f":"VLOOKUP($C311, 'Nanodrop Data Raw'!$C:$L, 3, FALSE)","v":{"$error":"#N/A"}},{"$f":"VLOOKUP($C311, 'Nanodrop Data Raw'!$C:$L, 4, FALSE)","v":{"$error":"#N/A"}},null,null,null,null,{"$f":"'Sample Information'!$H$6","v":0},{"$f":"'Sample Information'!$H$5","v":0},null,null,{"$f":"'Sample Information'!$H$7","v":0},null,{"$error":"#N/A"}]
[{"$f":"'Sample Information'!A312","v":311},{"$f":"'Sample Information'!B312","v":0},"0-DNA",{"$f":"'Sample Information'!D312","v":0},{"$f":"IF(VLOOKUP($C312, 'Nanodrop Data Raw'!$C:$L, 10, FALSE)<>\"\", VLOOKUP($C312, 'Nanodrop Data Raw'!$C:$L, 10, FALSE), VLOOKUP($C312, 'Nanodrop Data Raw'!$C:$L, 2, FALSE))","v":{"$error":"#N/A"}},null,null,{"$error":"#N/A"},{"$f":"VLOOKUP($C312, 'Nanodrop Data Raw'!$C:$L, 3, FALSE)","v":{"$error":"#N/A"}},{"$f":"VLOOKUP($C312, 'Nanodrop Data Raw'!$C:$L, 4, FALSE)","v":{"$error":"#N/A"}},null,null,null,null,{"$f":"'Sample Information'!$H$6","v":0},{"$f":"'Sample Information'!$H$5","v":0},null,null,{"$f":"'Sample Information'!$H$7","v":0},null,{"$error":"#N/A"}]
[{"$f":"'Sample Information'!A313","v":312},{"$f":"'Sample Information'!B313","v":0},"0-DNA",{"$f":"'Sample Information'!D313","v":0},{"$f":"IF(VLOOKUP($C313, 'Nanodrop Data Raw'!$C:$L, 10, FALSE)<>\"\", VLOOKUP($C313, 'Nanodrop Data Raw'!$C:$L, 10, FALSE), VLOOKUP($C313, 'Nanodrop Data Raw'!$C:$L, 2, FALSE))","v":{"$error":"#N/A"}},null,null,{"$error":"#N/A"},{"$f":"VLOOKUP($C313, 'Nanodrop Data Raw'!$C:$L, 3, FALSE)","v":{"$error":"#N/A"}},{"$f":"VLOOKUP($C313, 'Nanodrop Data Raw'!$C:$L, 4, FALSE)","v":{"$error":"#N/A"}},null,null,null,null,{"$f":"'Sample Information'!$H$6","v":0},{"$f":"'Sample Information'!$H$5","v":0},null,null,{"$f":"'Sample Information'!$H$7","v":0},null,{"$error":"#N/A"}]
[{"$f":"'Sample Information'!A314","v":313},{"$f":"'Sample Information'!B314","v":0},"0-DNA",{"$f":"'Sample Information'!D314","v":0},{"$f":"IF(VLOOKUP($C314, 'Nanodrop Data Raw'!$C:$L, 10, FALSE)<>\"\", VLOOKUP($C314, 'Nanodrop Data Raw'!$C:$L, 10, FALSE), VLOOKUP($C314, 'Nanodrop Data Raw'!$C:$L, 2, FALSE))","v":{"$error":"#N/A"}},null,null,{"$error":"#N/A"},{"$f":"VLOOKUP($C314, 'Nanodrop Data Raw'!$C:$L, 3, FALSE)","v":{"$error":"#N/A"}},{"$f":"VLOOKUP($C314, 'Nanodrop Data Raw'!$C:$L, 4, FALSE)","v":{"$error":"#N/A"}},null,null,null,null,{"$f":"'Sample Information'!$H$6","v":0},{"$f":"'Sample Information'!$H$5","v":0},null,null,{"$f":"'Sample Information'!$H$7","v":0},null,{"$error":"#N/A"}]
[{"$f":"'Sample Information'!A315","v":314},{"$f":"'Sample Information'!B315","v":0},"0-DNA",{"$f":"'Sample Information'!D315","v":0},{"$f":"IF(VLOOKUP($C315, 'Nanodrop Data Raw'!$C:$L, 10, FALSE)<>\"\", VLOOKUP($C315, 'Nanodrop Data Raw'!$C:$L, 10, FALSE), VLOOKUP($C315, 'Nanodrop Data Raw'!$C:$L, 2, FALSE))","v":{"$error":"#N/A"}},null,null,{"$error":"#N/A"},{"$f":"VLOOKUP($C315, 'Nanodrop Data Raw'!$C:$L, 3, FALSE)","v":{"$error":"#N/A"}},{"$f":"VLOOKUP($C315, 'Nanodrop Data Raw'!$C:$L, 4, FALSE)","v":{"$error":"#N/A"}},null,null,null,null,{"$f":"'Sample Information'!$H$6","v":0},{"$f":"'Sample Information'!$H$5","v":0},null,null,{"$f":"'Sample Information'!$H$7","v":0},null,{"$error":"#N/A"}]
[{"$f":"'Sample Information'!A316","v":315},{"$f":"'Sample Information'!B316","v":0},"0-DNA",{"$f":"'Sample Information'!D316","v":0},{"$f":"IF(VLOOKUP($C316, 'Nanodrop Data Raw'!$C:$L, 10, FALSE)<>\"\", VLOOKUP($C316, 'Nanodrop Data Raw'!$C:$L, 10, FALSE), VLOOKUP($C316, 'Nanodrop Data Raw'!$C:$L, 2, FALSE))","v":{"$error":"#N/A"}},null,null,{"$error":"#N/A"},{"$f":"VLOOKUP($C316, 'Nanodrop Data Raw'!$C:$L, 3, FALSE)","v":{"$error":"#N/A"}},{"$f":"VLOOKUP($C316, 'Nanodrop Data Raw'!$C:$L, 4, FALSE)","v":{"$error":"#N/A"}},null,null,null,null,{"$f":"'Sample Information'!$H$6","v":0},{"$f":"'Sample Information'!$H$5","v":0},null,null,{"$f":"'Sample Information'!$H$7","v":0},null,{"$error":"#N/A"}]
[{"$f":"'Sample Information'!A317","v":316},{"$f":"'Sample Information'!B317","v":0},"0-DNA",{"$f":"'Sample Information'!D317","v":0},{"$f":"IF(VLOOKUP($C317, 'Nanodrop Data Raw'!$C:$L, 10, FALSE)<>\"\", VLOOKUP($C317, 'Nanodrop Data Raw'!$C:$L, 10, FALSE), VLOOKUP($C317, 'Nanodrop Data Raw'!$C:$L, 2, FALSE))","v":{"$error":"#N/A"}},null,null,{"$error":"#N/A"},{"$f":"VLOOKUP($C317, 'Nanodrop Data Raw'!$C:$L, 3, FALSE)","v":{"$error":"#N/A"}},{"$f":"VLOOKUP($C317, 'Nanodrop Data Raw'!$C:$L, 4, FALSE)","v":{"$error":"#N/A"}},null,null,null,null,{"$f":"'Sample Information'!$H$6","v":0},{"$f":"'Sample Information'!$H$5","v":0},null,null,{"$f":"'Sample Information'!$H$7","v":0},null,{"$error":"#N/A"}]
[{"$f":"'Sample Information'!A318","v":317},{"$f":"'Sample Information'!B318","v":0},"0-DNA",{"$f":"'Sample Information'!D318","v":0},{"$f":"IF(VLOOKUP($C318, 'Nanodrop Data Raw'!$C:$L, 10, FALSE)<>\"\", VLOOKUP($C318, 'Nanodrop Data Raw'!$C:$L, 10, FALSE), VLOOKUP($C318, 'Nanodrop Data Raw'!$C:$L, 2, FALSE))","v":{"$error":"#N/A"}},null,null,{"$error":"#N/A"},{"$f":"VLOOKUP($C318, 'Nanodrop Data Raw'!$C:$L, 3, FALSE)","v":{"$error":"#N/A"}},{"$f":"VLOOKUP($C318, 'Nanodrop Data Raw'!$C:$L, 4, FALSE)","v":{"$error":"#N/A"}},null,null,null,null,{"$f":"'Sample Information'!$H$6","v":0},{"$f":"'Sample Information'!$H$5","v":0},null,null,{"$f":"'Sample Information'!$H$7","v":0},null,{"$error":"#N/A"}]
[{"$f":"'Sample Information'!A319","v":318},{"$f":"'Sample Information'!B319","v":0},"0-DNA",{"$f":"'Sample Information'!D319","v":0},{"$f":"IF(VLOOKUP($C319, 'Nanodrop Data Raw'!$C:$L, 10, FALSE)<>\"\", VLOOKUP($C319, 'Nanodrop Data Raw'!$C:$L, 10, FALSE), VLOOKUP($C319, 'Nanodrop Data Raw'!$C:$L, 2, FALSE))","v":{"$error":"#N/A"}},null,null,{"$error":"#N/A"},{"$f":"VLOOKUP($C319, 'Nanodrop Data Raw'!$C:$L, 3, FALSE)","v":{"$error":"#N/A"}},{"$f":"VLOOKUP($C319, 'Nanodrop Data Raw'!$C:$L, 4, FALSE)","v":{"$error":"#N/A"}},null,null,null,null,{"$f":"'Sample Information'!$H$6","v":0},{"$f":"'Sample Information'!$H$5","v":0},null,null,{"$f":"'Sample Information'!$H$7","v":0},null,{"$error":"#N/A"}]
[{"$f":"'Sample Information'!A320","v":319},{"$f":"'Sample Information'!B320","v":0},"0-DNA",{"$f":"'Sample Information'!D320","v":0},{"$f":"IF(VLOOKUP($C320, 'Nanodrop Data Raw'!$C:$L, 10, FALSE)<>\"\", VLOOKUP($C320, 'Nanodrop Data Raw'!$C:$L, 10, FALSE), VLOOKUP($C320, 'Nanodrop Data Raw'!$C:$L, 2, FALSE))","v":{"$error":"#N/A"}},null,null,{"$error":"#N/A"},{"$f":"VLOOKUP($C320, 'Nanodrop Data Raw'!$C:$L, 3, FALSE)","v":{"$error":"#N/A"}},{"$f":"VLOOKUP($C320, 'Nanodrop Data Raw'!$C:$L, 4, FALSE)","v":{"$error":"#N/A"}},null,null,null,null,{"$f":"'Sample Information'!$H$6","v":0},{"$f":"'Sample Information'!$H$5","v":0},null,null,{"$f":"'Sample Information'!$H$7","v":0},null,{"$error":"#N/A"}]
[{"$f":"'Sample Information'!A321","v":320},{"$f":"'Sample Information'!B321","v":0},"0-DNA",{"$f":"'Sample Information'!D321","v":0},{"$f":"IF(VLOOKUP($C321, 'Nanodrop Data Raw'!$C:$L, 10, FALSE)<>\"\", VLOOKUP($C321, 'Nanodrop Data Raw'!$C:$L, 10, FALSE), VLOOKUP($C321, 'Nanodrop Data Raw'!$C:$L, 2, FALSE))","v":{"$error":"#N/A"}},null,null,{"$error":"#N/A"},{"$f":"VLOOKUP($C321, 'Nanodrop Data Raw'!$C:$L, 3, FALSE)","v":{"$error":"#N/A"}},{"$f":"VLOOKUP($C321, 'Nanodrop Data Raw'!$C:$L, 4, FALSE)","v":{"$error":"#N/A"}},null,null,null,null,{"$f":"'Sample Information'!$H$6","v":0},{"$f":"'Sample Information'!$H$5","v":0},null,null,{"$f":"'Sample Information'!$H$7","v":0},null,{"$error":"#N/A"}]
[{"$f":"'Sample Information'!A322","v":321},{"$f":"'Sample Information'!B322","v":0},"0-DNA",{"$f":"'Sample Information'!D322","v":0},{"$f":"IF(VLOOKUP($C322, 'Nanodrop Data Raw'!$C:$L, 10, FALSE)<>\"\", VLOOKUP($C322, 'Nanodrop Data Raw'!$C:$L, 10, FALSE), VLOOKUP($C322, 'Nanodrop Data Raw'!$C:$L, 2, FALSE))","v":{"$error":"#N/A"}},null,null,{"$error":"#N/A"},{"$f":"VLOOKUP($C322, 'Nanodrop Data Raw'!$C:$L, 3, FALSE)","v":{"$error":"#N/A"}},{"$f":"VLOOKUP($C322, 'Nanodrop Data Raw'!$C:$L, 4, FALSE)","v":{"$error":"#N/A"}},null,null,null,null,{"$f":"'Sample Information'!$H$6","v":0},{"$f":"'Sample Information'!$H$5","v":0},null,null,{"$f":"'Sample Information'!$H$7","v":0},null,{"$error":"#N/A"}]
[{"$f":"'Sample Information'!A323","v":322},{"$f":"'Sample Information'!B323","v":0},{"$f":"CONCATENATE(B323,\"-DNA\")","v":"0-DNA"},{"$f":"'Sample Information'!D323","v":0},{"$f":"IF(VLOOKUP($C323, 'Nanodrop Data Raw'!$C:$L, 10, FALSE)<>\"\", VLOOKUP($C323, 'Nanodrop Data Raw'!$C:$L, 10, FALSE), VLOOKUP($C323, 'Nanodrop Data Raw'!$C:$L, 2, FALSE))","v":{"$error":"#N/A"}},null,null,{"$f":"E323*F323/1000","v":{"$error":"#N/A"}},{"$f":"VLOOKUP($C323, 'Nanodrop Data Raw'!$C:$L, 3, FALSE)","v":{"$error":"#N/A"}},{"$f":"VLOOKUP($C323, 'Nanodrop Data Raw'!$C:$L, 4, FALSE)","v":{"$error":"#N/A"}},null,null,null,null,{"$f":"'Sample Information'!$H$6","v":0},{"$f":"'Sample Information'!$H$5","v":0},null,null,{"$f":"'Sample Information'!$H$7","v":0},null,{"$f":"$N323/$E323","v":{"$error":"#N/A"}}]
[{"$f":"'Sample Information'!A324","v":323},{"$f":"'Sample Information'!B324","v":0},"0-DNA",{"$f":"'Sample Information'!D324","v":0},{"$f":"IF(VLOOKUP($C324, 'Nanodrop Data Raw'!$C:$L, 10, FALSE)<>\"\", VLOOKUP($C324, 'Nanodrop Data Raw'!$C:$L, 10, FALSE), VLOOKUP($C324, 'Nanodrop Data Raw'!$C:$L, 2, FALSE))","v":{"$error":"#N/A"}},null,null,{"$error":"#N/A"},{"$f":"VLOOKUP($C324, 'Nanodrop Data Raw'!$C:$L, 3, FALSE)","v":{"$error":"#N/A"}},{"$f":"VLOOKUP($C324, 'Nanodrop Data Raw'!$C:$L, 4, FALSE)","v":{"$error":"#N/A"}},null,null,null,null,{"$f":"'Sample Information'!$H$6","v":0},{"$f":"'Sample Information'!$H$5","v":0},null,null,{"$f":"'Sample Information'!$H$7","v":0},null,{"$error":"#N/A"}]
[{"$f":"'Sample Information'!A325","v":324},{"$f":"'Sample Information'!B325","v":0},"0-DNA",{"$f":"'Sample Information'!D325","v":0},{"$f":"IF(VLOOKUP($C325, 'Nanodrop Data Raw'!$C:$L, 10, FALSE)<>\"\", VLOOKUP($C325, 'Nanodrop Data Raw'!$C:$L, 10, FALSE), VLOOKUP($C325, 'Nanodrop Data Raw'!$C:$L, 2, FALSE))","v":{"$error":"#N/A"}},null,null,{"$error":"#N/A"},{"$f":"VLOOKUP($C325, 'Nanodrop Data Raw'!$C:$L, 3, FALSE)","v":{"$error":"#N/A"}},{"$f":"VLOOKUP($C325, 'Nanodrop Data Raw'!$C:$L, 4, FALSE)","v":{"$error":"#N/A"}},null,null,null,null,{"$f":"'Sample Information'!$H$6","v":0},{"$f":"'Sample Information'!$H$5","v":0},null,null,{"$f":"'Sample Information'!$H$7","v":0},null,{"$error":"#N/A"}]
[{"$f":"'Sample Information'!A326","v":325},{"$f":"'Sample Information'!B326","v":0},"0-DNA",{"$f":"'Sample Information'!D326","v":0},{"$f":"IF(VLOOKUP($C326, 'Nanodrop Data Raw'!$C:$L, 10, FALSE)<>\"\", VLOOKUP($C326, 'Nanodrop Data Raw'!$C:$L, 10, FALSE), VLOOKUP($C326, 'Nanodrop Data Raw'!$C:$L, 2, FALSE))","v":{"$error":"#N/A"}},null,null,{"$error":"#N/A"},{"$f":"VLOOKUP($C326, 'Nanodrop Data Raw'!$C:$L, 3, FALSE)","v":{"$error":"#N/A"}},{"$f":"VLOOKUP($C326, 'Nanodrop Data Raw'!$C:$L, 4, FALSE)","v":{"$error":"#N/A"}},null,null,null,null,{"$f":"'Sample Information'!$H$6","v":0},{"$f":"'Sample Information'!$H$5","v":0},null,null,{"$f":"'Sample Information'!$H$7","v":0},null,{"$error":"#N/A"}]
[{"$f":"'Sample Information'!A327","v":326},{"$f":"'Sample Information'!B327","v":0},"0-DNA",{"$f":"'Sample Information'!D327","v":0},{"$f":"IF(VLOOKUP($C327, 'Nanodrop Data Raw'!$C:$L, 10, FALSE)<>\"\", VLOOKUP($C327, 'Nanodrop Data Raw'!$C:$L, 10, FALSE), VLOOKUP($C327, 'Nanodrop Data Raw'!$C:$L, 2, FALSE))","v":{"$error":"#N/A"}},null,null,{"$error":"#N/A"},{"$f":"VLOOKUP($C327, 'Nanodrop Data Raw'!$C:$L, 3, FALSE)","v":{"$error":"#N/A"}},{"$f":"VLOOKUP($C327, 'Nanodrop Data Raw'!$C:$L, 4, FALSE)","v":{"$error":"#N/A"}},null,null,null,null,{"$f":"'Sample Information'!$H$6","v":0},{"$f":"'Sample Information'!$H$5","v":0},null,null,{"$f":"'Sample Information'!$H$7","v":0},null,{"$error":"#N/A"}]
[{"$f":"'Sample Information'!A328","v":327},{"$f":"'Sample Information'!B328","v":0},"0-DNA",{"$f":"'Sample Information'!D328","v":0},{"$f":"IF(VLOOKUP($C328, 'Nanodrop Data Raw'!$C:$L, 10, FALSE)<>\"\", VLOOKUP($C328, 'Nanodrop Data Raw'!$C:$L, 10, FALSE), VLOOKUP($C328, 'Nanodrop Data Raw'!$C:$L, 2, FALSE))","v":{"$error":"#N/A"}},null,null,{"$error":"#N/A"},{"$f":"VLOOKUP($C328, 'Nanodrop Data Raw'!$C:$L, 3, FALSE)","v":{"$error":"#N/A"}},{"$f":"VLOOKUP($C328, 'Nanodrop Data Raw'!$C:$L, 4, FALSE)","v":{"$error":"#N/A"}},null,null,null,null,{"$f":"'Sample Information'!$H$6","v":0},{"$f":"'Sample Information'!$H$5","v":0},null,null,{"$f":"'Sample Information'!$H$7","v":0},null,{"$error":"#N/A"}]
[{"$f":"'Sample Information'!A329","v":328},{"$f":"'Sample Information'!B329","v":0},"0-DNA",{"$f":"'Sample Information'!D329","v":0},{"$f":"IF(VLOOKUP($C329, 'Nanodrop Data Raw'!$C:$L, 10, FALSE)<>\"\", VLOOKUP($C329, 'Nanodrop Data Raw'!$C:$L, 10, FALSE), VLOOKUP($C329, 'Nanodrop Data Raw'!$C:$L, 2, FALSE))","v":{"$error":"#N/A"}},null,null,{"$error":"#N/A"},{"$f":"VLOOKUP($C329, 'Nanodrop Data Raw'!$C:$L, 3, FALSE)","v":{"$error":"#N/A"}},{"$f":"VLOOKUP($C329, 'Nanodrop Data Raw'!$C:$L, 4, FALSE)","v":{"$error":"#N/A"}},null,null,null,null,{"$f":"'Sample Information'!$H$6","v":0},{"$f":"'Sample Information'!$H$5","v":0},null,null,{"$f":"'Sample Information'!$H$7","v":0},null,{"$error":"#N/A"}]
[{"$f":"'Sample Information'!A330","v":329},{"$f":"'Sample Information'!B330","v":0},"0-DNA",{"$f":"'Sample Information'!D330","v":0},{"$f":"IF(VLOOKUP($C330, 'Nanodrop Data Raw'!$C:$L, 10, FALSE)<>\"\", VLOOKUP($C330, 'Nanodrop Data Raw'!$C:$L, 10, FALSE), VLOOKUP($C330, 'Nanodrop Data Raw'!$C:$L, 2, FALSE))","v":{"$error":"#N/A"}},null,null,{"$error":"#N/A"},{"$f":"VLOOKUP($C330, 'Nanodrop Data Raw'!$C:$L, 3, FALSE)","v":{"$error":"#N/A"}},{"$f":"VLOOKUP($C330, 'Nanodrop Data Raw'!$C:$L, 4, FALSE)","v":{"$error":"#N/A"}},null,null,null,null,{"$f":"'Sample Information'!$H$6","v":0},{"$f":"'Sample Information'!$H$5","v":0},null,null,{"$f":"'Sample Information'!$H$7","v":0},null,{"$error":"#N/A"}]
[{"$f":"'Sample Information'!A331","v":330},{"$f":"'Sample Information'!B331","v":0},"0-DNA",{"$f":"'Sample Information'!D331","v":0},{"$f":"IF(VLOOKUP($C331, 'Nanodrop Data Raw'!$C:$L, 10, FALSE)<>\"\", VLOOKUP($C331, 'Nanodrop Data Raw'!$C:$L, 10, FALSE), VLOOKUP($C331, 'Nanodrop Data Raw'!$C:$L, 2, FALSE))","v":{"$error":"#N/A"}},null,null,{"$error":"#N/A"},{"$f":"VLOOKUP($C331, 'Nanodrop Data Raw'!$C:$L, 3, FALSE)","v":{"$error":"#N/A"}},{"$f":"VLOOKUP($C331, 'Nanodrop Data Raw'!$C:$L, 4, FALSE)","v":{"$error":"#N/A"}},null,null,null,null,{"$f":"'Sample Information'!$H$6","v":0},{"$f":"'Sample Information'!$H$5","v":0},null,null,{"$f":"'Sample Information'!$H$7","v":0},null,{"$error":"#N/A"}]
[{"$f":"'Sample Information'!A332","v":331},{"$f":"'Sample Information'!B332","v":0},"0-DNA",{"$f":"'Sample Information'!D332","v":0},{"$f":"IF(VLOOKUP($C332, 'Nanodrop Data Raw'!$C:$L, 10, FALSE)<>\"\", VLOOKUP($C332, 'Nanodrop Data Raw'!$C:$L, 10, FALSE), VLOOKUP($C332, 'Nanodrop Data Raw'!$C:$L, 2, FALSE))","v":{"$error":"#N/A"}},null,null,{"$error":"#N/A"},{"$f":"VLOOKUP($C332, 'Nanodrop Data Raw'!$C:$L, 3, FALSE)","v":{"$error":"#N/A"}},{"$f":"VLOOKUP($C332, 'Nanodrop Data Raw'!$C:$L, 4, FALSE)","v":{"$error":"#N/A"}},null,null,null,null,{"$f":"'Sample Information'!$H$6","v":0},{"$f":"'Sample Information'!$H$5","v":0},null,null,{"$f":"'Sample Information'!$H$7","v":0},null,{"$error":"#N/A"}]
[{"$f":"'Sample Information'!A333","v":332},{"$f":"'Sample Information'!B333","v":0},"0-DNA",{"$f":"'Sample Information'!D333","v":0},{"$f":"IF(VLOOKUP($C333, 'Nanodrop Data Raw'!$C:$L, 10, FALSE)<>\"\", VLOOKUP($C333, 'Nanodrop Data Raw'!$C:$L, 10, FALSE), VLOOKUP($C333, 'Nanodrop Data Raw'!$C:$L, 2, FALSE))","v":{"$error":"#N/A"}},null,null,{"$error":"#N/A"},{"$f":"VLOOKUP($C333, 'Nanodrop Data Raw'!$C:$L, 3, FALSE)","v":{"$error":"#N/A"}},{"$f":"VLOOKUP($C333, 'Nanodrop Data Raw'!$C:$L, 4, FALSE)","v":{"$error":"#N/A"}},null,null,null,null,{"$f":"'Sample Information'!$H$6","v":0},{"$f":"'Sample Information'!$H$5","v":0},null,null,{"$f":"'Sample Information'!$H$7","v":0},null,{"$error":"#N/A"}]
[{"$f":"'Sample Information'!A334","v":333},{"$f":"'Sample Information'!B334","v":0},"0-DNA",{"$f":"'Sample Information'!D334","v":0},{"$f":"IF(VLOOKUP($C334, 'Nanodrop Data Raw'!$C:$L, 10, FALSE)<>\"\", VLOOKUP($C334, 'Nanodrop Data Raw'!$C:$L, 10, FALSE), VLOOKUP($C334, 'Nanodrop Data Raw'!$C:$L, 2, FALSE))","v":{"$error":"#N/A"}},null,null,{"$error":"#N/A"},{"$f":"VLOOKUP($C334, 'Nanodrop Data Raw'!$C:$L, 3, FALSE)","v":{"$error":"#N/A"}},{"$f":"VLOOKUP($C334, 'Nanodrop Data Raw'!$C:$L, 4, FALSE)","v":{"$error":"#N/A"}},null,null,null,null,{"$f":"'Sample Information'!$H$6","v":0},{"$f":"'Sample Information'!$H$5","v":0},null,null,{"$f":"'Sample Information'!$H$7","v":0},null,{"$error":"#N/A"}]
[{"$f":"'Sample Information'!A335","v":334},{"$f":"'Sample Information'!B335","v":0},"0-DNA",{"$f":"'Sample Information'!D335","v":0},{"$f":"IF(VLOOKUP($C335, 'Nanodrop Data Raw'!$C:$L, 10, FALSE)<>\"\", VLOOKUP($C335, 'Nanodrop Data Raw'!$C:$L, 10, FALSE), VLOOKUP($C335, 'Nanodrop Data Raw'!$C:$L, 2, FALSE))","v":{"$error":"#N/A"}},null,null,{"$error":"#N/A"},{"$f":"VLOOKUP($C335, 'Nanodrop Data Raw'!$C:$L, 3, FALSE)","v":{"$error":"#N/A"}},{"$f":"VLOOKUP($C335, 'Nanodrop Data Raw'!$C:$L, 4, FALSE)","v":{"$error":"#N/A"}},null,null,null,null,{"$f":"'Sample Information'!$H$6","v":0},{"$f":"'Sample Information'!$H$5","v":0},null,null,{"$f":"'Sample Information'!$H$7","v":0},null,{"$error":"#N/A"}]
[{"$f":"'Sample Information'!A336","v":335},{"$f":"'Sample Information'!B336","v":0},"0-DNA",{"$f":"'Sample Information'!D336","v":0},{"$f":"IF(VLOOKUP($C336, 'Nanodrop Data Raw'!$C:$L, 10, FALSE)<>\"\", VLOOKUP($C336, 'Nanodrop Data Raw'!$C:$L, 10, FALSE), VLOOKUP($C336, 'Nanodrop Data Raw'!$C:$L, 2, FALSE))","v":{"$error":"#N/A"}},null,null,{"$error":"#N/A"},{"$f":"VLOOKUP($C336, 'Nanodrop Data Raw'!$C:$L, 3, FALSE)","v":{"$error":"#N/A"}},{"$f":"VLOOKUP($C336, 'Nanodrop Data Raw'!$C:$L, 4, FALSE)","v":{"$error":"#N/A"}},null,null,null,null,{"$f":"'Sample Information'!$H$6","v":0},{"$f":"'Sample Information'!$H$5","v":0},null,null,{"$f":"'Sample Information'!$H$7","v":0},null,{"$error":"#N/A"}]
[{"$f":"'Sample Information'!A337","v":336},{"$f":"'Sample Information'!B337","v":0},"0-DNA",{"$f":"'Sample Information'!D337","v":0},{"$f":"IF(VLOOKUP($C337, 'Nanodrop Data Raw'!$C:$L, 10, FALSE)<>\"\", VLOOKUP($C337, 'Nanodrop Data Raw'!$C:$L, 10, FALSE), VLOOKUP($C337, 'Nanodrop Data Raw'!$C:$L, 2, FALSE))","v":{"$error":"#N/A"}},null,null,{"$error":"#N/A"},{"$f":"VLOOKUP($C337, 'Nanodrop Data Raw'!$C:$L, 3, FALSE)","v":{"$error":"#N/A"}},{"$f":"VLOOKUP($C337, 'Nanodrop Data Raw'!$C:$L, 4, FALSE)","v":{"$error":"#N/A"}},null,null,null,null,{"$f":"'Sample Information'!$H$6","v":0},{"$f":"'Sample Information'!$H$5","v":0},null,null,{"$f":"'Sample Information'!$H$7","v":0},null,{"$error":"#N/A"}]
[{"$f":"'Sample Information'!A338","v":337},{"$f":"'Sample Information'!B338","v":0},"0-DNA",{"$f":"'Sample Information'!D338","v":0},{"$f":"IF(VLOOKUP($C338, 'Nanodrop Data Raw'!$C:$L, 10, FALSE)<>\"\", VLOOKUP($C338, 'Nanodrop Data Raw'!$C:$L, 10, FALSE), VLOOKUP($C338, 'Nanodrop Data Raw'!$C:$L, 2, FALSE))","v":{"$error":"#N/A"}},null,null,{"$error":"#N/A"},{"$f":"VLOOKUP($C338, 'Nanodrop Data Raw'!$C:$L, 3, FALSE)","v":{"$error":"#N/A"}},{"$f":"VLOOKUP($C338, 'Nanodrop Data Raw'!$C:$L, 4, FALSE)","v":{"$error":"#N/A"}},null,null,null,null,{"$f":"'Sample Information'!$H$6","v":0},{"$f":"'Sample Information'!$H$5","v":0},null,null,{"$f":"'Sample Information'!$H$7","v":0},null,{"$error":"#N/A"}]
[{"$f":"'Sample Information'!A339","v":338},{"$f":"'Sample Information'!B339","v":0},"0-DNA",{"$f":"'Sample Information'!D339","v":0},{"$f":"IF(VLOOKUP($C339, 'Nanodrop Data Raw'!$C:$L, 10, FALSE)<>\"\", VLOOKUP($C339, 'Nanodrop Data Raw'!$C:$L, 10, FALSE), VLOOKUP($C339, 'Nanodrop Data Raw'!$C:$L, 2, FALSE))","v":{"$error":"#N/A"}},null,null,{"$error":"#N/A"},{"$f":"VLOOKUP($C339, 'Nanodrop Data Raw'!$C:$L, 3, FALSE)","v":{"$error":"#N/A"}},{"$f":"VLOOKUP($C339, 'Nanodrop Data Raw'!$C:$L, 4, FALSE)","v":{"$error":"#N/A"}},null,null,null,null,{"$f":"'Sample Information'!$H$6","v":0},{"$f":"'Sample Information'!$H$5","v":0},null,null,{"$f":"'Sample Information'!$H$7","v":0},null,{"$error":"#N/A"}]
[{"$f":"'Sample Information'!A340","v":339},{"$f":"'Sample Information'!B340","v":0},"0-DNA",{"$f":"'Sample Information'!D340","v":0},{"$f":"IF(VLOOKUP($C340, 'Nanodrop Data Raw'!$C:$L, 10, FALSE)<>\"\", VLOOKUP($C340, 'Nanodrop Data Raw'!$C:$L, 10, FALSE), VLOOKUP($C340, 'Nanodrop Data Raw'!$C:$L, 2, FALSE))","v":{"$error":"#N/A"}},null,null,{"$error":"#N/A"},{"$f":"VLOOKUP($C340, 'Nanodrop Data Raw'!$C:$L, 3, FALSE)","v":{"$error":"#N/A"}},{"$f":"VLOOKUP($C340, 'Nanodrop Data Raw'!$C:$L, 4, FALSE)","v":{"$error":"#N/A"}},null,null,null,null,{"$f":"'Sample Information'!$H$6","v":0},{"$f":"'Sample Information'!$H$5","v":0},null,null,{"$f":"'Sample Information'!$H$7","v":0},null,{"$error":"#N/A"}]
[{"$f":"'Sample Information'!A341","v":340},{"$f":"'Sample Information'!B341","v":0},"0-DNA",{"$f":"'Sample Information'!D341","v":0},{"$f":"IF(VLOOKUP($C341, 'Nanodrop Data Raw'!$C:$L, 10, FALSE)<>\"\", VLOOKUP($C341, 'Nanodrop Data Raw'!$C:$L, 10, FALSE), VLOOKUP($C341, 'Nanodrop Data Raw'!$C:$L, 2, FALSE))","v":{"$error":"#N/A"}},null,null,{"$error":"#N/A"},{"$f":"VLOOKUP($C341, 'Nanodrop Data Raw'!$C:$L, 3, FALSE)","v":{"$error":"#N/A"}},{"$f":"VLOOKUP($C341, 'Nanodrop Data Raw'!$C:$L, 4, FALSE)","v":{"$error":"#N/A"}},null,null,null,null,{"$f":"'Sample Information'!$H$6","v":0},{"$f":"'Sample Information'!$H$5","v":0},null,null,{"$f":"'Sample Information'!$H$7","v":0},null,{"$error":"#N/A"}]
[{"$f":"'Sample Information'!A342","v":341},{"$f":"'Sample Information'!B342","v":0},"0-DNA",{"$f":"'Sample Information'!D342","v":0},{"$f":"IF(VLOOKUP($C342, 'Nanodrop Data Raw'!$C:$L, 10, FALSE)<>\"\", VLOOKUP($C342, 'Nanodrop Data Raw'!$C:$L, 10, FALSE), VLOOKUP($C342, 'Nanodrop Data Raw'!$C:$L, 2, FALSE))","v":{"$error":"#N/A"}},null,null,{"$error":"#N/A"},{"$f":"VLOOKUP($C342, 'Nanodrop Data Raw'!$C:$L, 3, FALSE)","v":{"$error":"#N/A"}},{"$f":"VLOOKUP($C342, 'Nanodrop Data Raw'!$C:$L, 4, FALSE)","v":{"$error":"#N/A"}},null,null,null,null,{"$f":"'Sample Information'!$H$6","v":0},{"$f":"'Sample Information'!$H$5","v":0},null,null,{"$f":"'Sample Information'!$H$7","v":0},null,{"$error":"#N/A"}]
[{"$f":"'Sample Information'!A343","v":342},{"$f":"'Sample Information'!B343","v":0},"0-DNA",{"$f":"'Sample Information'!D343","v":0},{"$f":"IF(VLOOKUP($C343, 'Nanodrop Data Raw'!$C:$L, 10, FALSE)<>\"\", VLOOKUP($C343, 'Nanodrop Data Raw'!$C:$L, 10, FALSE), VLOOKUP($C343, 'Nanodrop Data Raw'!$C:$L, 2, FALSE))","v":{"$error":"#N/A"}},null,null,{"$error":"#N/A"},{"$f":"VLOOKUP($C343, 'Nanodrop Data Raw'!$C:$L, 3, FALSE)","v":{"$error":"#N/A"}},{"$f":"VLOOKUP($C343, 'Nanodrop Data Raw'!$C:$L, 4, FALSE)","v":{"$error":"#N/A"}},null,null,null,null,{"$f":"'Sample Information'!$H$6","v":0},{"$f":"'Sample Information'!$H$5","v":0},null,null,{"$f":"'Sample Information'!$H$7","v":0},null,{"$error":"#N/A"}]
[{"$f":"'Sample Information'!A344","v":343},{"$f":"'Sample Information'!B344","v":0},"0-DNA",{"$f":"'Sample Information'!D344","v":0},{"$f":"IF(VLOOKUP($C344, 'Nanodrop Data Raw'!$C:$L, 10, FALSE)<>\"\", VLOOKUP($C344, 'Nanodrop Data Raw'!$C:$L, 10, FALSE), VLOOKUP($C344, 'Nanodrop Data Raw'!$C:$L, 2, FALSE))","v":{"$error":"#N/A"}},null,null,{"$error":"#N/A"},{"$f":"VLOOKUP($C344, 'Nanodrop Data Raw'!$C:$L, 3, FALSE)","v":{"$error":"#N/A"}},{"$f":"VLOOKUP($C344, 'Nanodrop Data Raw'!$C:$L, 4, FALSE)","v":{"$error":"#N/A"}},null,null,null,null,{"$f":"'Sample Information'!$H$6","v":0},{"$f":"'Sample Information'!$H$5","v":0},null,null,{"$f":"'Sample Information'!$H$7","v":0},null,{"$error":"#N/A"}]
[{"$f":"'Sample Information'!A345","v":344},{"$f":"'Sample Information'!B345","v":0},"0-DNA",{"$f":"'Sample Information'!D345","v":0},{"$f":"IF(VLOOKUP($C345, 'Nanodrop Data Raw'!$C:$L, 10, FALSE)<>\"\", VLOOKUP($C345, 'Nanodrop Data Raw'!$C:$L, 10, FALSE), VLOOKUP($C345, 'Nanodrop Data Raw'!$C:$L, 2, FALSE))","v":{"$error":"#N/A"}},null,null,{"$error":"#N/A"},{"$f":"VLOOKUP($C345, 'Nanodrop Data Raw'!$C:$L, 3, FALSE)","v":{"$error":"#N/A"}},{"$f":"VLOOKUP($C345, 'Nanodrop Data Raw'!$C:$L, 4, FALSE)","v":{"$error":"#N/A"}},null,null,null,null,{"$f":"'Sample Information'!$H$6","v":0},{"$f":"'Sample Information'!$H$5","v":0},null,null,{"$f":"'Sample Information'!$H$7","v":0},null,{"$error":"#N/A"}]
[{"$f":"'Sample Information'!A346","v":345},{"$f":"'Sample Information'!B346","v":0},"0-DNA",{"$f":"'Sample Information'!D346","v":0},{"$f":"IF(VLOOKUP($C346, 'Nanodrop Data Raw'!$C:$L, 10, FALSE)<>\"\", VLOOKUP($C346, 'Nanodrop Data Raw'!$C:$L, 10, FALSE), VLOOKUP($C346, 'Nanodrop Data Raw'!$C:$L, 2, FALSE))","v":{"$error":"#N/A"}},null,null,{"$error":"#N/A"},{"$f":"VLOOKUP($C346, 'Nanodrop Data Raw'!$C:$L, 3, FALSE)","v":{"$error":"#N/A"}},{"$f":"VLOOKUP($C346, 'Nanodrop Data Raw'!$C:$L, 4, FALSE)","v":{"$error":"#N/A"}},null,null,null,null,{"$f":"'Sample Information'!$H$6","v":0},{"$f":"'Sample Information'!$H$5","v":0},null,null,{"$f":"'Sample Information'!$H$7","v":0},null,{"$error":"#N/A"}]
[{"$f":"'Sample Information'!A347","v":346},{"$f":"'Sample Information'!B347","v":0},"0-DNA",{"$f":"'Sample Information'!D347","v":0},{"$f":"IF(VLOOKUP($C347, 'Nanodrop Data Raw'!$C:$L, 10, FALSE)<>\"\", VLOOKUP($C347, 'Nanodrop Data Raw'!$C:$L, 10, FALSE), VLOOKUP($C347, 'Nanodrop Data Raw'!$C:$L, 2, FALSE))","v":{"$error":"#N/A"}},null,null,{"$error":"#N/A"},{"$f":"VLOOKUP($C347, 'Nanodrop Data Raw'!$C:$L, 3, FALSE)","v":{"$error":"#N/A"}},{"$f":"VLOOKUP($C347, 'Nanodrop Data Raw'!$C:$L, 4, FALSE)","v":{"$error":"#N/A"}},null,null,null,null,{"$f":"'Sample Information'!$H$6","v":0},{"$f":"'Sample Information'!$H$5","v":0},null,null,{"$f":"'Sample Information'!$H$7","v":0},null,{"$error":"#N/A"}]
[{"$f":"'Sample Information'!A348","v":347},{"$f":"'Sample Information'!B348","v":0},"0-DNA",{"$f":"'Sample Information'!D348","v":0},{"$f":"IF(VLOOKUP($C348, 'Nanodrop Data Raw'!$C:$L, 10, FALSE)<>\"\", VLOOKUP($C348, 'Nanodrop Data Raw'!$C:$L, 10, FALSE), VLOOKUP($C348, 'Nanodrop Data Raw'!$C:$L, 2, FALSE))","v":{"$error":"#N/A"}},null,null,{"$error":"#N/A"},{"$f":"VLOOKUP($C348, 'Nanodrop Data Raw'!$C:$L, 3, FALSE)","v":{"$error":"#N/A"}},{"$f":"VLOOKUP($C348, 'Nanodrop Data Raw'!$C:$L, 4, FALSE)","v":{"$error":"#N/A"}},null,null,null,null,{"$f":"'Sample Information'!$H$6","v":0},{"$f":"'Sample Information'!$H$5","v":0},null,null,{"$f":"'Sample Information'!$H$7","v":0},null,{"$error":"#N/A"}]
[{"$f":"'Sample Information'!A349","v":348},{"$f":"'Sample Information'!B349","v":0},"0-DNA",{"$f":"'Sample Information'!D349","v":0},{"$f":"IF(VLOOKUP($C349, 'Nanodrop Data Raw'!$C:$L, 10, FALSE)<>\"\", VLOOKUP($C349, 'Nanodrop Data Raw'!$C:$L, 10, FALSE), VLOOKUP($C349, 'Nanodrop Data Raw'!$C:$L, 2, FALSE))","v":{"$error":"#N/A"}},null,null,{"$error":"#N/A"},{"$f":"VLOOKUP($C349, 'Nanodrop Data Raw'!$C:$L, 3, FALSE)","v":{"$error":"#N/A"}},{"$f":"VLOOKUP($C349, 'Nanodrop Data Raw'!$C:$L, 4, FALSE)","v":{"$error":"#N/A"}},null,null,null,null,{"$f":"'Sample Information'!$H$6","v":0},{"$f":"'Sample Information'!$H$5","v":0},null,null,{"$f":"'Sample Information'!$H$7","v":0},null,{"$error":"#N/A"}]
[{"$f":"'Sample Information'!A350","v":349},{"$f":"'Sample Information'!B350","v":0},"0-DNA",{"$f":"'Sample Information'!D350","v":0},{"$f":"IF(VLOOKUP($C350, 'Nanodrop Data Raw'!$C:$L, 10, FALSE)<>\"\", VLOOKUP($C350, 'Nanodrop Data Raw'!$C:$L, 10, FALSE), VLOOKUP($C350, 'Nanodrop Data Raw'!$C:$L, 2, FALSE))","v":{"$error":"#N/A"}},null,null,{"$error":"#N/A"},{"$f":"VLOOKUP($C350, 'Nanodrop Data Raw'!$C:$L, 3, FALSE)","v":{"$error":"#N/A"}},{"$f":"VLOOKUP($C350, 'Nanodrop Data Raw'!$C:$L, 4, FALSE)","v":{"$error":"#N/A"}},null,null,null,null,{"$f":"'Sample Information'!$H$6","v":0},{"$f":"'Sample Information'!$H$5","v":0},null,null,{"$f":"'Sample Information'!$H$7","v":0},null,{"$error":"#N/A"}]
[{"$f":"'Sample Information'!A351","v":350},{"$f":"'Sample Information'!B351","v":0},"0-DNA",{"$f":"'Sample Information'!D351","v":0},{"$f":"IF(VLOOKUP($C351, 'Nanodrop Data Raw'!$C:$L, 10, FALSE)<>\"\", VLOOKUP($C351, 'Nanodrop Data Raw'!$C:$L, 10, FALSE), VLOOKUP($C351, 'Nanodrop Data Raw'!$C:$L, 2, FALSE))","v":{"$error":"#N/A"}},null,null,{"$error":"#N/A"},{"$f":"VLOOKUP($C351, 'Nanodrop Data Raw'!$C:$L, 3, FALSE)","v":{"$error":"#N/A"}},{"$f":"VLOOKUP($C351, 'Nanodrop Data Raw'!$C:$L, 4, FALSE)","v":{"$error":"#N/A"}},null,null,null,null,{"$f":"'Sample Information'!$H$6","v":0},{"$f":"'Sample Information'!$H$5","v":0},null,null,{"$f":"'Sample Information'!$H$7","v":0},null,{"$error":"#N/A"}]
[{"$f":"'Sample Information'!A352","v":351},{"$f":"'Sample Information'!B352","v":0},"0-DNA",{"$f":"'Sample Information'!D352","v":0},{"$f":"IF(VLOOKUP($C352, 'Nanodrop Data Raw'!$C:$L, 10, FALSE)<>\"\", VLOOKUP($C352, 'Nanodrop Data Raw'!$C:$L, 10, FALSE), VLOOKUP($C352, 'Nanodrop Data Raw'!$C:$L, 2, FALSE))","v":{"$error":"#N/A"}},null,null,{"$error":"#N/A"},{"$f":"VLOOKUP($C352, 'Nanodrop Data Raw'!$C:$L, 3, FALSE)","v":{"$error":"#N/A"}},{"$f":"VLOOKUP($C352, 'Nanodrop Data Raw'!$C:$L, 4, FALSE)","v":{"$error":"#N/A"}},null,null,null,null,{"$f":"'Sample Information'!$H$6","v":0},{"$f":"'Sample Information'!$H$5","v":0},null,null,{"$f":"'Sample Information'!$H$7","v":0},null,{"$error":"#N/A"}]
[{"$f":"'Sample Information'!A353","v":352},{"$f":"'Sample Information'!B353","v":0},"0-DNA",{"$f":"'Sample Information'!D353","v":0},{"$f":"IF(VLOOKUP($C353, 'Nanodrop Data Raw'!$C:$L, 10, FALSE)<>\"\", VLOOKUP($C353, 'Nanodrop Data Raw'!$C:$L, 10, FALSE), VLOOKUP($C353, 'Nanodrop Data Raw'!$C:$L, 2, FALSE))","v":{"$error":"#N/A"}},null,null,{"$error":"#N/A"},{"$f":"VLOOKUP($C353, 'Nanodrop Data Raw'!$C:$L, 3, FALSE)","v":{"$error":"#N/A"}},{"$f":"VLOOKUP($C353, 'Nanodrop Data Raw'!$C:$L, 4, FALSE)","v":{"$error":"#N/A"}},null,null,null,null,{"$f":"'Sample Information'!$H$6","v":0},{"$f":"'Sample Information'!$H$5","v":0},null,null,{"$f":"'Sample Information'!$H$7","v":0},null,{"$error":"#N/A"}]
[{"$f":"'Sample Information'!A354","v":353},{"$f":"'Sample Information'!B354","v":0},"0-DNA",{"$f":"'Sample Information'!D354","v":0},{"$f":"IF(VLOOKUP($C354, 'Nanodrop Data Raw'!$C:$L, 10, FALSE)<>\"\", VLOOKUP($C354, 'Nanodrop Data Raw'!$C:$L, 10, FALSE), VLOOKUP($C354, 'Nanodrop Data Raw'!$C:$L, 2, FALSE))","v":{"$error":"#N/A"}},null,null,{"$error":"#N/A"},{"$f":"VLOOKUP($C354, 'Nanodrop Data Raw'!$C:$L, 3, FALSE)","v":{"$error":"#N/A"}},{"$f":"VLOOKUP($C354, 'Nanodrop Data Raw'!$C:$L, 4, FALSE)","v":{"$error":"#N/A"}},null,null,null,null,{"$f":"'Sample Information'!$H$6","v":0},{"$f":"'Sample Information'!$H$5","v":0},null,null,{"$f":"'Sample Information'!$H$7","v":0},null,{"$error":"#N/A"}]
[{"$f":"'Sample Information'!A355","v":354},{"$f":"'Sample Information'!B355","v":0},"0-DNA",{"$f":"'Sample Information'!D355","v":0},{"$f":"IF(VLOOKUP($C355, 'Nanodrop Data Raw'!$C:$L, 10, FALSE)<>\"\", VLOOKUP($C355, 'Nanodrop Data Raw'!$C:$L, 10, FALSE), VLOOKUP($C355, 'Nanodrop Data Raw'!$C:$L, 2, FALSE))","v":{"$error":"#N/A"}},null,null,{"$error":"#N/A"},{"$f":"VLOOKUP($C355, 'Nanodrop Data Raw'!$C:$L, 3, FALSE)","v":{"$error":"#N/A"}},{"$f":"VLOOKUP($C355, 'Nanodrop Data Raw'!$C:$L, 4, FALSE)","v":{"$error":"#N/A"}},null,null,null,null,{"$f":"'Sample Information'!$H$6","v":0},{"$f":"'Sample Information'!$H$5","v":0},null,null,{"$f":"'Sample Information'!$H$7","v":0},null,{"$error":"#N/A"}]
[{"$f":"'Sample Information'!A356","v":355},{"$f":"'Sample Information'!B356","v":0},"0-DNA",{"$f":"'Sample Information'!D356","v":0},{"$f":"IF(VLOOKUP($C356, 'Nanodrop Data Raw'!$C:$L, 10, FALSE)<>\"\", VLOOKUP($C356, 'Nanodrop Data Raw'!$C:$L, 10, FALSE), VLOOKUP($C356, 'Nanodrop Data Raw'!$C:$L, 2, FALSE))","v":{"$error":"#N/A"}},null,null,{"$error":"#N/A"},{"$f":"VLOOKUP($C356, 'Nanodrop Data Raw'!$C:$L, 3, FALSE)","v":{"$error":"#N/A"}},{"$f":"VLOOKUP($C356, 'Nanodrop Data Raw'!$C:$L, 4, FALSE)","v":{"$error":"#N/A"}},null,null,null,null,{"$f":"'Sample Information'!$H$6","v":0},{"$f":"'Sample Information'!$H$5","v":0},null,null,{"$f":"'Sample Information'!$H$7","v":0},null,{"$error":"#N/A"}]
[{"$f":"'Sample Information'!A357","v":356},{"$f":"'Sample Information'!B357","v":0},"0-DNA",{"$f":"'Sample Information'!D357","v":0},{"$f":"IF(VLOOKUP($C357, 'Nanodrop Data Raw'!$C:$L, 10, FALSE)<>\"\", VLOOKUP($C357, 'Nanodrop Data Raw'!$C:$L, 10, FALSE), VLOOKUP($C357, 'Nanodrop Data Raw'!$C:$L, 2, FALSE))","v":{"$error":"#N/A"}},null,null,{"$error":"#N/A"},{"$f":"VLOOKUP($C357, 'Nanodrop Data Raw'!$C:$L, 3, FALSE)","v":{"$error":"#N/A"}},{"$f":"VLOOKUP($C357, 'Nanodrop Data Raw'!$C:$L, 4, FALSE)","v":{"$error":"#N/A"}},null,null,null,null,{"$f":"'Sample Information'!$H$6","v":0},{"$f":"'Sample Information'!$H$5","v":0},null,null,{"$f":"'Sample Information'!$H$7","v":0},null,{"$error":"#N/A"}]
[{"$f":"'Sample Information'!A358","v":357},{"$f":"'Sample Information'!B358","v":0},"0-DNA",{"$f":"'Sample Information'!D358","v":0},{"$f":"IF(VLOOKUP($C358, 'Nanodrop Data Raw'!$C:$L, 10, FALSE)<>\"\", VLOOKUP($C358, 'Nanodrop Data Raw'!$C:$L, 10, FALSE), VLOOKUP($C358, 'Nanodrop Data Raw'!$C:$L, 2, FALSE))","v":{"$error":"#N/A"}},null,null,{"$error":"#N/A"},{"$f":"VLOOKUP($C358, 'Nanodrop Data Raw'!$C:$L, 3, FALSE)","v":{"$error":"#N/A"}},{"$f":"VLOOKUP($C358, 'Nanodrop Data Raw'!$C:$L, 4, FALSE)","v":{"$error":"#N/A"}},null,null,null,null,{"$f":"'Sample Information'!$H$6","v":0},{"$f":"'Sample Information'!$H$5","v":0},null,null,{"$f":"'Sample Information'!$H$7","v":0},null,{"$error":"#N/A"}]
[{"$f":"'Sample Information'!A359","v":358},{"$f":"'Sample Information'!B359","v":0},"0-DNA",{"$f":"'Sample Information'!D359","v":0},{"$f":"IF(VLOOKUP($C359, 'Nanodrop Data Raw'!$C:$L, 10, FALSE)<>\"\", VLOOKUP($C359, 'Nanodrop Data Raw'!$C:$L, 10, FALSE), VLOOKUP($C359, 'Nanodrop Data Raw'!$C:$L, 2, FALSE))","v":{"$error":"#N/A"}},null,null,{"$error":"#N/A"},{"$f":"VLOOKUP($C359, 'Nanodrop Data Raw'!$C:$L, 3, FALSE)","v":{"$error":"#N/A"}},{"$f":"VLOOKUP($C359, 'Nanodrop Data Raw'!$C:$L, 4, FALSE)","v":{"$error":"#N/A"}},null,null,null,null,{"$f":"'Sample Information'!$H$6","v":0},{"$f":"'Sample Information'!$H$5","v":0},null,null,{"$f":"'Sample Information'!$H$7","v":0},null,{"$error":"#N/A"}]
[{"$f":"'Sample Information'!A360","v":359},{"$f":"'Sample Information'!B360","v":0},"0-DNA",{"$f":"'Sample Information'!D360","v":0},{"$f":"IF(VLOOKUP($C360, 'Nanodrop Data Raw'!$C:$L, 10, FALSE)<>\"\", VLOOKUP($C360, 'Nanodrop Data Raw'!$C:$L, 10, FALSE), VLOOKUP($C360, 'Nanodrop Data Raw'!$C:$L, 2, FALSE))","v":{"$error":"#N/A"}},null,null,{"$error":"#N/A"},{"$f":"VLOOKUP($C360, 'Nanodrop Data Raw'!$C:$L, 3, FALSE)","v":{"$error":"#N/A"}},{"$f":"VLOOKUP($C360, 'Nanodrop Data Raw'!$C:$L, 4, FALSE)","v":{"$error":"#N/A"}},null,null,null,null,{"$f":"'Sample Information'!$H$6","v":0},{"$f":"'Sample Information'!$H$5","v":0},null,null,{"$f":"'Sample Information'!$H$7","v":0},null,{"$error":"#N/A"}]
[{"$f":"'Sample Information'!A361","v":360},{"$f":"'Sample Information'!B361","v":0},"0-DNA",{"$f":"'Sample Information'!D361","v":0},{"$f":"IF(VLOOKUP($C361, 'Nanodrop Data Raw'!$C:$L, 10, FALSE)<>\"\", VLOOKUP($C361, 'Nanodrop Data Raw'!$C:$L, 10, FALSE), VLOOKUP($C361, 'Nanodrop Data Raw'!$C:$L, 2, FALSE))","v":{"$error":"#N/A"}},null,null,{"$error":"#N/A"},{"$f":"VLOOKUP($C361, 'Nanodrop Data Raw'!$C:$L, 3, FALSE)","v":{"$error":"#N/A"}},{"$f":"VLOOKUP($C361, 'Nanodrop Data Raw'!$C:$L, 4, FALSE)","v":{"$error":"#N/A"}},null,null,null,null,{"$f":"'Sample Information'!$H$6","v":0},{"$f":"'Sample Information'!$H$5","v":0},null,null,{"$f":"'Sample Information'!$H$7","v":0},null,{"$error":"#N/A"}]
[{"$f":"'Sample Information'!A362","v":361},{"$f":"'Sample Information'!B362","v":0},"0-DNA",{"$f":"'Sample Information'!D362","v":0},{"$f":"IF(VLOOKUP($C362, 'Nanodrop Data Raw'!$C:$L, 10, FALSE)<>\"\", VLOOKUP($C362, 'Nanodrop Data Raw'!$C:$L, 10, FALSE), VLOOKUP($C362, 'Nanodrop Data Raw'!$C:$L, 2, FALSE))","v":{"$error":"#N/A"}},null,null,{"$error":"#N/A"},{"$f":"VLOOKUP($C362, 'Nanodrop Data Raw'!$C:$L, 3, FALSE)","v":{"$error":"#N/A"}},{"$f":"VLOOKUP($C362, 'Nanodrop Data Raw'!$C:$L, 4, FALSE)","v":{"$error":"#N/A"}},null,null,null,null,{"$f":"'Sample Information'!$H$6","v":0},{"$f":"'Sample Information'!$H$5","v":0},null,null,{"$f":"'Sample Information'!$H$7","v":0},null,{"$error":"#N/A"}]
[{"$f":"'Sample Information'!A363","v":362},{"$f":"'Sample Information'!B363","v":0},"0-DNA",{"$f":"'Sample Information'!D363","v":0},{"$f":"IF(VLOOKUP($C363, 'Nanodrop Data Raw'!$C:$L, 10, FALSE)<>\"\", VLOOKUP($C363, 'Nanodrop Data Raw'!$C:$L, 10, FALSE), VLOOKUP($C363, 'Nanodrop Data Raw'!$C:$L, 2, FALSE))","v":{"$error":"#N/A"}},null,null,{"$error":"#N/A"},{"$f":"VLOOKUP($C363, 'Nanodrop Data Raw'!$C:$L, 3, FALSE)","v":{"$error":"#N/A"}},{"$f":"VLOOKUP($C363, 'Nanodrop Data Raw'!$C:$L, 4, FALSE)","v":{"$error":"#N/A"}},null,null,null,null,{"$f":"'Sample Information'!$H$6","v":0},{"$f":"'Sample Information'!$H$5","v":0},null,null,{"$f":"'Sample Information'!$H$7","v":0},null,{"$error":"#N/A"}]
[{"$f":"'Sample Information'!A364","v":363},{"$f":"'Sample Information'!B364","v":0},"0-DNA",{"$f":"'Sample Information'!D364","v":0},{"$f":"IF(VLOOKUP($C364, 'Nanodrop Data Raw'!$C:$L, 10, FALSE)<>\"\", VLOOKUP($C364, 'Nanodrop Data Raw'!$C:$L, 10, FALSE), VLOOKUP($C364, 'Nanodrop Data Raw'!$C:$L, 2, FALSE))","v":{"$error":"#N/A"}},null,null,{"$error":"#N/A"},{"$f":"VLOOKUP($C364, 'Nanodrop Data Raw'!$C:$L, 3, FALSE)","v":{"$error":"#N/A"}},{"$f":"VLOOKUP($C364, 'Nanodrop Data Raw'!$C:$L, 4, FALSE)","v":{"$error":"#N/A"}},null,null,null,null,{"$f":"'Sample Information'!$H$6","v":0},{"$f":"'Sample Information'!$H$5","v":0},null,null,{"$f":"'Sample Information'!$H$7","v":0},null,{"$error":"#N/A"}]
[{"$f":"'Sample Information'!A365","v":364},{"$f":"'Sample Information'!B365","v":0},"0-DNA",{"$f":"'Sample Information'!D365","v":0},{"$f":"IF(VLOOKUP($C365, 'Nanodrop Data Raw'!$C:$L, 10, FALSE)<>\"\", VLOOKUP($C365, 'Nanodrop Data Raw'!$C:$L, 10, FALSE), VLOOKUP($C365, 'Nanodrop Data Raw'!$C:$L, 2, FALSE))","v":{"$error":"#N/A"}},null,null,{"$error":"#N/A"},{"$f":"VLOOKUP($C365, 'Nanodrop Data Raw'!$C:$L, 3, FALSE)","v":{"$error":"#N/A"}},{"$f":"VLOOKUP($C365, 'Nanodrop Data Raw'!$C:$L, 4, FALSE)","v":{"$error":"#N/A"}},null,null,null,null,{"$f":"'Sample Information'!$H$6","v":0},{"$f":"'Sample Information'!$H$5","v":0},null,null,{"$f":"'Sample Information'!$H$7","v":0},null,{"$error":"#N/A"}]
[{"$f":"'Sample Information'!A366","v":365},{"$f":"'Sample Information'!B366","v":0},"0-DNA",{"$f":"'Sample Information'!D366","v":0},{"$f":"IF(VLOOKUP($C366, 'Nanodrop Data Raw'!$C:$L, 10, FALSE)<>\"\", VLOOKUP($C366, 'Nanodrop Data Raw'!$C:$L, 10, FALSE), VLOOKUP($C366, 'Nanodrop Data Raw'!$C:$L, 2, FALSE))","v":{"$error":"#N/A"}},null,null,{"$error":"#N/A"},{"$f":"VLOOKUP($C366, 'Nanodrop Data Raw'!$C:$L, 3, FALSE)","v":{"$error":"#N/A"}},{"$f":"VLOOKUP($C366, 'Nanodrop Data Raw'!$C:$L, 4, FALSE)","v":{"$error":"#N/A"}},null,null,null,null,{"$f":"'Sample Information'!$H$6","v":0},{"$f":"'Sample Information'!$H$5","v":0},null,null,{"$f":"'Sample Information'!$H$7","v":0},null,{"$error":"#N/A"}]
[{"$f":"'Sample Information'!A367","v":366},{"$f":"'Sample Information'!B367","v":0},"0-DNA",{"$f":"'Sample Information'!D367","v":0},{"$f":"IF(VLOOKUP($C367, 'Nanodrop Data Raw'!$C:$L, 10, FALSE)<>\"\", VLOOKUP($C367, 'Nanodrop Data Raw'!$C:$L, 10, FALSE), VLOOKUP($C367, 'Nanodrop Data Raw'!$C:$L, 2, FALSE))","v":{"$error":"#N/A"}},null,null,{"$error":"#N/A"},{"$f":"VLOOKUP($C367, 'Nanodrop Data Raw'!$C:$L, 3, FALSE)","v":{"$error":"#N/A"}},{"$f":"VLOOKUP($C367, 'Nanodrop Data Raw'!$C:$L, 4, FALSE)","v":{"$error":"#N/A"}},null,null,null,null,{"$f":"'Sample Information'!$H$6","v":0},{"$f":"'Sample Information'!$H$5","v":0},null,null,{"$f":"'Sample Information'!$H$7","v":0},null,{"$error":"#N/A"}]
[{"$f":"'Sample Information'!A368","v":367},{"$f":"'Sample Information'!B368","v":0},"0-DNA",{"$f":"'Sample Information'!D368","v":0},{"$f":"IF(VLOOKUP($C368, 'Nanodrop Data Raw'!$C:$L, 10, FALSE)<>\"\", VLOOKUP($C368, 'Nanodrop Data Raw'!$C:$L, 10, FALSE), VLOOKUP($C368, 'Nanodrop Data Raw'!$C:$L, 2, FALSE))","v":{"$error":"#N/A"}},null,null,{"$error":"#N/A"},{"$f":"VLOOKUP($C368, 'Nanodrop Data Raw'!$C:$L, 3, FALSE)","v":{"$error":"#N/A"}},{"$f":"VLOOKUP($C368, 'Nanodrop Data Raw'!$C:$L, 4, FALSE)","v":{"$error":"#N/A"}},null,null,null,null,{"$f":"'Sample Information'!$H$6","v":0},{"$f":"'Sample Information'!$H$5","v":0},null,null,{"$f":"'Sample Information'!$H$7","v":0},null,{"$error":"#N/A"}]
[{"$f":"'Sample Information'!A369","v":368},{"$f":"'Sample Information'!B369","v":0},"0-DNA",{"$f":"'Sample Information'!D369","v":0},{"$f":"IF(VLOOKUP($C369, 'Nanodrop Data Raw'!$C:$L, 10, FALSE)<>\"\", VLOOKUP($C369, 'Nanodrop Data Raw'!$C:$L, 10, FALSE), VLOOKUP($C369, 'Nanodrop Data Raw'!$C:$L, 2, FALSE))","v":{"$error":"#N/A"}},null,null,{"$error":"#N/A"},{"$f":"VLOOKUP($C369, 'Nanodrop Data Raw'!$C:$L, 3, FALSE)","v":{"$error":"#N/A"}},{"$f":"VLOOKUP($C369, 'Nanodrop Data Raw'!$C:$L, 4, FALSE)","v":{"$error":"#N/A"}},null,null,null,null,{"$f":"'Sample Information'!$H$6","v":0},{"$f":"'Sample Information'!$H$5","v":0},null,null,{"$f":"'Sample Information'!$H$7","v":0},null,{"$error":"#N/A"}]
[{"$f":"'Sample Information'!A370","v":369},{"$f":"'Sample Information'!B370","v":0},"0-DNA",{"$f":"'Sample Information'!D370","v":0},{"$f":"IF(VLOOKUP($C370, 'Nanodrop Data Raw'!$C:$L, 10, FALSE)<>\"\", VLOOKUP($C370, 'Nanodrop Data Raw'!$C:$L, 10, FALSE), VLOOKUP($C370, 'Nanodrop Data Raw'!$C:$L, 2, FALSE))","v":{"$error":"#N/A"}},null,null,{"$error":"#N/A"},{"$f":"VLOOKUP($C370, 'Nanodrop Data Raw'!$C:$L, 3, FALSE)","v":{"$error":"#N/A"}},{"$f":"VLOOKUP($C370, 'Nanodrop Data Raw'!$C:$L, 4, FALSE)","v":{"$error":"#N/A"}},null,null,null,null,{"$f":"'Sample Information'!$H$6","v":0},{"$f":"'Sample Information'!$H$5","v":0},null,null,{"$f":"'Sample Information'!$H$7","v":0},null,{"$error":"#N/A"}]
[{"$f":"'Sample Information'!A371","v":370},{"$f":"'Sample Information'!B371","v":0},"0-DNA",{"$f":"'Sample Information'!D371","v":0},{"$f":"IF(VLOOKUP($C371, 'Nanodrop Data Raw'!$C:$L, 10, FALSE)<>\"\", VLOOKUP($C371, 'Nanodrop Data Raw'!$C:$L, 10, FALSE), VLOOKUP($C371, 'Nanodrop Data Raw'!$C:$L, 2, FALSE))","v":{"$error":"#N/A"}},null,null,{"$error":"#N/A"},{"$f":"VLOOKUP($C371, 'Nanodrop Data Raw'!$C:$L, 3, FALSE)","v":{"$error":"#N/A"}},{"$f":"VLOOKUP($C371, 'Nanodrop Data Raw'!$C:$L, 4, FALSE)","v":{"$error":"#N/A"}},null,null,null,null,{"$f":"'Sample Information'!$H$6","v":0},{"$f":"'Sample Information'!$H$5","v":0},null,null,{"$f":"'Sample Information'!$H$7","v":0},null,{"$error":"#N/A"}]
[{"$f":"'Sample Information'!A372","v":371},{"$f":"'Sample Information'!B372","v":0},"0-DNA",{"$f":"'Sample Information'!D372","v":0},{"$f":"IF(VLOOKUP($C372, 'Nanodrop Data Raw'!$C:$L, 10, FALSE)<>\"\", VLOOKUP($C372, 'Nanodrop Data Raw'!$C:$L, 10, FALSE), VLOOKUP($C372, 'Nanodrop Data Raw'!$C:$L, 2, FALSE))","v":{"$error":"#N/A"}},null,null,{"$error":"#N/A"},{"$f":"VLOOKUP($C372, 'Nanodrop Data Raw'!$C:$L, 3, FALSE)","v":{"$error":"#N/A"}},{"$f":"VLOOKUP($C372, 'Nanodrop Data Raw'!$C:$L, 4, FALSE)","v":{"$error":"#N/A"}},null,null,null,null,{"$f":"'Sample Information'!$H$6","v":0},{"$f":"'Sample Information'!$H$5","v":0},null,null,{"$f":"'Sample Information'!$H$7","v":0},null,{"$error":"#N/A"}]
[{"$f":"'Sample Information'!A373","v":372},{"$f":"'Sample Information'!B373","v":0},"0-DNA",{"$f":"'Sample Information'!D373","v":0},{"$f":"IF(VLOOKUP($C373, 'Nanodrop Data Raw'!$C:$L, 10, FALSE)<>\"\", VLOOKUP($C373, 'Nanodrop Data Raw'!$C:$L, 10, FALSE), VLOOKUP($C373, 'Nanodrop Data Raw'!$C:$L, 2, FALSE))","v":{"$error":"#N/A"}},null,null,{"$error":"#N/A"},{"$f":"VLOOKUP($C373, 'Nanodrop Data Raw'!$C:$L, 3, FALSE)","v":{"$error":"#N/A"}},{"$f":"VLOOKUP($C373, 'Nanodrop Data Raw'!$C:$L, 4, FALSE)","v":{"$error":"#N/A"}},null,null,null,null,{"$f":"'Sample Information'!$H$6","v":0},{"$f":"'Sample Information'!$H$5","v":0},null,null,{"$f":"'Sample Information'!$H$7","v":0},null,{"$error":"#N/A"}]
[{"$f":"'Sample Information'!A374","v":373},{"$f":"'Sample Information'!B374","v":0},"0-DNA",{"$f":"'Sample Information'!D374","v":0},{"$f":"IF(VLOOKUP($C374, 'Nanodrop Data Raw'!$C:$L, 10, FALSE)<>\"\", VLOOKUP($C374, 'Nanodrop Data Raw'!$C:$L, 10, FALSE), VLOOKUP($C374, 'Nanodrop Data Raw'!$C:$L, 2, FALSE))","v":{"$error":"#N/A"}},null,null,{"$error":"#N/A"},{"$f":"VLOOKUP($C374, 'Nanodrop Data Raw'!$C:$L, 3, FALSE)","v":{"$error":"#N/A"}},{"$f":"VLOOKUP($C374, 'Nanodrop Data Raw'!$C:$L, 4, FALSE)","v":{"$error":"#N/A"}},null,null,null,null,{"$f":"'Sample Information'!$H$6","v":0},{"$f":"'Sample Information'!$H$5","v":0},null,null,{"$f":"'Sample Information'!$H$7","v":0},null,{"$error":"#N/A"}]
[{"$f":"'Sample Information'!A375","v":374},{"$f":"'Sample Information'!B375","v":0},"0-DNA",{"$f":"'Sample Information'!D375","v":0},{"$f":"IF(VLOOKUP($C375, 'Nanodrop Data Raw'!$C:$L, 10, FALSE)<>\"\", VLOOKUP($C375, 'Nanodrop Data Raw'!$C:$L, 10, FALSE), VLOOKUP($C375, 'Nanodrop Data Raw'!$C:$L, 2, FALSE))","v":{"$error":"#N/A"}},null,null,{"$error":"#N/A"},{"$f":"VLOOKUP($C375, 'Nanodrop Data Raw'!$C:$L, 3, FALSE)","v":{"$error":"#N/A"}},{"$f":"VLOOKUP($C375, 'Nanodrop Data Raw'!$C:$L, 4, FALSE)","v":{"$error":"#N/A"}},null,null,null,null,{"$f":"'Sample Information'!$H$6","v":0},{"$f":"'Sample Information'!$H$5","v":0},null,null,{"$f":"'Sample Information'!$H$7","v":0},null,{"$error":"#N/A"}]
[{"$f":"'Sample Information'!A376","v":375},{"$f":"'Sample Information'!B376","v":0},"0-DNA",{"$f":"'Sample Information'!D376","v":0},{"$f":"IF(VLOOKUP($C376, 'Nanodrop Data Raw'!$C:$L, 10, FALSE)<>\"\", VLOOKUP($C376, 'Nanodrop Data Raw'!$C:$L, 10, FALSE), VLOOKUP($C376, 'Nanodrop Data Raw'!$C:$L, 2, FALSE))","v":{"$error":"#N/A"}},null,null,{"$error":"#N/A"},{"$f":"VLOOKUP($C376, 'Nanodrop Data Raw'!$C:$L, 3, FALSE)","v":{"$error":"#N/A"}},{"$f":"VLOOKUP($C376, 'Nanodrop Data Raw'!$C:$L, 4, FALSE)","v":{"$error":"#N/A"}},null,null,null,null,{"$f":"'Sample Information'!$H$6","v":0},{"$f":"'Sample Information'!$H$5","v":0},null,null,{"$f":"'Sample Information'!$H$7","v":0},null,{"$error":"#N/A"}]
[{"$f":"'Sample Information'!A377","v":376},{"$f":"'Sample Information'!B377","v":0},"0-DNA",{"$f":"'Sample Information'!D377","v":0},{"$f":"IF(VLOOKUP($C377, 'Nanodrop Data Raw'!$C:$L, 10, FALSE)<>\"\", VLOOKUP($C377, 'Nanodrop Data Raw'!$C:$L, 10, FALSE), VLOOKUP($C377, 'Nanodrop Data Raw'!$C:$L, 2, FALSE))","v":{"$error":"#N/A"}},null,null,{"$error":"#N/A"},{"$f":"VLOOKUP($C377, 'Nanodrop Data Raw'!$C:$L, 3, FALSE)","v":{"$error":"#N/A"}},{"$f":"VLOOKUP($C377, 'Nanodrop Data Raw'!$C:$L, 4, FALSE)","v":{"$error":"#N/A"}},null,null,null,null,{"$f":"'Sample Information'!$H$6","v":0},{"$f":"'Sample Information'!$H$5","v":0},null,null,{"$f":"'Sample Information'!$H$7","v":0},null,{"$error":"#N/A"}]
[{"$f":"'Sample Information'!A378","v":377},{"$f":"'Sample Information'!B378","v":0},"0-DNA",{"$f":"'Sample Information'!D378","v":0},{"$f":"IF(VLOOKUP($C378, 'Nanodrop Data Raw'!$C:$L, 10, FALSE)<>\"\", VLOOKUP($C378, 'Nanodrop Data Raw'!$C:$L, 10, FALSE), VLOOKUP($C378, 'Nanodrop Data Raw'!$C:$L, 2, FALSE))","v":{"$error":"#N/A"}},null,null,{"$error":"#N/A"},{"$f":"VLOOKUP($C378, 'Nanodrop Data Raw'!$C:$L, 3, FALSE)","v":{"$error":"#N/A"}},{"$f":"VLOOKUP($C378, 'Nanodrop Data Raw'!$C:$L, 4, FALSE)","v":{"$error":"#N/A"}},null,null,null,null,{"$f":"'Sample Information'!$H$6","v":0},{"$f":"'Sample Information'!$H$5","v":0},null,null,{"$f":"'Sample Information'!$H$7","v":0},null,{"$error":"#N/A"}]
[{"$f":"'Sample Information'!A379","v":378},{"$f":"'Sample Information'!B379","v":0},"0-DNA",{"$f":"'Sample Information'!D379","v":0},{"$f":"IF(VLOOKUP($C379, 'Nanodrop Data Raw'!$C:$L, 10, FALSE)<>\"\", VLOOKUP($C379, 'Nanodrop Data Raw'!$C:$L, 10, FALSE), VLOOKUP($C379, 'Nanodrop Data Raw'!$C:$L, 2, FALSE))","v":{"$error":"#N/A"}},null,null,{"$error":"#N/A"},{"$f":"VLOOKUP($C379, 'Nanodrop Data Raw'!$C:$L, 3, FALSE)","v":{"$error":"#N/A"}},{"$f":"VLOOKUP($C379, 'Nanodrop Data Raw'!$C:$L, 4, FALSE)","v":{"$error":"#N/A"}},null,null,null,null,{"$f":"'Sample Information'!$H$6","v":0},{"$f":"'Sample Information'!$H$5","v":0},null,null,{"$f":"'Sample Information'!$H$7","v":0},null,{"$error":"#N/A"}]
[{"$f":"'Sample Information'!A380","v":379},{"$f":"'Sample Information'!B380","v":0},"0-DNA",{"$f":"'Sample Information'!D380","v":0},{"$f":"IF(VLOOKUP($C380, 'Nanodrop Data Raw'!$C:$L, 10, FALSE)<>\"\", VLOOKUP($C380, 'Nanodrop Data Raw'!$C:$L, 10, FALSE), VLOOKUP($C380, 'Nanodrop Data Raw'!$C:$L, 2, FALSE))","v":{"$error":"#N/A"}},null,null,{"$error":"#N/A"},{"$f":"VLOOKUP($C380, 'Nanodrop Data Raw'!$C:$L, 3, FALSE)","v":{"$error":"#N/A"}},{"$f":"VLOOKUP($C380, 'Nanodrop Data Raw'!$C:$L, 4, FALSE)","v":{"$error":"#N/A"}},null,null,null,null,{"$f":"'Sample Information'!$H$6","v":0},{"$f":"'Sample Information'!$H$5","v":0},null,null,{"$f":"'Sample Information'!$H$7","v":0},null,{"$error":"#N/A"}]
[{"$f":"'Sample Information'!A381","v":380},{"$f":"'Sample Information'!B381","v":0},"0-DNA",{"$f":"'Sample Information'!D381","v":0},{"$f":"IF(VLOOKUP($C381, 'Nanodrop Data Raw'!$C:$L, 10, FALSE)<>\"\", VLOOKUP($C381, 'Nanodrop Data Raw'!$C:$L, 10, FALSE), VLOOKUP($C381, 'Nanodrop Data Raw'!$C:$L, 2, FALSE))","v":{"$error":"#N/A"}},null,null,{"$error":"#N/A"},{"$f":"VLOOKUP($C381, 'Nanodrop Data Raw'!$C:$L, 3, FALSE)","v":{"$error":"#N/A"}},{"$f":"VLOOKUP($C381, 'Nanodrop Data Raw'!$C:$L, 4, FALSE)","v":{"$error":"#N/A"}},null,null,null,null,{"$f":"'Sample Information'!$H$6","v":0},{"$f":"'Sample Information'!$H$5","v":0},null,null,{"$f":"'Sample Information'!$H$7","v":0},null,{"$error":"#N/A"}]
[{"$f":"'Sample Information'!A382","v":381},{"$f":"'Sample Information'!B382","v":0},"0-DNA",{"$f":"'Sample Information'!D382","v":0},{"$f":"IF(VLOOKUP($C382, 'Nanodrop Data Raw'!$C:$L, 10, FALSE)<>\"\", VLOOKUP($C382, 'Nanodrop Data Raw'!$C:$L, 10, FALSE), VLOOKUP($C382, 'Nanodrop Data Raw'!$C:$L, 2, FALSE))","v":{"$error":"#N/A"}},null,null,{"$error":"#N/A"},{"$f":"VLOOKUP($C382, 'Nanodrop Data Raw'!$C:$L, 3, FALSE)","v":{"$error":"#N/A"}},{"$f":"VLOOKUP($C382, 'Nanodrop Data Raw'!$C:$L, 4, FALSE)","v":{"$error":"#N/A"}},null,null,null,null,{"$f":"'Sample Information'!$H$6","v":0},{"$f":"'Sample Information'!$H$5","v":0},null,null,{"$f":"'Sample Information'!$H$7","v":0},null,{"$error":"#N/A"}]
[{"$f":"'Sample Information'!A383","v":382},{"$f":"'Sample Information'!B383","v":0},"0-DNA",{"$f":"'Sample Information'!D383","v":0},{"$f":"IF(VLOOKUP($C383, 'Nanodrop Data Raw'!$C:$L, 10, FALSE)<>\"\", VLOOKUP($C383, 'Nanodrop Data Raw'!$C:$L, 10, FALSE), VLOOKUP($C383, 'Nanodrop Data Raw'!$C:$L, 2, FALSE))","v":{"$error":"#N/A"}},null,null,{"$error":"#N/A"},{"$f":"VLOOKUP($C383, 'Nanodrop Data Raw'!$C:$L, 3, FALSE)","v":{"$error":"#N/A"}},{"$f":"VLOOKUP($C383, 'Nanodrop Data Raw'!$C:$L, 4, FALSE)","v":{"$error":"#N/A"}},null,null,null,null,{"$f":"'Sample Information'!$H$6","v":0},{"$f":"'Sample Information'!$H$5","v":0},null,null,{"$f":"'Sample Information'!$H$7","v":0},null,{"$error":"#N/A"}]
[{"$f":"'Sample Information'!A384","v":383},{"$f":"'Sample Information'!B384","v":0},"0-DNA",{"$f":"'Sample Information'!D384","v":0},{"$f":"IF(VLOOKUP($C384, 'Nanodrop Data Raw'!$C:$L, 10, FALSE)<>\"\", VLOOKUP($C384, 'Nanodrop Data Raw'!$C:$L, 10, FALSE), VLOOKUP($C384, 'Nanodrop Data Raw'!$C:$L, 2, FALSE))","v":{"$error":"#N/A"}},null,null,{"$error":"#N/A"},{"$f":"VLOOKUP($C384, 'Nanodrop Data Raw'!$C:$L, 3, FALSE)","v":{"$error":"#N/A"}},{"$f":"VLOOKUP($C384, 'Nanodrop Data Raw'!$C:$L, 4, FALSE)","v":{"$error":"#N/A"}},null,null,null,null,{"$f":"'Sample Information'!$H$6","v":0},{"$f":"'Sample Information'!$H$5","v":0},null,null,{"$f":"'Sample Information'!$H$7","v":0},null,{"$error":"#N/A"}]
[{"$f":"'Sample Information'!A385","v":384},{"$f":"'Sample Information'!B385","v":0},"0-DNA",{"$f":"'Sample Information'!D385","v":0},{"$f":"IF(VLOOKUP($C385, 'Nanodrop Data Raw'!$C:$L, 10, FALSE)<>\"\", VLOOKUP($C385, 'Nanodrop Data Raw'!$C:$L, 10, FALSE), VLOOKUP($C385, 'Nanodrop Data Raw'!$C:$L, 2, FALSE))","v":{"$error":"#N/A"}},null,null,{"$error":"#N/A"},{"$f":"VLOOKUP($C385, 'Nanodrop Data Raw'!$C:$L, 3, FALSE)","v":{"$error":"#N/A"}},{"$f":"VLOOKUP($C385, 'Nanodrop Data Raw'!$C:$L, 4, FALSE)","v":{"$error":"#N/A"}},null,null,null,null,{"$f":"'Sample Information'!$H$6","v":0},{"$f":"'Sample Information'!$H$5","v":0},null,null,{"$f":"'Sample Information'!$H$7","v":0},null,{"$error":"#N/A"}]
[{"$f":"'Sample Information'!A386","v":385},{"$f":"'Sample Information'!B386","v":0},"0-DNA",{"$f":"'Sample Information'!D386","v":0},{"$f":"IF(VLOOKUP($C386, 'Nanodrop Data Raw'!$C:$L, 10, FALSE)<>\"\", VLOOKUP($C386, 'Nanodrop Data Raw'!$C:$L, 10, FALSE), VLOOKUP($C386, 'Nanodrop Data Raw'!$C:$L, 2, FALSE))","v":{"$error":"#N/A"}},null,null,{"$error":"#N/A"},{"$f":"VLOOKUP($C386, 'Nanodrop Data Raw'!$C:$L, 3, FALSE)","v":{"$error":"#N/A"}},{"$f":"VLOOKUP($C386, 'Nanodrop Data Raw'!$C:$L, 4, FALSE)","v":{"$error":"#N/A"}},null,null,null,null,{"$f":"'Sample Information'!$H$6","v":0},{"$f":"'Sample Information'!$H$5","v":0},null,null,{"$f":"'Sample Information'!$H$7","v":0},null,{"$error":"#N/A"}]
[{"$f":"'Sample Information'!A387","v":386},{"$f":"'Sample Information'!B387","v":0},{"$f":"CONCATENATE(B387,\"-DNA\")","v":"0-DNA"},{"$f":"'Sample Information'!D387","v":0},{"$f":"IF(VLOOKUP($C387, 'Nanodrop Data Raw'!$C:$L, 10, FALSE)<>\"\", VLOOKUP($C387, 'Nanodrop Data Raw'!$C:$L, 10, FALSE), VLOOKUP($C387, 'Nanodrop Data Raw'!$C:$L, 2, FALSE))","v":{"$error":"#N/A"}},null,null,{"$f":"E387*F387/1000","v":{"$error":"#N/A"}},{"$f":"VLOOKUP($C387, 'Nanodrop Data Raw'!$C:$L, 3, FALSE)","v":{"$error":"#N/A"}},{"$f":"VLOOKUP($C387, 'Nanodrop Data Raw'!$C:$L, 4, FALSE)","v":{"$error":"#N/A"}},null,null,null,null,{"$f":"'Sample Information'!$H$6","v":0},{"$f":"'Sample Information'!$H$5","v":0},null,null,{"$f":"'Sample Information'!$H$7","v":0},null,{"$f":"$N387/$E387","v":{"$error":"#N/A"}}]
[{"$f":"'Sample Information'!A388","v":387},{"$f":"'Sample Information'!B388","v":0},"0-DNA",{"$f":"'Sample Information'!D388","v":0},{"$f":"IF(VLOOKUP($C388, 'Nanodrop Data Raw'!$C:$L, 10, FALSE)<>\"\", VLOOKUP($C388, 'Nanodrop Data Raw'!$C:$L, 10, FALSE), VLOOKUP($C388, 'Nanodrop Data Raw'!$C:$L, 2, FALSE))","v":{"$error":"#N/A"}},null,null,{"$error":"#N/A"},{"$f":"VLOOKUP($C388, 'Nanodrop Data Raw'!$C:$L, 3, FALSE)","v":{"$error":"#N/A"}},{"$f":"VLOOKUP($C388, 'Nanodrop Data Raw'!$C:$L, 4, FALSE)","v":{"$error":"#N/A"}},null,null,null,null,{"$f":"'Sample Information'!$H$6","v":0},{"$f":"'Sample Information'!$H$5","v":0},null,null,{"$f":"'Sample Information'!$H$7","v":0},null,{"$error":"#N/A"}]
[{"$f":"'Sample Information'!A389","v":388},{"$f":"'Sample Information'!B389","v":0},"0-DNA",{"$f":"'Sample Information'!D389","v":0},{"$f":"IF(VLOOKUP($C389, 'Nanodrop Data Raw'!$C:$L, 10, FALSE)<>\"\", VLOOKUP($C389, 'Nanodrop Data Raw'!$C:$L, 10, FALSE), VLOOKUP($C389, 'Nanodrop Data Raw'!$C:$L, 2, FALSE))","v":{"$error":"#N/A"}},null,null,{"$error":"#N/A"},{"$f":"VLOOKUP($C389, 'Nanodrop Data Raw'!$C:$L, 3, FALSE)","v":{"$error":"#N/A"}},{"$f":"VLOOKUP($C389, 'Nanodrop Data Raw'!$C:$L, 4, FALSE)","v":{"$error":"#N/A"}},null,null,null,null,{"$f":"'Sample Information'!$H$6","v":0},{"$f":"'Sample Information'!$H$5","v":0},null,null,{"$f":"'Sample Information'!$H$7","v":0},null,{"$error":"#N/A"}]
[{"$f":"'Sample Information'!A390","v":389},{"$f":"'Sample Information'!B390","v":0},"0-DNA",{"$f":"'Sample Information'!D390","v":0},{"$f":"IF(VLOOKUP($C390, 'Nanodrop Data Raw'!$C:$L, 10, FALSE)<>\"\", VLOOKUP($C390, 'Nanodrop Data Raw'!$C:$L, 10, FALSE), VLOOKUP($C390, 'Nanodrop Data Raw'!$C:$L, 2, FALSE))","v":{"$error":"#N/A"}},null,null,{"$error":"#N/A"},{"$f":"VLOOKUP($C390, 'Nanodrop Data Raw'!$C:$L, 3, FALSE)","v":{"$error":"#N/A"}},{"$f":"VLOOKUP($C390, 'Nanodrop Data Raw'!$C:$L, 4, FALSE)","v":{"$error":"#N/A"}},null,null,null,null,{"$f":"'Sample Information'!$H$6","v":0},{"$f":"'Sample Information'!$H$5","v":0},null,null,{"$f":"'Sample Information'!$H$7","v":0},null,{"$error":"#N/A"}]
[{"$f":"'Sample Information'!A391","v":390},{"$f":"'Sample Information'!B391","v":0},"0-DNA",{"$f":"'Sample Information'!D391","v":0},{"$f":"IF(VLOOKUP($C391, 'Nanodrop Data Raw'!$C:$L, 10, FALSE)<>\"\", VLOOKUP($C391, 'Nanodrop Data Raw'!$C:$L, 10, FALSE), VLOOKUP($C391, 'Nanodrop Data Raw'!$C:$L, 2, FALSE))","v":{"$error":"#N/A"}},null,null,{"$error":"#N/A"},{"$f":"VLOOKUP($C391, 'Nanodrop Data Raw'!$C:$L, 3, FALSE)","v":{"$error":"#N/A"}},{"$f":"VLOOKUP($C391, 'Nanodrop Data Raw'!$C:$L, 4, FALSE)","v":{"$error":"#N/A"}},null,null,null,null,{"$f":"'Sample Information'!$H$6","v":0},{"$f":"'Sample Information'!$H$5","v":0},null,null,{"$f":"'Sample Information'!$H$7","v":0},null,{"$error":"#N/A"}]
[{"$f":"'Sample Information'!A392","v":391},{"$f":"'Sample Information'!B392","v":0},"0-DNA",{"$f":"'Sample Information'!D392","v":0},{"$f":"IF(VLOOKUP($C392, 'Nanodrop Data Raw'!$C:$L, 10, FALSE)<>\"\", VLOOKUP($C392, 'Nanodrop Data Raw'!$C:$L, 10, FALSE), VLOOKUP($C392, 'Nanodrop Data Raw'!$C:$L, 2, FALSE))","v":{"$error":"#N/A"}},null,null,{"$error":"#N/A"},{"$f":"VLOOKUP($C392, 'Nanodrop Data Raw'!$C:$L, 3, FALSE)","v":{"$error":"#N/A"}},{"$f":"VLOOKUP($C392, 'Nanodrop Data Raw'!$C:$L, 4, FALSE)","v":{"$error":"#N/A"}},null,null,null,null,{"$f":"'Sample Information'!$H$6","v":0},{"$f":"'Sample Information'!$H$5","v":0},null,null,{"$f":"'Sample Information'!$H$7","v":0},null,{"$error":"#N/A"}]
[{"$f":"'Sample Information'!A393","v":392},{"$f":"'Sample Information'!B393","v":0},"0-DNA",{"$f":"'Sample Information'!D393","v":0},{"$f":"IF(VLOOKUP($C393, 'Nanodrop Data Raw'!$C:$L, 10, FALSE)<>\"\", VLOOKUP($C393, 'Nanodrop Data Raw'!$C:$L, 10, FALSE), VLOOKUP($C393, 'Nanodrop Data Raw'!$C:$L, 2, FALSE))","v":{"$error":"#N/A"}},null,null,{"$error":"#N/A"},{"$f":"VLOOKUP($C393, 'Nanodrop Data Raw'!$C:$L, 3, FALSE)","v":{"$error":"#N/A"}},{"$f":"VLOOKUP($C393, 'Nanodrop Data Raw'!$C:$L, 4, FALSE)","v":{"$error":"#N/A"}},null,null,null,null,{"$f":"'Sample Information'!$H$6","v":0},{"$f":"'Sample Information'!$H$5","v":0},null,null,{"$f":"'Sample Information'!$H$7","v":0},null,{"$error":"#N/A"}]
[{"$f":"'Sample Information'!A394","v":393},{"$f":"'Sample Information'!B394","v":0},"0-DNA",{"$f":"'Sample Information'!D394","v":0},{"$f":"IF(VLOOKUP($C394, 'Nanodrop Data Raw'!$C:$L, 10, FALSE)<>\"\", VLOOKUP($C394, 'Nanodrop Data Raw'!$C:$L, 10, FALSE), VLOOKUP($C394, 'Nanodrop Data Raw'!$C:$L, 2, FALSE))","v":{"$error":"#N/A"}},null,null,{"$error":"#N/A"},{"$f":"VLOOKUP($C394, 'Nanodrop Data Raw'!$C:$L, 3, FALSE)","v":{"$error":"#N/A"}},{"$f":"VLOOKUP($C394, 'Nanodrop Data Raw'!$C:$L, 4, FALSE)","v":{"$error":"#N/A"}},null,null,null,null,{"$f":"'Sample Information'!$H$6","v":0},{"$f":"'Sample Information'!$H$5","v":0},null,null,{"$f":"'Sample Information'!$H$7","v":0},null,{"$error":"#N/A"}]
[{"$f":"'Sample Information'!A395","v":394},{"$f":"'Sample Information'!B395","v":0},"0-DNA",{"$f":"'Sample Information'!D395","v":0},{"$f":"IF(VLOOKUP($C395, 'Nanodrop Data Raw'!$C:$L, 10, FALSE)<>\"\", VLOOKUP($C395, 'Nanodrop Data Raw'!$C:$L, 10, FALSE), VLOOKUP($C395, 'Nanodrop Data Raw'!$C:$L, 2, FALSE))","v":{"$error":"#N/A"}},null,null,{"$error":"#N/A"},{"$f":"VLOOKUP($C395, 'Nanodrop Data Raw'!$C:$L, 3, FALSE)","v":{"$error":"#N/A"}},{"$f":"VLOOKUP($C395, 'Nanodrop Data Raw'!$C:$L, 4, FALSE)","v":{"$error":"#N/A"}},null,null,null,null,{"$f":"'Sample Information'!$H$6","v":0},{"$f":"'Sample Information'!$H$5","v":0},null,null,{"$f":"'Sample Information'!$H$7","v":0},null,{"$error":"#N/A"}]
[{"$f":"'Sample Information'!A396","v":395},{"$f":"'Sample Information'!B396","v":0},"0-DNA",{"$f":"'Sample Information'!D396","v":0},{"$f":"IF(VLOOKUP($C396, 'Nanodrop Data Raw'!$C:$L, 10, FALSE)<>\"\", VLOOKUP($C396, 'Nanodrop Data Raw'!$C:$L, 10, FALSE), VLOOKUP($C396, 'Nanodrop Data Raw'!$C:$L, 2, FALSE))","v":{"$error":"#N/A"}},null,null,{"$error":"#N/A"},{"$f":"VLOOKUP($C396, 'Nanodrop Data Raw'!$C:$L, 3, FALSE)","v":{"$error":"#N/A"}},{"$f":"VLOOKUP($C396, 'Nanodrop Data Raw'!$C:$L, 4, FALSE)","v":{"$error":"#N/A"}},null,null,null,null,{"$f":"'Sample Information'!$H$6","v":0},{"$f":"'Sample Information'!$H$5","v":0},null,null,{"$f":"'Sample Information'!$H$7","v":0},null,{"$error":"#N/A"}]
[{"$f":"'Sample Information'!A397","v":396},{"$f":"'Sample Information'!B397","v":0},"0-DNA",{"$f":"'Sample Information'!D397","v":0},{"$f":"IF(VLOOKUP($C397, 'Nanodrop Data Raw'!$C:$L, 10, FALSE)<>\"\", VLOOKUP($C397, 'Nanodrop Data Raw'!$C:$L, 10, FALSE), VLOOKUP($C397, 'Nanodrop Data Raw'!$C:$L, 2, FALSE))","v":{"$error":"#N/A"}},null,null,{"$error":"#N/A"},{"$f":"VLOOKUP($C397, 'Nanodrop Data Raw'!$C:$L, 3, FALSE)","v":{"$error":"#N/A"}},{"$f":"VLOOKUP($C397, 'Nanodrop Data Raw'!$C:$L, 4, FALSE)","v":{"$error":"#N/A"}},null,null,null,null,{"$f":"'Sample Information'!$H$6","v":0},{"$f":"'Sample Information'!$H$5","v":0},null,null,{"$f":"'Sample Information'!$H$7","v":0},null,{"$error":"#N/A"}]
[{"$f":"'Sample Information'!A398","v":397},{"$f":"'Sample Information'!B398","v":0},"0-DNA",{"$f":"'Sample Information'!D398","v":0},{"$f":"IF(VLOOKUP($C398, 'Nanodrop Data Raw'!$C:$L, 10, FALSE)<>\"\", VLOOKUP($C398, 'Nanodrop Data Raw'!$C:$L, 10, FALSE), VLOOKUP($C398, 'Nanodrop Data Raw'!$C:$L, 2, FALSE))","v":{"$error":"#N/A"}},null,null,{"$error":"#N/A"},{"$f":"VLOOKUP($C398, 'Nanodrop Data Raw'!$C:$L, 3, FALSE)","v":{"$error":"#N/A"}},{"$f":"VLOOKUP($C398, 'Nanodrop Data Raw'!$C:$L, 4, FALSE)","v":{"$error":"#N/A"}},null,null,null,null,{"$f":"'Sample Information'!$H$6","v":0},{"$f":"'Sample Information'!$H$5","v":0},null,null,{"$f":"'Sample Information'!$H$7","v":0},null,{"$error":"#N/A"}]
[{"$f":"'Sample Information'!A399","v":398},{"$f":"'Sample Information'!B399","v":0},"0-DNA",{"$f":"'Sample Information'!D399","v":0},{"$f":"IF(VLOOKUP($C399, 'Nanodrop Data Raw'!$C:$L, 10, FALSE)<>\"\", VLOOKUP($C399, 'Nanodrop Data Raw'!$C:$L, 10, FALSE), VLOOKUP($C399, 'Nanodrop Data Raw'!$C:$L, 2, FALSE))","v":{"$error":"#N/A"}},null,null,{"$error":"#N/A"},{"$f":"VLOOKUP($C399, 'Nanodrop Data Raw'!$C:$L, 3, FALSE)","v":{"$error":"#N/A"}},{"$f":"VLOOKUP($C399, 'Nanodrop Data Raw'!$C:$L, 4, FALSE)","v":{"$error":"#N/A"}},null,null,null,null,{"$f":"'Sample Information'!$H$6","v":0},{"$f":"'Sample Information'!$H$5","v":0},null,null,{"$f":"'Sample Information'!$H$7","v":0},null,{"$error":"#N/A"}]
[{"$f":"'Sample Information'!A400","v":399},{"$f":"'Sample Information'!B400","v":0},"0-DNA",{"$f":"'Sample Information'!D400","v":0},{"$f":"IF(VLOOKUP($C400, 'Nanodrop Data Raw'!$C:$L, 10, FALSE)<>\"\", VLOOKUP($C400, 'Nanodrop Data Raw'!$C:$L, 10, FALSE), VLOOKUP($C400, 'Nanodrop Data Raw'!$C:$L, 2, FALSE))","v":{"$error":"#N/A"}},null,null,{"$error":"#N/A"},{"$f":"VLOOKUP($C400, 'Nanodrop Data Raw'!$C:$L, 3, FALSE)","v":{"$error":"#N/A"}},{"$f":"VLOOKUP($C400, 'Nanodrop Data Raw'!$C:$L, 4, FALSE)","v":{"$error":"#N/A"}},null,null,null,null,{"$f":"'Sample Information'!$H$6","v":0},{"$f":"'Sample Information'!$H$5","v":0},null,null,{"$f":"'Sample Information'!$H$7","v":0},null,{"$error":"#N/A"}]
[{"$f":"'Sample Information'!A401","v":400},{"$f":"'Sample Information'!B401","v":0},"0-DNA",{"$f":"'Sample Information'!D401","v":0},{"$f":"IF(VLOOKUP($C401, 'Nanodrop Data Raw'!$C:$L, 10, FALSE)<>\"\", VLOOKUP($C401, 'Nanodrop Data Raw'!$C:$L, 10, FALSE), VLOOKUP($C401, 'Nanodrop Data Raw'!$C:$L, 2, FALSE))","v":{"$error":"#N/A"}},null,null,{"$error":"#N/A"},{"$f":"VLOOKUP($C401, 'Nanodrop Data Raw'!$C:$L, 3, FALSE)","v":{"$error":"#N/A"}},{"$f":"VLOOKUP($C401, 'Nanodrop Data Raw'!$C:$L, 4, FALSE)","v":{"$error":"#N/A"}},null,null,null,null,{"$f":"'Sample Information'!$H$6","v":0},{"$f":"'Sample Information'!$H$5","v":0},null,null,{"$f":"'Sample Information'!$H$7","v":0},null,{"$error":"#N/A"}]
[{"$f":"'Sample Information'!A402","v":401},{"$f":"'Sample Information'!B402","v":0},{"$f":"CONCATENATE(B402,\"-DNA\")","v":"0-DNA"},{"$f":"'Sample Information'!D402","v":0},{"$f":"IF(VLOOKUP($C402, 'Nanodrop Data Raw'!$C:$L, 10, FALSE)<>\"\", VLOOKUP($C402, 'Nanodrop Data Raw'!$C:$L, 10, FALSE), VLOOKUP($C402, 'Nanodrop Data Raw'!$C:$L, 2, FALSE))","v":{"$error":"#N/A"}},null,null,{"$f":"E402*F402/1000","v":{"$error":"#N/A"}},{"$f":"VLOOKUP($C402, 'Nanodrop Data Raw'!$C:$L, 3, FALSE)","v":{"$error":"#N/A"}},{"$f":"VLOOKUP($C402, 'Nanodrop Data Raw'!$C:$L, 4, FALSE)","v":{"$error":"#N/A"}},null,null,null,null,{"$f":"'Sample Information'!$H$6","v":0},{"$f":"'Sample Information'!$H$5","v":0},null,null,{"$f":"'Sample Information'!$H$7","v":0},null,{"$error":"#N/A"}]
[{"$f":"'Sample Information'!A403","v":402},{"$f":"'Sample Information'!B403","v":0},"0-DNA",{"$f":"'Sample Information'!D403","v":0},{"$f":"IF(VLOOKUP($C403, 'Nanodrop Data Raw'!$C:$L, 10, FALSE)<>\"\", VLOOKUP($C403, 'Nanodrop Data Raw'!$C:$L, 10, FALSE), VLOOKUP($C403, 'Nanodrop Data Raw'!$C:$L, 2, FALSE))","v":{"$error":"#N/A"}},null,null,{"$error":"#N/A"},{"$f":"VLOOKUP($C403, 'Nanodrop Data Raw'!$C:$L, 3, FALSE)","v":{"$error":"#N/A"}},{"$f":"VLOOKUP($C403, 'Nanodrop Data Raw'!$C:$L, 4, FALSE)","v":{"$error":"#N/A"}},null,null,null,null,{"$f":"'Sample Information'!$H$6","v":0},{"$f":"'Sample Information'!$H$5","v":0},null,null,{"$f":"'Sample Information'!$H$7","v":0},null,{"$error":"#N/A"}]
[{"$f":"'Sample Information'!A404","v":403},{"$f":"'Sample Information'!B404","v":0},"0-DNA",{"$f":"'Sample Information'!D404","v":0},{"$f":"IF(VLOOKUP($C404, 'Nanodrop Data Raw'!$C:$L, 10, FALSE)<>\"\", VLOOKUP($C404, 'Nanodrop Data Raw'!$C:$L, 10, FALSE), VLOOKUP($C404, 'Nanodrop Data Raw'!$C:$L, 2, FALSE))","v":{"$error":"#N/A"}},null,null,{"$error":"#N/A"},{"$f":"VLOOKUP($C404, 'Nanodrop Data Raw'!$C:$L, 3, FALSE)","v":{"$error":"#N/A"}},{"$f":"VLOOKUP($C404, 'Nanodrop Data Raw'!$C:$L, 4, FALSE)","v":{"$error":"#N/A"}},null,null,null,null,{"$f":"'Sample Information'!$H$6","v":0},{"$f":"'Sample Information'!$H$5","v":0},null,null,{"$f":"'Sample Information'!$H$7","v":0},null,{"$error":"#N/A"}]
[{"$f":"'Sample Information'!A405","v":404},{"$f":"'Sample Information'!B405","v":0},"0-DNA",{"$f":"'Sample Information'!D405","v":0},{"$f":"IF(VLOOKUP($C405, 'Nanodrop Data Raw'!$C:$L, 10, FALSE)<>\"\", VLOOKUP($C405, 'Nanodrop Data Raw'!$C:$L, 10, FALSE), VLOOKUP($C405, 'Nanodrop Data Raw'!$C:$L, 2, FALSE))","v":{"$error":"#N/A"}},null,null,{"$error":"#N/A"},{"$f":"VLOOKUP($C405, 'Nanodrop Data Raw'!$C:$L, 3, FALSE)","v":{"$error":"#N/A"}},{"$f":"VLOOKUP($C405, 'Nanodrop Data Raw'!$C:$L, 4, FALSE)","v":{"$error":"#N/A"}},null,null,null,null,{"$f":"'Sample Information'!$H$6","v":0},{"$f":"'Sample Information'!$H$5","v":0},null,null,{"$f":"'Sample Information'!$H$7","v":0},null,{"$error":"#N/A"}]
[{"$f":"'Sample Information'!A406","v":405},{"$f":"'Sample Information'!B406","v":0},"0-DNA",{"$f":"'Sample Information'!D406","v":0},{"$f":"IF(VLOOKUP($C406, 'Nanodrop Data Raw'!$C:$L, 10, FALSE)<>\"\", VLOOKUP($C406, 'Nanodrop Data Raw'!$C:$L, 10, FALSE), VLOOKUP($C406, 'Nanodrop Data Raw'!$C:$L, 2, FALSE))","v":{"$error":"#N/A"}},null,null,{"$error":"#N/A"},{"$f":"VLOOKUP($C406, 'Nanodrop Data Raw'!$C:$L, 3, FALSE)","v":{"$error":"#N/A"}},{"$f":"VLOOKUP($C406, 'Nanodrop Data Raw'!$C:$L, 4, FALSE)","v":{"$error":"#N/A"}},null,null,null,null,{"$f":"'Sample Information'!$H$6","v":0},{"$f":"'Sample Information'!$H$5","v":0},null,null,{"$f":"'Sample Information'!$H$7","v":0},null,{"$error":"#N/A"}]
[{"$f":"'Sample Information'!A407","v":406},{"$f":"'Sample Information'!B407","v":0},"0-DNA",{"$f":"'Sample Information'!D407","v":0},{"$f":"IF(VLOOKUP($C407, 'Nanodrop Data Raw'!$C:$L, 10, FALSE)<>\"\", VLOOKUP($C407, 'Nanodrop Data Raw'!$C:$L, 10, FALSE), VLOOKUP($C407, 'Nanodrop Data Raw'!$C:$L, 2, FALSE))","v":{"$error":"#N/A"}},null,null,{"$error":"#N/A"},{"$f":"VLOOKUP($C407, 'Nanodrop Data Raw'!$C:$L, 3, FALSE)","v":{"$error":"#N/A"}},{"$f":"VLOOKUP($C407, 'Nanodrop Data Raw'!$C:$L, 4, FALSE)","v":{"$error":"#N/A"}},null,null,null,null,{"$f":"'Sample Information'!$H$6","v":0},{"$f":"'Sample Information'!$H$5","v":0},null,null,{"$f":"'Sample Information'!$H$7","v":0},null,{"$error":"#N/A"}]
[{"$f":"'Sample Information'!A408","v":407},{"$f":"'Sample Information'!B408","v":0},"0-DNA",{"$f":"'Sample Information'!D408","v":0},{"$f":"IF(VLOOKUP($C408, 'Nanodrop Data Raw'!$C:$L, 10, FALSE)<>\"\", VLOOKUP($C408, 'Nanodrop Data Raw'!$C:$L, 10, FALSE), VLOOKUP($C408, 'Nanodrop Data Raw'!$C:$L, 2, FALSE))","v":{"$error":"#N/A"}},null,null,{"$error":"#N/A"},{"$f":"VLOOKUP($C408, 'Nanodrop Data Raw'!$C:$L, 3, FALSE)","v":{"$error":"#N/A"}},{"$f":"VLOOKUP($C408, 'Nanodrop Data Raw'!$C:$L, 4, FALSE)","v":{"$error":"#N/A"}},null,null,null,null,{"$f":"'Sample Information'!$H$6","v":0},{"$f":"'Sample Information'!$H$5","v":0},null,null,{"$f":"'Sample Information'!$H$7","v":0},null,{"$error":"#N/A"}]
[{"$f":"'Sample Information'!A409","v":408},{"$f":"'Sample Information'!B409","v":0},"0-DNA",{"$f":"'Sample Information'!D409","v":0},{"$f":"IF(VLOOKUP($C409, 'Nanodrop Data Raw'!$C:$L, 10, FALSE)<>\"\", VLOOKUP($C409, 'Nanodrop Data Raw'!$C:$L, 10, FALSE), VLOOKUP($C409, 'Nanodrop Data Raw'!$C:$L, 2, FALSE))","v":{"$error":"#N/A"}},null,null,{"$error":"#N/A"},{"$f":"VLOOKUP($C409, 'Nanodrop Data Raw'!$C:$L, 3, FALSE)","v":{"$error":"#N/A"}},{"$f":"VLOOKUP($C409, 'Nanodrop Data Raw'!$C:$L, 4, FALSE)","v":{"$error":"#N/A"}},null,null,null,null,{"$f":"'Sample Information'!$H$6","v":0},{"$f":"'Sample Information'!$H$5","v":0},null,null,{"$f":"'Sample Information'!$H$7","v":0},null,{"$error":"#N/A"}]
[{"$f":"'Sample Information'!A410","v":409},{"$f":"'Sample Information'!B410","v":0},"0-DNA",{"$f":"'Sample Information'!D410","v":0},{"$f":"IF(VLOOKUP($C410, 'Nanodrop Data Raw'!$C:$L, 10, FALSE)<>\"\", VLOOKUP($C410, 'Nanodrop Data Raw'!$C:$L, 10, FALSE), VLOOKUP($C410, 'Nanodrop Data Raw'!$C:$L, 2, FALSE))","v":{"$error":"#N/A"}},null,null,{"$error":"#N/A"},{"$f":"VLOOKUP($C410, 'Nanodrop Data Raw'!$C:$L, 3, FALSE)","v":{"$error":"#N/A"}},{"$f":"VLOOKUP($C410, 'Nanodrop Data Raw'!$C:$L, 4, FALSE)","v":{"$error":"#N/A"}},null,null,null,null,{"$f":"'Sample Information'!$H$6","v":0},{"$f":"'Sample Information'!$H$5","v":0},null,null,{"$f":"'Sample Information'!$H$7","v":0},null,{"$error":"#N/A"}]
[{"$f":"'Sample Information'!A411","v":410},{"$f":"'Sample Information'!B411","v":0},"0-DNA",{"$f":"'Sample Information'!D411","v":0},{"$f":"IF(VLOOKUP($C411, 'Nanodrop Data Raw'!$C:$L, 10, FALSE)<>\"\", VLOOKUP($C411, 'Nanodrop Data Raw'!$C:$L, 10, FALSE), VLOOKUP($C411, 'Nanodrop Data Raw'!$C:$L, 2, FALSE))","v":{"$error":"#N/A"}},null,null,{"$error":"#N/A"},{"$f":"VLOOKUP($C411, 'Nanodrop Data Raw'!$C:$L, 3, FALSE)","v":{"$error":"#N/A"}},{"$f":"VLOOKUP($C411, 'Nanodrop Data Raw'!$C:$L, 4, FALSE)","v":{"$error":"#N/A"}},null,null,null,null,{"$f":"'Sample Information'!$H$6","v":0},{"$f":"'Sample Information'!$H$5","v":0},null,null,{"$f":"'Sample Information'!$H$7","v":0},null,{"$error":"#N/A"}]
[{"$f":"'Sample Information'!A412","v":411},{"$f":"'Sample Information'!B412","v":0},"0-DNA",{"$f":"'Sample Information'!D412","v":0},{"$f":"IF(VLOOKUP($C412, 'Nanodrop Data Raw'!$C:$L, 10, FALSE)<>\"\", VLOOKUP($C412, 'Nanodrop Data Raw'!$C:$L, 10, FALSE), VLOOKUP($C412, 'Nanodrop Data Raw'!$C:$L, 2, FALSE))","v":{"$error":"#N/A"}},null,null,{"$error":"#N/A"},{"$f":"VLOOKUP($C412, 'Nanodrop Data Raw'!$C:$L, 3, FALSE)","v":{"$error":"#N/A"}},{"$f":"VLOOKUP($C412, 'Nanodrop Data Raw'!$C:$L, 4, FALSE)","v":{"$error":"#N/A"}},null,null,null,null,{"$f":"'Sample Information'!$H$6","v":0},{"$f":"'Sample Information'!$H$5","v":0},null,null,{"$f":"'Sample Information'!$H$7","v":0},null,{"$error":"#N/A"}]
[{"$f":"'Sample Information'!A413","v":412},{"$f":"'Sample Information'!B413","v":0},"0-DNA",{"$f":"'Sample Information'!D413","v":0},{"$f":"IF(VLOOKUP($C413, 'Nanodrop Data Raw'!$C:$L, 10, FALSE)<>\"\", VLOOKUP($C413, 'Nanodrop Data Raw'!$C:$L, 10, FALSE), VLOOKUP($C413, 'Nanodrop Data Raw'!$C:$L, 2, FALSE))","v":{"$error":"#N/A"}},null,null,{"$error":"#N/A"},{"$f":"VLOOKUP($C413, 'Nanodrop Data Raw'!$C:$L, 3, FALSE)","v":{"$error":"#N/A"}},{"$f":"VLOOKUP($C413, 'Nanodrop Data Raw'!$C:$L, 4, FALSE)","v":{"$error":"#N/A"}},null,null,null,null,{"$f":"'Sample Information'!$H$6","v":0},{"$f":"'Sample Information'!$H$5","v":0},null,null,{"$f":"'Sample Information'!$H$7","v":0},null,{"$error":"#N/A"}]
[{"$f":"'Sample Information'!A414","v":413},{"$f":"'Sample Information'!B414","v":0},"0-DNA",{"$f":"'Sample Information'!D414","v":0},{"$f":"IF(VLOOKUP($C414, 'Nanodrop Data Raw'!$C:$L, 10, FALSE)<>\"\", VLOOKUP($C414, 'Nanodrop Data Raw'!$C:$L, 10, FALSE), VLOOKUP($C414, 'Nanodrop Data Raw'!$C:$L, 2, FALSE))","v":{"$error":"#N/A"}},null,null,{"$error":"#N/A"},{"$f":"VLOOKUP($C414, 'Nanodrop Data Raw'!$C:$L, 3, FALSE)","v":{"$error":"#N/A"}},{"$f":"VLOOKUP($C414, 'Nanodrop Data Raw'!$C:$L, 4, FALSE)","v":{"$error":"#N/A"}},null,null,null,null,{"$f":"'Sample Information'!$H$6","v":0},{"$f":"'Sample Information'!$H$5","v":0},null,null,{"$f":"'Sample Information'!$H$7","v":0},null,{"$error":"#N/A"}]
[{"$f":"'Sample Information'!A415","v":414},{"$f":"'Sample Information'!B415","v":0},"0-DNA",{"$f":"'Sample Information'!D415","v":0},{"$f":"IF(VLOOKUP($C415, 'Nanodrop Data Raw'!$C:$L, 10, FALSE)<>\"\", VLOOKUP($C415, 'Nanodrop Data Raw'!$C:$L, 10, FALSE), VLOOKUP($C415, 'Nanodrop Data Raw'!$C:$L, 2, FALSE))","v":{"$error":"#N/A"}},null,null,{"$error":"#N/A"},{"$f":"VLOOKUP($C415, 'Nanodrop Data Raw'!$C:$L, 3, FALSE)","v":{"$error":"#N/A"}},{"$f":"VLOOKUP($C415, 'Nanodrop Data Raw'!$C:$L, 4, FALSE)","v":{"$error":"#N/A"}},null,null,null,null,{"$f":"'Sample Information'!$H$6","v":0},{"$f":"'Sample Information'!$H$5","v":0},null,null,{"$f":"'Sample Information'!$H$7","v":0},null,{"$error":"#N/A"}]
[{"$f":"'Sample Information'!A416","v":415},{"$f":"'Sample Information'!B416","v":0},"0-DNA",{"$f":"'Sample Information'!D416","v":0},{"$f":"IF(VLOOKUP($C416, 'Nanodrop Data Raw'!$C:$L, 10, FALSE)<>\"\", VLOOKUP($C416, 'Nanodrop Data Raw'!$C:$L, 10, FALSE), VLOOKUP($C416, 'Nanodrop Data Raw'!$C:$L, 2, FALSE))","v":{"$error":"#N/A"}},null,null,{"$error":"#N/A"},{"$f":"VLOOKUP($C416, 'Nanodrop Data Raw'!$C:$L, 3, FALSE)","v":{"$error":"#N/A"}},{"$f":"VLOOKUP($C416, 'Nanodrop Data Raw'!$C:$L, 4, FALSE)","v":{"$error":"#N/A"}},null,null,null,null,{"$f":"'Sample Information'!$H$6","v":0},{"$f":"'Sample Information'!$H$5","v":0},null,null,{"$f":"'Sample Information'!$H$7","v":0},null,{"$error":"#N/A"}]
[{"$f":"'Sample Information'!A417","v":416},{"$f":"'Sample Information'!B417","v":0},"0-DNA",{"$f":"'Sample Information'!D417","v":0},{"$f":"IF(VLOOKUP($C417, 'Nanodrop Data Raw'!$C:$L, 10, FALSE)<>\"\", VLOOKUP($C417, 'Nanodrop Data Raw'!$C:$L, 10, FALSE), VLOOKUP($C417, 'Nanodrop Data Raw'!$C:$L, 2, FALSE))","v":{"$error":"#N/A"}},null,null,{"$error":"#N/A"},{"$f":"VLOOKUP($C417, 'Nanodrop Data Raw'!$C:$L, 3, FALSE)","v":{"$error":"#N/A"}},{"$f":"VLOOKUP($C417, 'Nanodrop Data Raw'!$C:$L, 4, FALSE)","v":{"$error":"#N/A"}},null,null,null,null,{"$f":"'Sample Information'!$H$6","v":0},{"$f":"'Sample Information'!$H$5","v":0},null,null,{"$f":"'Sample Information'!$H$7","v":0},null,{"$error":"#N/A"}]
[{"$f":"'Sample Information'!A418","v":417},{"$f":"'Sample Information'!B418","v":0},"0-DNA",{"$f":"'Sample Information'!D418","v":0},{"$f":"IF(VLOOKUP($C418, 'Nanodrop Data Raw'!$C:$L, 10, FALSE)<>\"\", VLOOKUP($C418, 'Nanodrop Data Raw'!$C:$L, 10, FALSE), VLOOKUP($C418, 'Nanodrop Data Raw'!$C:$L, 2, FALSE))","v":{"$error":"#N/A"}},null,null,{"$error":"#N/A"},{"$f":"VLOOKUP($C418, 'Nanodrop Data Raw'!$C:$L, 3, FALSE)","v":{"$error":"#N/A"}},{"$f":"VLOOKUP($C418, 'Nanodrop Data Raw'!$C:$L, 4, FALSE)","v":{"$error":"#N/A"}},null,null,null,null,{"$f":"'Sample Information'!$H$6","v":0},{"$f":"'Sample Information'!$H$5","v":0},null,null,{"$f":"'Sample Information'!$H$7","v":0},null,{"$error":"#N/A"}]
[{"$f":"'Sample Information'!A419","v":418},{"$f":"'Sample Information'!B419","v":0},"0-DNA",{"$f":"'Sample Information'!D419","v":0},{"$f":"IF(VLOOKUP($C419, 'Nanodrop Data Raw'!$C:$L, 10, FALSE)<>\"\", VLOOKUP($C419, 'Nanodrop Data Raw'!$C:$L, 10, FALSE), VLOOKUP($C419, 'Nanodrop Data Raw'!$C:$L, 2, FALSE))","v":{"$error":"#N/A"}},null,null,{"$error":"#N/A"},{"$f":"VLOOKUP($C419, 'Nanodrop Data Raw'!$C:$L, 3, FALSE)","v":{"$error":"#N/A"}},{"$f":"VLOOKUP($C419, 'Nanodrop Data Raw'!$C:$L, 4, FALSE)","v":{"$error":"#N/A"}},null,null,null,null,{"$f":"'Sample Information'!$H$6","v":0},{"$f":"'Sample Information'!$H$5","v":0},null,null,{"$f":"'Sample Information'!$H$7","v":0},null,{"$error":"#N/A"}]
[{"$f":"'Sample Information'!A420","v":419},{"$f":"'Sample Information'!B420","v":0},"0-DNA",{"$f":"'Sample Information'!D420","v":0},{"$f":"IF(VLOOKUP($C420, 'Nanodrop Data Raw'!$C:$L, 10, FALSE)<>\"\", VLOOKUP($C420, 'Nanodrop Data Raw'!$C:$L, 10, FALSE), VLOOKUP($C420, 'Nanodrop Data Raw'!$C:$L, 2, FALSE))","v":{"$error":"#N/A"}},null,null,{"$error":"#N/A"},{"$f":"VLOOKUP($C420, 'Nanodrop Data Raw'!$C:$L, 3, FALSE)","v":{"$error":"#N/A"}},{"$f":"VLOOKUP($C420, 'Nanodrop Data Raw'!$C:$L, 4, FALSE)","v":{"$error":"#N/A"}},null,null,null,null,{"$f":"'Sample Information'!$H$6","v":0},{"$f":"'Sample Information'!$H$5","v":0},null,null,{"$f":"'Sample Information'!$H$7","v":0},null,{"$error":"#N/A"}]
[{"$f":"'Sample Information'!A421","v":420},{"$f":"'Sample Information'!B421","v":0},"0-DNA",{"$f":"'Sample Information'!D421","v":0},{"$f":"IF(VLOOKUP($C421, 'Nanodrop Data Raw'!$C:$L, 10, FALSE)<>\"\", VLOOKUP($C421, 'Nanodrop Data Raw'!$C:$L, 10, FALSE), VLOOKUP($C421, 'Nanodrop Data Raw'!$C:$L, 2, FALSE))","v":{"$error":"#N/A"}},null,null,{"$error":"#N/A"},{"$f":"VLOOKUP($C421, 'Nanodrop Data Raw'!$C:$L, 3, FALSE)","v":{"$error":"#N/A"}},{"$f":"VLOOKUP($C421, 'Nanodrop Data Raw'!$C:$L, 4, FALSE)","v":{"$error":"#N/A"}},null,null,null,null,{"$f":"'Sample Information'!$H$6","v":0},{"$f":"'Sample Information'!$H$5","v":0},null,null,{"$f":"'Sample Information'!$H$7","v":0},null,{"$error":"#N/A"}]
[{"$f":"'Sample Information'!A422","v":421},{"$f":"'Sample Information'!B422","v":0},"0-DNA",{"$f":"'Sample Information'!D422","v":0},{"$f":"IF(VLOOKUP($C422, 'Nanodrop Data Raw'!$C:$L, 10, FALSE)<>\"\", VLOOKUP($C422, 'Nanodrop Data Raw'!$C:$L, 10, FALSE), VLOOKUP($C422, 'Nanodrop Data Raw'!$C:$L, 2, FALSE))","v":{"$error":"#N/A"}},null,null,{"$error":"#N/A"},{"$f":"VLOOKUP($C422, 'Nanodrop Data Raw'!$C:$L, 3, FALSE)","v":{"$error":"#N/A"}},{"$f":"VLOOKUP($C422, 'Nanodrop Data Raw'!$C:$L, 4, FALSE)","v":{"$error":"#N/A"}},null,null,null,null,{"$f":"'Sample Information'!$H$6","v":0},{"$f":"'Sample Information'!$H$5","v":0},null,null,{"$f":"'Sample Information'!$H$7","v":0},null,{"$error":"#N/A"}]
[{"$f":"'Sample Information'!A423","v":422},{"$f":"'Sample Information'!B423","v":0},"0-DNA",{"$f":"'Sample Information'!D423","v":0},{"$f":"IF(VLOOKUP($C423, 'Nanodrop Data Raw'!$C:$L, 10, FALSE)<>\"\", VLOOKUP($C423, 'Nanodrop Data Raw'!$C:$L, 10, FALSE), VLOOKUP($C423, 'Nanodrop Data Raw'!$C:$L, 2, FALSE))","v":{"$error":"#N/A"}},null,null,{"$error":"#N/A"},{"$f":"VLOOKUP($C423, 'Nanodrop Data Raw'!$C:$L, 3, FALSE)","v":{"$error":"#N/A"}},{"$f":"VLOOKUP($C423, 'Nanodrop Data Raw'!$C:$L, 4, FALSE)","v":{"$error":"#N/A"}},null,null,null,null,{"$f":"'Sample Information'!$H$6","v":0},{"$f":"'Sample Information'!$H$5","v":0},null,null,{"$f":"'Sample Information'!$H$7","v":0},null,{"$error":"#N/A"}]
[{"$f":"'Sample Information'!A424","v":423},{"$f":"'Sample Information'!B424","v":0},"0-DNA",{"$f":"'Sample Information'!D424","v":0},{"$f":"IF(VLOOKUP($C424, 'Nanodrop Data Raw'!$C:$L, 10, FALSE)<>\"\", VLOOKUP($C424, 'Nanodrop Data Raw'!$C:$L, 10, FALSE), VLOOKUP($C424, 'Nanodrop Data Raw'!$C:$L, 2, FALSE))","v":{"$error":"#N/A"}},null,null,{"$error":"#N/A"},{"$f":"VLOOKUP($C424, 'Nanodrop Data Raw'!$C:$L, 3, FALSE)","v":{"$error":"#N/A"}},{"$f":"VLOOKUP($C424, 'Nanodrop Data Raw'!$C:$L, 4, FALSE)","v":{"$error":"#N/A"}},null,null,null,null,{"$f":"'Sample Information'!$H$6","v":0},{"$f":"'Sample Information'!$H$5","v":0},null,null,{"$f":"'Sample Information'!$H$7","v":0},null,{"$error":"#N/A"}]
[{"$f":"'Sample Information'!A425","v":424},{"$f":"'Sample Information'!B425","v":0},"0-DNA",{"$f":"'Sample Information'!D425","v":0},{"$f":"IF(VLOOKUP($C425, 'Nanodrop Data Raw'!$C:$L, 10, FALSE)<>\"\", VLOOKUP($C425, 'Nanodrop Data Raw'!$C:$L, 10, FALSE), VLOOKUP($C425, 'Nanodrop Data Raw'!$C:$L, 2, FALSE))","v":{"$error":"#N/A"}},null,null,{"$error":"#N/A"},{"$f":"VLOOKUP($C425, 'Nanodrop Data Raw'!$C:$L, 3, FALSE)","v":{"$error":"#N/A"}},{"$f":"VLOOKUP($C425, 'Nanodrop Data Raw'!$C:$L, 4, FALSE)","v":{"$error":"#N/A"}},null,null,null,null,{"$f":"'Sample Information'!$H$6","v":0},{"$f":"'Sample Information'!$H$5","v":0},null,null,{"$f":"'Sample Information'!$H$7","v":0},null,{"$error":"#N/A"}]
[{"$f":"'Sample Information'!A426","v":425},{"$f":"'Sample Information'!B426","v":0},"0-DNA",{"$f":"'Sample Information'!D426","v":0},{"$f":"IF(VLOOKUP($C426, 'Nanodrop Data Raw'!$C:$L, 10, FALSE)<>\"\", VLOOKUP($C426, 'Nanodrop Data Raw'!$C:$L, 10, FALSE), VLOOKUP($C426, 'Nanodrop Data Raw'!$C:$L, 2, FALSE))","v":{"$error":"#N/A"}},null,null,{"$error":"#N/A"},{"$f":"VLOOKUP($C426, 'Nanodrop Data Raw'!$C:$L, 3, FALSE)","v":{"$error":"#N/A"}},{"$f":"VLOOKUP($C426, 'Nanodrop Data Raw'!$C:$L, 4, FALSE)","v":{"$error":"#N/A"}},null,null,null,null,{"$f":"'Sample Information'!$H$6","v":0},{"$f":"'Sample Information'!$H$5","v":0},null,null,{"$f":"'Sample Information'!$H$7","v":0},null,{"$error":"#N/A"}]
[{"$f":"'Sample Information'!A427","v":426},{"$f":"'Sample Information'!B427","v":0},"0-DNA",{"$f":"'Sample Information'!D427","v":0},{"$f":"IF(VLOOKUP($C427, 'Nanodrop Data Raw'!$C:$L, 10, FALSE)<>\"\", VLOOKUP($C427, 'Nanodrop Data Raw'!$C:$L, 10, FALSE), VLOOKUP($C427, 'Nanodrop Data Raw'!$C:$L, 2, FALSE))","v":{"$error":"#N/A"}},null,null,{"$error":"#N/A"},{"$f":"VLOOKUP($C427, 'Nanodrop Data Raw'!$C:$L, 3, FALSE)","v":{"$error":"#N/A"}},{"$f":"VLOOKUP($C427, 'Nanodrop Data Raw'!$C:$L, 4, FALSE)","v":{"$error":"#N/A"}},null,null,null,null,{"$f":"'Sample Information'!$H$6","v":0},{"$f":"'Sample Information'!$H$5","v":0},null,null,{"$f":"'Sample Information'!$H$7","v":0},null,{"$error":"#N/A"}]
[{"$f":"'Sample Information'!A428","v":427},{"$f":"'Sample Information'!B428","v":0},"0-DNA",{"$f":"'Sample Information'!D428","v":0},{"$f":"IF(VLOOKUP($C428, 'Nanodrop Data Raw'!$C:$L, 10, FALSE)<>\"\", VLOOKUP($C428, 'Nanodrop Data Raw'!$C:$L, 10, FALSE), VLOOKUP($C428, 'Nanodrop Data Raw'!$C:$L, 2, FALSE))","v":{"$error":"#N/A"}},null,null,{"$error":"#N/A"},{"$f":"VLOOKUP($C428, 'Nanodrop Data Raw'!$C:$L, 3, FALSE)","v":{"$error":"#N/A"}},{"$f":"VLOOKUP($C428, 'Nanodrop Data Raw'!$C:$L, 4, FALSE)","v":{"$error":"#N/A"}},null,null,null,null,{"$f":"'Sample Information'!$H$6","v":0},{"$f":"'Sample Information'!$H$5","v":0},null,null,{"$f":"'Sample Information'!$H$7","v":0},null,{"$error":"#N/A"}]
[{"$f":"'Sample Information'!A429","v":428},{"$f":"'Sample Information'!B429","v":0},"0-DNA",{"$f":"'Sample Information'!D429","v":0},{"$f":"IF(VLOOKUP($C429, 'Nanodrop Data Raw'!$C:$L, 10, FALSE)<>\"\", VLOOKUP($C429, 'Nanodrop Data Raw'!$C:$L, 10, FALSE), VLOOKUP($C429, 'Nanodrop Data Raw'!$C:$L, 2, FALSE))","v":{"$error":"#N/A"}},null,null,{"$error":"#N/A"},{"$f":"VLOOKUP($C429, 'Nanodrop Data Raw'!$C:$L, 3, FALSE)","v":{"$error":"#N/A"}},{"$f":"VLOOKUP($C429, 'Nanodrop Data Raw'!$C:$L, 4, FALSE)","v":{"$error":"#N/A"}},null,null,null,null,{"$f":"'Sample Information'!$H$6","v":0},{"$f":"'Sample Information'!$H$5","v":0},null,null,{"$f":"'Sample Information'!$H$7","v":0},null,{"$error":"#N/A"}]
[{"$f":"'Sample Information'!A430","v":429},{"$f":"'Sample Information'!B430","v":0},"0-DNA",{"$f":"'Sample Information'!D430","v":0},{"$f":"IF(VLOOKUP($C430, 'Nanodrop Data Raw'!$C:$L, 10, FALSE)<>\"\", VLOOKUP($C430, 'Nanodrop Data Raw'!$C:$L, 10, FALSE), VLOOKUP($C430, 'Nanodrop Data Raw'!$C:$L, 2, FALSE))","v":{"$error":"#N/A"}},null,null,{"$error":"#N/A"},{"$f":"VLOOKUP($C430, 'Nanodrop Data Raw'!$C:$L, 3, FALSE)","v":{"$error":"#N/A"}},{"$f":"VLOOKUP($C430, 'Nanodrop Data Raw'!$C:$L, 4, FALSE)","v":{"$error":"#N/A"}},null,null,null,null,{"$f":"'Sample Information'!$H$6","v":0},{"$f":"'Sample Information'!$H$5","v":0},null,null,{"$f":"'Sample Information'!$H$7","v":0},null,{"$error":"#N/A"}]
[{"$f":"'Sample Information'!A431","v":430},{"$f":"'Sample Information'!B431","v":0},"0-DNA",{"$f":"'Sample Information'!D431","v":0},{"$f":"IF(VLOOKUP($C431, 'Nanodrop Data Raw'!$C:$L, 10, FALSE)<>\"\", VLOOKUP($C431, 'Nanodrop Data Raw'!$C:$L, 10, FALSE), VLOOKUP($C431, 'Nanodrop Data Raw'!$C:$L, 2, FALSE))","v":{"$error":"#N/A"}},null,null,{"$error":"#N/A"},{"$f":"VLOOKUP($C431, 'Nanodrop Data Raw'!$C:$L, 3, FALSE)","v":{"$error":"#N/A"}},{"$f":"VLOOKUP($C431, 'Nanodrop Data Raw'!$C:$L, 4, FALSE)","v":{"$error":"#N/A"}},null,null,null,null,{"$f":"'Sample Information'!$H$6","v":0},{"$f":"'Sample Information'!$H$5","v":0},null,null,{"$f":"'Sample Information'!$H$7","v":0},null,{"$error":"#N/A"}]
[{"$f":"'Sample Information'!A432","v":431},{"$f":"'Sample Information'!B432","v":0},"0-DNA",{"$f":"'Sample Information'!D432","v":0},{"$f":"IF(VLOOKUP($C432, 'Nanodrop Data Raw'!$C:$L, 10, FALSE)<>\"\", VLOOKUP($C432, 'Nanodrop Data Raw'!$C:$L, 10, FALSE), VLOOKUP($C432, 'Nanodrop Data Raw'!$C:$L, 2, FALSE))","v":{"$error":"#N/A"}},null,null,{"$error":"#N/A"},{"$f":"VLOOKUP($C432, 'Nanodrop Data Raw'!$C:$L, 3, FALSE)","v":{"$error":"#N/A"}},{"$f":"VLOOKUP($C432, 'Nanodrop Data Raw'!$C:$L, 4, FALSE)","v":{"$error":"#N/A"}},null,null,null,null,{"$f":"'Sample Information'!$H$6","v":0},{"$f":"'Sample Information'!$H$5","v":0},null,null,{"$f":"'Sample Information'!$H$7","v":0},null,{"$error":"#N/A"}]
[{"$f":"'Sample Information'!A433","v":432},{"$f":"'Sample Information'!B433","v":0},"0-DNA",{"$f":"'Sample Information'!D433","v":0},{"$f":"IF(VLOOKUP($C433, 'Nanodrop Data Raw'!$C:$L, 10, FALSE)<>\"\", VLOOKUP($C433, 'Nanodrop Data Raw'!$C:$L, 10, FALSE), VLOOKUP($C433, 'Nanodrop Data Raw'!$C:$L, 2, FALSE))","v":{"$error":"#N/A"}},null,null,{"$error":"#N/A"},{"$f":"VLOOKUP($C433, 'Nanodrop Data Raw'!$C:$L, 3, FALSE)","v":{"$error":"#N/A"}},{"$f":"VLOOKUP($C433, 'Nanodrop Data Raw'!$C:$L, 4, FALSE)","v":{"$error":"#N/A"}},null,null,null,null,{"$f":"'Sample Information'!$H$6","v":0},{"$f":"'Sample Information'!$H$5","v":0},null,null,{"$f":"'Sample Information'!$H$7","v":0},null,{"$error":"#N/A"}]
[{"$f":"'Sample Information'!A434","v":433},{"$f":"'Sample Information'!B434","v":0},"0-DNA",{"$f":"'Sample Information'!D434","v":0},{"$f":"IF(VLOOKUP($C434, 'Nanodrop Data Raw'!$C:$L, 10, FALSE)<>\"\", VLOOKUP($C434, 'Nanodrop Data Raw'!$C:$L, 10, FALSE), VLOOKUP($C434, 'Nanodrop Data Raw'!$C:$L, 2, FALSE))","v":{"$error":"#N/A"}},null,null,{"$error":"#N/A"},{"$f":"VLOOKUP($C434, 'Nanodrop Data Raw'!$C:$L, 3, FALSE)","v":{"$error":"#N/A"}},{"$f":"VLOOKUP($C434, 'Nanodrop Data Raw'!$C:$L, 4, FALSE)","v":{"$error":"#N/A"}},null,null,null,null,{"$f":"'Sample Information'!$H$6","v":0},{"$f":"'Sample Information'!$H$5","v":0},null,null,{"$f":"'Sample Information'!$H$7","v":0},null,{"$error":"#N/A"}]
[{"$f":"'Sample Information'!A435","v":434},{"$f":"'Sample Information'!B435","v":0},"0-DNA",{"$f":"'Sample Information'!D435","v":0},{"$f":"IF(VLOOKUP($C435, 'Nanodrop Data Raw'!$C:$L, 10, FALSE)<>\"\", VLOOKUP($C435, 'Nanodrop Data Raw'!$C:$L, 10, FALSE), VLOOKUP($C435, 'Nanodrop Data Raw'!$C:$L, 2, FALSE))","v":{"$error":"#N/A"}},null,null,{"$error":"#N/A"},{"$f":"VLOOKUP($C435, 'Nanodrop Data Raw'!$C:$L, 3, FALSE)","v":{"$error":"#N/A"}},{"$f":"VLOOKUP($C435, 'Nanodrop Data Raw'!$C:$L, 4, FALSE)","v":{"$error":"#N/A"}},null,null,null,null,{"$f":"'Sample Information'!$H$6","v":0},{"$f":"'Sample Information'!$H$5","v":0},null,null,{"$f":"'Sample Information'!$H$7","v":0},null,{"$error":"#N/A"}]
[{"$f":"'Sample Information'!A436","v":435},{"$f":"'Sample Information'!B436","v":0},"0-DNA",{"$f":"'Sample Information'!D436","v":0},{"$f":"IF(VLOOKUP($C436, 'Nanodrop Data Raw'!$C:$L, 10, FALSE)<>\"\", VLOOKUP($C436, 'Nanodrop Data Raw'!$C:$L, 10, FALSE), VLOOKUP($C436, 'Nanodrop Data Raw'!$C:$L, 2, FALSE))","v":{"$error":"#N/A"}},null,null,{"$error":"#N/A"},{"$f":"VLOOKUP($C436, 'Nanodrop Data Raw'!$C:$L, 3, FALSE)","v":{"$error":"#N/A"}},{"$f":"VLOOKUP($C436, 'Nanodrop Data Raw'!$C:$L, 4, FALSE)","v":{"$error":"#N/A"}},null,null,null,null,{"$f":"'Sample Information'!$H$6","v":0},{"$f":"'Sample Information'!$H$5","v":0},null,null,{"$f":"'Sample Information'!$H$7","v":0},null,{"$error":"#N/A"}]
[{"$f":"'Sample Information'!A437","v":436},{"$f":"'Sample Information'!B437","v":0},"0-DNA",{"$f":"'Sample Information'!D437","v":0},{"$f":"IF(VLOOKUP($C437, 'Nanodrop Data Raw'!$C:$L, 10, FALSE)<>\"\", VLOOKUP($C437, 'Nanodrop Data Raw'!$C:$L, 10, FALSE), VLOOKUP($C437, 'Nanodrop Data Raw'!$C:$L, 2, FALSE))","v":{"$error":"#N/A"}},null,null,{"$error":"#N/A"},{"$f":"VLOOKUP($C437, 'Nanodrop Data Raw'!$C:$L, 3, FALSE)","v":{"$error":"#N/A"}},{"$f":"VLOOKUP($C437, 'Nanodrop Data Raw'!$C:$L, 4, FALSE)","v":{"$error":"#N/A"}},null,null,null,null,{"$f":"'Sample Information'!$H$6","v":0},{"$f":"'Sample Information'!$H$5","v":0},null,null,{"$f":"'Sample Information'!$H$7","v":0},null,{"$error":"#N/A"}]
[{"$f":"'Sample Information'!A438","v":437},{"$f":"'Sample Information'!B438","v":0},"0-DNA",{"$f":"'Sample Information'!D438","v":0},{"$f":"IF(VLOOKUP($C438, 'Nanodrop Data Raw'!$C:$L, 10, FALSE)<>\"\", VLOOKUP($C438, 'Nanodrop Data Raw'!$C:$L, 10, FALSE), VLOOKUP($C438, 'Nanodrop Data Raw'!$C:$L, 2, FALSE))","v":{"$error":"#N/A"}},null,null,{"$error":"#N/A"},{"$f":"VLOOKUP($C438, 'Nanodrop Data Raw'!$C:$L, 3, FALSE)","v":{"$error":"#N/A"}},{"$f":"VLOOKUP($C438, 'Nanodrop Data Raw'!$C:$L, 4, FALSE)","v":{"$error":"#N/A"}},null,null,null,null,{"$f":"'Sample Information'!$H$6","v":0},{"$f":"'Sample Information'!$H$5","v":0},null,null,{"$f":"'Sample Information'!$H$7","v":0},null,{"$error":"#N/A"}]
[{"$f":"'Sample Information'!A439","v":438},{"$f":"'Sample Information'!B439","v":0},"0-DNA",{"$f":"'Sample Information'!D439","v":0},{"$f":"IF(VLOOKUP($C439, 'Nanodrop Data Raw'!$C:$L, 10, FALSE)<>\"\", VLOOKUP($C439, 'Nanodrop Data Raw'!$C:$L, 10, FALSE), VLOOKUP($C439, 'Nanodrop Data Raw'!$C:$L, 2, FALSE))","v":{"$error":"#N/A"}},null,null,{"$error":"#N/A"},{"$f":"VLOOKUP($C439, 'Nanodrop Data Raw'!$C:$L, 3, FALSE)","v":{"$error":"#N/A"}},{"$f":"VLOOKUP($C439, 'Nanodrop Data Raw'!$C:$L, 4, FALSE)","v":{"$error":"#N/A"}},null,null,null,null,{"$f":"'Sample Information'!$H$6","v":0},{"$f":"'Sample Information'!$H$5","v":0},null,null,{"$f":"'Sample Information'!$H$7","v":0},null,{"$error":"#N/A"}]
[{"$f":"'Sample Information'!A440","v":439},{"$f":"'Sample Information'!B440","v":0},"0-DNA",{"$f":"'Sample Information'!D440","v":0},{"$f":"IF(VLOOKUP($C440, 'Nanodrop Data Raw'!$C:$L, 10, FALSE)<>\"\", VLOOKUP($C440, 'Nanodrop Data Raw'!$C:$L, 10, FALSE), VLOOKUP($C440, 'Nanodrop Data Raw'!$C:$L, 2, FALSE))","v":{"$error":"#N/A"}},null,null,{"$error":"#N/A"},{"$f":"VLOOKUP($C440, 'Nanodrop Data Raw'!$C:$L, 3, FALSE)","v":{"$error":"#N/A"}},{"$f":"VLOOKUP($C440, 'Nanodrop Data Raw'!$C:$L, 4, FALSE)","v":{"$error":"#N/A"}},null,null,null,null,{"$f":"'Sample Information'!$H$6","v":0},{"$f":"'Sample Information'!$H$5","v":0},null,null,{"$f":"'Sample Information'!$H$7","v":0},null,{"$error":"#N/A"}]
[{"$f":"'Sample Information'!A441","v":440},{"$f":"'Sample Information'!B441","v":0},"0-DNA",{"$f":"'Sample Information'!D441","v":0},{"$f":"IF(VLOOKUP($C441, 'Nanodrop Data Raw'!$C:$L, 10, FALSE)<>\"\", VLOOKUP($C441, 'Nanodrop Data Raw'!$C:$L, 10, FALSE), VLOOKUP($C441, 'Nanodrop Data Raw'!$C:$L, 2, FALSE))","v":{"$error":"#N/A"}},null,null,{"$error":"#N/A"},{"$f":"VLOOKUP($C441, 'Nanodrop Data Raw'!$C:$L, 3, FALSE)","v":{"$error":"#N/A"}},{"$f":"VLOOKUP($C441, 'Nanodrop Data Raw'!$C:$L, 4, FALSE)","v":{"$error":"#N/A"}},null,null,null,null,{"$f":"'Sample Information'!$H$6","v":0},{"$f":"'Sample Information'!$H$5","v":0},null,null,{"$f":"'Sample Information'!$H$7","v":0},null,{"$error":"#N/A"}]
[{"$f":"'Sample Information'!A442","v":441},{"$f":"'Sample Information'!B442","v":0},"0-DNA",{"$f":"'Sample Information'!D442","v":0},{"$f":"IF(VLOOKUP($C442, 'Nanodrop Data Raw'!$C:$L, 10, FALSE)<>\"\", VLOOKUP($C442, 'Nanodrop Data Raw'!$C:$L, 10, FALSE), VLOOKUP($C442, 'Nanodrop Data Raw'!$C:$L, 2, FALSE))","v":{"$error":"#N/A"}},null,null,{"$error":"#N/A"},{"$f":"VLOOKUP($C442, 'Nanodrop Data Raw'!$C:$L, 3, FALSE)","v":{"$error":"#N/A"}},{"$f":"VLOOKUP($C442, 'Nanodrop Data Raw'!$C:$L, 4, FALSE)","v":{"$error":"#N/A"}},null,null,null,null,{"$f":"'Sample Information'!$H$6","v":0},{"$f":"'Sample Information'!$H$5","v":0},null,null,{"$f":"'Sample Information'!$H$7","v":0},null,{"$error":"#N/A"}]
[{"$f":"'Sample Information'!A443","v":442},{"$f":"'Sample Information'!B443","v":0},"0-DNA",{"$f":"'Sample Information'!D443","v":0},{"$f":"IF(VLOOKUP($C443, 'Nanodrop Data Raw'!$C:$L, 10, FALSE)<>\"\", VLOOKUP($C443, 'Nanodrop Data Raw'!$C:$L, 10, FALSE), VLOOKUP($C443, 'Nanodrop Data Raw'!$C:$L, 2, FALSE))","v":{"$error":"#N/A"}},null,null,{"$error":"#N/A"},{"$f":"VLOOKUP($C443, 'Nanodrop Data Raw'!$C:$L, 3, FALSE)","v":{"$error":"#N/A"}},{"$f":"VLOOKUP($C443, 'Nanodrop Data Raw'!$C:$L, 4, FALSE)","v":{"$error":"#N/A"}},null,null,null,null,{"$f":"'Sample Information'!$H$6","v":0},{"$f":"'Sample Information'!$H$5","v":0},null,null,{"$f":"'Sample Information'!$H$7","v":0},null,{"$error":"#N/A"}]
[{"$f":"'Sample Information'!A444","v":443},{"$f":"'Sample Information'!B444","v":0},"0-DNA",{"$f":"'Sample Information'!D444","v":0},{"$f":"IF(VLOOKUP($C444, 'Nanodrop Data Raw'!$C:$L, 10, FALSE)<>\"\", VLOOKUP($C444, 'Nanodrop Data Raw'!$C:$L, 10, FALSE), VLOOKUP($C444, 'Nanodrop Data Raw'!$C:$L, 2, FALSE))","v":{"$error":"#N/A"}},null,null,{"$error":"#N/A"},{"$f":"VLOOKUP($C444, 'Nanodrop Data Raw'!$C:$L, 3, FALSE)","v":{"$error":"#N/A"}},{"$f":"VLOOKUP($C444, 'Nanodrop Data Raw'!$C:$L, 4, FALSE)","v":{"$error":"#N/A"}},null,null,null,null,{"$f":"'Sample Information'!$H$6","v":0},{"$f":"'Sample Information'!$H$5","v":0},null,null,{"$f":"'Sample Information'!$H$7","v":0},null,{"$error":"#N/A"}]
[{"$f":"'Sample Information'!A445","v":444},{"$f":"'Sample Information'!B445","v":0},"0-DNA",{"$f":"'Sample Information'!D445","v":0},{"$f":"IF(VLOOKUP($C445, 'Nanodrop Data Raw'!$C:$L, 10, FALSE)<>\"\", VLOOKUP($C445, 'Nanodrop Data Raw'!$C:$L, 10, FALSE), VLOOKUP($C445, 'Nanodrop Data Raw'!$C:$L, 2, FALSE))","v":{"$error":"#N/A"}},null,null,{"$error":"#N/A"},{"$f":"VLOOKUP($C445, 'Nanodrop Data Raw'!$C:$L, 3, FALSE)","v":{"$error":"#N/A"}},{"$f":"VLOOKUP($C445, 'Nanodrop Data Raw'!$C:$L, 4, FALSE)","v":{"$error":"#N/A"}},null,null,null,null,{"$f":"'Sample Information'!$H$6","v":0},{"$f":"'Sample Information'!$H$5","v":0},null,null,{"$f":"'Sample Information'!$H$7","v":0},null,{"$error":"#N/A"}]
[{"$f":"'Sample Information'!A446","v":445},{"$f":"'Sample Information'!B446","v":0},"0-DNA",{"$f":"'Sample Information'!D446","v":0},{"$f":"IF(VLOOKUP($C446, 'Nanodrop Data Raw'!$C:$L, 10, FALSE)<>\"\", VLOOKUP($C446, 'Nanodrop Data Raw'!$C:$L, 10, FALSE), VLOOKUP($C446, 'Nanodrop Data Raw'!$C:$L, 2, FALSE))","v":{"$error":"#N/A"}},null,null,{"$error":"#N/A"},{"$f":"VLOOKUP($C446, 'Nanodrop Data Raw'!$C:$L, 3, FALSE)","v":{"$error":"#N/A"}},{"$f":"VLOOKUP($C446, 'Nanodrop Data Raw'!$C:$L, 4, FALSE)","v":{"$error":"#N/A"}},null,null,null,null,{"$f":"'Sample Information'!$H$6","v":0},{"$f":"'Sample Information'!$H$5","v":0},null,null,{"$f":"'Sample Information'!$H$7","v":0},null,{"$error":"#N/A"}]
[{"$f":"'Sample Information'!A447","v":446},{"$f":"'Sample Information'!B447","v":0},"0-DNA",{"$f":"'Sample Information'!D447","v":0},{"$f":"IF(VLOOKUP($C447, 'Nanodrop Data Raw'!$C:$L, 10, FALSE)<>\"\", VLOOKUP($C447, 'Nanodrop Data Raw'!$C:$L, 10, FALSE), VLOOKUP($C447, 'Nanodrop Data Raw'!$C:$L, 2, FALSE))","v":{"$error":"#N/A"}},null,null,{"$error":"#N/A"},{"$f":"VLOOKUP($C447, 'Nanodrop Data Raw'!$C:$L, 3, FALSE)","v":{"$error":"#N/A"}},{"$f":"VLOOKUP($C447, 'Nanodrop Data Raw'!$C:$L, 4, FALSE)","v":{"$error":"#N/A"}},null,null,null,null,{"$f":"'Sample Information'!$H$6","v":0},{"$f":"'Sample Information'!$H$5","v":0},null,null,{"$f":"'Sample Information'!$H$7","v":0},null,{"$error":"#N/A"}]
[{"$f":"'Sample Information'!A448","v":447},{"$f":"'Sample Information'!B448","v":0},"0-DNA",{"$f":"'Sample Information'!D448","v":0},{"$f":"IF(VLOOKUP($C448, 'Nanodrop Data Raw'!$C:$L, 10, FALSE)<>\"\", VLOOKUP($C448, 'Nanodrop Data Raw'!$C:$L, 10, FALSE), VLOOKUP($C448, 'Nanodrop Data Raw'!$C:$L, 2, FALSE))","v":{"$error":"#N/A"}},null,null,{"$error":"#N/A"},{"$f":"VLOOKUP($C448, 'Nanodrop Data Raw'!$C:$L, 3, FALSE)","v":{"$error":"#N/A"}},{"$f":"VLOOKUP($C448, 'Nanodrop Data Raw'!$C:$L, 4, FALSE)","v":{"$error":"#N/A"}},null,null,null,null,{"$f":"'Sample Information'!$H$6","v":0},{"$f":"'Sample Information'!$H$5","v":0},null,null,{"$f":"'Sample Information'!$H$7","v":0},null,{"$error":"#N/A"}]
[{"$f":"'Sample Information'!A449","v":448},{"$f":"'Sample Information'!B449","v":0},"0-DNA",{"$f":"'Sample Information'!D449","v":0},{"$f":"IF(VLOOKUP($C449, 'Nanodrop Data Raw'!$C:$L, 10, FALSE)<>\"\", VLOOKUP($C449, 'Nanodrop Data Raw'!$C:$L, 10, FALSE), VLOOKUP($C449, 'Nanodrop Data Raw'!$C:$L, 2, FALSE))","v":{"$error":"#N/A"}},null,null,{"$error":"#N/A"},{"$f":"VLOOKUP($C449, 'Nanodrop Data Raw'!$C:$L, 3, FALSE)","v":{"$error":"#N/A"}},{"$f":"VLOOKUP($C449, 'Nanodrop Data Raw'!$C:$L, 4, FALSE)","v":{"$error":"#N/A"}},null,null,null,null,{"$f":"'Sample Information'!$H$6","v":0},{"$f":"'Sample Information'!$H$5","v":0},null,null,{"$f":"'Sample Information'!$H$7","v":0},null,{"$error":"#N/A"}]
[{"$f":"'Sample Information'!A450","v":449},{"$f":"'Sample Information'!B450","v":0},"0-DNA",{"$f":"'Sample Information'!D450","v":0},{"$f":"IF(VLOOKUP($C450, 'Nanodrop Data Raw'!$C:$L, 10, FALSE)<>\"\", VLOOKUP($C450, 'Nanodrop Data Raw'!$C:$L, 10, FALSE), VLOOKUP($C450, 'Nanodrop Data Raw'!$C:$L, 2, FALSE))","v":{"$error":"#N/A"}},null,null,{"$error":"#N/A"},{"$f":"VLOOKUP($C450, 'Nanodrop Data Raw'!$C:$L, 3, FALSE)","v":{"$error":"#N/A"}},{"$f":"VLOOKUP($C450, 'Nanodrop Data Raw'!$C:$L, 4, FALSE)","v":{"$error":"#N/A"}},null,null,null,null,{"$f":"'Sample Information'!$H$6","v":0},{"$f":"'Sample Information'!$H$5","v":0},null,null,{"$f":"'Sample Information'!$H$7","v":0},null,{"$error":"#N/A"}]
[{"$f":"'Sample Information'!A451","v":450},{"$f":"'Sample Information'!B451","v":0},"0-DNA",{"$f":"'Sample Information'!D451","v":0},{"$f":"IF(VLOOKUP($C451, 'Nanodrop Data Raw'!$C:$L, 10, FALSE)<>\"\", VLOOKUP($C451, 'Nanodrop Data Raw'!$C:$L, 10, FALSE), VLOOKUP($C451, 'Nanodrop Data Raw'!$C:$L, 2, FALSE))","v":{"$error":"#N/A"}},null,null,{"$error":"#N/A"},{"$f":"VLOOKUP($C451, 'Nanodrop Data Raw'!$C:$L, 3, FALSE)","v":{"$error":"#N/A"}},{"$f":"VLOOKUP($C451, 'Nanodrop Data Raw'!$C:$L, 4, FALSE)","v":{"$error":"#N/A"}},null,null,null,null,{"$f":"'Sample Information'!$H$6","v":0},{"$f":"'Sample Information'!$H$5","v":0},null,null,{"$f":"'Sample Information'!$H$7","v":0},null,{"$f":"$N451/$E451","v":{"$error":"#N/A"}}]
[{"$f":"'Sample Information'!A452","v":451},{"$f":"'Sample Information'!B452","v":0},"0-DNA",{"$f":"'Sample Information'!D452","v":0},{"$f":"IF(VLOOKUP($C452, 'Nanodrop Data Raw'!$C:$L, 10, FALSE)<>\"\", VLOOKUP($C452, 'Nanodrop Data Raw'!$C:$L, 10, FALSE), VLOOKUP($C452, 'Nanodrop Data Raw'!$C:$L, 2, FALSE))","v":{"$error":"#N/A"}},null,null,{"$error":"#N/A"},{"$f":"VLOOKUP($C452, 'Nanodrop Data Raw'!$C:$L, 3, FALSE)","v":{"$error":"#N/A"}},{"$f":"VLOOKUP($C452, 'Nanodrop Data Raw'!$C:$L, 4, FALSE)","v":{"$error":"#N/A"}},null,null,null,null,{"$f":"'Sample Information'!$H$6","v":0},{"$f":"'Sample Information'!$H$5","v":0},null,null,{"$f":"'Sample Information'!$H$7","v":0},null,{"$error":"#N/A"}]
[{"$f":"'Sample Information'!A453","v":452},{"$f":"'Sample Information'!B453","v":0},"0-DNA",{"$f":"'Sample Information'!D453","v":0},{"$f":"IF(VLOOKUP($C453, 'Nanodrop Data Raw'!$C:$L, 10, FALSE)<>\"\", VLOOKUP($C453, 'Nanodrop Data Raw'!$C:$L, 10, FALSE), VLOOKUP($C453, 'Nanodrop Data Raw'!$C:$L, 2, FALSE))","v":{"$error":"#N/A"}},null,null,{"$error":"#N/A"},{"$f":"VLOOKUP($C453, 'Nanodrop Data Raw'!$C:$L, 3, FALSE)","v":{"$error":"#N/A"}},{"$f":"VLOOKUP($C453, 'Nanodrop Data Raw'!$C:$L, 4, FALSE)","v":{"$error":"#N/A"}},null,null,null,null,{"$f":"'Sample Information'!$H$6","v":0},{"$f":"'Sample Information'!$H$5","v":0},null,null,{"$f":"'Sample Information'!$H$7","v":0},null,{"$error":"#N/A"}]
[{"$f":"'Sample Information'!A454","v":453},{"$f":"'Sample Information'!B454","v":0},"0-DNA",{"$f":"'Sample Information'!D454","v":0},{"$f":"IF(VLOOKUP($C454, 'Nanodrop Data Raw'!$C:$L, 10, FALSE)<>\"\", VLOOKUP($C454, 'Nanodrop Data Raw'!$C:$L, 10, FALSE), VLOOKUP($C454, 'Nanodrop Data Raw'!$C:$L, 2, FALSE))","v":{"$error":"#N/A"}},null,null,{"$error":"#N/A"},{"$f":"VLOOKUP($C454, 'Nanodrop Data Raw'!$C:$L, 3, FALSE)","v":{"$error":"#N/A"}},{"$f":"VLOOKUP($C454, 'Nanodrop Data Raw'!$C:$L, 4, FALSE)","v":{"$error":"#N/A"}},null,null,null,null,{"$f":"'Sample Information'!$H$6","v":0},{"$f":"'Sample Information'!$H$5","v":0},null,null,{"$f":"'Sample Information'!$H$7","v":0},null,{"$error":"#N/A"}]
[{"$f":"'Sample Information'!A455","v":454},{"$f":"'Sample Information'!B455","v":0},"0-DNA",{"$f":"'Sample Information'!D455","v":0},{"$f":"IF(VLOOKUP($C455, 'Nanodrop Data Raw'!$C:$L, 10, FALSE)<>\"\", VLOOKUP($C455, 'Nanodrop Data Raw'!$C:$L, 10, FALSE), VLOOKUP($C455, 'Nanodrop Data Raw'!$C:$L, 2, FALSE))","v":{"$error":"#N/A"}},null,null,{"$error":"#N/A"},{"$f":"VLOOKUP($C455, 'Nanodrop Data Raw'!$C:$L, 3, FALSE)","v":{"$error":"#N/A"}},{"$f":"VLOOKUP($C455, 'Nanodrop Data Raw'!$C:$L, 4, FALSE)","v":{"$error":"#N/A"}},null,null,null,null,{"$f":"'Sample Information'!$H$6","v":0},{"$f":"'Sample Information'!$H$5","v":0},null,null,{"$f":"'Sample Information'!$H$7","v":0},null,{"$error":"#N/A"}]
[{"$f":"'Sample Information'!A456","v":455},{"$f":"'Sample Information'!B456","v":0},"0-DNA",{"$f":"'Sample Information'!D456","v":0},{"$f":"IF(VLOOKUP($C456, 'Nanodrop Data Raw'!$C:$L, 10, FALSE)<>\"\", VLOOKUP($C456, 'Nanodrop Data Raw'!$C:$L, 10, FALSE), VLOOKUP($C456, 'Nanodrop Data Raw'!$C:$L, 2, FALSE))","v":{"$error":"#N/A"}},null,null,{"$error":"#N/A"},{"$f":"VLOOKUP($C456, 'Nanodrop Data Raw'!$C:$L, 3, FALSE)","v":{"$error":"#N/A"}},{"$f":"VLOOKUP($C456, 'Nanodrop Data Raw'!$C:$L, 4, FALSE)","v":{"$error":"#N/A"}},null,null,null,null,{"$f":"'Sample Information'!$H$6","v":0},{"$f":"'Sample Information'!$H$5","v":0},null,null,{"$f":"'Sample Information'!$H$7","v":0},null,{"$error":"#N/A"}]
[{"$f":"'Sample Information'!A457","v":456},{"$f":"'Sample Information'!B457","v":0},"0-DNA",{"$f":"'Sample Information'!D457","v":0},{"$f":"IF(VLOOKUP($C457, 'Nanodrop Data Raw'!$C:$L, 10, FALSE)<>\"\", VLOOKUP($C457, 'Nanodrop Data Raw'!$C:$L, 10, FALSE), VLOOKUP($C457, 'Nanodrop Data Raw'!$C:$L, 2, FALSE))","v":{"$error":"#N/A"}},null,null,{"$error":"#N/A"},{"$f":"VLOOKUP($C457, 'Nanodrop Data Raw'!$C:$L, 3, FALSE)","v":{"$error":"#N/A"}},{"$f":"VLOOKUP($C457, 'Nanodrop Data Raw'!$C:$L, 4, FALSE)","v":{"$error":"#N/A"}},null,null,null,null,{"$f":"'Sample Information'!$H$6","v":0},{"$f":"'Sample Information'!$H$5","v":0},null,null,{"$f":"'Sample Information'!$H$7","v":0},null,{"$error":"#N/A"}]
[{"$f":"'Sample Information'!A458","v":457},{"$f":"'Sample Information'!B458","v":0},"0-DNA",{"$f":"'Sample Information'!D458","v":0},{"$f":"IF(VLOOKUP($C458, 'Nanodrop Data Raw'!$C:$L, 10, FALSE)<>\"\", VLOOKUP($C458, 'Nanodrop Data Raw'!$C:$L, 10, FALSE), VLOOKUP($C458, 'Nanodrop Data Raw'!$C:$L, 2, FALSE))","v":{"$error":"#N/A"}},null,null,{"$error":"#N/A"},{"$f":"VLOOKUP($C458, 'Nanodrop Data Raw'!$C:$L, 3, FALSE)","v":{"$error":"#N/A"}},{"$f":"VLOOKUP($C458, 'Nanodrop Data Raw'!$C:$L, 4, FALSE)","v":{"$error":"#N/A"}},null,null,null,null,{"$f":"'Sample Information'!$H$6","v":0},{"$f":"'Sample Information'!$H$5","v":0},null,null,{"$f":"'Sample Information'!$H$7","v":0},null,{"$error":"#N/A"}]
[{"$f":"'Sample Information'!A459","v":458},{"$f":"'Sample Information'!B459","v":0},"0-DNA",{"$f":"'Sample Information'!D459","v":0},{"$f":"IF(VLOOKUP($C459, 'Nanodrop Data Raw'!$C:$L, 10, FALSE)<>\"\", VLOOKUP($C459, 'Nanodrop Data Raw'!$C:$L, 10, FALSE), VLOOKUP($C459, 'Nanodrop Data Raw'!$C:$L, 2, FALSE))","v":{"$error":"#N/A"}},null,null,{"$error":"#N/A"},{"$f":"VLOOKUP($C459, 'Nanodrop Data Raw'!$C:$L, 3, FALSE)","v":{"$error":"#N/A"}},{"$f":"VLOOKUP($C459, 'Nanodrop Data Raw'!$C:$L, 4, FALSE)","v":{"$error":"#N/A"}},null,null,null,null,{"$f":"'Sample Information'!$H$6","v":0},{"$f":"'Sample Information'!$H$5","v":0},null,null,{"$f":"'Sample Information'!$H$7","v":0},null,{"$error":"#N/A"}]
[{"$f":"'Sample Information'!A460","v":459},{"$f":"'Sample Information'!B460","v":0},"0-DNA",{"$f":"'Sample Information'!D460","v":0},{"$f":"IF(VLOOKUP($C460, 'Nanodrop Data Raw'!$C:$L, 10, FALSE)<>\"\", VLOOKUP($C460, 'Nanodrop Data Raw'!$C:$L, 10, FALSE), VLOOKUP($C460, 'Nanodrop Data Raw'!$C:$L, 2, FALSE))","v":{"$error":"#N/A"}},null,null,{"$error":"#N/A"},{"$f":"VLOOKUP($C460, 'Nanodrop Data Raw'!$C:$L, 3, FALSE)","v":{"$error":"#N/A"}},{"$f":"VLOOKUP($C460, 'Nanodrop Data Raw'!$C:$L, 4, FALSE)","v":{"$error":"#N/A"}},null,null,null,null,{"$f":"'Sample Information'!$H$6","v":0},{"$f":"'Sample Information'!$H$5","v":0},null,null,{"$f":"'Sample Information'!$H$7","v":0},null,{"$error":"#N/A"}]
[{"$f":"'Sample Information'!A461","v":460},{"$f":"'Sample Information'!B461","v":0},"0-DNA",{"$f":"'Sample Information'!D461","v":0},{"$f":"IF(VLOOKUP($C461, 'Nanodrop Data Raw'!$C:$L, 10, FALSE)<>\"\", VLOOKUP($C461, 'Nanodrop Data Raw'!$C:$L, 10, FALSE), VLOOKUP($C461, 'Nanodrop Data Raw'!$C:$L, 2, FALSE))","v":{"$error":"#N/A"}},null,null,{"$error":"#N/A"},{"$f":"VLOOKUP($C461, 'Nanodrop Data Raw'!$C:$L, 3, FALSE)","v":{"$error":"#N/A"}},{"$f":"VLOOKUP($C461, 'Nanodrop Data Raw'!$C:$L, 4, FALSE)","v":{"$error":"#N/A"}},null,null,null,null,{"$f":"'Sample Information'!$H$6","v":0},{"$f":"'Sample Information'!$H$5","v":0},null,null,{"$f":"'Sample Information'!$H$7","v":0},null,{"$error":"#N/A"}]
[{"$f":"'Sample Information'!A462","v":461},{"$f":"'Sample Information'!B462","v":0},"0-DNA",{"$f":"'Sample Information'!D462","v":0},{"$f":"IF(VLOOKUP($C462, 'Nanodrop Data Raw'!$C:$L, 10, FALSE)<>\"\", VLOOKUP($C462, 'Nanodrop Data Raw'!$C:$L, 10, FALSE), VLOOKUP($C462, 'Nanodrop Data Raw'!$C:$L, 2, FALSE))","v":{"$error":"#N/A"}},null,null,{"$error":"#N/A"},{"$f":"VLOOKUP($C462, 'Nanodrop Data Raw'!$C:$L, 3, FALSE)","v":{"$error":"#N/A"}},{"$f":"VLOOKUP($C462, 'Nanodrop Data Raw'!$C:$L, 4, FALSE)","v":{"$error":"#N/A"}},null,null,null,null,{"$f":"'Sample Information'!$H$6","v":0},{"$f":"'Sample Information'!$H$5","v":0},null,null,{"$f":"'Sample Information'!$H$7","v":0},null,{"$error":"#N/A"}]
[{"$f":"'Sample Information'!A463","v":462},{"$f":"'Sample Information'!B463","v":0},"0-DNA",{"$f":"'Sample Information'!D463","v":0},{"$f":"IF(VLOOKUP($C463, 'Nanodrop Data Raw'!$C:$L, 10, FALSE)<>\"\", VLOOKUP($C463, 'Nanodrop Data Raw'!$C:$L, 10, FALSE), VLOOKUP($C463, 'Nanodrop Data Raw'!$C:$L, 2, FALSE))","v":{"$error":"#N/A"}},null,null,{"$error":"#N/A"},{"$f":"VLOOKUP($C463, 'Nanodrop Data Raw'!$C:$L, 3, FALSE)","v":{"$error":"#N/A"}},{"$f":"VLOOKUP($C463, 'Nanodrop Data Raw'!$C:$L, 4, FALSE)","v":{"$error":"#N/A"}},null,null,null,null,{"$f":"'Sample Information'!$H$6","v":0},{"$f":"'Sample Information'!$H$5","v":0},null,null,{"$f":"'Sample Information'!$H$7","v":0},null,{"$error":"#N/A"}]
[{"$f":"'Sample Information'!A464","v":463},{"$f":"'Sample Information'!B464","v":0},"0-DNA",{"$f":"'Sample Information'!D464","v":0},{"$f":"IF(VLOOKUP($C464, 'Nanodrop Data Raw'!$C:$L, 10, FALSE)<>\"\", VLOOKUP($C464, 'Nanodrop Data Raw'!$C:$L, 10, FALSE), VLOOKUP($C464, 'Nanodrop Data Raw'!$C:$L, 2, FALSE))","v":{"$error":"#N/A"}},null,null,{"$error":"#N/A"},{"$f":"VLOOKUP($C464, 'Nanodrop Data Raw'!$C:$L, 3, FALSE)","v":{"$error":"#N/A"}},{"$f":"VLOOKUP($C464, 'Nanodrop Data Raw'!$C:$L, 4, FALSE)","v":{"$error":"#N/A"}},null,null,null,null,{"$f":"'Sample Information'!$H$6","v":0},{"$f":"'Sample Information'!$H$5","v":0},null,null,{"$f":"'Sample Information'!$H$7","v":0},null,{"$error":"#N/A"}]
[{"$f":"'Sample Information'!A465","v":464},{"$f":"'Sample Information'!B465","v":0},"0-DNA",{"$f":"'Sample Information'!D465","v":0},{"$f":"IF(VLOOKUP($C465, 'Nanodrop Data Raw'!$C:$L, 10, FALSE)<>\"\", VLOOKUP($C465, 'Nanodrop Data Raw'!$C:$L, 10, FALSE), VLOOKUP($C465, 'Nanodrop Data Raw'!$C:$L, 2, FALSE))","v":{"$error":"#N/A"}},null,null,{"$error":"#N/A"},{"$f":"VLOOKUP($C465, 'Nanodrop Data Raw'!$C:$L, 3, FALSE)","v":{"$error":"#N/A"}},{"$f":"VLOOKUP($C465, 'Nanodrop Data Raw'!$C:$L, 4, FALSE)","v":{"$error":"#N/A"}},null,null,null,null,{"$f":"'Sample Information'!$H$6","v":0},{"$f":"'Sample Information'!$H$5","v":0},null,null,{"$f":"'Sample Information'!$H$7","v":0},null,{"$error":"#N/A"}]
[{"$f":"'Sample Information'!A466","v":465},{"$f":"'Sample Information'!B466","v":0},{"$f":"CONCATENATE(B466,\"-DNA\")","v":"0-DNA"},{"$f":"'Sample Information'!D466","v":0},{"$f":"IF(VLOOKUP($C466, 'Nanodrop Data Raw'!$C:$L, 10, FALSE)<>\"\", VLOOKUP($C466, 'Nanodrop Data Raw'!$C:$L, 10, FALSE), VLOOKUP($C466, 'Nanodrop Data Raw'!$C:$L, 2, FALSE))","v":{"$error":"#N/A"}},null,null,{"$f":"E466*F466/1000","v":{"$error":"#N/A"}},{"$f":"VLOOKUP($C466, 'Nanodrop Data Raw'!$C:$L, 3, FALSE)","v":{"$error":"#N/A"}},{"$f":"VLOOKUP($C466, 'Nanodrop Data Raw'!$C:$L, 4, FALSE)","v":{"$error":"#N/A"}},null,null,null,null,{"$f":"'Sample Information'!$H$6","v":0},{"$f":"'Sample Information'!$H$5","v":0},null,null,{"$f":"'Sample Information'!$H$7","v":0},null,{"$error":"#N/A"}]
[{"$f":"'Sample Information'!A467","v":466},{"$f":"'Sample Information'!B467","v":0},"0-DNA",{"$f":"'Sample Information'!D467","v":0},{"$f":"IF(VLOOKUP($C467, 'Nanodrop Data Raw'!$C:$L, 10, FALSE)<>\"\", VLOOKUP($C467, 'Nanodrop Data Raw'!$C:$L, 10, FALSE), VLOOKUP($C467, 'Nanodrop Data Raw'!$C:$L, 2, FALSE))","v":{"$error":"#N/A"}},null,null,{"$error":"#N/A"},{"$f":"VLOOKUP($C467, 'Nanodrop Data Raw'!$C:$L, 3, FALSE)","v":{"$error":"#N/A"}},{"$f":"VLOOKUP($C467, 'Nanodrop Data Raw'!$C:$L, 4, FALSE)","v":{"$error":"#N/A"}},null,null,null,null,{"$f":"'Sample Information'!$H$6","v":0},{"$f":"'Sample Information'!$H$5","v":0},null,null,{"$f":"'Sample Information'!$H$7","v":0},null,{"$error":"#N/A"}]
[{"$f":"'Sample Information'!A468","v":467},{"$f":"'Sample Information'!B468","v":0},"0-DNA",{"$f":"'Sample Information'!D468","v":0},{"$f":"IF(VLOOKUP($C468, 'Nanodrop Data Raw'!$C:$L, 10, FALSE)<>\"\", VLOOKUP($C468, 'Nanodrop Data Raw'!$C:$L, 10, FALSE), VLOOKUP($C468, 'Nanodrop Data Raw'!$C:$L, 2, FALSE))","v":{"$error":"#N/A"}},null,null,{"$error":"#N/A"},{"$f":"VLOOKUP($C468, 'Nanodrop Data Raw'!$C:$L, 3, FALSE)","v":{"$error":"#N/A"}},{"$f":"VLOOKUP($C468, 'Nanodrop Data Raw'!$C:$L, 4, FALSE)","v":{"$error":"#N/A"}},null,null,null,null,{"$f":"'Sample Information'!$H$6","v":0},{"$f":"'Sample Information'!$H$5","v":0},null,null,{"$f":"'Sample Information'!$H$7","v":0},null,{"$error":"#N/A"}]
[{"$f":"'Sample Information'!A469","v":468},{"$f":"'Sample Information'!B469","v":0},"0-DNA",{"$f":"'Sample Information'!D469","v":0},{"$f":"IF(VLOOKUP($C469, 'Nanodrop Data Raw'!$C:$L, 10, FALSE)<>\"\", VLOOKUP($C469, 'Nanodrop Data Raw'!$C:$L, 10, FALSE), VLOOKUP($C469, 'Nanodrop Data Raw'!$C:$L, 2, FALSE))","v":{"$error":"#N/A"}},null,null,{"$error":"#N/A"},{"$f":"VLOOKUP($C469, 'Nanodrop Data Raw'!$C:$L, 3, FALSE)","v":{"$error":"#N/A"}},{"$f":"VLOOKUP($C469, 'Nanodrop Data Raw'!$C:$L, 4, FALSE)","v":{"$error":"#N/A"}},null,null,null,null,{"$f":"'Sample Information'!$H$6","v":0},{"$f":"'Sample Information'!$H$5","v":0},null,null,{"$f":"'Sample Information'!$H$7","v":0},null,{"$error":"#N/A"}]
[{"$f":"'Sample Information'!A470","v":469},{"$f":"'Sample Information'!B470","v":0},"0-DNA",{"$f":"'Sample Information'!D470","v":0},{"$f":"IF(VLOOKUP($C470, 'Nanodrop Data Raw'!$C:$L, 10, FALSE)<>\"\", VLOOKUP($C470, 'Nanodrop Data Raw'!$C:$L, 10, FALSE), VLOOKUP($C470, 'Nanodrop Data Raw'!$C:$L, 2, FALSE))","v":{"$error":"#N/A"}},null,null,{"$error":"#N/A"},{"$f":"VLOOKUP($C470, 'Nanodrop Data Raw'!$C:$L, 3, FALSE)","v":{"$error":"#N/A"}},{"$f":"VLOOKUP($C470, 'Nanodrop Data Raw'!$C:$L, 4, FALSE)","v":{"$error":"#N/A"}},null,null,null,null,{"$f":"'Sample Information'!$H$6","v":0},{"$f":"'Sample Information'!$H$5","v":0},null,null,{"$f":"'Sample Information'!$H$7","v":0},null,{"$error":"#N/A"}]
[{"$f":"'Sample Information'!A471","v":470},{"$f":"'Sample Information'!B471","v":0},"0-DNA",{"$f":"'Sample Information'!D471","v":0},{"$f":"IF(VLOOKUP($C471, 'Nanodrop Data Raw'!$C:$L, 10, FALSE)<>\"\", VLOOKUP($C471, 'Nanodrop Data Raw'!$C:$L, 10, FALSE), VLOOKUP($C471, 'Nanodrop Data Raw'!$C:$L, 2, FALSE))","v":{"$error":"#N/A"}},null,null,{"$error":"#N/A"},{"$f":"VLOOKUP($C471, 'Nanodrop Data Raw'!$C:$L, 3, FALSE)","v":{"$error":"#N/A"}},{"$f":"VLOOKUP($C471, 'Nanodrop Data Raw'!$C:$L, 4, FALSE)","v":{"$error":"#N/A"}},null,null,null,null,{"$f":"'Sample Information'!$H$6","v":0},{"$f":"'Sample Information'!$H$5","v":0},null,null,{"$f":"'Sample Information'!$H$7","v":0},null,{"$error":"#N/A"}]
[{"$f":"'Sample Information'!A472","v":471},{"$f":"'Sample Information'!B472","v":0},"0-DNA",{"$f":"'Sample Information'!D472","v":0},{"$f":"IF(VLOOKUP($C472, 'Nanodrop Data Raw'!$C:$L, 10, FALSE)<>\"\", VLOOKUP($C472, 'Nanodrop Data Raw'!$C:$L, 10, FALSE), VLOOKUP($C472, 'Nanodrop Data Raw'!$C:$L, 2, FALSE))","v":{"$error":"#N/A"}},null,null,{"$error":"#N/A"},{"$f":"VLOOKUP($C472, 'Nanodrop Data Raw'!$C:$L, 3, FALSE)","v":{"$error":"#N/A"}},{"$f":"VLOOKUP($C472, 'Nanodrop Data Raw'!$C:$L, 4, FALSE)","v":{"$error":"#N/A"}},null,null,null,null,{"$f":"'Sample Information'!$H$6","v":0},{"$f":"'Sample Information'!$H$5","v":0},null,null,{"$f":"'Sample Information'!$H$7","v":0},null,{"$error":"#N/A"}]
[{"$f":"'Sample Information'!A473","v":472},{"$f":"'Sample Information'!B473","v":0},"0-DNA",{"$f":"'Sample Information'!D473","v":0},{"$f":"IF(VLOOKUP($C473, 'Nanodrop Data Raw'!$C:$L, 10, FALSE)<>\"\", VLOOKUP($C473, 'Nanodrop Data Raw'!$C:$L, 10, FALSE), VLOOKUP($C473, 'Nanodrop Data Raw'!$C:$L, 2, FALSE))","v":{"$error":"#N/A"}},null,null,{"$error":"#N/A"},{"$f":"VLOOKUP($C473, 'Nanodrop Data Raw'!$C:$L, 3, FALSE)","v":{"$error":"#N/A"}},{"$f":"VLOOKUP($C473, 'Nanodrop Data Raw'!$C:$L, 4, FALSE)","v":{"$error":"#N/A"}},null,null,null,null,{"$f":"'Sample Information'!$H$6","v":0},{"$f":"'Sample Information'!$H$5","v":0},null,null,{"$f":"'Sample Information'!$H$7","v":0},null,{"$error":"#N/A"}]
[{"$f":"'Sample Information'!A474","v":473},{"$f":"'Sample Information'!B474","v":0},"0-DNA",{"$f":"'Sample Information'!D474","v":0},{"$f":"IF(VLOOKUP($C474, 'Nanodrop Data Raw'!$C:$L, 10, FALSE)<>\"\", VLOOKUP($C474, 'Nanodrop Data Raw'!$C:$L, 10, FALSE), VLOOKUP($C474, 'Nanodrop Data Raw'!$C:$L, 2, FALSE))","v":{"$error":"#N/A"}},null,null,{"$error":"#N/A"},{"$f":"VLOOKUP($C474, 'Nanodrop Data Raw'!$C:$L, 3, FALSE)","v":{"$error":"#N/A"}},{"$f":"VLOOKUP($C474, 'Nanodrop Data Raw'!$C:$L, 4, FALSE)","v":{"$error":"#N/A"}},null,null,null,null,{"$f":"'Sample Information'!$H$6","v":0},{"$f":"'Sample Information'!$H$5","v":0},null,null,{"$f":"'Sample Information'!$H$7","v":0},null,{"$error":"#N/A"}]
[{"$f":"'Sample Information'!A475","v":474},{"$f":"'Sample Information'!B475","v":0},"0-DNA",{"$f":"'Sample Information'!D475","v":0},{"$f":"IF(VLOOKUP($C475, 'Nanodrop Data Raw'!$C:$L, 10, FALSE)<>\"\", VLOOKUP($C475, 'Nanodrop Data Raw'!$C:$L, 10, FALSE), VLOOKUP($C475, 'Nanodrop Data Raw'!$C:$L, 2, FALSE))","v":{"$error":"#N/A"}},null,null,{"$error":"#N/A"},{"$f":"VLOOKUP($C475, 'Nanodrop Data Raw'!$C:$L, 3, FALSE)","v":{"$error":"#N/A"}},{"$f":"VLOOKUP($C475, 'Nanodrop Data Raw'!$C:$L, 4, FALSE)","v":{"$error":"#N/A"}},null,null,null,null,{"$f":"'Sample Information'!$H$6","v":0},{"$f":"'Sample Information'!$H$5","v":0},null,null,{"$f":"'Sample Information'!$H$7","v":0},null,{"$error":"#N/A"}]
[{"$f":"'Sample Information'!A476","v":475},{"$f":"'Sample Information'!B476","v":0},"0-DNA",{"$f":"'Sample Information'!D476","v":0},{"$f":"IF(VLOOKUP($C476, 'Nanodrop Data Raw'!$C:$L, 10, FALSE)<>\"\", VLOOKUP($C476, 'Nanodrop Data Raw'!$C:$L, 10, FALSE), VLOOKUP($C476, 'Nanodrop Data Raw'!$C:$L, 2, FALSE))","v":{"$error":"#N/A"}},null,null,{"$error":"#N/A"},{"$f":"VLOOKUP($C476, 'Nanodrop Data Raw'!$C:$L, 3, FALSE)","v":{"$error":"#N/A"}},{"$f":"VLOOKUP($C476, 'Nanodrop Data Raw'!$C:$L, 4, FALSE)","v":{"$error":"#N/A"}},null,null,null,null,{"$f":"'Sample Information'!$H$6","v":0},{"$f":"'Sample Information'!$H$5","v":0},null,null,{"$f":"'Sample Information'!$H$7","v":0},null,{"$error":"#N/A"}]
[{"$f":"'Sample Information'!A477","v":476},{"$f":"'Sample Information'!B477","v":0},"0-DNA",{"$f":"'Sample Information'!D477","v":0},{"$f":"IF(VLOOKUP($C477, 'Nanodrop Data Raw'!$C:$L, 10, FALSE)<>\"\", VLOOKUP($C477, 'Nanodrop Data Raw'!$C:$L, 10, FALSE), VLOOKUP($C477, 'Nanodrop Data Raw'!$C:$L, 2, FALSE))","v":{"$error":"#N/A"}},null,null,{"$error":"#N/A"},{"$f":"VLOOKUP($C477, 'Nanodrop Data Raw'!$C:$L, 3, FALSE)","v":{"$error":"#N/A"}},{"$f":"VLOOKUP($C477, 'Nanodrop Data Raw'!$C:$L, 4, FALSE)","v":{"$error":"#N/A"}},null,null,null,null,{"$f":"'Sample Information'!$H$6","v":0},{"$f":"'Sample Information'!$H$5","v":0},null,null,{"$f":"'Sample Information'!$H$7","v":0},null,{"$error":"#N/A"}]
[{"$f":"'Sample Information'!A478","v":477},{"$f":"'Sample Information'!B478","v":0},"0-DNA",{"$f":"'Sample Information'!D478","v":0},{"$f":"IF(VLOOKUP($C478, 'Nanodrop Data Raw'!$C:$L, 10, FALSE)<>\"\", VLOOKUP($C478, 'Nanodrop Data Raw'!$C:$L, 10, FALSE), VLOOKUP($C478, 'Nanodrop Data Raw'!$C:$L, 2, FALSE))","v":{"$error":"#N/A"}},null,null,{"$error":"#N/A"},{"$f":"VLOOKUP($C478, 'Nanodrop Data Raw'!$C:$L, 3, FALSE)","v":{"$error":"#N/A"}},{"$f":"VLOOKUP($C478, 'Nanodrop Data Raw'!$C:$L, 4, FALSE)","v":{"$error":"#N/A"}},null,null,null,null,{"$f":"'Sample Information'!$H$6","v":0},{"$f":"'Sample Information'!$H$5","v":0},null,null,{"$f":"'Sample Information'!$H$7","v":0},null,{"$error":"#N/A"}]
[{"$f":"'Sample Information'!A479","v":478},{"$f":"'Sample Information'!B479","v":0},"0-DNA",{"$f":"'Sample Information'!D479","v":0},{"$f":"IF(VLOOKUP($C479, 'Nanodrop Data Raw'!$C:$L, 10, FALSE)<>\"\", VLOOKUP($C479, 'Nanodrop Data Raw'!$C:$L, 10, FALSE), VLOOKUP($C479, 'Nanodrop Data Raw'!$C:$L, 2, FALSE))","v":{"$error":"#N/A"}},null,null,{"$error":"#N/A"},{"$f":"VLOOKUP($C479, 'Nanodrop Data Raw'!$C:$L, 3, FALSE)","v":{"$error":"#N/A"}},{"$f":"VLOOKUP($C479, 'Nanodrop Data Raw'!$C:$L, 4, FALSE)","v":{"$error":"#N/A"}},null,null,null,null,{"$f":"'Sample Information'!$H$6","v":0},{"$f":"'Sample Information'!$H$5","v":0},null,null,{"$f":"'Sample Information'!$H$7","v":0},null,{"$error":"#N/A"}]
[{"$f":"'Sample Information'!A480","v":479},{"$f":"'Sample Information'!B480","v":0},"0-DNA",{"$f":"'Sample Information'!D480","v":0},{"$f":"IF(VLOOKUP($C480, 'Nanodrop Data Raw'!$C:$L, 10, FALSE)<>\"\", VLOOKUP($C480, 'Nanodrop Data Raw'!$C:$L, 10, FALSE), VLOOKUP($C480, 'Nanodrop Data Raw'!$C:$L, 2, FALSE))","v":{"$error":"#N/A"}},null,null,{"$error":"#N/A"},{"$f":"VLOOKUP($C480, 'Nanodrop Data Raw'!$C:$L, 3, FALSE)","v":{"$error":"#N/A"}},{"$f":"VLOOKUP($C480, 'Nanodrop Data Raw'!$C:$L, 4, FALSE)","v":{"$error":"#N/A"}},null,null,null,null,{"$f":"'Sample Information'!$H$6","v":0},{"$f":"'Sample Information'!$H$5","v":0},null,null,{"$f":"'Sample Information'!$H$7","v":0},null,{"$error":"#N/A"}]
[{"$f":"'Sample Information'!A481","v":480},{"$f":"'Sample Information'!B481","v":0},"0-DNA",{"$f":"'Sample Information'!D481","v":0},{"$f":"IF(VLOOKUP($C481, 'Nanodrop Data Raw'!$C:$L, 10, FALSE)<>\"\", VLOOKUP($C481, 'Nanodrop Data Raw'!$C:$L, 10, FALSE), VLOOKUP($C481, 'Nanodrop Data Raw'!$C:$L, 2, FALSE))","v":{"$error":"#N/A"}},null,null,{"$error":"#N/A"},{"$f":"VLOOKUP($C481, 'Nanodrop Data Raw'!$C:$L, 3, FALSE)","v":{"$error":"#N/A"}},{"$f":"VLOOKUP($C481, 'Nanodrop Data Raw'!$C:$L, 4, FALSE)","v":{"$error":"#N/A"}},null,null,null,null,{"$f":"'Sample Information'!$H$6","v":0},{"$f":"'Sample Information'!$H$5","v":0},null,null,{"$f":"'Sample Information'!$H$7","v":0},null,{"$error":"#N/A"}]
[{"$f":"'Sample Information'!A482","v":481},{"$f":"'Sample Information'!B482","v":0},"0-DNA",{"$f":"'Sample Information'!D482","v":0},{"$f":"IF(VLOOKUP($C482, 'Nanodrop Data Raw'!$C:$L, 10, FALSE)<>\"\", VLOOKUP($C482, 'Nanodrop Data Raw'!$C:$L, 10, FALSE), VLOOKUP($C482, 'Nanodrop Data Raw'!$C:$L, 2, FALSE))","v":{"$error":"#N/A"}},null,null,{"$error":"#N/A"},{"$f":"VLOOKUP($C482, 'Nanodrop Data Raw'!$C:$L, 3, FALSE)","v":{"$error":"#N/A"}},{"$f":"VLOOKUP($C482, 'Nanodrop Data Raw'!$C:$L, 4, FALSE)","v":{"$error":"#N/A"}},null,null,null,null,{"$f":"'Sample Information'!$H$6","v":0},{"$f":"'Sample Information'!$H$5","v":0},null,null,{"$f":"'Sample Information'!$H$7","v":0},null,{"$error":"#N/A"}]
[{"$f":"'Sample Information'!A483","v":482},{"$f":"'Sample Information'!B483","v":0},"0-DNA",{"$f":"'Sample Information'!D483","v":0},{"$f":"IF(VLOOKUP($C483, 'Nanodrop Data Raw'!$C:$L, 10, FALSE)<>\"\", VLOOKUP($C483, 'Nanodrop Data Raw'!$C:$L, 10, FALSE), VLOOKUP($C483, 'Nanodrop Data Raw'!$C:$L, 2, FALSE))","v":{"$error":"#N/A"}},null,null,{"$error":"#N/A"},{"$f":"VLOOKUP($C483, 'Nanodrop Data Raw'!$C:$L, 3, FALSE)","v":{"$error":"#N/A"}},{"$f":"VLOOKUP($C483, 'Nanodrop Data Raw'!$C:$L, 4, FALSE)","v":{"$error":"#N/A"}},null,null,null,null,{"$f":"'Sample Information'!$H$6","v":0},{"$f":"'Sample Information'!$H$5","v":0},null,null,{"$f":"'Sample Information'!$H$7","v":0},null,{"$error":"#N/A"}]
[{"$f":"'Sample Information'!A484","v":483},{"$f":"'Sample Information'!B484","v":0},"0-DNA",{"$f":"'Sample Information'!D484","v":0},{"$f":"IF(VLOOKUP($C484, 'Nanodrop Data Raw'!$C:$L, 10, FALSE)<>\"\", VLOOKUP($C484, 'Nanodrop Data Raw'!$C:$L, 10, FALSE), VLOOKUP($C484, 'Nanodrop Data Raw'!$C:$L, 2, FALSE))","v":{"$error":"#N/A"}},null,null,{"$error":"#N/A"},{"$f":"VLOOKUP($C484, 'Nanodrop Data Raw'!$C:$L, 3, FALSE)","v":{"$error":"#N/A"}},{"$f":"VLOOKUP($C484, 'Nanodrop Data Raw'!$C:$L, 4, FALSE)","v":{"$error":"#N/A"}},null,null,null,null,{"$f":"'Sample Information'!$H$6","v":0},{"$f":"'Sample Information'!$H$5","v":0},null,null,{"$f":"'Sample Information'!$H$7","v":0},null,{"$error":"#N/A"}]
[{"$f":"'Sample Information'!A485","v":484},{"$f":"'Sample Information'!B485","v":0},"0-DNA",{"$f":"'Sample Information'!D485","v":0},{"$f":"IF(VLOOKUP($C485, 'Nanodrop Data Raw'!$C:$L, 10, FALSE)<>\"\", VLOOKUP($C485, 'Nanodrop Data Raw'!$C:$L, 10, FALSE), VLOOKUP($C485, 'Nanodrop Data Raw'!$C:$L, 2, FALSE))","v":{"$error":"#N/A"}},null,null,{"$error":"#N/A"},{"$f":"VLOOKUP($C485, 'Nanodrop Data Raw'!$C:$L, 3, FALSE)","v":{"$error":"#N/A"}},{"$f":"VLOOKUP($C485, 'Nanodrop Data Raw'!$C:$L, 4, FALSE)","v":{"$error":"#N/A"}},null,null,null,null,{"$f":"'Sample Information'!$H$6","v":0},{"$f":"'Sample Information'!$H$5","v":0},null,null,{"$f":"'Sample Information'!$H$7","v":0},null,{"$error":"#N/A"}]
[{"$f":"'Sample Information'!A486","v":485},{"$f":"'Sample Information'!B486","v":0},"0-DNA",{"$f":"'Sample Information'!D486","v":0},{"$f":"IF(VLOOKUP($C486, 'Nanodrop Data Raw'!$C:$L, 10, FALSE)<>\"\", VLOOKUP($C486, 'Nanodrop Data Raw'!$C:$L, 10, FALSE), VLOOKUP($C486, 'Nanodrop Data Raw'!$C:$L, 2, FALSE))","v":{"$error":"#N/A"}},null,null,{"$error":"#N/A"},{"$f":"VLOOKUP($C486, 'Nanodrop Data Raw'!$C:$L, 3, FALSE)","v":{"$error":"#N/A"}},{"$f":"VLOOKUP($C486, 'Nanodrop Data Raw'!$C:$L, 4, FALSE)","v":{"$error":"#N/A"}},null,null,null,null,{"$f":"'Sample Information'!$H$6","v":0},{"$f":"'Sample Information'!$H$5","v":0},null,null,{"$f":"'Sample Information'!$H$7","v":0},null,{"$error":"#N/A"}]
[{"$f":"'Sample Information'!A487","v":486},{"$f":"'Sample Information'!B487","v":0},"0-DNA",{"$f":"'Sample Information'!D487","v":0},{"$f":"IF(VLOOKUP($C487, 'Nanodrop Data Raw'!$C:$L, 10, FALSE)<>\"\", VLOOKUP($C487, 'Nanodrop Data Raw'!$C:$L, 10, FALSE), VLOOKUP($C487, 'Nanodrop Data Raw'!$C:$L, 2, FALSE))","v":{"$error":"#N/A"}},null,null,{"$error":"#N/A"},{"$f":"VLOOKUP($C487, 'Nanodrop Data Raw'!$C:$L, 3, FALSE)","v":{"$error":"#N/A"}},{"$f":"VLOOKUP($C487, 'Nanodrop Data Raw'!$C:$L, 4, FALSE)","v":{"$error":"#N/A"}},null,null,null,null,{"$f":"'Sample Information'!$H$6","v":0},{"$f":"'Sample Information'!$H$5","v":0},null,null,{"$f":"'Sample Information'!$H$7","v":0},null,{"$error":"#N/A"}]
[{"$f":"'Sample Information'!A488","v":487},{"$f":"'Sample Information'!B488","v":0},"0-DNA",{"$f":"'Sample Information'!D488","v":0},{"$f":"IF(VLOOKUP($C488, 'Nanodrop Data Raw'!$C:$L, 10, FALSE)<>\"\", VLOOKUP($C488, 'Nanodrop Data Raw'!$C:$L, 10, FALSE), VLOOKUP($C488, 'Nanodrop Data Raw'!$C:$L, 2, FALSE))","v":{"$error":"#N/A"}},null,null,{"$error":"#N/A"},{"$f":"VLOOKUP($C488, 'Nanodrop Data Raw'!$C:$L, 3, FALSE)","v":{"$error":"#N/A"}},{"$f":"VLOOKUP($C488, 'Nanodrop Data Raw'!$C:$L, 4, FALSE)","v":{"$error":"#N/A"}},null,null,null,null,{"$f":"'Sample Information'!$H$6","v":0},{"$f":"'Sample Information'!$H$5","v":0},null,null,{"$f":"'Sample Information'!$H$7","v":0},null,{"$error":"#N/A"}]
[{"$f":"'Sample Information'!A489","v":488},{"$f":"'Sample Information'!B489","v":0},"0-DNA",{"$f":"'Sample Information'!D489","v":0},{"$f":"IF(VLOOKUP($C489, 'Nanodrop Data Raw'!$C:$L, 10, FALSE)<>\"\", VLOOKUP($C489, 'Nanodrop Data Raw'!$C:$L, 10, FALSE), VLOOKUP($C489, 'Nanodrop Data Raw'!$C:$L, 2, FALSE))","v":{"$error":"#N/A"}},null,null,{"$error":"#N/A"},{"$f":"VLOOKUP($C489, 'Nanodrop Data Raw'!$C:$L, 3, FALSE)","v":{"$error":"#N/A"}},{"$f":"VLOOKUP($C489, 'Nanodrop Data Raw'!$C:$L, 4, FALSE)","v":{"$error":"#N/A"}},null,null,null,null,{"$f":"'Sample Information'!$H$6","v":0},{"$f":"'Sample Information'!$H$5","v":0},null,null,{"$f":"'Sample Information'!$H$7","v":0},null,{"$error":"#N/A"}]
[{"$f":"'Sample Information'!A490","v":489},{"$f":"'Sample Information'!B490","v":0},"0-DNA",{"$f":"'Sample Information'!D490","v":0},{"$f":"IF(VLOOKUP($C490, 'Nanodrop Data Raw'!$C:$L, 10, FALSE)<>\"\", VLOOKUP($C490, 'Nanodrop Data Raw'!$C:$L, 10, FALSE), VLOOKUP($C490, 'Nanodrop Data Raw'!$C:$L, 2, FALSE))","v":{"$error":"#N/A"}},null,null,{"$error":"#N/A"},{"$f":"VLOOKUP($C490, 'Nanodrop Data Raw'!$C:$L, 3, FALSE)","v":{"$error":"#N/A"}},{"$f":"VLOOKUP($C490, 'Nanodrop Data Raw'!$C:$L, 4, FALSE)","v":{"$error":"#N/A"}},null,null,null,null,{"$f":"'Sample Information'!$H$6","v":0},{"$f":"'Sample Information'!$H$5","v":0},null,null,{"$f":"'Sample Information'!$H$7","v":0},null,{"$error":"#N/A"}]
[{"$f":"'Sample Information'!A491","v":490},{"$f":"'Sample Information'!B491","v":0},"0-DNA",{"$f":"'Sample Information'!D491","v":0},{"$f":"IF(VLOOKUP($C491, 'Nanodrop Data Raw'!$C:$L, 10, FALSE)<>\"\", VLOOKUP($C491, 'Nanodrop Data Raw'!$C:$L, 10, FALSE), VLOOKUP($C491, 'Nanodrop Data Raw'!$C:$L, 2, FALSE))","v":{"$error":"#N/A"}},null,null,{"$error":"#N/A"},{"$f":"VLOOKUP($C491, 'Nanodrop Data Raw'!$C:$L, 3, FALSE)","v":{"$error":"#N/A"}},{"$f":"VLOOKUP($C491, 'Nanodrop Data Raw'!$C:$L, 4, FALSE)","v":{"$error":"#N/A"}},null,null,null,null,{"$f":"'Sample Information'!$H$6","v":0},{"$f":"'Sample Information'!$H$5","v":0},null,null,{"$f":"'Sample Information'!$H$7","v":0},null,{"$error":"#N/A"}]
[{"$f":"'Sample Information'!A492","v":491},{"$f":"'Sample Information'!B492","v":0},"0-DNA",{"$f":"'Sample Information'!D492","v":0},{"$f":"IF(VLOOKUP($C492, 'Nanodrop Data Raw'!$C:$L, 10, FALSE)<>\"\", VLOOKUP($C492, 'Nanodrop Data Raw'!$C:$L, 10, FALSE), VLOOKUP($C492, 'Nanodrop Data Raw'!$C:$L, 2, FALSE))","v":{"$error":"#N/A"}},null,null,{"$error":"#N/A"},{"$f":"VLOOKUP($C492, 'Nanodrop Data Raw'!$C:$L, 3, FALSE)","v":{"$error":"#N/A"}},{"$f":"VLOOKUP($C492, 'Nanodrop Data Raw'!$C:$L, 4, FALSE)","v":{"$error":"#N/A"}},null,null,null,null,{"$f":"'Sample Information'!$H$6","v":0},{"$f":"'Sample Information'!$H$5","v":0},null,null,{"$f":"'Sample Information'!$H$7","v":0},null,{"$error":"#N/A"}]
[{"$f":"'Sample Information'!A493","v":492},{"$f":"'Sample Information'!B493","v":0},"0-DNA",{"$f":"'Sample Information'!D493","v":0},{"$f":"IF(VLOOKUP($C493, 'Nanodrop Data Raw'!$C:$L, 10, FALSE)<>\"\", VLOOKUP($C493, 'Nanodrop Data Raw'!$C:$L, 10, FALSE), VLOOKUP($C493, 'Nanodrop Data Raw'!$C:$L, 2, FALSE))","v":{"$error":"#N/A"}},null,null,{"$error":"#N/A"},{"$f":"VLOOKUP($C493, 'Nanodrop Data Raw'!$C:$L, 3, FALSE)","v":{"$error":"#N/A"}},{"$f":"VLOOKUP($C493, 'Nanodrop Data Raw'!$C:$L, 4, FALSE)","v":{"$error":"#N/A"}},null,null,null,null,{"$f":"'Sample Information'!$H$6","v":0},{"$f":"'Sample Information'!$H$5","v":0},null,null,{"$f":"'Sample Information'!$H$7","v":0},null,{"$error":"#N/A"}]
[{"$f":"'Sample Information'!A494","v":493},{"$f":"'Sample Information'!B494","v":0},"0-DNA",{"$f":"'Sample Information'!D494","v":0},{"$f":"IF(VLOOKUP($C494, 'Nanodrop Data Raw'!$C:$L, 10, FALSE)<>\"\", VLOOKUP($C494, 'Nanodrop Data Raw'!$C:$L, 10, FALSE), VLOOKUP($C494, 'Nanodrop Data Raw'!$C:$L, 2, FALSE))","v":{"$error":"#N/A"}},null,null,{"$error":"#N/A"},{"$f":"VLOOKUP($C494, 'Nanodrop Data Raw'!$C:$L, 3, FALSE)","v":{"$error":"#N/A"}},{"$f":"VLOOKUP($C494, 'Nanodrop Data Raw'!$C:$L, 4, FALSE)","v":{"$error":"#N/A"}},null,null,null,null,{"$f":"'Sample Information'!$H$6","v":0},{"$f":"'Sample Information'!$H$5","v":0},null,null,{"$f":"'Sample Information'!$H$7","v":0},null,{"$error":"#N/A"}]
[{"$f":"'Sample Information'!A495","v":494},{"$f":"'Sample Information'!B495","v":0},"0-DNA",{"$f":"'Sample Information'!D495","v":0},{"$f":"IF(VLOOKUP($C495, 'Nanodrop Data Raw'!$C:$L, 10, FALSE)<>\"\", VLOOKUP($C495, 'Nanodrop Data Raw'!$C:$L, 10, FALSE), VLOOKUP($C495, 'Nanodrop Data Raw'!$C:$L, 2, FALSE))","v":{"$error":"#N/A"}},null,null,{"$error":"#N/A"},{"$f":"VLOOKUP($C495, 'Nanodrop Data Raw'!$C:$L, 3, FALSE)","v":{"$error":"#N/A"}},{"$f":"VLOOKUP($C495, 'Nanodrop Data Raw'!$C:$L, 4, FALSE)","v":{"$error":"#N/A"}},null,null,null,null,{"$f":"'Sample Information'!$H$6","v":0},{"$f":"'Sample Information'!$H$5","v":0},null,null,{"$f":"'Sample Information'!$H$7","v":0},null,{"$error":"#N/A"}]
[{"$f":"'Sample Information'!A496","v":495},{"$f":"'Sample Information'!B496","v":0},"0-DNA",{"$f":"'Sample Information'!D496","v":0},{"$f":"IF(VLOOKUP($C496, 'Nanodrop Data Raw'!$C:$L, 10, FALSE)<>\"\", VLOOKUP($C496, 'Nanodrop Data Raw'!$C:$L, 10, FALSE), VLOOKUP($C496, 'Nanodrop Data Raw'!$C:$L, 2, FALSE))","v":{"$error":"#N/A"}},null,null,{"$error":"#N/A"},{"$f":"VLOOKUP($C496, 'Nanodrop Data Raw'!$C:$L, 3, FALSE)","v":{"$error":"#N/A"}},{"$f":"VLOOKUP($C496, 'Nanodrop Data Raw'!$C:$L, 4, FALSE)","v":{"$error":"#N/A"}},null,null,null,null,{"$f":"'Sample Information'!$H$6","v":0},{"$f":"'Sample Information'!$H$5","v":0},null,null,{"$f":"'Sample Information'!$H$7","v":0},null,{"$error":"#N/A"}]
[{"$f":"'Sample Information'!A497","v":496},{"$f":"'Sample Information'!B497","v":0},"0-DNA",{"$f":"'Sample Information'!D497","v":0},{"$f":"IF(VLOOKUP($C497, 'Nanodrop Data Raw'!$C:$L, 10, FALSE)<>\"\", VLOOKUP($C497, 'Nanodrop Data Raw'!$C:$L, 10, FALSE), VLOOKUP($C497, 'Nanodrop Data Raw'!$C:$L, 2, FALSE))","v":{"$error":"#N/A"}},null,null,{"$error":"#N/A"},{"$f":"VLOOKUP($C497, 'Nanodrop Data Raw'!$C:$L, 3, FALSE)","v":{"$error":"#N/A"}},{"$f":"VLOOKUP($C497, 'Nanodrop Data Raw'!$C:$L, 4, FALSE)","v":{"$error":"#N/A"}},null,null,null,null,{"$f":"'Sample Information'!$H$6","v":0},{"$f":"'Sample Information'!$H$5","v":0},null,null,{"$f":"'Sample Information'!$H$7","v":0},null,{"$error":"#N/A"}]
[{"$f":"'Sample Information'!A498","v":497},{"$f":"'Sample Information'!B498","v":0},"0-DNA",{"$f":"'Sample Information'!D498","v":0},{"$f":"IF(VLOOKUP($C498, 'Nanodrop Data Raw'!$C:$L, 10, FALSE)<>\"\", VLOOKUP($C498, 'Nanodrop Data Raw'!$C:$L, 10, FALSE), VLOOKUP($C498, 'Nanodrop Data Raw'!$C:$L, 2, FALSE))","v":{"$error":"#N/A"}},null,null,{"$error":"#N/A"},{"$f":"VLOOKUP($C498, 'Nanodrop Data Raw'!$C:$L, 3, FALSE)","v":{"$error":"#N/A"}},{"$f":"VLOOKUP($C498, 'Nanodrop Data Raw'!$C:$L, 4, FALSE)","v":{"$error":"#N/A"}},null,null,null,null,{"$f":"'Sample Information'!$H$6","v":0},{"$f":"'Sample Information'!$H$5","v":0},null,null,{"$f":"'Sample Information'!$H$7","v":0},null,{"$error":"#N/A"}]
[{"$f":"'Sample Information'!A499","v":498},{"$f":"'Sample Information'!B499","v":0},"0-DNA",{"$f":"'Sample Information'!D499","v":0},{"$f":"IF(VLOOKUP($C499, 'Nanodrop Data Raw'!$C:$L, 10, FALSE)<>\"\", VLOOKUP($C499, 'Nanodrop Data Raw'!$C:$L, 10, FALSE), VLOOKUP($C499, 'Nanodrop Data Raw'!$C:$L, 2, FALSE))","v":{"$error":"#N/A"}},null,null,{"$error":"#N/A"},{"$f":"VLOOKUP($C499, 'Nanodrop Data Raw'!$C:$L, 3, FALSE)","v":{"$error":"#N/A"}},{"$f":"VLOOKUP($C499, 'Nanodrop Data Raw'!$C:$L, 4, FALSE)","v":{"$error":"#N/A"}},null,null,null,null,{"$f":"'Sample Information'!$H$6","v":0},{"$f":"'Sample Information'!$H$5","v":0},null,null,{"$f":"'Sample Information'!$H$7","v":0},null,{"$error":"#N/A"}]
[{"$f":"'Sample Information'!A500","v":499},{"$f":"'Sample Information'!B500","v":0},"0-DNA",{"$f":"'Sample Information'!D500","v":0},{"$f":"IF(VLOOKUP($C500, 'Nanodrop Data Raw'!$C:$L, 10, FALSE)<>\"\", VLOOKUP($C500, 'Nanodrop Data Raw'!$C:$L, 10, FALSE), VLOOKUP($C500, 'Nanodrop Data Raw'!$C:$L, 2, FALSE))","v":{"$error":"#N/A"}},null,null,{"$error":"#N/A"},{"$f":"VLOOKUP($C500, 'Nanodrop Data Raw'!$C:$L, 3, FALSE)","v":{"$error":"#N/A"}},{"$f":"VLOOKUP($C500, 'Nanodrop Data Raw'!$C:$L, 4, FALSE)","v":{"$error":"#N/A"}},null,null,null,null,{"$f":"'Sample Information'!$H$6","v":0},{"$f":"'Sample Information'!$H$5","v":0},null,null,{"$f":"'Sample Information'!$H$7","v":0},null,{"$error":"#N/A"}]
[{"$f":"'Sample Information'!A501","v":500},{"$f":"'Sample Information'!B501","v":0},"0-DNA",{"$f":"'Sample Information'!D501","v":0},{"$f":"IF(VLOOKUP($C501, 'Nanodrop Data Raw'!$C:$L, 10, FALSE)<>\"\", VLOOKUP($C501, 'Nanodrop Data Raw'!$C:$L, 10, FALSE), VLOOKUP($C501, 'Nanodrop Data Raw'!$C:$L, 2, FALSE))","v":{"$error":"#N/A"}},null,null,{"$error":"#N/A"},{"$f":"VLOOKUP($C501, 'Nanodrop Data Raw'!$C:$L, 3, FALSE)","v":{"$error":"#N/A"}},{"$f":"VLOOKUP($C501, 'Nanodrop Data Raw'!$C:$L, 4, FALSE)","v":{"$error":"#N/A"}},null,null,null,null,{"$f":"'Sample Information'!$H$6","v":0},{"$f":"'Sample Information'!$H$5","v":0},null,null,{"$f":"'Sample Information'!$H$7","v":0},null,{"$error":"#N/A"}]

{"sheet":"RNA Processing Record","index":4,"n_rows":501,"n_cols":23,"rows_kept":501,"cut":false,"hidden":true,"merged":[]}
[null,"Sample_ID\n(Max. 10 characters)","Sample DNA_ID","Sample_Type","*Concentration by Nanodrop (ng/ul)","Elution Volume (ul)","Elution Buffer (EB/Rnase free H2O)","Nucleic Acid Quantity (ug)","A260/280","A260/230","Species","RIN Value                             (For RNA Sample Only)","Gel-photo                             (For DNA Sample Only)","Concentration by Qubit (ng/ul)","iLab Service ID","Submission Date","Reference_ID","Extraction_Date","Extraction Protocol","Operator","Qubit/Nanodrop %","Remarks","*Concentration measured by NanoDrop™ One (A320 adjustment inclusive)"]
[{"$f":"'Sample Information'!A2","v":1},{"$f":"'Sample Information'!B2","v":0},{"$f":"CONCATENATE(B2,\"-RNA\")","v":"0-RNA"},{"$f":"'Sample Information'!D2","v":"Frozen Tissue"},{"$f":"IF(VLOOKUP($C2, 'Nanodrop Data Raw'!$C:$L, 10, FALSE)<>\"\", VLOOKUP($C2, 'Nanodrop Data Raw'!$C:$L, 10, FALSE), VLOOKUP($C2, 'Nanodrop Data Raw'!$C:$L, 2, FALSE))","v":{"$error":"#N/A"}},null,null,{"$f":"E2*F2/1000","v":{"$error":"#N/A"}},{"$f":"VLOOKUP($C2, 'Nanodrop Data Raw'!$C:$L, 3, FALSE)","v":{"$error":"#N/A"}},{"$f":"VLOOKUP($C2, 'Nanodrop Data Raw'!$C:$L, 4, FALSE)","v":{"$error":"#N/A"}},null,null,null,null,{"$f":"'Sample Information'!$H$6","v":0},{"$f":"'Sample Information'!$H$5","v":0},null,null,{"$f":"'Sample Information'!$H$7","v":0},null,{"$f":"$N2/$E2","v":{"$error":"#N/A"}}]
[{"$f":"'Sample Information'!A3","v":2},{"$f":"'Sample Information'!B3","v":0},{"$f":"CONCATENATE(B3,\"-RNA\")","v":"0-RNA"},{"$f":"'Sample Information'!D3","v":0},{"$f":"IF(VLOOKUP($C3, 'Nanodrop Data Raw'!$C:$L, 10, FALSE)<>\"\", VLOOKUP($C3, 'Nanodrop Data Raw'!$C:$L, 10, FALSE), VLOOKUP($C3, 'Nanodrop Data Raw'!$C:$L, 2, FALSE))","v":{"$error":"#N/A"}},null,null,{"$f":"E3*F3/1000","v":{"$error":"#N/A"}},{"$f":"VLOOKUP($C3, 'Nanodrop Data Raw'!$C:$L, 3, FALSE)","v":{"$error":"#N/A"}},{"$f":"VLOOKUP($C3, 'Nanodrop Data Raw'!$C:$L, 4, FALSE)","v":{"$error":"#N/A"}},null,null,null,null,{"$f":"'Sample Information'!$H$6","v":0},{"$f":"'Sample Information'!$H$5","v":0},null,null,{"$f":"'Sample Information'!$H$7","v":0},null,{"$f":"$N3/$E3","v":{"$error":"#N/A"}}]
[{"$f":"'Sample Information'!A4","v":3},{"$f":"'Sample Information'!B4","v":0},"0-RNA",{"$f":"'Sample Information'!D4","v":0},{"$f":"IF(VLOOKUP($C4, 'Nanodrop Data Raw'!$C:$L, 10, FALSE)<>\"\", VLOOKUP($C4, 'Nanodrop Data Raw'!$C:$L, 10, FALSE), VLOOKUP($C4, 'Nanodrop Data Raw'!$C:$L, 2, FALSE))","v":{"$error":"#N/A"}},null,null,{"$error":"#N/A"},{"$f":"VLOOKUP($C4, 'Nanodrop Data Raw'!$C:$L, 3, FALSE)","v":{"$error":"#N/A"}},{"$f":"VLOOKUP($C4, 'Nanodrop Data Raw'!$C:$L, 4, FALSE)","v":{"$error":"#N/A"}},null,null,null,null,{"$f":"'Sample Information'!$H$6","v":0},{"$f":"'Sample Information'!$H$5","v":0},null,null,{"$f":"'Sample Information'!$H$7","v":0},null,{"$error":"#N/A"}]
[{"$f":"'Sample Information'!A5","v":4},{"$f":"'Sample Information'!B5","v":0},"0-RNA",{"$f":"'Sample Information'!D5","v":0},{"$f":"IF(VLOOKUP($C5, 'Nanodrop Data Raw'!$C:$L, 10, FALSE)<>\"\", VLOOKUP($C5, 'Nanodrop Data Raw'!$C:$L, 10, FALSE), VLOOKUP($C5, 'Nanodrop Data Raw'!$C:$L, 2, FALSE))","v":{"$error":"#N/A"}},null,null,{"$error":"#N/A"},{"$f":"VLOOKUP($C5, 'Nanodrop Data Raw'!$C:$L, 3, FALSE)","v":{"$error":"#N/A"}},{"$f":"VLOOKUP($C5, 'Nanodrop Data Raw'!$C:$L, 4, FALSE)","v":{"$error":"#N/A"}},null,null,null,null,{"$f":"'Sample Information'!$H$6","v":0},{"$f":"'Sample Information'!$H$5","v":0},null,null,{"$f":"'Sample Information'!$H$7","v":0},null,{"$error":"#N/A"}]
[{"$f":"'Sample Information'!A6","v":5},{"$f":"'Sample Information'!B6","v":0},"0-RNA",{"$f":"'Sample Information'!D6","v":0},{"$f":"IF(VLOOKUP($C6, 'Nanodrop Data Raw'!$C:$L, 10, FALSE)<>\"\", VLOOKUP($C6, 'Nanodrop Data Raw'!$C:$L, 10, FALSE), VLOOKUP($C6, 'Nanodrop Data Raw'!$C:$L, 2, FALSE))","v":{"$error":"#N/A"}},null,null,{"$error":"#N/A"},{"$f":"VLOOKUP($C6, 'Nanodrop Data Raw'!$C:$L, 3, FALSE)","v":{"$error":"#N/A"}},{"$f":"VLOOKUP($C6, 'Nanodrop Data Raw'!$C:$L, 4, FALSE)","v":{"$error":"#N/A"}},null,null,null,null,{"$f":"'Sample Information'!$H$6","v":0},{"$f":"'Sample Information'!$H$5","v":0},null,null,{"$f":"'Sample Information'!$H$7","v":0},null,{"$error":"#N/A"}]
[{"$f":"'Sample Information'!A7","v":6},{"$f":"'Sample Information'!B7","v":0},"0-RNA",{"$f":"'Sample Information'!D7","v":0},{"$f":"IF(VLOOKUP($C7, 'Nanodrop Data Raw'!$C:$L, 10, FALSE)<>\"\", VLOOKUP($C7, 'Nanodrop Data Raw'!$C:$L, 10, FALSE), VLOOKUP($C7, 'Nanodrop Data Raw'!$C:$L, 2, FALSE))","v":{"$error":"#N/A"}},null,null,{"$error":"#N/A"},{"$f":"VLOOKUP($C7, 'Nanodrop Data Raw'!$C:$L, 3, FALSE)","v":{"$error":"#N/A"}},{"$f":"VLOOKUP($C7, 'Nanodrop Data Raw'!$C:$L, 4, FALSE)","v":{"$error":"#N/A"}},null,null,null,null,{"$f":"'Sample Information'!$H$6","v":0},{"$f":"'Sample Information'!$H$5","v":0},null,null,{"$f":"'Sample Information'!$H$7","v":0},null,{"$error":"#N/A"}]
[{"$f":"'Sample Information'!A8","v":7},{"$f":"'Sample Information'!B8","v":0},"0-RNA",{"$f":"'Sample Information'!D8","v":0},{"$f":"IF(VLOOKUP($C8, 'Nanodrop Data Raw'!$C:$L, 10, FALSE)<>\"\", VLOOKUP($C8, 'Nanodrop Data Raw'!$C:$L, 10, FALSE), VLOOKUP($C8, 'Nanodrop Data Raw'!$C:$L, 2, FALSE))","v":{"$error":"#N/A"}},null,null,{"$error":"#N/A"},{"$f":"VLOOKUP($C8, 'Nanodrop Data Raw'!$C:$L, 3, FALSE)","v":{"$error":"#N/A"}},{"$f":"VLOOKUP($C8, 'Nanodrop Data Raw'!$C:$L, 4, FALSE)","v":{"$error":"#N/A"}},null,null,null,null,{"$f":"'Sample Information'!$H$6","v":0},{"$f":"'Sample Information'!$H$5","v":0},null,null,{"$f":"'Sample Information'!$H$7","v":0},null,{"$error":"#N/A"}]
[{"$f":"'Sample Information'!A9","v":8},{"$f":"'Sample Information'!B9","v":0},"0-RNA",{"$f":"'Sample Information'!D9","v":0},{"$f":"IF(VLOOKUP($C9, 'Nanodrop Data Raw'!$C:$L, 10, FALSE)<>\"\", VLOOKUP($C9, 'Nanodrop Data Raw'!$C:$L, 10, FALSE), VLOOKUP($C9, 'Nanodrop Data Raw'!$C:$L, 2, FALSE))","v":{"$error":"#N/A"}},null,null,{"$error":"#N/A"},{"$f":"VLOOKUP($C9, 'Nanodrop Data Raw'!$C:$L, 3, FALSE)","v":{"$error":"#N/A"}},{"$f":"VLOOKUP($C9, 'Nanodrop Data Raw'!$C:$L, 4, FALSE)","v":{"$error":"#N/A"}},null,null,null,null,{"$f":"'Sample Information'!$H$6","v":0},{"$f":"'Sample Information'!$H$5","v":0},null,null,{"$f":"'Sample Information'!$H$7","v":0},null,{"$error":"#N/A"}]
[{"$f":"'Sample Information'!A10","v":9},{"$f":"'Sample Information'!B10","v":0},"0-RNA",{"$f":"'Sample Information'!D10","v":0},{"$f":"IF(VLOOKUP($C10, 'Nanodrop Data Raw'!$C:$L, 10, FALSE)<>\"\", VLOOKUP($C10, 'Nanodrop Data Raw'!$C:$L, 10, FALSE), VLOOKUP($C10, 'Nanodrop Data Raw'!$C:$L, 2, FALSE))","v":{"$error":"#N/A"}},null,null,{"$error":"#N/A"},{"$f":"VLOOKUP($C10, 'Nanodrop Data Raw'!$C:$L, 3, FALSE)","v":{"$error":"#N/A"}},{"$f":"VLOOKUP($C10, 'Nanodrop Data Raw'!$C:$L, 4, FALSE)","v":{"$error":"#N/A"}},null,null,null,null,{"$f":"'Sample Information'!$H$6","v":0},{"$f":"'Sample Information'!$H$5","v":0},null,null,{"$f":"'Sample Information'!$H$7","v":0},null,{"$error":"#N/A"}]
[{"$f":"'Sample Information'!A11","v":10},{"$f":"'Sample Information'!B11","v":0},"0-RNA",{"$f":"'Sample Information'!D11","v":0},{"$f":"IF(VLOOKUP($C11, 'Nanodrop Data Raw'!$C:$L, 10, FALSE)<>\"\", VLOOKUP($C11, 'Nanodrop Data Raw'!$C:$L, 10, FALSE), VLOOKUP($C11, 'Nanodrop Data Raw'!$C:$L, 2, FALSE))","v":{"$error":"#N/A"}},null,null,{"$error":"#N/A"},{"$f":"VLOOKUP($C11, 'Nanodrop Data Raw'!$C:$L, 3, FALSE)","v":{"$error":"#N/A"}},{"$f":"VLOOKUP($C11, 'Nanodrop Data Raw'!$C:$L, 4, FALSE)","v":{"$error":"#N/A"}},null,null,null,null,{"$f":"'Sample Information'!$H$6","v":0},{"$f":"'Sample Information'!$H$5","v":0},null,null,{"$f":"'Sample Information'!$H$7","v":0},null,{"$error":"#N/A"}]
[{"$f":"'Sample Information'!A12","v":11},{"$f":"'Sample Information'!B12","v":0},"0-RNA",{"$f":"'Sample Information'!D12","v":0},{"$f":"IF(VLOOKUP($C12, 'Nanodrop Data Raw'!$C:$L, 10, FALSE)<>\"\", VLOOKUP($C12, 'Nanodrop Data Raw'!$C:$L, 10, FALSE), VLOOKUP($C12, 'Nanodrop Data Raw'!$C:$L, 2, FALSE))","v":{"$error":"#N/A"}},null,null,{"$error":"#N/A"},{"$f":"VLOOKUP($C12, 'Nanodrop Data Raw'!$C:$L, 3, FALSE)","v":{"$error":"#N/A"}},{"$f":"VLOOKUP($C12, 'Nanodrop Data Raw'!$C:$L, 4, FALSE)","v":{"$error":"#N/A"}},null,null,null,null,{"$f":"'Sample Information'!$H$6","v":0},{"$f":"'Sample Information'!$H$5","v":0},null,null,{"$f":"'Sample Information'!$H$7","v":0},null,{"$error":"#N/A"}]
[{"$f":"'Sample Information'!A13","v":12},{"$f":"'Sample Information'!B13","v":0},"0-RNA",{"$f":"'Sample Information'!D13","v":0},{"$f":"IF(VLOOKUP($C13, 'Nanodrop Data Raw'!$C:$L, 10, FALSE)<>\"\", VLOOKUP($C13, 'Nanodrop Data Raw'!$C:$L, 10, FALSE), VLOOKUP($C13, 'Nanodrop Data Raw'!$C:$L, 2, FALSE))","v":{"$error":"#N/A"}},null,null,{"$error":"#N/A"},{"$f":"VLOOKUP($C13, 'Nanodrop Data Raw'!$C:$L, 3, FALSE)","v":{"$error":"#N/A"}},{"$f":"VLOOKUP($C13, 'Nanodrop Data Raw'!$C:$L, 4, FALSE)","v":{"$error":"#N/A"}},null,null,null,null,{"$f":"'Sample Information'!$H$6","v":0},{"$f":"'Sample Information'!$H$5","v":0},null,null,{"$f":"'Sample Information'!$H$7","v":0},null,{"$error":"#N/A"}]
[{"$f":"'Sample Information'!A14","v":13},{"$f":"'Sample Information'!B14","v":0},"0-RNA",{"$f":"'Sample Information'!D14","v":0},{"$f":"IF(VLOOKUP($C14, 'Nanodrop Data Raw'!$C:$L, 10, FALSE)<>\"\", VLOOKUP($C14, 'Nanodrop Data Raw'!$C:$L, 10, FALSE), VLOOKUP($C14, 'Nanodrop Data Raw'!$C:$L, 2, FALSE))","v":{"$error":"#N/A"}},null,null,{"$error":"#N/A"},{"$f":"VLOOKUP($C14, 'Nanodrop Data Raw'!$C:$L, 3, FALSE)","v":{"$error":"#N/A"}},{"$f":"VLOOKUP($C14, 'Nanodrop Data Raw'!$C:$L, 4, FALSE)","v":{"$error":"#N/A"}},null,null,null,null,{"$f":"'Sample Information'!$H$6","v":0},{"$f":"'Sample Information'!$H$5","v":0},null,null,{"$f":"'Sample Information'!$H$7","v":0},null,{"$error":"#N/A"}]
[{"$f":"'Sample Information'!A15","v":14},{"$f":"'Sample Information'!B15","v":0},"0-RNA",{"$f":"'Sample Information'!D15","v":0},{"$f":"IF(VLOOKUP($C15, 'Nanodrop Data Raw'!$C:$L, 10, FALSE)<>\"\", VLOOKUP($C15, 'Nanodrop Data Raw'!$C:$L, 10, FALSE), VLOOKUP($C15, 'Nanodrop Data Raw'!$C:$L, 2, FALSE))","v":{"$error":"#N/A"}},null,null,{"$error":"#N/A"},{"$f":"VLOOKUP($C15, 'Nanodrop Data Raw'!$C:$L, 3, FALSE)","v":{"$error":"#N/A"}},{"$f":"VLOOKUP($C15, 'Nanodrop Data Raw'!$C:$L, 4, FALSE)","v":{"$error":"#N/A"}},null,null,null,null,{"$f":"'Sample Information'!$H$6","v":0},{"$f":"'Sample Information'!$H$5","v":0},null,null,{"$f":"'Sample Information'!$H$7","v":0},null,{"$error":"#N/A"}]
[{"$f":"'Sample Information'!A16","v":15},{"$f":"'Sample Information'!B16","v":0},"0-RNA",{"$f":"'Sample Information'!D16","v":0},{"$f":"IF(VLOOKUP($C16, 'Nanodrop Data Raw'!$C:$L, 10, FALSE)<>\"\", VLOOKUP($C16, 'Nanodrop Data Raw'!$C:$L, 10, FALSE), VLOOKUP($C16, 'Nanodrop Data Raw'!$C:$L, 2, FALSE))","v":{"$error":"#N/A"}},null,null,{"$error":"#N/A"},{"$f":"VLOOKUP($C16, 'Nanodrop Data Raw'!$C:$L, 3, FALSE)","v":{"$error":"#N/A"}},{"$f":"VLOOKUP($C16, 'Nanodrop Data Raw'!$C:$L, 4, FALSE)","v":{"$error":"#N/A"}},null,null,null,null,{"$f":"'Sample Information'!$H$6","v":0},{"$f":"'Sample Information'!$H$5","v":0},null,null,{"$f":"'Sample Information'!$H$7","v":0},null,{"$error":"#N/A"}]
[{"$f":"'Sample Information'!A17","v":16},{"$f":"'Sample Information'!B17","v":0},"0-RNA",{"$f":"'Sample Information'!D17","v":0},{"$f":"IF(VLOOKUP($C17, 'Nanodrop Data Raw'!$C:$L, 10, FALSE)<>\"\", VLOOKUP($C17, 'Nanodrop Data Raw'!$C:$L, 10, FALSE), VLOOKUP($C17, 'Nanodrop Data Raw'!$C:$L, 2, FALSE))","v":{"$error":"#N/A"}},null,null,{"$error":"#N/A"},{"$f":"VLOOKUP($C17, 'Nanodrop Data Raw'!$C:$L, 3, FALSE)","v":{"$error":"#N/A"}},{"$f":"VLOOKUP($C17, 'Nanodrop Data Raw'!$C:$L, 4, FALSE)","v":{"$error":"#N/A"}},null,null,null,null,{"$f":"'Sample Information'!$H$6","v":0},{"$f":"'Sample Information'!$H$5","v":0},null,null,{"$f":"'Sample Information'!$H$7","v":0},null,{"$error":"#N/A"}]
[{"$f":"'Sample Information'!A18","v":17},{"$f":"'Sample Information'!B18","v":0},"0-RNA",{"$f":"'Sample Information'!D18","v":0},{"$f":"IF(VLOOKUP($C18, 'Nanodrop Data Raw'!$C:$L, 10, FALSE)<>\"\", VLOOKUP($C18, 'Nanodrop Data Raw'!$C:$L, 10, FALSE), VLOOKUP($C18, 'Nanodrop Data Raw'!$C:$L, 2, FALSE))","v":{"$error":"#N/A"}},null,null,{"$error":"#N/A"},{"$f":"VLOOKUP($C18, 'Nanodrop Data Raw'!$C:$L, 3, FALSE)","v":{"$error":"#N/A"}},{"$f":"VLOOKUP($C18, 'Nanodrop Data Raw'!$C:$L, 4, FALSE)","v":{"$error":"#N/A"}},null,null,null,null,{"$f":"'Sample Information'!$H$6","v":0},{"$f":"'Sample Information'!$H$5","v":0},null,null,{"$f":"'Sample Information'!$H$7","v":0},null,{"$error":"#N/A"}]
[{"$f":"'Sample Information'!A19","v":18},{"$f":"'Sample Information'!B19","v":0},"0-RNA",{"$f":"'Sample Information'!D19","v":0},{"$f":"IF(VLOOKUP($C19, 'Nanodrop Data Raw'!$C:$L, 10, FALSE)<>\"\", VLOOKUP($C19, 'Nanodrop Data Raw'!$C:$L, 10, FALSE), VLOOKUP($C19, 'Nanodrop Data Raw'!$C:$L, 2, FALSE))","v":{"$error":"#N/A"}},null,null,{"$error":"#N/A"},{"$f":"VLOOKUP($C19, 'Nanodrop Data Raw'!$C:$L, 3, FALSE)","v":{"$error":"#N/A"}},{"$f":"VLOOKUP($C19, 'Nanodrop Data Raw'!$C:$L, 4, FALSE)","v":{"$error":"#N/A"}},null,null,null,null,{"$f":"'Sample Information'!$H$6","v":0},{"$f":"'Sample Information'!$H$5","v":0},null,null,{"$f":"'Sample Information'!$H$7","v":0},null,{"$error":"#N/A"}]
[{"$f":"'Sample Information'!A20","v":19},{"$f":"'Sample Information'!B20","v":0},"0-RNA",{"$f":"'Sample Information'!D20","v":0},{"$f":"IF(VLOOKUP($C20, 'Nanodrop Data Raw'!$C:$L, 10, FALSE)<>\"\", VLOOKUP($C20, 'Nanodrop Data Raw'!$C:$L, 10, FALSE), VLOOKUP($C20, 'Nanodrop Data Raw'!$C:$L, 2, FALSE))","v":{"$error":"#N/A"}},null,null,{"$error":"#N/A"},{"$f":"VLOOKUP($C20, 'Nanodrop Data Raw'!$C:$L, 3, FALSE)","v":{"$error":"#N/A"}},{"$f":"VLOOKUP($C20, 'Nanodrop Data Raw'!$C:$L, 4, FALSE)","v":{"$error":"#N/A"}},null,null,null,null,{"$f":"'Sample Information'!$H$6","v":0},{"$f":"'Sample Information'!$H$5","v":0},null,null,{"$f":"'Sample Information'!$H$7","v":0},null,{"$error":"#N/A"}]
[{"$f":"'Sample Information'!A21","v":20},{"$f":"'Sample Information'!B21","v":0},"0-RNA",{"$f":"'Sample Information'!D21","v":0},{"$f":"IF(VLOOKUP($C21, 'Nanodrop Data Raw'!$C:$L, 10, FALSE)<>\"\", VLOOKUP($C21, 'Nanodrop Data Raw'!$C:$L, 10, FALSE), VLOOKUP($C21, 'Nanodrop Data Raw'!$C:$L, 2, FALSE))","v":{"$error":"#N/A"}},null,null,{"$error":"#N/A"},{"$f":"VLOOKUP($C21, 'Nanodrop Data Raw'!$C:$L, 3, FALSE)","v":{"$error":"#N/A"}},{"$f":"VLOOKUP($C21, 'Nanodrop Data Raw'!$C:$L, 4, FALSE)","v":{"$error":"#N/A"}},null,null,null,null,{"$f":"'Sample Information'!$H$6","v":0},{"$f":"'Sample Information'!$H$5","v":0},null,null,{"$f":"'Sample Information'!$H$7","v":0},null,{"$error":"#N/A"}]
[{"$f":"'Sample Information'!A22","v":21},{"$f":"'Sample Information'!B22","v":0},"0-RNA",{"$f":"'Sample Information'!D22","v":0},{"$f":"IF(VLOOKUP($C22, 'Nanodrop Data Raw'!$C:$L, 10, FALSE)<>\"\", VLOOKUP($C22, 'Nanodrop Data Raw'!$C:$L, 10, FALSE), VLOOKUP($C22, 'Nanodrop Data Raw'!$C:$L, 2, FALSE))","v":{"$error":"#N/A"}},null,null,{"$error":"#N/A"},{"$f":"VLOOKUP($C22, 'Nanodrop Data Raw'!$C:$L, 3, FALSE)","v":{"$error":"#N/A"}},{"$f":"VLOOKUP($C22, 'Nanodrop Data Raw'!$C:$L, 4, FALSE)","v":{"$error":"#N/A"}},null,null,null,null,{"$f":"'Sample Information'!$H$6","v":0},{"$f":"'Sample Information'!$H$5","v":0},null,null,{"$f":"'Sample Information'!$H$7","v":0},null,{"$error":"#N/A"}]
[{"$f":"'Sample Information'!A23","v":22},{"$f":"'Sample Information'!B23","v":0},"0-RNA",{"$f":"'Sample Information'!D23","v":0},{"$f":"IF(VLOOKUP($C23, 'Nanodrop Data Raw'!$C:$L, 10, FALSE)<>\"\", VLOOKUP($C23, 'Nanodrop Data Raw'!$C:$L, 10, FALSE), VLOOKUP($C23, 'Nanodrop Data Raw'!$C:$L, 2, FALSE))","v":{"$error":"#N/A"}},null,null,{"$error":"#N/A"},{"$f":"VLOOKUP($C23, 'Nanodrop Data Raw'!$C:$L, 3, FALSE)","v":{"$error":"#N/A"}},{"$f":"VLOOKUP($C23, 'Nanodrop Data Raw'!$C:$L, 4, FALSE)","v":{"$error":"#N/A"}},null,null,null,null,{"$f":"'Sample Information'!$H$6","v":0},{"$f":"'Sample Information'!$H$5","v":0},null,null,{"$f":"'Sample Information'!$H$7","v":0},null,{"$error":"#N/A"}]
[{"$f":"'Sample Information'!A24","v":23},{"$f":"'Sample Information'!B24","v":0},"0-RNA",{"$f":"'Sample Information'!D24","v":0},{"$f":"IF(VLOOKUP($C24, 'Nanodrop Data Raw'!$C:$L, 10, FALSE)<>\"\", VLOOKUP($C24, 'Nanodrop Data Raw'!$C:$L, 10, FALSE), VLOOKUP($C24, 'Nanodrop Data Raw'!$C:$L, 2, FALSE))","v":{"$error":"#N/A"}},null,null,{"$error":"#N/A"},{"$f":"VLOOKUP($C24, 'Nanodrop Data Raw'!$C:$L, 3, FALSE)","v":{"$error":"#N/A"}},{"$f":"VLOOKUP($C24, 'Nanodrop Data Raw'!$C:$L, 4, FALSE)","v":{"$error":"#N/A"}},null,null,null,null,{"$f":"'Sample Information'!$H$6","v":0},{"$f":"'Sample Information'!$H$5","v":0},null,null,{"$f":"'Sample Information'!$H$7","v":0},null,{"$error":"#N/A"}]
[{"$f":"'Sample Information'!A25","v":24},{"$f":"'Sample Information'!B25","v":0},"0-RNA",{"$f":"'Sample Information'!D25","v":0},{"$f":"IF(VLOOKUP($C25, 'Nanodrop Data Raw'!$C:$L, 10, FALSE)<>\"\", VLOOKUP($C25, 'Nanodrop Data Raw'!$C:$L, 10, FALSE), VLOOKUP($C25, 'Nanodrop Data Raw'!$C:$L, 2, FALSE))","v":{"$error":"#N/A"}},null,null,{"$error":"#N/A"},{"$f":"VLOOKUP($C25, 'Nanodrop Data Raw'!$C:$L, 3, FALSE)","v":{"$error":"#N/A"}},{"$f":"VLOOKUP($C25, 'Nanodrop Data Raw'!$C:$L, 4, FALSE)","v":{"$error":"#N/A"}},null,null,null,null,{"$f":"'Sample Information'!$H$6","v":0},{"$f":"'Sample Information'!$H$5","v":0},null,null,{"$f":"'Sample Information'!$H$7","v":0},null,{"$error":"#N/A"}]
[{"$f":"'Sample Information'!A26","v":25},{"$f":"'Sample Information'!B26","v":0},"0-RNA",{"$f":"'Sample Information'!D26","v":0},{"$f":"IF(VLOOKUP($C26, 'Nanodrop Data Raw'!$C:$L, 10, FALSE)<>\"\", VLOOKUP($C26, 'Nanodrop Data Raw'!$C:$L, 10, FALSE), VLOOKUP($C26, 'Nanodrop Data Raw'!$C:$L, 2, FALSE))","v":{"$error":"#N/A"}},null,null,{"$error":"#N/A"},{"$f":"VLOOKUP($C26, 'Nanodrop Data Raw'!$C:$L, 3, FALSE)","v":{"$error":"#N/A"}},{"$f":"VLOOKUP($C26, 'Nanodrop Data Raw'!$C:$L, 4, FALSE)","v":{"$error":"#N/A"}},null,null,null,null,{"$f":"'Sample Information'!$H$6","v":0},{"$f":"'Sample Information'!$H$5","v":0},null,null,{"$f":"'Sample Information'!$H$7","v":0},null,{"$error":"#N/A"}]
[{"$f":"'Sample Information'!A27","v":26},{"$f":"'Sample Information'!B27","v":0},"0-RNA",{"$f":"'Sample Information'!D27","v":0},{"$f":"IF(VLOOKUP($C27, 'Nanodrop Data Raw'!$C:$L, 10, FALSE)<>\"\", VLOOKUP($C27, 'Nanodrop Data Raw'!$C:$L, 10, FALSE), VLOOKUP($C27, 'Nanodrop Data Raw'!$C:$L, 2, FALSE))","v":{"$error":"#N/A"}},null,null,{"$error":"#N/A"},{"$f":"VLOOKUP($C27, 'Nanodrop Data Raw'!$C:$L, 3, FALSE)","v":{"$error":"#N/A"}},{"$f":"VLOOKUP($C27, 'Nanodrop Data Raw'!$C:$L, 4, FALSE)","v":{"$error":"#N/A"}},null,null,null,null,{"$f":"'Sample Information'!$H$6","v":0},{"$f":"'Sample Information'!$H$5","v":0},null,null,{"$f":"'Sample Information'!$H$7","v":0},null,{"$error":"#N/A"}]
[{"$f":"'Sample Information'!A28","v":27},{"$f":"'Sample Information'!B28","v":0},"0-RNA",{"$f":"'Sample Information'!D28","v":0},{"$f":"IF(VLOOKUP($C28, 'Nanodrop Data Raw'!$C:$L, 10, FALSE)<>\"\", VLOOKUP($C28, 'Nanodrop Data Raw'!$C:$L, 10, FALSE), VLOOKUP($C28, 'Nanodrop Data Raw'!$C:$L, 2, FALSE))","v":{"$error":"#N/A"}},null,null,{"$error":"#N/A"},{"$f":"VLOOKUP($C28, 'Nanodrop Data Raw'!$C:$L, 3, FALSE)","v":{"$error":"#N/A"}},{"$f":"VLOOKUP($C28, 'Nanodrop Data Raw'!$C:$L, 4, FALSE)","v":{"$error":"#N/A"}},null,null,null,null,{"$f":"'Sample Information'!$H$6","v":0},{"$f":"'Sample Information'!$H$5","v":0},null,null,{"$f":"'Sample Information'!$H$7","v":0},null,{"$error":"#N/A"}]
[{"$f":"'Sample Information'!A29","v":28},{"$f":"'Sample Information'!B29","v":0},"0-RNA",{"$f":"'Sample Information'!D29","v":0},{"$f":"IF(VLOOKUP($C29, 'Nanodrop Data Raw'!$C:$L, 10, FALSE)<>\"\", VLOOKUP($C29, 'Nanodrop Data Raw'!$C:$L, 10, FALSE), VLOOKUP($C29, 'Nanodrop Data Raw'!$C:$L, 2, FALSE))","v":{"$error":"#N/A"}},null,null,{"$error":"#N/A"},{"$f":"VLOOKUP($C29, 'Nanodrop Data Raw'!$C:$L, 3, FALSE)","v":{"$error":"#N/A"}},{"$f":"VLOOKUP($C29, 'Nanodrop Data Raw'!$C:$L, 4, FALSE)","v":{"$error":"#N/A"}},null,null,null,null,{"$f":"'Sample Information'!$H$6","v":0},{"$f":"'Sample Information'!$H$5","v":0},null,null,{"$f":"'Sample Information'!$H$7","v":0},null,{"$error":"#N/A"}]
[{"$f":"'Sample Information'!A30","v":29},{"$f":"'Sample Information'!B30","v":0},"0-RNA",{"$f":"'Sample Information'!D30","v":0},{"$f":"IF(VLOOKUP($C30, 'Nanodrop Data Raw'!$C:$L, 10, FALSE)<>\"\", VLOOKUP($C30, 'Nanodrop Data Raw'!$C:$L, 10, FALSE), VLOOKUP($C30, 'Nanodrop Data Raw'!$C:$L, 2, FALSE))","v":{"$error":"#N/A"}},null,null,{"$error":"#N/A"},{"$f":"VLOOKUP($C30, 'Nanodrop Data Raw'!$C:$L, 3, FALSE)","v":{"$error":"#N/A"}},{"$f":"VLOOKUP($C30, 'Nanodrop Data Raw'!$C:$L, 4, FALSE)","v":{"$error":"#N/A"}},null,null,null,null,{"$f":"'Sample Information'!$H$6","v":0},{"$f":"'Sample Information'!$H$5","v":0},null,null,{"$f":"'Sample Information'!$H$7","v":0},null,{"$error":"#N/A"}]
[{"$f":"'Sample Information'!A31","v":30},{"$f":"'Sample Information'!B31","v":0},"0-RNA",{"$f":"'Sample Information'!D31","v":0},{"$f":"IF(VLOOKUP($C31, 'Nanodrop Data Raw'!$C:$L, 10, FALSE)<>\"\", VLOOKUP($C31, 'Nanodrop Data Raw'!$C:$L, 10, FALSE), VLOOKUP($C31, 'Nanodrop Data Raw'!$C:$L, 2, FALSE))","v":{"$error":"#N/A"}},null,null,{"$error":"#N/A"},{"$f":"VLOOKUP($C31, 'Nanodrop Data Raw'!$C:$L, 3, FALSE)","v":{"$error":"#N/A"}},{"$f":"VLOOKUP($C31, 'Nanodrop Data Raw'!$C:$L, 4, FALSE)","v":{"$error":"#N/A"}},null,null,null,null,{"$f":"'Sample Information'!$H$6","v":0},{"$f":"'Sample Information'!$H$5","v":0},null,null,{"$f":"'Sample Information'!$H$7","v":0},null,{"$error":"#N/A"}]
[{"$f":"'Sample Information'!A32","v":31},{"$f":"'Sample Information'!B32","v":0},"0-RNA",{"$f":"'Sample Information'!D32","v":0},{"$f":"IF(VLOOKUP($C32, 'Nanodrop Data Raw'!$C:$L, 10, FALSE)<>\"\", VLOOKUP($C32, 'Nanodrop Data Raw'!$C:$L, 10, FALSE), VLOOKUP($C32, 'Nanodrop Data Raw'!$C:$L, 2, FALSE))","v":{"$error":"#N/A"}},null,null,{"$error":"#N/A"},{"$f":"VLOOKUP($C32, 'Nanodrop Data Raw'!$C:$L, 3, FALSE)","v":{"$error":"#N/A"}},{"$f":"VLOOKUP($C32, 'Nanodrop Data Raw'!$C:$L, 4, FALSE)","v":{"$error":"#N/A"}},null,null,null,null,{"$f":"'Sample Information'!$H$6","v":0},{"$f":"'Sample Information'!$H$5","v":0},null,null,{"$f":"'Sample Information'!$H$7","v":0},null,{"$error":"#N/A"}]
[{"$f":"'Sample Information'!A33","v":32},{"$f":"'Sample Information'!B33","v":0},"0-RNA",{"$f":"'Sample Information'!D33","v":0},{"$f":"IF(VLOOKUP($C33, 'Nanodrop Data Raw'!$C:$L, 10, FALSE)<>\"\", VLOOKUP($C33, 'Nanodrop Data Raw'!$C:$L, 10, FALSE), VLOOKUP($C33, 'Nanodrop Data Raw'!$C:$L, 2, FALSE))","v":{"$error":"#N/A"}},null,null,{"$error":"#N/A"},{"$f":"VLOOKUP($C33, 'Nanodrop Data Raw'!$C:$L, 3, FALSE)","v":{"$error":"#N/A"}},{"$f":"VLOOKUP($C33, 'Nanodrop Data Raw'!$C:$L, 4, FALSE)","v":{"$error":"#N/A"}},null,null,null,null,{"$f":"'Sample Information'!$H$6","v":0},{"$f":"'Sample Information'!$H$5","v":0},null,null,{"$f":"'Sample Information'!$H$7","v":0},null,{"$error":"#N/A"}]
[{"$f":"'Sample Information'!A34","v":33},{"$f":"'Sample Information'!B34","v":0},"0-RNA",{"$f":"'Sample Information'!D34","v":0},{"$f":"IF(VLOOKUP($C34, 'Nanodrop Data Raw'!$C:$L, 10, FALSE)<>\"\", VLOOKUP($C34, 'Nanodrop Data Raw'!$C:$L, 10, FALSE), VLOOKUP($C34, 'Nanodrop Data Raw'!$C:$L, 2, FALSE))","v":{"$error":"#N/A"}},null,null,{"$error":"#N/A"},{"$f":"VLOOKUP($C34, 'Nanodrop Data Raw'!$C:$L, 3, FALSE)","v":{"$error":"#N/A"}},{"$f":"VLOOKUP($C34, 'Nanodrop Data Raw'!$C:$L, 4, FALSE)","v":{"$error":"#N/A"}},null,null,null,null,{"$f":"'Sample Information'!$H$6","v":0},{"$f":"'Sample Information'!$H$5","v":0},null,null,{"$f":"'Sample Information'!$H$7","v":0},null,{"$error":"#N/A"}]
[{"$f":"'Sample Information'!A35","v":34},{"$f":"'Sample Information'!B35","v":0},"0-RNA",{"$f":"'Sample Information'!D35","v":0},{"$f":"IF(VLOOKUP($C35, 'Nanodrop Data Raw'!$C:$L, 10, FALSE)<>\"\", VLOOKUP($C35, 'Nanodrop Data Raw'!$C:$L, 10, FALSE), VLOOKUP($C35, 'Nanodrop Data Raw'!$C:$L, 2, FALSE))","v":{"$error":"#N/A"}},null,null,{"$error":"#N/A"},{"$f":"VLOOKUP($C35, 'Nanodrop Data Raw'!$C:$L, 3, FALSE)","v":{"$error":"#N/A"}},{"$f":"VLOOKUP($C35, 'Nanodrop Data Raw'!$C:$L, 4, FALSE)","v":{"$error":"#N/A"}},null,null,null,null,{"$f":"'Sample Information'!$H$6","v":0},{"$f":"'Sample Information'!$H$5","v":0},null,null,{"$f":"'Sample Information'!$H$7","v":0},null,{"$error":"#N/A"}]
[{"$f":"'Sample Information'!A36","v":35},{"$f":"'Sample Information'!B36","v":0},"0-RNA",{"$f":"'Sample Information'!D36","v":0},{"$f":"IF(VLOOKUP($C36, 'Nanodrop Data Raw'!$C:$L, 10, FALSE)<>\"\", VLOOKUP($C36, 'Nanodrop Data Raw'!$C:$L, 10, FALSE), VLOOKUP($C36, 'Nanodrop Data Raw'!$C:$L, 2, FALSE))","v":{"$error":"#N/A"}},null,null,{"$error":"#N/A"},{"$f":"VLOOKUP($C36, 'Nanodrop Data Raw'!$C:$L, 3, FALSE)","v":{"$error":"#N/A"}},{"$f":"VLOOKUP($C36, 'Nanodrop Data Raw'!$C:$L, 4, FALSE)","v":{"$error":"#N/A"}},null,null,null,null,{"$f":"'Sample Information'!$H$6","v":0},{"$f":"'Sample Information'!$H$5","v":0},null,null,{"$f":"'Sample Information'!$H$7","v":0},null,{"$error":"#N/A"}]
[{"$f":"'Sample Information'!A37","v":36},{"$f":"'Sample Information'!B37","v":0},"0-RNA",{"$f":"'Sample Information'!D37","v":0},{"$f":"IF(VLOOKUP($C37, 'Nanodrop Data Raw'!$C:$L, 10, FALSE)<>\"\", VLOOKUP($C37, 'Nanodrop Data Raw'!$C:$L, 10, FALSE), VLOOKUP($C37, 'Nanodrop Data Raw'!$C:$L, 2, FALSE))","v":{"$error":"#N/A"}},null,null,{"$error":"#N/A"},{"$f":"VLOOKUP($C37, 'Nanodrop Data Raw'!$C:$L, 3, FALSE)","v":{"$error":"#N/A"}},{"$f":"VLOOKUP($C37, 'Nanodrop Data Raw'!$C:$L, 4, FALSE)","v":{"$error":"#N/A"}},null,null,null,null,{"$f":"'Sample Information'!$H$6","v":0},{"$f":"'Sample Information'!$H$5","v":0},null,null,{"$f":"'Sample Information'!$H$7","v":0},null,{"$error":"#N/A"}]
[{"$f":"'Sample Information'!A38","v":37},{"$f":"'Sample Information'!B38","v":0},"0-RNA",{"$f":"'Sample Information'!D38","v":0},{"$f":"IF(VLOOKUP($C38, 'Nanodrop Data Raw'!$C:$L, 10, FALSE)<>\"\", VLOOKUP($C38, 'Nanodrop Data Raw'!$C:$L, 10, FALSE), VLOOKUP($C38, 'Nanodrop Data Raw'!$C:$L, 2, FALSE))","v":{"$error":"#N/A"}},null,null,{"$error":"#N/A"},{"$f":"VLOOKUP($C38, 'Nanodrop Data Raw'!$C:$L, 3, FALSE)","v":{"$error":"#N/A"}},{"$f":"VLOOKUP($C38, 'Nanodrop Data Raw'!$C:$L, 4, FALSE)","v":{"$error":"#N/A"}},null,null,null,null,{"$f":"'Sample Information'!$H$6","v":0},{"$f":"'Sample Information'!$H$5","v":0},null,null,{"$f":"'Sample Information'!$H$7","v":0},null,{"$error":"#N/A"}]
[{"$f":"'Sample Information'!A39","v":38},{"$f":"'Sample Information'!B39","v":0},"0-RNA",{"$f":"'Sample Information'!D39","v":0},{"$f":"IF(VLOOKUP($C39, 'Nanodrop Data Raw'!$C:$L, 10, FALSE)<>\"\", VLOOKUP($C39, 'Nanodrop Data Raw'!$C:$L, 10, FALSE), VLOOKUP($C39, 'Nanodrop Data Raw'!$C:$L, 2, FALSE))","v":{"$error":"#N/A"}},null,null,{"$error":"#N/A"},{"$f":"VLOOKUP($C39, 'Nanodrop Data Raw'!$C:$L, 3, FALSE)","v":{"$error":"#N/A"}},{"$f":"VLOOKUP($C39, 'Nanodrop Data Raw'!$C:$L, 4, FALSE)","v":{"$error":"#N/A"}},null,null,null,null,{"$f":"'Sample Information'!$H$6","v":0},{"$f":"'Sample Information'!$H$5","v":0},null,null,{"$f":"'Sample Information'!$H$7","v":0},null,{"$error":"#N/A"}]
[{"$f":"'Sample Information'!A40","v":39},{"$f":"'Sample Information'!B40","v":0},"0-RNA",{"$f":"'Sample Information'!D40","v":0},{"$f":"IF(VLOOKUP($C40, 'Nanodrop Data Raw'!$C:$L, 10, FALSE)<>\"\", VLOOKUP($C40, 'Nanodrop Data Raw'!$C:$L, 10, FALSE), VLOOKUP($C40, 'Nanodrop Data Raw'!$C:$L, 2, FALSE))","v":{"$error":"#N/A"}},null,null,{"$error":"#N/A"},{"$f":"VLOOKUP($C40, 'Nanodrop Data Raw'!$C:$L, 3, FALSE)","v":{"$error":"#N/A"}},{"$f":"VLOOKUP($C40, 'Nanodrop Data Raw'!$C:$L, 4, FALSE)","v":{"$error":"#N/A"}},null,null,null,null,{"$f":"'Sample Information'!$H$6","v":0},{"$f":"'Sample Information'!$H$5","v":0},null,null,{"$f":"'Sample Information'!$H$7","v":0},null,{"$error":"#N/A"}]
[{"$f":"'Sample Information'!A41","v":40},{"$f":"'Sample Information'!B41","v":0},"0-RNA",{"$f":"'Sample Information'!D41","v":0},{"$f":"IF(VLOOKUP($C41, 'Nanodrop Data Raw'!$C:$L, 10, FALSE)<>\"\", VLOOKUP($C41, 'Nanodrop Data Raw'!$C:$L, 10, FALSE), VLOOKUP($C41, 'Nanodrop Data Raw'!$C:$L, 2, FALSE))","v":{"$error":"#N/A"}},null,null,{"$error":"#N/A"},{"$f":"VLOOKUP($C41, 'Nanodrop Data Raw'!$C:$L, 3, FALSE)","v":{"$error":"#N/A"}},{"$f":"VLOOKUP($C41, 'Nanodrop Data Raw'!$C:$L, 4, FALSE)","v":{"$error":"#N/A"}},null,null,null,null,{"$f":"'Sample Information'!$H$6","v":0},{"$f":"'Sample Information'!$H$5","v":0},null,null,{"$f":"'Sample Information'!$H$7","v":0},null,{"$error":"#N/A"}]
[{"$f":"'Sample Information'!A42","v":41},{"$f":"'Sample Information'!B42","v":0},"0-RNA",{"$f":"'Sample Information'!D42","v":0},{"$f":"IF(VLOOKUP($C42, 'Nanodrop Data Raw'!$C:$L, 10, FALSE)<>\"\", VLOOKUP($C42, 'Nanodrop Data Raw'!$C:$L, 10, FALSE), VLOOKUP($C42, 'Nanodrop Data Raw'!$C:$L, 2, FALSE))","v":{"$error":"#N/A"}},null,null,{"$error":"#N/A"},{"$f":"VLOOKUP($C42, 'Nanodrop Data Raw'!$C:$L, 3, FALSE)","v":{"$error":"#N/A"}},{"$f":"VLOOKUP($C42, 'Nanodrop Data Raw'!$C:$L, 4, FALSE)","v":{"$error":"#N/A"}},null,null,null,null,{"$f":"'Sample Information'!$H$6","v":0},{"$f":"'Sample Information'!$H$5","v":0},null,null,{"$f":"'Sample Information'!$H$7","v":0},null,{"$error":"#N/A"}]
[{"$f":"'Sample Information'!A43","v":42},{"$f":"'Sample Information'!B43","v":0},"0-RNA",{"$f":"'Sample Information'!D43","v":0},{"$f":"IF(VLOOKUP($C43, 'Nanodrop Data Raw'!$C:$L, 10, FALSE)<>\"\", VLOOKUP($C43, 'Nanodrop Data Raw'!$C:$L, 10, FALSE), VLOOKUP($C43, 'Nanodrop Data Raw'!$C:$L, 2, FALSE))","v":{"$error":"#N/A"}},null,null,{"$error":"#N/A"},{"$f":"VLOOKUP($C43, 'Nanodrop Data Raw'!$C:$L, 3, FALSE)","v":{"$error":"#N/A"}},{"$f":"VLOOKUP($C43, 'Nanodrop Data Raw'!$C:$L, 4, FALSE)","v":{"$error":"#N/A"}},null,null,null,null,{"$f":"'Sample Information'!$H$6","v":0},{"$f":"'Sample Information'!$H$5","v":0},null,null,{"$f":"'Sample Information'!$H$7","v":0},null,{"$error":"#N/A"}]
[{"$f":"'Sample Information'!A44","v":43},{"$f":"'Sample Information'!B44","v":0},"0-RNA",{"$f":"'Sample Information'!D44","v":0},{"$f":"IF(VLOOKUP($C44, 'Nanodrop Data Raw'!$C:$L, 10, FALSE)<>\"\", VLOOKUP($C44, 'Nanodrop Data Raw'!$C:$L, 10, FALSE), VLOOKUP($C44, 'Nanodrop Data Raw'!$C:$L, 2, FALSE))","v":{"$error":"#N/A"}},null,null,{"$error":"#N/A"},{"$f":"VLOOKUP($C44, 'Nanodrop Data Raw'!$C:$L, 3, FALSE)","v":{"$error":"#N/A"}},{"$f":"VLOOKUP($C44, 'Nanodrop Data Raw'!$C:$L, 4, FALSE)","v":{"$error":"#N/A"}},null,null,null,null,{"$f":"'Sample Information'!$H$6","v":0},{"$f":"'Sample Information'!$H$5","v":0},null,null,{"$f":"'Sample Information'!$H$7","v":0},null,{"$error":"#N/A"}]
[{"$f":"'Sample Information'!A45","v":44},{"$f":"'Sample Information'!B45","v":0},"0-RNA",{"$f":"'Sample Information'!D45","v":0},{"$f":"IF(VLOOKUP($C45, 'Nanodrop Data Raw'!$C:$L, 10, FALSE)<>\"\", VLOOKUP($C45, 'Nanodrop Data Raw'!$C:$L, 10, FALSE), VLOOKUP($C45, 'Nanodrop Data Raw'!$C:$L, 2, FALSE))","v":{"$error":"#N/A"}},null,null,{"$error":"#N/A"},{"$f":"VLOOKUP($C45, 'Nanodrop Data Raw'!$C:$L, 3, FALSE)","v":{"$error":"#N/A"}},{"$f":"VLOOKUP($C45, 'Nanodrop Data Raw'!$C:$L, 4, FALSE)","v":{"$error":"#N/A"}},null,null,null,null,{"$f":"'Sample Information'!$H$6","v":0},{"$f":"'Sample Information'!$H$5","v":0},null,null,{"$f":"'Sample Information'!$H$7","v":0},null,{"$error":"#N/A"}]
[{"$f":"'Sample Information'!A46","v":45},{"$f":"'Sample Information'!B46","v":0},"0-RNA",{"$f":"'Sample Information'!D46","v":0},{"$f":"IF(VLOOKUP($C46, 'Nanodrop Data Raw'!$C:$L, 10, FALSE)<>\"\", VLOOKUP($C46, 'Nanodrop Data Raw'!$C:$L, 10, FALSE), VLOOKUP($C46, 'Nanodrop Data Raw'!$C:$L, 2, FALSE))","v":{"$error":"#N/A"}},null,null,{"$error":"#N/A"},{"$f":"VLOOKUP($C46, 'Nanodrop Data Raw'!$C:$L, 3, FALSE)","v":{"$error":"#N/A"}},{"$f":"VLOOKUP($C46, 'Nanodrop Data Raw'!$C:$L, 4, FALSE)","v":{"$error":"#N/A"}},null,null,null,null,{"$f":"'Sample Information'!$H$6","v":0},{"$f":"'Sample Information'!$H$5","v":0},null,null,{"$f":"'Sample Information'!$H$7","v":0},null,{"$error":"#N/A"}]
[{"$f":"'Sample Information'!A47","v":46},{"$f":"'Sample Information'!B47","v":0},"0-RNA",{"$f":"'Sample Information'!D47","v":0},{"$f":"IF(VLOOKUP($C47, 'Nanodrop Data Raw'!$C:$L, 10, FALSE)<>\"\", VLOOKUP($C47, 'Nanodrop Data Raw'!$C:$L, 10, FALSE), VLOOKUP($C47, 'Nanodrop Data Raw'!$C:$L, 2, FALSE))","v":{"$error":"#N/A"}},null,null,{"$error":"#N/A"},{"$f":"VLOOKUP($C47, 'Nanodrop Data Raw'!$C:$L, 3, FALSE)","v":{"$error":"#N/A"}},{"$f":"VLOOKUP($C47, 'Nanodrop Data Raw'!$C:$L, 4, FALSE)","v":{"$error":"#N/A"}},null,null,null,null,{"$f":"'Sample Information'!$H$6","v":0},{"$f":"'Sample Information'!$H$5","v":0},null,null,{"$f":"'Sample Information'!$H$7","v":0},null,{"$error":"#N/A"}]
[{"$f":"'Sample Information'!A48","v":47},{"$f":"'Sample Information'!B48","v":0},"0-RNA",{"$f":"'Sample Information'!D48","v":0},{"$f":"IF(VLOOKUP($C48, 'Nanodrop Data Raw'!$C:$L, 10, FALSE)<>\"\", VLOOKUP($C48, 'Nanodrop Data Raw'!$C:$L, 10, FALSE), VLOOKUP($C48, 'Nanodrop Data Raw'!$C:$L, 2, FALSE))","v":{"$error":"#N/A"}},null,null,{"$error":"#N/A"},{"$f":"VLOOKUP($C48, 'Nanodrop Data Raw'!$C:$L, 3, FALSE)","v":{"$error":"#N/A"}},{"$f":"VLOOKUP($C48, 'Nanodrop Data Raw'!$C:$L, 4, FALSE)","v":{"$error":"#N/A"}},null,null,null,null,{"$f":"'Sample Information'!$H$6","v":0},{"$f":"'Sample Information'!$H$5","v":0},null,null,{"$f":"'Sample Information'!$H$7","v":0},null,{"$error":"#N/A"}]
[{"$f":"'Sample Information'!A49","v":48},{"$f":"'Sample Information'!B49","v":0},"0-RNA",{"$f":"'Sample Information'!D49","v":0},{"$f":"IF(VLOOKUP($C49, 'Nanodrop Data Raw'!$C:$L, 10, FALSE)<>\"\", VLOOKUP($C49, 'Nanodrop Data Raw'!$C:$L, 10, FALSE), VLOOKUP($C49, 'Nanodrop Data Raw'!$C:$L, 2, FALSE))","v":{"$error":"#N/A"}},null,null,{"$error":"#N/A"},{"$f":"VLOOKUP($C49, 'Nanodrop Data Raw'!$C:$L, 3, FALSE)","v":{"$error":"#N/A"}},{"$f":"VLOOKUP($C49, 'Nanodrop Data Raw'!$C:$L, 4, FALSE)","v":{"$error":"#N/A"}},null,null,null,null,{"$f":"'Sample Information'!$H$6","v":0},{"$f":"'Sample Information'!$H$5","v":0},null,null,{"$f":"'Sample Information'!$H$7","v":0},null,{"$error":"#N/A"}]
[{"$f":"'Sample Information'!A50","v":49},{"$f":"'Sample Information'!B50","v":0},"0-RNA",{"$f":"'Sample Information'!D50","v":0},{"$f":"IF(VLOOKUP($C50, 'Nanodrop Data Raw'!$C:$L, 10, FALSE)<>\"\", VLOOKUP($C50, 'Nanodrop Data Raw'!$C:$L, 10, FALSE), VLOOKUP($C50, 'Nanodrop Data Raw'!$C:$L, 2, FALSE))","v":{"$error":"#N/A"}},null,null,{"$error":"#N/A"},{"$f":"VLOOKUP($C50, 'Nanodrop Data Raw'!$C:$L, 3, FALSE)","v":{"$error":"#N/A"}},{"$f":"VLOOKUP($C50, 'Nanodrop Data Raw'!$C:$L, 4, FALSE)","v":{"$error":"#N/A"}},null,null,null,null,{"$f":"'Sample Information'!$H$6","v":0},{"$f":"'Sample Information'!$H$5","v":0},null,null,{"$f":"'Sample Information'!$H$7","v":0},null,{"$error":"#N/A"}]
[{"$f":"'Sample Information'!A51","v":50},{"$f":"'Sample Information'!B51","v":0},"0-RNA",{"$f":"'Sample Information'!D51","v":0},{"$f":"IF(VLOOKUP($C51, 'Nanodrop Data Raw'!$C:$L, 10, FALSE)<>\"\", VLOOKUP($C51, 'Nanodrop Data Raw'!$C:$L, 10, FALSE), VLOOKUP($C51, 'Nanodrop Data Raw'!$C:$L, 2, FALSE))","v":{"$error":"#N/A"}},null,null,{"$error":"#N/A"},{"$f":"VLOOKUP($C51, 'Nanodrop Data Raw'!$C:$L, 3, FALSE)","v":{"$error":"#N/A"}},{"$f":"VLOOKUP($C51, 'Nanodrop Data Raw'!$C:$L, 4, FALSE)","v":{"$error":"#N/A"}},null,null,null,null,{"$f":"'Sample Information'!$H$6","v":0},{"$f":"'Sample Information'!$H$5","v":0},null,null,{"$f":"'Sample Information'!$H$7","v":0},null,{"$error":"#N/A"}]
[{"$f":"'Sample Information'!A52","v":51},{"$f":"'Sample Information'!B52","v":0},"0-RNA",{"$f":"'Sample Information'!D52","v":0},{"$f":"IF(VLOOKUP($C52, 'Nanodrop Data Raw'!$C:$L, 10, FALSE)<>\"\", VLOOKUP($C52, 'Nanodrop Data Raw'!$C:$L, 10, FALSE), VLOOKUP($C52, 'Nanodrop Data Raw'!$C:$L, 2, FALSE))","v":{"$error":"#N/A"}},null,null,{"$error":"#N/A"},{"$f":"VLOOKUP($C52, 'Nanodrop Data Raw'!$C:$L, 3, FALSE)","v":{"$error":"#N/A"}},{"$f":"VLOOKUP($C52, 'Nanodrop Data Raw'!$C:$L, 4, FALSE)","v":{"$error":"#N/A"}},null,null,null,null,{"$f":"'Sample Information'!$H$6","v":0},{"$f":"'Sample Information'!$H$5","v":0},null,null,{"$f":"'Sample Information'!$H$7","v":0},null,{"$error":"#N/A"}]
[{"$f":"'Sample Information'!A53","v":52},{"$f":"'Sample Information'!B53","v":0},"0-RNA",{"$f":"'Sample Information'!D53","v":0},{"$f":"IF(VLOOKUP($C53, 'Nanodrop Data Raw'!$C:$L, 10, FALSE)<>\"\", VLOOKUP($C53, 'Nanodrop Data Raw'!$C:$L, 10, FALSE), VLOOKUP($C53, 'Nanodrop Data Raw'!$C:$L, 2, FALSE))","v":{"$error":"#N/A"}},null,null,{"$error":"#N/A"},{"$f":"VLOOKUP($C53, 'Nanodrop Data Raw'!$C:$L, 3, FALSE)","v":{"$error":"#N/A"}},{"$f":"VLOOKUP($C53, 'Nanodrop Data Raw'!$C:$L, 4, FALSE)","v":{"$error":"#N/A"}},null,null,null,null,{"$f":"'Sample Information'!$H$6","v":0},{"$f":"'Sample Information'!$H$5","v":0},null,null,{"$f":"'Sample Information'!$H$7","v":0},null,{"$error":"#N/A"}]
[{"$f":"'Sample Information'!A54","v":53},{"$f":"'Sample Information'!B54","v":0},"0-RNA",{"$f":"'Sample Information'!D54","v":0},{"$f":"IF(VLOOKUP($C54, 'Nanodrop Data Raw'!$C:$L, 10, FALSE)<>\"\", VLOOKUP($C54, 'Nanodrop Data Raw'!$C:$L, 10, FALSE), VLOOKUP($C54, 'Nanodrop Data Raw'!$C:$L, 2, FALSE))","v":{"$error":"#N/A"}},null,null,{"$error":"#N/A"},{"$f":"VLOOKUP($C54, 'Nanodrop Data Raw'!$C:$L, 3, FALSE)","v":{"$error":"#N/A"}},{"$f":"VLOOKUP($C54, 'Nanodrop Data Raw'!$C:$L, 4, FALSE)","v":{"$error":"#N/A"}},null,null,null,null,{"$f":"'Sample Information'!$H$6","v":0},{"$f":"'Sample Information'!$H$5","v":0},null,null,{"$f":"'Sample Information'!$H$7","v":0},null,{"$error":"#N/A"}]
[{"$f":"'Sample Information'!A55","v":54},{"$f":"'Sample Information'!B55","v":0},"0-RNA",{"$f":"'Sample Information'!D55","v":0},{"$f":"IF(VLOOKUP($C55, 'Nanodrop Data Raw'!$C:$L, 10, FALSE)<>\"\", VLOOKUP($C55, 'Nanodrop Data Raw'!$C:$L, 10, FALSE), VLOOKUP($C55, 'Nanodrop Data Raw'!$C:$L, 2, FALSE))","v":{"$error":"#N/A"}},null,null,{"$error":"#N/A"},{"$f":"VLOOKUP($C55, 'Nanodrop Data Raw'!$C:$L, 3, FALSE)","v":{"$error":"#N/A"}},{"$f":"VLOOKUP($C55, 'Nanodrop Data Raw'!$C:$L, 4, FALSE)","v":{"$error":"#N/A"}},null,null,null,null,{"$f":"'Sample Information'!$H$6","v":0},{"$f":"'Sample Information'!$H$5","v":0},null,null,{"$f":"'Sample Information'!$H$7","v":0},null,{"$error":"#N/A"}]
[{"$f":"'Sample Information'!A56","v":55},{"$f":"'Sample Information'!B56","v":0},"0-RNA",{"$f":"'Sample Information'!D56","v":0},{"$f":"IF(VLOOKUP($C56, 'Nanodrop Data Raw'!$C:$L, 10, FALSE)<>\"\", VLOOKUP($C56, 'Nanodrop Data Raw'!$C:$L, 10, FALSE), VLOOKUP($C56, 'Nanodrop Data Raw'!$C:$L, 2, FALSE))","v":{"$error":"#N/A"}},null,null,{"$error":"#N/A"},{"$f":"VLOOKUP($C56, 'Nanodrop Data Raw'!$C:$L, 3, FALSE)","v":{"$error":"#N/A"}},{"$f":"VLOOKUP($C56, 'Nanodrop Data Raw'!$C:$L, 4, FALSE)","v":{"$error":"#N/A"}},null,null,null,null,{"$f":"'Sample Information'!$H$6","v":0},{"$f":"'Sample Information'!$H$5","v":0},null,null,{"$f":"'Sample Information'!$H$7","v":0},null,{"$error":"#N/A"}]
[{"$f":"'Sample Information'!A57","v":56},{"$f":"'Sample Information'!B57","v":0},"0-RNA",{"$f":"'Sample Information'!D57","v":0},{"$f":"IF(VLOOKUP($C57, 'Nanodrop Data Raw'!$C:$L, 10, FALSE)<>\"\", VLOOKUP($C57, 'Nanodrop Data Raw'!$C:$L, 10, FALSE), VLOOKUP($C57, 'Nanodrop Data Raw'!$C:$L, 2, FALSE))","v":{"$error":"#N/A"}},null,null,{"$error":"#N/A"},{"$f":"VLOOKUP($C57, 'Nanodrop Data Raw'!$C:$L, 3, FALSE)","v":{"$error":"#N/A"}},{"$f":"VLOOKUP($C57, 'Nanodrop Data Raw'!$C:$L, 4, FALSE)","v":{"$error":"#N/A"}},null,null,null,null,{"$f":"'Sample Information'!$H$6","v":0},{"$f":"'Sample Information'!$H$5","v":0},null,null,{"$f":"'Sample Information'!$H$7","v":0},null,{"$error":"#N/A"}]
[{"$f":"'Sample Information'!A58","v":57},{"$f":"'Sample Information'!B58","v":0},"0-RNA",{"$f":"'Sample Information'!D58","v":0},{"$f":"IF(VLOOKUP($C58, 'Nanodrop Data Raw'!$C:$L, 10, FALSE)<>\"\", VLOOKUP($C58, 'Nanodrop Data Raw'!$C:$L, 10, FALSE), VLOOKUP($C58, 'Nanodrop Data Raw'!$C:$L, 2, FALSE))","v":{"$error":"#N/A"}},null,null,{"$error":"#N/A"},{"$f":"VLOOKUP($C58, 'Nanodrop Data Raw'!$C:$L, 3, FALSE)","v":{"$error":"#N/A"}},{"$f":"VLOOKUP($C58, 'Nanodrop Data Raw'!$C:$L, 4, FALSE)","v":{"$error":"#N/A"}},null,null,null,null,{"$f":"'Sample Information'!$H$6","v":0},{"$f":"'Sample Information'!$H$5","v":0},null,null,{"$f":"'Sample Information'!$H$7","v":0},null,{"$error":"#N/A"}]
[{"$f":"'Sample Information'!A59","v":58},{"$f":"'Sample Information'!B59","v":0},"0-RNA",{"$f":"'Sample Information'!D59","v":0},{"$f":"IF(VLOOKUP($C59, 'Nanodrop Data Raw'!$C:$L, 10, FALSE)<>\"\", VLOOKUP($C59, 'Nanodrop Data Raw'!$C:$L, 10, FALSE), VLOOKUP($C59, 'Nanodrop Data Raw'!$C:$L, 2, FALSE))","v":{"$error":"#N/A"}},null,null,{"$error":"#N/A"},{"$f":"VLOOKUP($C59, 'Nanodrop Data Raw'!$C:$L, 3, FALSE)","v":{"$error":"#N/A"}},{"$f":"VLOOKUP($C59, 'Nanodrop Data Raw'!$C:$L, 4, FALSE)","v":{"$error":"#N/A"}},null,null,null,null,{"$f":"'Sample Information'!$H$6","v":0},{"$f":"'Sample Information'!$H$5","v":0},null,null,{"$f":"'Sample Information'!$H$7","v":0},null,{"$error":"#N/A"}]
[{"$f":"'Sample Information'!A60","v":59},{"$f":"'Sample Information'!B60","v":0},"0-RNA",{"$f":"'Sample Information'!D60","v":0},{"$f":"IF(VLOOKUP($C60, 'Nanodrop Data Raw'!$C:$L, 10, FALSE)<>\"\", VLOOKUP($C60, 'Nanodrop Data Raw'!$C:$L, 10, FALSE), VLOOKUP($C60, 'Nanodrop Data Raw'!$C:$L, 2, FALSE))","v":{"$error":"#N/A"}},null,null,{"$error":"#N/A"},{"$f":"VLOOKUP($C60, 'Nanodrop Data Raw'!$C:$L, 3, FALSE)","v":{"$error":"#N/A"}},{"$f":"VLOOKUP($C60, 'Nanodrop Data Raw'!$C:$L, 4, FALSE)","v":{"$error":"#N/A"}},null,null,null,null,{"$f":"'Sample Information'!$H$6","v":0},{"$f":"'Sample Information'!$H$5","v":0},null,null,{"$f":"'Sample Information'!$H$7","v":0},null,{"$error":"#N/A"}]
[{"$f":"'Sample Information'!A61","v":60},{"$f":"'Sample Information'!B61","v":0},"0-RNA",{"$f":"'Sample Information'!D61","v":0},{"$f":"IF(VLOOKUP($C61, 'Nanodrop Data Raw'!$C:$L, 10, FALSE)<>\"\", VLOOKUP($C61, 'Nanodrop Data Raw'!$C:$L, 10, FALSE), VLOOKUP($C61, 'Nanodrop Data Raw'!$C:$L, 2, FALSE))","v":{"$error":"#N/A"}},null,null,{"$error":"#N/A"},{"$f":"VLOOKUP($C61, 'Nanodrop Data Raw'!$C:$L, 3, FALSE)","v":{"$error":"#N/A"}},{"$f":"VLOOKUP($C61, 'Nanodrop Data Raw'!$C:$L, 4, FALSE)","v":{"$error":"#N/A"}},null,null,null,null,{"$f":"'Sample Information'!$H$6","v":0},{"$f":"'Sample Information'!$H$5","v":0},null,null,{"$f":"'Sample Information'!$H$7","v":0},null,{"$error":"#N/A"}]
[{"$f":"'Sample Information'!A62","v":61},{"$f":"'Sample Information'!B62","v":0},"0-RNA",{"$f":"'Sample Information'!D62","v":0},{"$f":"IF(VLOOKUP($C62, 'Nanodrop Data Raw'!$C:$L, 10, FALSE)<>\"\", VLOOKUP($C62, 'Nanodrop Data Raw'!$C:$L, 10, FALSE), VLOOKUP($C62, 'Nanodrop Data Raw'!$C:$L, 2, FALSE))","v":{"$error":"#N/A"}},null,null,{"$error":"#N/A"},{"$f":"VLOOKUP($C62, 'Nanodrop Data Raw'!$C:$L, 3, FALSE)","v":{"$error":"#N/A"}},{"$f":"VLOOKUP($C62, 'Nanodrop Data Raw'!$C:$L, 4, FALSE)","v":{"$error":"#N/A"}},null,null,null,null,{"$f":"'Sample Information'!$H$6","v":0},{"$f":"'Sample Information'!$H$5","v":0},null,null,{"$f":"'Sample Information'!$H$7","v":0},null,{"$error":"#N/A"}]
[{"$f":"'Sample Information'!A63","v":62},{"$f":"'Sample Information'!B63","v":0},"0-RNA",{"$f":"'Sample Information'!D63","v":0},{"$f":"IF(VLOOKUP($C63, 'Nanodrop Data Raw'!$C:$L, 10, FALSE)<>\"\", VLOOKUP($C63, 'Nanodrop Data Raw'!$C:$L, 10, FALSE), VLOOKUP($C63, 'Nanodrop Data Raw'!$C:$L, 2, FALSE))","v":{"$error":"#N/A"}},null,null,{"$error":"#N/A"},{"$f":"VLOOKUP($C63, 'Nanodrop Data Raw'!$C:$L, 3, FALSE)","v":{"$error":"#N/A"}},{"$f":"VLOOKUP($C63, 'Nanodrop Data Raw'!$C:$L, 4, FALSE)","v":{"$error":"#N/A"}},null,null,null,null,{"$f":"'Sample Information'!$H$6","v":0},{"$f":"'Sample Information'!$H$5","v":0},null,null,{"$f":"'Sample Information'!$H$7","v":0},null,{"$error":"#N/A"}]
[{"$f":"'Sample Information'!A64","v":63},{"$f":"'Sample Information'!B64","v":0},"0-RNA",{"$f":"'Sample Information'!D64","v":0},{"$f":"IF(VLOOKUP($C64, 'Nanodrop Data Raw'!$C:$L, 10, FALSE)<>\"\", VLOOKUP($C64, 'Nanodrop Data Raw'!$C:$L, 10, FALSE), VLOOKUP($C64, 'Nanodrop Data Raw'!$C:$L, 2, FALSE))","v":{"$error":"#N/A"}},null,null,{"$error":"#N/A"},{"$f":"VLOOKUP($C64, 'Nanodrop Data Raw'!$C:$L, 3, FALSE)","v":{"$error":"#N/A"}},{"$f":"VLOOKUP($C64, 'Nanodrop Data Raw'!$C:$L, 4, FALSE)","v":{"$error":"#N/A"}},null,null,null,null,{"$f":"'Sample Information'!$H$6","v":0},{"$f":"'Sample Information'!$H$5","v":0},null,null,{"$f":"'Sample Information'!$H$7","v":0},null,{"$error":"#N/A"}]
[{"$f":"'Sample Information'!A65","v":64},{"$f":"'Sample Information'!B65","v":0},"0-RNA",{"$f":"'Sample Information'!D65","v":0},{"$f":"IF(VLOOKUP($C65, 'Nanodrop Data Raw'!$C:$L, 10, FALSE)<>\"\", VLOOKUP($C65, 'Nanodrop Data Raw'!$C:$L, 10, FALSE), VLOOKUP($C65, 'Nanodrop Data Raw'!$C:$L, 2, FALSE))","v":{"$error":"#N/A"}},null,null,{"$error":"#N/A"},{"$f":"VLOOKUP($C65, 'Nanodrop Data Raw'!$C:$L, 3, FALSE)","v":{"$error":"#N/A"}},{"$f":"VLOOKUP($C65, 'Nanodrop Data Raw'!$C:$L, 4, FALSE)","v":{"$error":"#N/A"}},null,null,null,null,{"$f":"'Sample Information'!$H$6","v":0},{"$f":"'Sample Information'!$H$5","v":0},null,null,{"$f":"'Sample Information'!$H$7","v":0},null,{"$error":"#N/A"}]
[{"$f":"'Sample Information'!A66","v":65},{"$f":"'Sample Information'!B66","v":0},"0-RNA",{"$f":"'Sample Information'!D66","v":0},{"$f":"IF(VLOOKUP($C66, 'Nanodrop Data Raw'!$C:$L, 10, FALSE)<>\"\", VLOOKUP($C66, 'Nanodrop Data Raw'!$C:$L, 10, FALSE), VLOOKUP($C66, 'Nanodrop Data Raw'!$C:$L, 2, FALSE))","v":{"$error":"#N/A"}},null,null,{"$error":"#N/A"},{"$f":"VLOOKUP($C66, 'Nanodrop Data Raw'!$C:$L, 3, FALSE)","v":{"$error":"#N/A"}},{"$f":"VLOOKUP($C66, 'Nanodrop Data Raw'!$C:$L, 4, FALSE)","v":{"$error":"#N/A"}},null,null,null,null,{"$f":"'Sample Information'!$H$6","v":0},{"$f":"'Sample Information'!$H$5","v":0},null,null,{"$f":"'Sample Information'!$H$7","v":0},null,{"$error":"#N/A"}]
[{"$f":"'Sample Information'!A67","v":66},{"$f":"'Sample Information'!B67","v":0},{"$f":"CONCATENATE(B67,\"-RNA\")","v":"0-RNA"},{"$f":"'Sample Information'!D67","v":0},{"$f":"IF(VLOOKUP($C67, 'Nanodrop Data Raw'!$C:$L, 10, FALSE)<>\"\", VLOOKUP($C67, 'Nanodrop Data Raw'!$C:$L, 10, FALSE), VLOOKUP($C67, 'Nanodrop Data Raw'!$C:$L, 2, FALSE))","v":{"$error":"#N/A"}},null,null,{"$f":"E67*F67/1000","v":{"$error":"#N/A"}},{"$f":"VLOOKUP($C67, 'Nanodrop Data Raw'!$C:$L, 3, FALSE)","v":{"$error":"#N/A"}},{"$f":"VLOOKUP($C67, 'Nanodrop Data Raw'!$C:$L, 4, FALSE)","v":{"$error":"#N/A"}},null,null,null,null,{"$f":"'Sample Information'!$H$6","v":0},{"$f":"'Sample Information'!$H$5","v":0},null,null,{"$f":"'Sample Information'!$H$7","v":0},null,{"$f":"$N67/$E67","v":{"$error":"#N/A"}}]
[{"$f":"'Sample Information'!A68","v":67},{"$f":"'Sample Information'!B68","v":0},"0-RNA",{"$f":"'Sample Information'!D68","v":0},{"$f":"IF(VLOOKUP($C68, 'Nanodrop Data Raw'!$C:$L, 10, FALSE)<>\"\", VLOOKUP($C68, 'Nanodrop Data Raw'!$C:$L, 10, FALSE), VLOOKUP($C68, 'Nanodrop Data Raw'!$C:$L, 2, FALSE))","v":{"$error":"#N/A"}},null,null,{"$error":"#N/A"},{"$f":"VLOOKUP($C68, 'Nanodrop Data Raw'!$C:$L, 3, FALSE)","v":{"$error":"#N/A"}},{"$f":"VLOOKUP($C68, 'Nanodrop Data Raw'!$C:$L, 4, FALSE)","v":{"$error":"#N/A"}},null,null,null,null,{"$f":"'Sample Information'!$H$6","v":0},{"$f":"'Sample Information'!$H$5","v":0},null,null,{"$f":"'Sample Information'!$H$7","v":0},null,{"$error":"#N/A"}]
[{"$f":"'Sample Information'!A69","v":68},{"$f":"'Sample Information'!B69","v":0},"0-RNA",{"$f":"'Sample Information'!D69","v":0},{"$f":"IF(VLOOKUP($C69, 'Nanodrop Data Raw'!$C:$L, 10, FALSE)<>\"\", VLOOKUP($C69, 'Nanodrop Data Raw'!$C:$L, 10, FALSE), VLOOKUP($C69, 'Nanodrop Data Raw'!$C:$L, 2, FALSE))","v":{"$error":"#N/A"}},null,null,{"$error":"#N/A"},{"$f":"VLOOKUP($C69, 'Nanodrop Data Raw'!$C:$L, 3, FALSE)","v":{"$error":"#N/A"}},{"$f":"VLOOKUP($C69, 'Nanodrop Data Raw'!$C:$L, 4, FALSE)","v":{"$error":"#N/A"}},null,null,null,null,{"$f":"'Sample Information'!$H$6","v":0},{"$f":"'Sample Information'!$H$5","v":0},null,null,{"$f":"'Sample Information'!$H$7","v":0},null,{"$error":"#N/A"}]
[{"$f":"'Sample Information'!A70","v":69},{"$f":"'Sample Information'!B70","v":0},"0-RNA",{"$f":"'Sample Information'!D70","v":0},{"$f":"IF(VLOOKUP($C70, 'Nanodrop Data Raw'!$C:$L, 10, FALSE)<>\"\", VLOOKUP($C70, 'Nanodrop Data Raw'!$C:$L, 10, FALSE), VLOOKUP($C70, 'Nanodrop Data Raw'!$C:$L, 2, FALSE))","v":{"$error":"#N/A"}},null,null,{"$error":"#N/A"},{"$f":"VLOOKUP($C70, 'Nanodrop Data Raw'!$C:$L, 3, FALSE)","v":{"$error":"#N/A"}},{"$f":"VLOOKUP($C70, 'Nanodrop Data Raw'!$C:$L, 4, FALSE)","v":{"$error":"#N/A"}},null,null,null,null,{"$f":"'Sample Information'!$H$6","v":0},{"$f":"'Sample Information'!$H$5","v":0},null,null,{"$f":"'Sample Information'!$H$7","v":0},null,{"$error":"#N/A"}]
[{"$f":"'Sample Information'!A71","v":70},{"$f":"'Sample Information'!B71","v":0},"0-RNA",{"$f":"'Sample Information'!D71","v":0},{"$f":"IF(VLOOKUP($C71, 'Nanodrop Data Raw'!$C:$L, 10, FALSE)<>\"\", VLOOKUP($C71, 'Nanodrop Data Raw'!$C:$L, 10, FALSE), VLOOKUP($C71, 'Nanodrop Data Raw'!$C:$L, 2, FALSE))","v":{"$error":"#N/A"}},null,null,{"$error":"#N/A"},{"$f":"VLOOKUP($C71, 'Nanodrop Data Raw'!$C:$L, 3, FALSE)","v":{"$error":"#N/A"}},{"$f":"VLOOKUP($C71, 'Nanodrop Data Raw'!$C:$L, 4, FALSE)","v":{"$error":"#N/A"}},null,null,null,null,{"$f":"'Sample Information'!$H$6","v":0},{"$f":"'Sample Information'!$H$5","v":0},null,null,{"$f":"'Sample Information'!$H$7","v":0},null,{"$error":"#N/A"}]
[{"$f":"'Sample Information'!A72","v":71},{"$f":"'Sample Information'!B72","v":0},"0-RNA",{"$f":"'Sample Information'!D72","v":0},{"$f":"IF(VLOOKUP($C72, 'Nanodrop Data Raw'!$C:$L, 10, FALSE)<>\"\", VLOOKUP($C72, 'Nanodrop Data Raw'!$C:$L, 10, FALSE), VLOOKUP($C72, 'Nanodrop Data Raw'!$C:$L, 2, FALSE))","v":{"$error":"#N/A"}},null,null,{"$error":"#N/A"},{"$f":"VLOOKUP($C72, 'Nanodrop Data Raw'!$C:$L, 3, FALSE)","v":{"$error":"#N/A"}},{"$f":"VLOOKUP($C72, 'Nanodrop Data Raw'!$C:$L, 4, FALSE)","v":{"$error":"#N/A"}},null,null,null,null,{"$f":"'Sample Information'!$H$6","v":0},{"$f":"'Sample Information'!$H$5","v":0},null,null,{"$f":"'Sample Information'!$H$7","v":0},null,{"$error":"#N/A"}]
[{"$f":"'Sample Information'!A73","v":72},{"$f":"'Sample Information'!B73","v":0},"0-RNA",{"$f":"'Sample Information'!D73","v":0},{"$f":"IF(VLOOKUP($C73, 'Nanodrop Data Raw'!$C:$L, 10, FALSE)<>\"\", VLOOKUP($C73, 'Nanodrop Data Raw'!$C:$L, 10, FALSE), VLOOKUP($C73, 'Nanodrop Data Raw'!$C:$L, 2, FALSE))","v":{"$error":"#N/A"}},null,null,{"$error":"#N/A"},{"$f":"VLOOKUP($C73, 'Nanodrop Data Raw'!$C:$L, 3, FALSE)","v":{"$error":"#N/A"}},{"$f":"VLOOKUP($C73, 'Nanodrop Data Raw'!$C:$L, 4, FALSE)","v":{"$error":"#N/A"}},null,null,null,null,{"$f":"'Sample Information'!$H$6","v":0},{"$f":"'Sample Information'!$H$5","v":0},null,null,{"$f":"'Sample Information'!$H$7","v":0},null,{"$error":"#N/A"}]
[{"$f":"'Sample Information'!A74","v":73},{"$f":"'Sample Information'!B74","v":0},"0-RNA",{"$f":"'Sample Information'!D74","v":0},{"$f":"IF(VLOOKUP($C74, 'Nanodrop Data Raw'!$C:$L, 10, FALSE)<>\"\", VLOOKUP($C74, 'Nanodrop Data Raw'!$C:$L, 10, FALSE), VLOOKUP($C74, 'Nanodrop Data Raw'!$C:$L, 2, FALSE))","v":{"$error":"#N/A"}},null,null,{"$error":"#N/A"},{"$f":"VLOOKUP($C74, 'Nanodrop Data Raw'!$C:$L, 3, FALSE)","v":{"$error":"#N/A"}},{"$f":"VLOOKUP($C74, 'Nanodrop Data Raw'!$C:$L, 4, FALSE)","v":{"$error":"#N/A"}},null,null,null,null,{"$f":"'Sample Information'!$H$6","v":0},{"$f":"'Sample Information'!$H$5","v":0},null,null,{"$f":"'Sample Information'!$H$7","v":0},null,{"$error":"#N/A"}]
[{"$f":"'Sample Information'!A75","v":74},{"$f":"'Sample Information'!B75","v":0},"0-RNA",{"$f":"'Sample Information'!D75","v":0},{"$f":"IF(VLOOKUP($C75, 'Nanodrop Data Raw'!$C:$L, 10, FALSE)<>\"\", VLOOKUP($C75, 'Nanodrop Data Raw'!$C:$L, 10, FALSE), VLOOKUP($C75, 'Nanodrop Data Raw'!$C:$L, 2, FALSE))","v":{"$error":"#N/A"}},null,null,{"$error":"#N/A"},{"$f":"VLOOKUP($C75, 'Nanodrop Data Raw'!$C:$L, 3, FALSE)","v":{"$error":"#N/A"}},{"$f":"VLOOKUP($C75, 'Nanodrop Data Raw'!$C:$L, 4, FALSE)","v":{"$error":"#N/A"}},null,null,null,null,{"$f":"'Sample Information'!$H$6","v":0},{"$f":"'Sample Information'!$H$5","v":0},null,null,{"$f":"'Sample Information'!$H$7","v":0},null,{"$error":"#N/A"}]
[{"$f":"'Sample Information'!A76","v":75},{"$f":"'Sample Information'!B76","v":0},"0-RNA",{"$f":"'Sample Information'!D76","v":0},{"$f":"IF(VLOOKUP($C76, 'Nanodrop Data Raw'!$C:$L, 10, FALSE)<>\"\", VLOOKUP($C76, 'Nanodrop Data Raw'!$C:$L, 10, FALSE), VLOOKUP($C76, 'Nanodrop Data Raw'!$C:$L, 2, FALSE))","v":{"$error":"#N/A"}},null,null,{"$error":"#N/A"},{"$f":"VLOOKUP($C76, 'Nanodrop Data Raw'!$C:$L, 3, FALSE)","v":{"$error":"#N/A"}},{"$f":"VLOOKUP($C76, 'Nanodrop Data Raw'!$C:$L, 4, FALSE)","v":{"$error":"#N/A"}},null,null,null,null,{"$f":"'Sample Information'!$H$6","v":0},{"$f":"'Sample Information'!$H$5","v":0},null,null,{"$f":"'Sample Information'!$H$7","v":0},null,{"$error":"#N/A"}]
[{"$f":"'Sample Information'!A77","v":76},{"$f":"'Sample Information'!B77","v":0},"0-RNA",{"$f":"'Sample Information'!D77","v":0},{"$f":"IF(VLOOKUP($C77, 'Nanodrop Data Raw'!$C:$L, 10, FALSE)<>\"\", VLOOKUP($C77, 'Nanodrop Data Raw'!$C:$L, 10, FALSE), VLOOKUP($C77, 'Nanodrop Data Raw'!$C:$L, 2, FALSE))","v":{"$error":"#N/A"}},null,null,{"$error":"#N/A"},{"$f":"VLOOKUP($C77, 'Nanodrop Data Raw'!$C:$L, 3, FALSE)","v":{"$error":"#N/A"}},{"$f":"VLOOKUP($C77, 'Nanodrop Data Raw'!$C:$L, 4, FALSE)","v":{"$error":"#N/A"}},null,null,null,null,{"$f":"'Sample Information'!$H$6","v":0},{"$f":"'Sample Information'!$H$5","v":0},null,null,{"$f":"'Sample Information'!$H$7","v":0},null,{"$error":"#N/A"}]
[{"$f":"'Sample Information'!A78","v":77},{"$f":"'Sample Information'!B78","v":0},"0-RNA",{"$f":"'Sample Information'!D78","v":0},{"$f":"IF(VLOOKUP($C78, 'Nanodrop Data Raw'!$C:$L, 10, FALSE)<>\"\", VLOOKUP($C78, 'Nanodrop Data Raw'!$C:$L, 10, FALSE), VLOOKUP($C78, 'Nanodrop Data Raw'!$C:$L, 2, FALSE))","v":{"$error":"#N/A"}},null,null,{"$error":"#N/A"},{"$f":"VLOOKUP($C78, 'Nanodrop Data Raw'!$C:$L, 3, FALSE)","v":{"$error":"#N/A"}},{"$f":"VLOOKUP($C78, 'Nanodrop Data Raw'!$C:$L, 4, FALSE)","v":{"$error":"#N/A"}},null,null,null,null,{"$f":"'Sample Information'!$H$6","v":0},{"$f":"'Sample Information'!$H$5","v":0},null,null,{"$f":"'Sample Information'!$H$7","v":0},null,{"$error":"#N/A"}]
[{"$f":"'Sample Information'!A79","v":78},{"$f":"'Sample Information'!B79","v":0},"0-RNA",{"$f":"'Sample Information'!D79","v":0},{"$f":"IF(VLOOKUP($C79, 'Nanodrop Data Raw'!$C:$L, 10, FALSE)<>\"\", VLOOKUP($C79, 'Nanodrop Data Raw'!$C:$L, 10, FALSE), VLOOKUP($C79, 'Nanodrop Data Raw'!$C:$L, 2, FALSE))","v":{"$error":"#N/A"}},null,null,{"$error":"#N/A"},{"$f":"VLOOKUP($C79, 'Nanodrop Data Raw'!$C:$L, 3, FALSE)","v":{"$error":"#N/A"}},{"$f":"VLOOKUP($C79, 'Nanodrop Data Raw'!$C:$L, 4, FALSE)","v":{"$error":"#N/A"}},null,null,null,null,{"$f":"'Sample Information'!$H$6","v":0},{"$f":"'Sample Information'!$H$5","v":0},null,null,{"$f":"'Sample Information'!$H$7","v":0},null,{"$error":"#N/A"}]
[{"$f":"'Sample Information'!A80","v":79},{"$f":"'Sample Information'!B80","v":0},"0-RNA",{"$f":"'Sample Information'!D80","v":0},{"$f":"IF(VLOOKUP($C80, 'Nanodrop Data Raw'!$C:$L, 10, FALSE)<>\"\", VLOOKUP($C80, 'Nanodrop Data Raw'!$C:$L, 10, FALSE), VLOOKUP($C80, 'Nanodrop Data Raw'!$C:$L, 2, FALSE))","v":{"$error":"#N/A"}},null,null,{"$error":"#N/A"},{"$f":"VLOOKUP($C80, 'Nanodrop Data Raw'!$C:$L, 3, FALSE)","v":{"$error":"#N/A"}},{"$f":"VLOOKUP($C80, 'Nanodrop Data Raw'!$C:$L, 4, FALSE)","v":{"$error":"#N/A"}},null,null,null,null,{"$f":"'Sample Information'!$H$6","v":0},{"$f":"'Sample Information'!$H$5","v":0},null,null,{"$f":"'Sample Information'!$H$7","v":0},null,{"$error":"#N/A"}]
[{"$f":"'Sample Information'!A81","v":80},{"$f":"'Sample Information'!B81","v":0},"0-RNA",{"$f":"'Sample Information'!D81","v":0},{"$f":"IF(VLOOKUP($C81, 'Nanodrop Data Raw'!$C:$L, 10, FALSE)<>\"\", VLOOKUP($C81, 'Nanodrop Data Raw'!$C:$L, 10, FALSE), VLOOKUP($C81, 'Nanodrop Data Raw'!$C:$L, 2, FALSE))","v":{"$error":"#N/A"}},null,null,{"$error":"#N/A"},{"$f":"VLOOKUP($C81, 'Nanodrop Data Raw'!$C:$L, 3, FALSE)","v":{"$error":"#N/A"}},{"$f":"VLOOKUP($C81, 'Nanodrop Data Raw'!$C:$L, 4, FALSE)","v":{"$error":"#N/A"}},null,null,null,null,{"$f":"'Sample Information'!$H$6","v":0},{"$f":"'Sample Information'!$H$5","v":0},null,null,{"$f":"'Sample Information'!$H$7","v":0},null,{"$error":"#N/A"}]
[{"$f":"'Sample Information'!A82","v":81},{"$f":"'Sample Information'!B82","v":0},"0-RNA",{"$f":"'Sample Information'!D82","v":0},{"$f":"IF(VLOOKUP($C82, 'Nanodrop Data Raw'!$C:$L, 10, FALSE)<>\"\", VLOOKUP($C82, 'Nanodrop Data Raw'!$C:$L, 10, FALSE), VLOOKUP($C82, 'Nanodrop Data Raw'!$C:$L, 2, FALSE))","v":{"$error":"#N/A"}},null,null,{"$error":"#N/A"},{"$f":"VLOOKUP($C82, 'Nanodrop Data Raw'!$C:$L, 3, FALSE)","v":{"$error":"#N/A"}},{"$f":"VLOOKUP($C82, 'Nanodrop Data Raw'!$C:$L, 4, FALSE)","v":{"$error":"#N/A"}},null,null,null,null,{"$f":"'Sample Information'!$H$6","v":0},{"$f":"'Sample Information'!$H$5","v":0},null,null,{"$f":"'Sample Information'!$H$7","v":0},null,{"$error":"#N/A"}]
[{"$f":"'Sample Information'!A83","v":82},{"$f":"'Sample Information'!B83","v":0},"0-RNA",{"$f":"'Sample Information'!D83","v":0},{"$f":"IF(VLOOKUP($C83, 'Nanodrop Data Raw'!$C:$L, 10, FALSE)<>\"\", VLOOKUP($C83, 'Nanodrop Data Raw'!$C:$L, 10, FALSE), VLOOKUP($C83, 'Nanodrop Data Raw'!$C:$L, 2, FALSE))","v":{"$error":"#N/A"}},null,null,{"$error":"#N/A"},{"$f":"VLOOKUP($C83, 'Nanodrop Data Raw'!$C:$L, 3, FALSE)","v":{"$error":"#N/A"}},{"$f":"VLOOKUP($C83, 'Nanodrop Data Raw'!$C:$L, 4, FALSE)","v":{"$error":"#N/A"}},null,null,null,null,{"$f":"'Sample Information'!$H$6","v":0},{"$f":"'Sample Information'!$H$5","v":0},null,null,{"$f":"'Sample Information'!$H$7","v":0},null,{"$error":"#N/A"}]
[{"$f":"'Sample Information'!A84","v":83},{"$f":"'Sample Information'!B84","v":0},"0-RNA",{"$f":"'Sample Information'!D84","v":0},{"$f":"IF(VLOOKUP($C84, 'Nanodrop Data Raw'!$C:$L, 10, FALSE)<>\"\", VLOOKUP($C84, 'Nanodrop Data Raw'!$C:$L, 10, FALSE), VLOOKUP($C84, 'Nanodrop Data Raw'!$C:$L, 2, FALSE))","v":{"$error":"#N/A"}},null,null,{"$error":"#N/A"},{"$f":"VLOOKUP($C84, 'Nanodrop Data Raw'!$C:$L, 3, FALSE)","v":{"$error":"#N/A"}},{"$f":"VLOOKUP($C84, 'Nanodrop Data Raw'!$C:$L, 4, FALSE)","v":{"$error":"#N/A"}},null,null,null,null,{"$f":"'Sample Information'!$H$6","v":0},{"$f":"'Sample Information'!$H$5","v":0},null,null,{"$f":"'Sample Information'!$H$7","v":0},null,{"$error":"#N/A"}]
[{"$f":"'Sample Information'!A85","v":84},{"$f":"'Sample Information'!B85","v":0},"0-RNA",{"$f":"'Sample Information'!D85","v":0},{"$f":"IF(VLOOKUP($C85, 'Nanodrop Data Raw'!$C:$L, 10, FALSE)<>\"\", VLOOKUP($C85, 'Nanodrop Data Raw'!$C:$L, 10, FALSE), VLOOKUP($C85, 'Nanodrop Data Raw'!$C:$L, 2, FALSE))","v":{"$error":"#N/A"}},null,null,{"$error":"#N/A"},{"$f":"VLOOKUP($C85, 'Nanodrop Data Raw'!$C:$L, 3, FALSE)","v":{"$error":"#N/A"}},{"$f":"VLOOKUP($C85, 'Nanodrop Data Raw'!$C:$L, 4, FALSE)","v":{"$error":"#N/A"}},null,null,null,null,{"$f":"'Sample Information'!$H$6","v":0},{"$f":"'Sample Information'!$H$5","v":0},null,null,{"$f":"'Sample Information'!$H$7","v":0},null,{"$error":"#N/A"}]
[{"$f":"'Sample Information'!A86","v":85},{"$f":"'Sample Information'!B86","v":0},"0-RNA",{"$f":"'Sample Information'!D86","v":0},{"$f":"IF(VLOOKUP($C86, 'Nanodrop Data Raw'!$C:$L, 10, FALSE)<>\"\", VLOOKUP($C86, 'Nanodrop Data Raw'!$C:$L, 10, FALSE), VLOOKUP($C86, 'Nanodrop Data Raw'!$C:$L, 2, FALSE))","v":{"$error":"#N/A"}},null,null,{"$error":"#N/A"},{"$f":"VLOOKUP($C86, 'Nanodrop Data Raw'!$C:$L, 3, FALSE)","v":{"$error":"#N/A"}},{"$f":"VLOOKUP($C86, 'Nanodrop Data Raw'!$C:$L, 4, FALSE)","v":{"$error":"#N/A"}},null,null,null,null,{"$f":"'Sample Information'!$H$6","v":0},{"$f":"'Sample Information'!$H$5","v":0},null,null,{"$f":"'Sample Information'!$H$7","v":0},null,{"$error":"#N/A"}]
[{"$f":"'Sample Information'!A87","v":86},{"$f":"'Sample Information'!B87","v":0},"0-RNA",{"$f":"'Sample Information'!D87","v":0},{"$f":"IF(VLOOKUP($C87, 'Nanodrop Data Raw'!$C:$L, 10, FALSE)<>\"\", VLOOKUP($C87, 'Nanodrop Data Raw'!$C:$L, 10, FALSE), VLOOKUP($C87, 'Nanodrop Data Raw'!$C:$L, 2, FALSE))","v":{"$error":"#N/A"}},null,null,{"$error":"#N/A"},{"$f":"VLOOKUP($C87, 'Nanodrop Data Raw'!$C:$L, 3, FALSE)","v":{"$error":"#N/A"}},{"$f":"VLOOKUP($C87, 'Nanodrop Data Raw'!$C:$L, 4, FALSE)","v":{"$error":"#N/A"}},null,null,null,null,{"$f":"'Sample Information'!$H$6","v":0},{"$f":"'Sample Information'!$H$5","v":0},null,null,{"$f":"'Sample Information'!$H$7","v":0},null,{"$error":"#N/A"}]
[{"$f":"'Sample Information'!A88","v":87},{"$f":"'Sample Information'!B88","v":0},"0-RNA",{"$f":"'Sample Information'!D88","v":0},{"$f":"IF(VLOOKUP($C88, 'Nanodrop Data Raw'!$C:$L, 10, FALSE)<>\"\", VLOOKUP($C88, 'Nanodrop Data Raw'!$C:$L, 10, FALSE), VLOOKUP($C88, 'Nanodrop Data Raw'!$C:$L, 2, FALSE))","v":{"$error":"#N/A"}},null,null,{"$error":"#N/A"},{"$f":"VLOOKUP($C88, 'Nanodrop Data Raw'!$C:$L, 3, FALSE)","v":{"$error":"#N/A"}},{"$f":"VLOOKUP($C88, 'Nanodrop Data Raw'!$C:$L, 4, FALSE)","v":{"$error":"#N/A"}},null,null,null,null,{"$f":"'Sample Information'!$H$6","v":0},{"$f":"'Sample Information'!$H$5","v":0},null,null,{"$f":"'Sample Information'!$H$7","v":0},null,{"$error":"#N/A"}]
[{"$f":"'Sample Information'!A89","v":88},{"$f":"'Sample Information'!B89","v":0},"0-RNA",{"$f":"'Sample Information'!D89","v":0},{"$f":"IF(VLOOKUP($C89, 'Nanodrop Data Raw'!$C:$L, 10, FALSE)<>\"\", VLOOKUP($C89, 'Nanodrop Data Raw'!$C:$L, 10, FALSE), VLOOKUP($C89, 'Nanodrop Data Raw'!$C:$L, 2, FALSE))","v":{"$error":"#N/A"}},null,null,{"$error":"#N/A"},{"$f":"VLOOKUP($C89, 'Nanodrop Data Raw'!$C:$L, 3, FALSE)","v":{"$error":"#N/A"}},{"$f":"VLOOKUP($C89, 'Nanodrop Data Raw'!$C:$L, 4, FALSE)","v":{"$error":"#N/A"}},null,null,null,null,{"$f":"'Sample Information'!$H$6","v":0},{"$f":"'Sample Information'!$H$5","v":0},null,null,{"$f":"'Sample Information'!$H$7","v":0},null,{"$error":"#N/A"}]
[{"$f":"'Sample Information'!A90","v":89},{"$f":"'Sample Information'!B90","v":0},"0-RNA",{"$f":"'Sample Information'!D90","v":0},{"$f":"IF(VLOOKUP($C90, 'Nanodrop Data Raw'!$C:$L, 10, FALSE)<>\"\", VLOOKUP($C90, 'Nanodrop Data Raw'!$C:$L, 10, FALSE), VLOOKUP($C90, 'Nanodrop Data Raw'!$C:$L, 2, FALSE))","v":{"$error":"#N/A"}},null,null,{"$error":"#N/A"},{"$f":"VLOOKUP($C90, 'Nanodrop Data Raw'!$C:$L, 3, FALSE)","v":{"$error":"#N/A"}},{"$f":"VLOOKUP($C90, 'Nanodrop Data Raw'!$C:$L, 4, FALSE)","v":{"$error":"#N/A"}},null,null,null,null,{"$f":"'Sample Information'!$H$6","v":0},{"$f":"'Sample Information'!$H$5","v":0},null,null,{"$f":"'Sample Information'!$H$7","v":0},null,{"$error":"#N/A"}]
[{"$f":"'Sample Information'!A91","v":90},{"$f":"'Sample Information'!B91","v":0},"0-RNA",{"$f":"'Sample Information'!D91","v":0},{"$f":"IF(VLOOKUP($C91, 'Nanodrop Data Raw'!$C:$L, 10, FALSE)<>\"\", VLOOKUP($C91, 'Nanodrop Data Raw'!$C:$L, 10, FALSE), VLOOKUP($C91, 'Nanodrop Data Raw'!$C:$L, 2, FALSE))","v":{"$error":"#N/A"}},null,null,{"$error":"#N/A"},{"$f":"VLOOKUP($C91, 'Nanodrop Data Raw'!$C:$L, 3, FALSE)","v":{"$error":"#N/A"}},{"$f":"VLOOKUP($C91, 'Nanodrop Data Raw'!$C:$L, 4, FALSE)","v":{"$error":"#N/A"}},null,null,null,null,{"$f":"'Sample Information'!$H$6","v":0},{"$f":"'Sample Information'!$H$5","v":0},null,null,{"$f":"'Sample Information'!$H$7","v":0},null,{"$error":"#N/A"}]
[{"$f":"'Sample Information'!A92","v":91},{"$f":"'Sample Information'!B92","v":0},"0-RNA",{"$f":"'Sample Information'!D92","v":0},{"$f":"IF(VLOOKUP($C92, 'Nanodrop Data Raw'!$C:$L, 10, FALSE)<>\"\", VLOOKUP($C92, 'Nanodrop Data Raw'!$C:$L, 10, FALSE), VLOOKUP($C92, 'Nanodrop Data Raw'!$C:$L, 2, FALSE))","v":{"$error":"#N/A"}},null,null,{"$error":"#N/A"},{"$f":"VLOOKUP($C92, 'Nanodrop Data Raw'!$C:$L, 3, FALSE)","v":{"$error":"#N/A"}},{"$f":"VLOOKUP($C92, 'Nanodrop Data Raw'!$C:$L, 4, FALSE)","v":{"$error":"#N/A"}},null,null,null,null,{"$f":"'Sample Information'!$H$6","v":0},{"$f":"'Sample Information'!$H$5","v":0},null,null,{"$f":"'Sample Information'!$H$7","v":0},null,{"$error":"#N/A"}]
[{"$f":"'Sample Information'!A93","v":92},{"$f":"'Sample Information'!B93","v":0},"0-RNA",{"$f":"'Sample Information'!D93","v":0},{"$f":"IF(VLOOKUP($C93, 'Nanodrop Data Raw'!$C:$L, 10, FALSE)<>\"\", VLOOKUP($C93, 'Nanodrop Data Raw'!$C:$L, 10, FALSE), VLOOKUP($C93, 'Nanodrop Data Raw'!$C:$L, 2, FALSE))","v":{"$error":"#N/A"}},null,null,{"$error":"#N/A"},{"$f":"VLOOKUP($C93, 'Nanodrop Data Raw'!$C:$L, 3, FALSE)","v":{"$error":"#N/A"}},{"$f":"VLOOKUP($C93, 'Nanodrop Data Raw'!$C:$L, 4, FALSE)","v":{"$error":"#N/A"}},null,null,null,null,{"$f":"'Sample Information'!$H$6","v":0},{"$f":"'Sample Information'!$H$5","v":0},null,null,{"$f":"'Sample Information'!$H$7","v":0},null,{"$error":"#N/A"}]
[{"$f":"'Sample Information'!A94","v":93},{"$f":"'Sample Information'!B94","v":0},"0-RNA",{"$f":"'Sample Information'!D94","v":0},{"$f":"IF(VLOOKUP($C94, 'Nanodrop Data Raw'!$C:$L, 10, FALSE)<>\"\", VLOOKUP($C94, 'Nanodrop Data Raw'!$C:$L, 10, FALSE), VLOOKUP($C94, 'Nanodrop Data Raw'!$C:$L, 2, FALSE))","v":{"$error":"#N/A"}},null,null,{"$error":"#N/A"},{"$f":"VLOOKUP($C94, 'Nanodrop Data Raw'!$C:$L, 3, FALSE)","v":{"$error":"#N/A"}},{"$f":"VLOOKUP($C94, 'Nanodrop Data Raw'!$C:$L, 4, FALSE)","v":{"$error":"#N/A"}},null,null,null,null,{"$f":"'Sample Information'!$H$6","v":0},{"$f":"'Sample Information'!$H$5","v":0},null,null,{"$f":"'Sample Information'!$H$7","v":0},null,{"$error":"#N/A"}]
[{"$f":"'Sample Information'!A95","v":94},{"$f":"'Sample Information'!B95","v":0},"0-RNA",{"$f":"'Sample Information'!D95","v":0},{"$f":"IF(VLOOKUP($C95, 'Nanodrop Data Raw'!$C:$L, 10, FALSE)<>\"\", VLOOKUP($C95, 'Nanodrop Data Raw'!$C:$L, 10, FALSE), VLOOKUP($C95, 'Nanodrop Data Raw'!$C:$L, 2, FALSE))","v":{"$error":"#N/A"}},null,null,{"$error":"#N/A"},{"$f":"VLOOKUP($C95, 'Nanodrop Data Raw'!$C:$L, 3, FALSE)","v":{"$error":"#N/A"}},{"$f":"VLOOKUP($C95, 'Nanodrop Data Raw'!$C:$L, 4, FALSE)","v":{"$error":"#N/A"}},null,null,null,null,{"$f":"'Sample Information'!$H$6","v":0},{"$f":"'Sample Information'!$H$5","v":0},null,null,{"$f":"'Sample Information'!$H$7","v":0},null,{"$error":"#N/A"}]
[{"$f":"'Sample Information'!A96","v":95},{"$f":"'Sample Information'!B96","v":0},"0-RNA",{"$f":"'Sample Information'!D96","v":0},{"$f":"IF(VLOOKUP($C96, 'Nanodrop Data Raw'!$C:$L, 10, FALSE)<>\"\", VLOOKUP($C96, 'Nanodrop Data Raw'!$C:$L, 10, FALSE), VLOOKUP($C96, 'Nanodrop Data Raw'!$C:$L, 2, FALSE))","v":{"$error":"#N/A"}},null,null,{"$error":"#N/A"},{"$f":"VLOOKUP($C96, 'Nanodrop Data Raw'!$C:$L, 3, FALSE)","v":{"$error":"#N/A"}},{"$f":"VLOOKUP($C96, 'Nanodrop Data Raw'!$C:$L, 4, FALSE)","v":{"$error":"#N/A"}},null,null,null,null,{"$f":"'Sample Information'!$H$6","v":0},{"$f":"'Sample Information'!$H$5","v":0},null,null,{"$f":"'Sample Information'!$H$7","v":0},null,{"$error":"#N/A"}]
[{"$f":"'Sample Information'!A97","v":96},{"$f":"'Sample Information'!B97","v":0},"0-RNA",{"$f":"'Sample Information'!D97","v":0},{"$f":"IF(VLOOKUP($C97, 'Nanodrop Data Raw'!$C:$L, 10, FALSE)<>\"\", VLOOKUP($C97, 'Nanodrop Data Raw'!$C:$L, 10, FALSE), VLOOKUP($C97, 'Nanodrop Data Raw'!$C:$L, 2, FALSE))","v":{"$error":"#N/A"}},null,null,{"$error":"#N/A"},{"$f":"VLOOKUP($C97, 'Nanodrop Data Raw'!$C:$L, 3, FALSE)","v":{"$error":"#N/A"}},{"$f":"VLOOKUP($C97, 'Nanodrop Data Raw'!$C:$L, 4, FALSE)","v":{"$error":"#N/A"}},null,null,null,null,{"$f":"'Sample Information'!$H$6","v":0},{"$f":"'Sample Information'!$H$5","v":0},null,null,{"$f":"'Sample Information'!$H$7","v":0},null,{"$error":"#N/A"}]
[{"$f":"'Sample Information'!A98","v":97},{"$f":"'Sample Information'!B98","v":0},"0-RNA",{"$f":"'Sample Information'!D98","v":0},{"$f":"IF(VLOOKUP($C98, 'Nanodrop Data Raw'!$C:$L, 10, FALSE)<>\"\", VLOOKUP($C98, 'Nanodrop Data Raw'!$C:$L, 10, FALSE), VLOOKUP($C98, 'Nanodrop Data Raw'!$C:$L, 2, FALSE))","v":{"$error":"#N/A"}},null,null,{"$error":"#N/A"},{"$f":"VLOOKUP($C98, 'Nanodrop Data Raw'!$C:$L, 3, FALSE)","v":{"$error":"#N/A"}},{"$f":"VLOOKUP($C98, 'Nanodrop Data Raw'!$C:$L, 4, FALSE)","v":{"$error":"#N/A"}},null,null,null,null,{"$f":"'Sample Information'!$H$6","v":0},{"$f":"'Sample Information'!$H$5","v":0},null,null,{"$f":"'Sample Information'!$H$7","v":0},null,{"$error":"#N/A"}]
[{"$f":"'Sample Information'!A99","v":98},{"$f":"'Sample Information'!B99","v":0},"0-RNA",{"$f":"'Sample Information'!D99","v":0},{"$f":"IF(VLOOKUP($C99, 'Nanodrop Data Raw'!$C:$L, 10, FALSE)<>\"\", VLOOKUP($C99, 'Nanodrop Data Raw'!$C:$L, 10, FALSE), VLOOKUP($C99, 'Nanodrop Data Raw'!$C:$L, 2, FALSE))","v":{"$error":"#N/A"}},null,null,{"$error":"#N/A"},{"$f":"VLOOKUP($C99, 'Nanodrop Data Raw'!$C:$L, 3, FALSE)","v":{"$error":"#N/A"}},{"$f":"VLOOKUP($C99, 'Nanodrop Data Raw'!$C:$L, 4, FALSE)","v":{"$error":"#N/A"}},null,null,null,null,{"$f":"'Sample Information'!$H$6","v":0},{"$f":"'Sample Information'!$H$5","v":0},null,null,{"$f":"'Sample Information'!$H$7","v":0},null,{"$error":"#N/A"}]
[{"$f":"'Sample Information'!A100","v":99},{"$f":"'Sample Information'!B100","v":0},"0-RNA",{"$f":"'Sample Information'!D100","v":0},{"$f":"IF(VLOOKUP($C100, 'Nanodrop Data Raw'!$C:$L, 10, FALSE)<>\"\", VLOOKUP($C100, 'Nanodrop Data Raw'!$C:$L, 10, FALSE), VLOOKUP($C100, 'Nanodrop Data Raw'!$C:$L, 2, FALSE))","v":{"$error":"#N/A"}},null,null,{"$error":"#N/A"},{"$f":"VLOOKUP($C100, 'Nanodrop Data Raw'!$C:$L, 3, FALSE)","v":{"$error":"#N/A"}},{"$f":"VLOOKUP($C100, 'Nanodrop Data Raw'!$C:$L, 4, FALSE)","v":{"$error":"#N/A"}},null,null,null,null,{"$f":"'Sample Information'!$H$6","v":0},{"$f":"'Sample Information'!$H$5","v":0},null,null,{"$f":"'Sample Information'!$H$7","v":0},null,{"$error":"#N/A"}]
[{"$f":"'Sample Information'!A101","v":100},{"$f":"'Sample Information'!B101","v":0},"0-RNA",{"$f":"'Sample Information'!D101","v":0},{"$f":"IF(VLOOKUP($C101, 'Nanodrop Data Raw'!$C:$L, 10, FALSE)<>\"\", VLOOKUP($C101, 'Nanodrop Data Raw'!$C:$L, 10, FALSE), VLOOKUP($C101, 'Nanodrop Data Raw'!$C:$L, 2, FALSE))","v":{"$error":"#N/A"}},null,null,{"$error":"#N/A"},{"$f":"VLOOKUP($C101, 'Nanodrop Data Raw'!$C:$L, 3, FALSE)","v":{"$error":"#N/A"}},{"$f":"VLOOKUP($C101, 'Nanodrop Data Raw'!$C:$L, 4, FALSE)","v":{"$error":"#N/A"}},null,null,null,null,{"$f":"'Sample Information'!$H$6","v":0},{"$f":"'Sample Information'!$H$5","v":0},null,null,{"$f":"'Sample Information'!$H$7","v":0},null,{"$error":"#N/A"}]
[{"$f":"'Sample Information'!A102","v":101},{"$f":"'Sample Information'!B102","v":0},"0-RNA",{"$f":"'Sample Information'!D102","v":0},{"$f":"IF(VLOOKUP($C102, 'Nanodrop Data Raw'!$C:$L, 10, FALSE)<>\"\", VLOOKUP($C102, 'Nanodrop Data Raw'!$C:$L, 10, FALSE), VLOOKUP($C102, 'Nanodrop Data Raw'!$C:$L, 2, FALSE))","v":{"$error":"#N/A"}},null,null,{"$error":"#N/A"},{"$f":"VLOOKUP($C102, 'Nanodrop Data Raw'!$C:$L, 3, FALSE)","v":{"$error":"#N/A"}},{"$f":"VLOOKUP($C102, 'Nanodrop Data Raw'!$C:$L, 4, FALSE)","v":{"$error":"#N/A"}},null,null,null,null,{"$f":"'Sample Information'!$H$6","v":0},{"$f":"'Sample Information'!$H$5","v":0},null,null,{"$f":"'Sample Information'!$H$7","v":0},null,{"$error":"#N/A"}]
[{"$f":"'Sample Information'!A103","v":102},{"$f":"'Sample Information'!B103","v":0},"0-RNA",{"$f":"'Sample Information'!D103","v":0},{"$f":"IF(VLOOKUP($C103, 'Nanodrop Data Raw'!$C:$L, 10, FALSE)<>\"\", VLOOKUP($C103, 'Nanodrop Data Raw'!$C:$L, 10, FALSE), VLOOKUP($C103, 'Nanodrop Data Raw'!$C:$L, 2, FALSE))","v":{"$error":"#N/A"}},null,null,{"$error":"#N/A"},{"$f":"VLOOKUP($C103, 'Nanodrop Data Raw'!$C:$L, 3, FALSE)","v":{"$error":"#N/A"}},{"$f":"VLOOKUP($C103, 'Nanodrop Data Raw'!$C:$L, 4, FALSE)","v":{"$error":"#N/A"}},null,null,null,null,{"$f":"'Sample Information'!$H$6","v":0},{"$f":"'Sample Information'!$H$5","v":0},null,null,{"$f":"'Sample Information'!$H$7","v":0},null,{"$error":"#N/A"}]
[{"$f":"'Sample Information'!A104","v":103},{"$f":"'Sample Information'!B104","v":0},"0-RNA",{"$f":"'Sample Information'!D104","v":0},{"$f":"IF(VLOOKUP($C104, 'Nanodrop Data Raw'!$C:$L, 10, FALSE)<>\"\", VLOOKUP($C104, 'Nanodrop Data Raw'!$C:$L, 10, FALSE), VLOOKUP($C104, 'Nanodrop Data Raw'!$C:$L, 2, FALSE))","v":{"$error":"#N/A"}},null,null,{"$error":"#N/A"},{"$f":"VLOOKUP($C104, 'Nanodrop Data Raw'!$C:$L, 3, FALSE)","v":{"$error":"#N/A"}},{"$f":"VLOOKUP($C104, 'Nanodrop Data Raw'!$C:$L, 4, FALSE)","v":{"$error":"#N/A"}},null,null,null,null,{"$f":"'Sample Information'!$H$6","v":0},{"$f":"'Sample Information'!$H$5","v":0},null,null,{"$f":"'Sample Information'!$H$7","v":0},null,{"$error":"#N/A"}]
[{"$f":"'Sample Information'!A105","v":104},{"$f":"'Sample Information'!B105","v":0},"0-RNA",{"$f":"'Sample Information'!D105","v":0},{"$f":"IF(VLOOKUP($C105, 'Nanodrop Data Raw'!$C:$L, 10, FALSE)<>\"\", VLOOKUP($C105, 'Nanodrop Data Raw'!$C:$L, 10, FALSE), VLOOKUP($C105, 'Nanodrop Data Raw'!$C:$L, 2, FALSE))","v":{"$error":"#N/A"}},null,null,{"$error":"#N/A"},{"$f":"VLOOKUP($C105, 'Nanodrop Data Raw'!$C:$L, 3, FALSE)","v":{"$error":"#N/A"}},{"$f":"VLOOKUP($C105, 'Nanodrop Data Raw'!$C:$L, 4, FALSE)","v":{"$error":"#N/A"}},null,null,null,null,{"$f":"'Sample Information'!$H$6","v":0},{"$f":"'Sample Information'!$H$5","v":0},null,null,{"$f":"'Sample Information'!$H$7","v":0},null,{"$error":"#N/A"}]
[{"$f":"'Sample Information'!A106","v":105},{"$f":"'Sample Information'!B106","v":0},"0-RNA",{"$f":"'Sample Information'!D106","v":0},{"$f":"IF(VLOOKUP($C106, 'Nanodrop Data Raw'!$C:$L, 10, FALSE)<>\"\", VLOOKUP($C106, 'Nanodrop Data Raw'!$C:$L, 10, FALSE), VLOOKUP($C106, 'Nanodrop Data Raw'!$C:$L, 2, FALSE))","v":{"$error":"#N/A"}},null,null,{"$error":"#N/A"},{"$f":"VLOOKUP($C106, 'Nanodrop Data Raw'!$C:$L, 3, FALSE)","v":{"$error":"#N/A"}},{"$f":"VLOOKUP($C106, 'Nanodrop Data Raw'!$C:$L, 4, FALSE)","v":{"$error":"#N/A"}},null,null,null,null,{"$f":"'Sample Information'!$H$6","v":0},{"$f":"'Sample Information'!$H$5","v":0},null,null,{"$f":"'Sample Information'!$H$7","v":0},null,{"$error":"#N/A"}]
[{"$f":"'Sample Information'!A107","v":106},{"$f":"'Sample Information'!B107","v":0},"0-RNA",{"$f":"'Sample Information'!D107","v":0},{"$f":"IF(VLOOKUP($C107, 'Nanodrop Data Raw'!$C:$L, 10, FALSE)<>\"\", VLOOKUP($C107, 'Nanodrop Data Raw'!$C:$L, 10, FALSE), VLOOKUP($C107, 'Nanodrop Data Raw'!$C:$L, 2, FALSE))","v":{"$error":"#N/A"}},null,null,{"$error":"#N/A"},{"$f":"VLOOKUP($C107, 'Nanodrop Data Raw'!$C:$L, 3, FALSE)","v":{"$error":"#N/A"}},{"$f":"VLOOKUP($C107, 'Nanodrop Data Raw'!$C:$L, 4, FALSE)","v":{"$error":"#N/A"}},null,null,null,null,{"$f":"'Sample Information'!$H$6","v":0},{"$f":"'Sample Information'!$H$5","v":0},null,null,{"$f":"'Sample Information'!$H$7","v":0},null,{"$error":"#N/A"}]
[{"$f":"'Sample Information'!A108","v":107},{"$f":"'Sample Information'!B108","v":0},"0-RNA",{"$f":"'Sample Information'!D108","v":0},{"$f":"IF(VLOOKUP($C108, 'Nanodrop Data Raw'!$C:$L, 10, FALSE)<>\"\", VLOOKUP($C108, 'Nanodrop Data Raw'!$C:$L, 10, FALSE), VLOOKUP($C108, 'Nanodrop Data Raw'!$C:$L, 2, FALSE))","v":{"$error":"#N/A"}},null,null,{"$error":"#N/A"},{"$f":"VLOOKUP($C108, 'Nanodrop Data Raw'!$C:$L, 3, FALSE)","v":{"$error":"#N/A"}},{"$f":"VLOOKUP($C108, 'Nanodrop Data Raw'!$C:$L, 4, FALSE)","v":{"$error":"#N/A"}},null,null,null,null,{"$f":"'Sample Information'!$H$6","v":0},{"$f":"'Sample Information'!$H$5","v":0},null,null,{"$f":"'Sample Information'!$H$7","v":0},null,{"$error":"#N/A"}]
[{"$f":"'Sample Information'!A109","v":108},{"$f":"'Sample Information'!B109","v":0},"0-RNA",{"$f":"'Sample Information'!D109","v":0},{"$f":"IF(VLOOKUP($C109, 'Nanodrop Data Raw'!$C:$L, 10, FALSE)<>\"\", VLOOKUP($C109, 'Nanodrop Data Raw'!$C:$L, 10, FALSE), VLOOKUP($C109, 'Nanodrop Data Raw'!$C:$L, 2, FALSE))","v":{"$error":"#N/A"}},null,null,{"$error":"#N/A"},{"$f":"VLOOKUP($C109, 'Nanodrop Data Raw'!$C:$L, 3, FALSE)","v":{"$error":"#N/A"}},{"$f":"VLOOKUP($C109, 'Nanodrop Data Raw'!$C:$L, 4, FALSE)","v":{"$error":"#N/A"}},null,null,null,null,{"$f":"'Sample Information'!$H$6","v":0},{"$f":"'Sample Information'!$H$5","v":0},null,null,{"$f":"'Sample Information'!$H$7","v":0},null,{"$error":"#N/A"}]
[{"$f":"'Sample Information'!A110","v":109},{"$f":"'Sample Information'!B110","v":0},"0-RNA",{"$f":"'Sample Information'!D110","v":0},{"$f":"IF(VLOOKUP($C110, 'Nanodrop Data Raw'!$C:$L, 10, FALSE)<>\"\", VLOOKUP($C110, 'Nanodrop Data Raw'!$C:$L, 10, FALSE), VLOOKUP($C110, 'Nanodrop Data Raw'!$C:$L, 2, FALSE))","v":{"$error":"#N/A"}},null,null,{"$error":"#N/A"},{"$f":"VLOOKUP($C110, 'Nanodrop Data Raw'!$C:$L, 3, FALSE)","v":{"$error":"#N/A"}},{"$f":"VLOOKUP($C110, 'Nanodrop Data Raw'!$C:$L, 4, FALSE)","v":{"$error":"#N/A"}},null,null,null,null,{"$f":"'Sample Information'!$H$6","v":0},{"$f":"'Sample Information'!$H$5","v":0},null,null,{"$f":"'Sample Information'!$H$7","v":0},null,{"$error":"#N/A"}]
[{"$f":"'Sample Information'!A111","v":110},{"$f":"'Sample Information'!B111","v":0},"0-RNA",{"$f":"'Sample Information'!D111","v":0},{"$f":"IF(VLOOKUP($C111, 'Nanodrop Data Raw'!$C:$L, 10, FALSE)<>\"\", VLOOKUP($C111, 'Nanodrop Data Raw'!$C:$L, 10, FALSE), VLOOKUP($C111, 'Nanodrop Data Raw'!$C:$L, 2, FALSE))","v":{"$error":"#N/A"}},null,null,{"$error":"#N/A"},{"$f":"VLOOKUP($C111, 'Nanodrop Data Raw'!$C:$L, 3, FALSE)","v":{"$error":"#N/A"}},{"$f":"VLOOKUP($C111, 'Nanodrop Data Raw'!$C:$L, 4, FALSE)","v":{"$error":"#N/A"}},null,null,null,null,{"$f":"'Sample Information'!$H$6","v":0},{"$f":"'Sample Information'!$H$5","v":0},null,null,{"$f":"'Sample Information'!$H$7","v":0},null,{"$error":"#N/A"}]
[{"$f":"'Sample Information'!A112","v":111},{"$f":"'Sample Information'!B112","v":0},"0-RNA",{"$f":"'Sample Information'!D112","v":0},{"$f":"IF(VLOOKUP($C112, 'Nanodrop Data Raw'!$C:$L, 10, FALSE)<>\"\", VLOOKUP($C112, 'Nanodrop Data Raw'!$C:$L, 10, FALSE), VLOOKUP($C112, 'Nanodrop Data Raw'!$C:$L, 2, FALSE))","v":{"$error":"#N/A"}},null,null,{"$error":"#N/A"},{"$f":"VLOOKUP($C112, 'Nanodrop Data Raw'!$C:$L, 3, FALSE)","v":{"$error":"#N/A"}},{"$f":"VLOOKUP($C112, 'Nanodrop Data Raw'!$C:$L, 4, FALSE)","v":{"$error":"#N/A"}},null,null,null,null,{"$f":"'Sample Information'!$H$6","v":0},{"$f":"'Sample Information'!$H$5","v":0},null,null,{"$f":"'Sample Information'!$H$7","v":0},null,{"$error":"#N/A"}]
[{"$f":"'Sample Information'!A113","v":112},{"$f":"'Sample Information'!B113","v":0},"0-RNA",{"$f":"'Sample Information'!D113","v":0},{"$f":"IF(VLOOKUP($C113, 'Nanodrop Data Raw'!$C:$L, 10, FALSE)<>\"\", VLOOKUP($C113, 'Nanodrop Data Raw'!$C:$L, 10, FALSE), VLOOKUP($C113, 'Nanodrop Data Raw'!$C:$L, 2, FALSE))","v":{"$error":"#N/A"}},null,null,{"$error":"#N/A"},{"$f":"VLOOKUP($C113, 'Nanodrop Data Raw'!$C:$L, 3, FALSE)","v":{"$error":"#N/A"}},{"$f":"VLOOKUP($C113, 'Nanodrop Data Raw'!$C:$L, 4, FALSE)","v":{"$error":"#N/A"}},null,null,null,null,{"$f":"'Sample Information'!$H$6","v":0},{"$f":"'Sample Information'!$H$5","v":0},null,null,{"$f":"'Sample Information'!$H$7","v":0},null,{"$error":"#N/A"}]
[{"$f":"'Sample Information'!A114","v":113},{"$f":"'Sample Information'!B114","v":0},"0-RNA",{"$f":"'Sample Information'!D114","v":0},{"$f":"IF(VLOOKUP($C114, 'Nanodrop Data Raw'!$C:$L, 10, FALSE)<>\"\", VLOOKUP($C114, 'Nanodrop Data Raw'!$C:$L, 10, FALSE), VLOOKUP($C114, 'Nanodrop Data Raw'!$C:$L, 2, FALSE))","v":{"$error":"#N/A"}},null,null,{"$error":"#N/A"},{"$f":"VLOOKUP($C114, 'Nanodrop Data Raw'!$C:$L, 3, FALSE)","v":{"$error":"#N/A"}},{"$f":"VLOOKUP($C114, 'Nanodrop Data Raw'!$C:$L, 4, FALSE)","v":{"$error":"#N/A"}},null,null,null,null,{"$f":"'Sample Information'!$H$6","v":0},{"$f":"'Sample Information'!$H$5","v":0},null,null,{"$f":"'Sample Information'!$H$7","v":0},null,{"$error":"#N/A"}]
[{"$f":"'Sample Information'!A115","v":114},{"$f":"'Sample Information'!B115","v":0},"0-RNA",{"$f":"'Sample Information'!D115","v":0},{"$f":"IF(VLOOKUP($C115, 'Nanodrop Data Raw'!$C:$L, 10, FALSE)<>\"\", VLOOKUP($C115, 'Nanodrop Data Raw'!$C:$L, 10, FALSE), VLOOKUP($C115, 'Nanodrop Data Raw'!$C:$L, 2, FALSE))","v":{"$error":"#N/A"}},null,null,{"$error":"#N/A"},{"$f":"VLOOKUP($C115, 'Nanodrop Data Raw'!$C:$L, 3, FALSE)","v":{"$error":"#N/A"}},{"$f":"VLOOKUP($C115, 'Nanodrop Data Raw'!$C:$L, 4, FALSE)","v":{"$error":"#N/A"}},null,null,null,null,{"$f":"'Sample Information'!$H$6","v":0},{"$f":"'Sample Information'!$H$5","v":0},null,null,{"$f":"'Sample Information'!$H$7","v":0},null,{"$error":"#N/A"}]
[{"$f":"'Sample Information'!A116","v":115},{"$f":"'Sample Information'!B116","v":0},"0-RNA",{"$f":"'Sample Information'!D116","v":0},{"$f":"IF(VLOOKUP($C116, 'Nanodrop Data Raw'!$C:$L, 10, FALSE)<>\"\", VLOOKUP($C116, 'Nanodrop Data Raw'!$C:$L, 10, FALSE), VLOOKUP($C116, 'Nanodrop Data Raw'!$C:$L, 2, FALSE))","v":{"$error":"#N/A"}},null,null,{"$error":"#N/A"},{"$f":"VLOOKUP($C116, 'Nanodrop Data Raw'!$C:$L, 3, FALSE)","v":{"$error":"#N/A"}},{"$f":"VLOOKUP($C116, 'Nanodrop Data Raw'!$C:$L, 4, FALSE)","v":{"$error":"#N/A"}},null,null,null,null,{"$f":"'Sample Information'!$H$6","v":0},{"$f":"'Sample Information'!$H$5","v":0},null,null,{"$f":"'Sample Information'!$H$7","v":0},null,{"$error":"#N/A"}]
[{"$f":"'Sample Information'!A117","v":116},{"$f":"'Sample Information'!B117","v":0},"0-RNA",{"$f":"'Sample Information'!D117","v":0},{"$f":"IF(VLOOKUP($C117, 'Nanodrop Data Raw'!$C:$L, 10, FALSE)<>\"\", VLOOKUP($C117, 'Nanodrop Data Raw'!$C:$L, 10, FALSE), VLOOKUP($C117, 'Nanodrop Data Raw'!$C:$L, 2, FALSE))","v":{"$error":"#N/A"}},null,null,{"$error":"#N/A"},{"$f":"VLOOKUP($C117, 'Nanodrop Data Raw'!$C:$L, 3, FALSE)","v":{"$error":"#N/A"}},{"$f":"VLOOKUP($C117, 'Nanodrop Data Raw'!$C:$L, 4, FALSE)","v":{"$error":"#N/A"}},null,null,null,null,{"$f":"'Sample Information'!$H$6","v":0},{"$f":"'Sample Information'!$H$5","v":0},null,null,{"$f":"'Sample Information'!$H$7","v":0},null,{"$error":"#N/A"}]
[{"$f":"'Sample Information'!A118","v":117},{"$f":"'Sample Information'!B118","v":0},"0-RNA",{"$f":"'Sample Information'!D118","v":0},{"$f":"IF(VLOOKUP($C118, 'Nanodrop Data Raw'!$C:$L, 10, FALSE)<>\"\", VLOOKUP($C118, 'Nanodrop Data Raw'!$C:$L, 10, FALSE), VLOOKUP($C118, 'Nanodrop Data Raw'!$C:$L, 2, FALSE))","v":{"$error":"#N/A"}},null,null,{"$error":"#N/A"},{"$f":"VLOOKUP($C118, 'Nanodrop Data Raw'!$C:$L, 3, FALSE)","v":{"$error":"#N/A"}},{"$f":"VLOOKUP($C118, 'Nanodrop Data Raw'!$C:$L, 4, FALSE)","v":{"$error":"#N/A"}},null,null,null,null,{"$f":"'Sample Information'!$H$6","v":0},{"$f":"'Sample Information'!$H$5","v":0},null,null,{"$f":"'Sample Information'!$H$7","v":0},null,{"$error":"#N/A"}]
[{"$f":"'Sample Information'!A119","v":118},{"$f":"'Sample Information'!B119","v":0},"0-RNA",{"$f":"'Sample Information'!D119","v":0},{"$f":"IF(VLOOKUP($C119, 'Nanodrop Data Raw'!$C:$L, 10, FALSE)<>\"\", VLOOKUP($C119, 'Nanodrop Data Raw'!$C:$L, 10, FALSE), VLOOKUP($C119, 'Nanodrop Data Raw'!$C:$L, 2, FALSE))","v":{"$error":"#N/A"}},null,null,{"$error":"#N/A"},{"$f":"VLOOKUP($C119, 'Nanodrop Data Raw'!$C:$L, 3, FALSE)","v":{"$error":"#N/A"}},{"$f":"VLOOKUP($C119, 'Nanodrop Data Raw'!$C:$L, 4, FALSE)","v":{"$error":"#N/A"}},null,null,null,null,{"$f":"'Sample Information'!$H$6","v":0},{"$f":"'Sample Information'!$H$5","v":0},null,null,{"$f":"'Sample Information'!$H$7","v":0},null,{"$error":"#N/A"}]
[{"$f":"'Sample Information'!A120","v":119},{"$f":"'Sample Information'!B120","v":0},"0-RNA",{"$f":"'Sample Information'!D120","v":0},{"$f":"IF(VLOOKUP($C120, 'Nanodrop Data Raw'!$C:$L, 10, FALSE)<>\"\", VLOOKUP($C120, 'Nanodrop Data Raw'!$C:$L, 10, FALSE), VLOOKUP($C120, 'Nanodrop Data Raw'!$C:$L, 2, FALSE))","v":{"$error":"#N/A"}},null,null,{"$error":"#N/A"},{"$f":"VLOOKUP($C120, 'Nanodrop Data Raw'!$C:$L, 3, FALSE)","v":{"$error":"#N/A"}},{"$f":"VLOOKUP($C120, 'Nanodrop Data Raw'!$C:$L, 4, FALSE)","v":{"$error":"#N/A"}},null,null,null,null,{"$f":"'Sample Information'!$H$6","v":0},{"$f":"'Sample Information'!$H$5","v":0},null,null,{"$f":"'Sample Information'!$H$7","v":0},null,{"$error":"#N/A"}]
[{"$f":"'Sample Information'!A121","v":120},{"$f":"'Sample Information'!B121","v":0},"0-RNA",{"$f":"'Sample Information'!D121","v":0},{"$f":"IF(VLOOKUP($C121, 'Nanodrop Data Raw'!$C:$L, 10, FALSE)<>\"\", VLOOKUP($C121, 'Nanodrop Data Raw'!$C:$L, 10, FALSE), VLOOKUP($C121, 'Nanodrop Data Raw'!$C:$L, 2, FALSE))","v":{"$error":"#N/A"}},null,null,{"$error":"#N/A"},{"$f":"VLOOKUP($C121, 'Nanodrop Data Raw'!$C:$L, 3, FALSE)","v":{"$error":"#N/A"}},{"$f":"VLOOKUP($C121, 'Nanodrop Data Raw'!$C:$L, 4, FALSE)","v":{"$error":"#N/A"}},null,null,null,null,{"$f":"'Sample Information'!$H$6","v":0},{"$f":"'Sample Information'!$H$5","v":0},null,null,{"$f":"'Sample Information'!$H$7","v":0},null,{"$error":"#N/A"}]
[{"$f":"'Sample Information'!A122","v":121},{"$f":"'Sample Information'!B122","v":0},"0-RNA",{"$f":"'Sample Information'!D122","v":0},{"$f":"IF(VLOOKUP($C122, 'Nanodrop Data Raw'!$C:$L, 10, FALSE)<>\"\", VLOOKUP($C122, 'Nanodrop Data Raw'!$C:$L, 10, FALSE), VLOOKUP($C122, 'Nanodrop Data Raw'!$C:$L, 2, FALSE))","v":{"$error":"#N/A"}},null,null,{"$error":"#N/A"},{"$f":"VLOOKUP($C122, 'Nanodrop Data Raw'!$C:$L, 3, FALSE)","v":{"$error":"#N/A"}},{"$f":"VLOOKUP($C122, 'Nanodrop Data Raw'!$C:$L, 4, FALSE)","v":{"$error":"#N/A"}},null,null,null,null,{"$f":"'Sample Information'!$H$6","v":0},{"$f":"'Sample Information'!$H$5","v":0},null,null,{"$f":"'Sample Information'!$H$7","v":0},null,{"$error":"#N/A"}]
[{"$f":"'Sample Information'!A123","v":122},{"$f":"'Sample Information'!B123","v":0},"0-RNA",{"$f":"'Sample Information'!D123","v":0},{"$f":"IF(VLOOKUP($C123, 'Nanodrop Data Raw'!$C:$L, 10, FALSE)<>\"\", VLOOKUP($C123, 'Nanodrop Data Raw'!$C:$L, 10, FALSE), VLOOKUP($C123, 'Nanodrop Data Raw'!$C:$L, 2, FALSE))","v":{"$error":"#N/A"}},null,null,{"$error":"#N/A"},{"$f":"VLOOKUP($C123, 'Nanodrop Data Raw'!$C:$L, 3, FALSE)","v":{"$error":"#N/A"}},{"$f":"VLOOKUP($C123, 'Nanodrop Data Raw'!$C:$L, 4, FALSE)","v":{"$error":"#N/A"}},null,null,null,null,{"$f":"'Sample Information'!$H$6","v":0},{"$f":"'Sample Information'!$H$5","v":0},null,null,{"$f":"'Sample Information'!$H$7","v":0},null,{"$error":"#N/A"}]
[{"$f":"'Sample Information'!A124","v":123},{"$f":"'Sample Information'!B124","v":0},"0-RNA",{"$f":"'Sample Information'!D124","v":0},{"$f":"IF(VLOOKUP($C124, 'Nanodrop Data Raw'!$C:$L, 10, FALSE)<>\"\", VLOOKUP($C124, 'Nanodrop Data Raw'!$C:$L, 10, FALSE), VLOOKUP($C124, 'Nanodrop Data Raw'!$C:$L, 2, FALSE))","v":{"$error":"#N/A"}},null,null,{"$error":"#N/A"},{"$f":"VLOOKUP($C124, 'Nanodrop Data Raw'!$C:$L, 3, FALSE)","v":{"$error":"#N/A"}},{"$f":"VLOOKUP($C124, 'Nanodrop Data Raw'!$C:$L, 4, FALSE)","v":{"$error":"#N/A"}},null,null,null,null,{"$f":"'Sample Information'!$H$6","v":0},{"$f":"'Sample Information'!$H$5","v":0},null,null,{"$f":"'Sample Information'!$H$7","v":0},null,{"$error":"#N/A"}]
[{"$f":"'Sample Information'!A125","v":124},{"$f":"'Sample Information'!B125","v":0},"0-RNA",{"$f":"'Sample Information'!D125","v":0},{"$f":"IF(VLOOKUP($C125, 'Nanodrop Data Raw'!$C:$L, 10, FALSE)<>\"\", VLOOKUP($C125, 'Nanodrop Data Raw'!$C:$L, 10, FALSE), VLOOKUP($C125, 'Nanodrop Data Raw'!$C:$L, 2, FALSE))","v":{"$error":"#N/A"}},null,null,{"$error":"#N/A"},{"$f":"VLOOKUP($C125, 'Nanodrop Data Raw'!$C:$L, 3, FALSE)","v":{"$error":"#N/A"}},{"$f":"VLOOKUP($C125, 'Nanodrop Data Raw'!$C:$L, 4, FALSE)","v":{"$error":"#N/A"}},null,null,null,null,{"$f":"'Sample Information'!$H$6","v":0},{"$f":"'Sample Information'!$H$5","v":0},null,null,{"$f":"'Sample Information'!$H$7","v":0},null,{"$error":"#N/A"}]
[{"$f":"'Sample Information'!A126","v":125},{"$f":"'Sample Information'!B126","v":0},"0-RNA",{"$f":"'Sample Information'!D126","v":0},{"$f":"IF(VLOOKUP($C126, 'Nanodrop Data Raw'!$C:$L, 10, FALSE)<>\"\", VLOOKUP($C126, 'Nanodrop Data Raw'!$C:$L, 10, FALSE), VLOOKUP($C126, 'Nanodrop Data Raw'!$C:$L, 2, FALSE))","v":{"$error":"#N/A"}},null,null,{"$error":"#N/A"},{"$f":"VLOOKUP($C126, 'Nanodrop Data Raw'!$C:$L, 3, FALSE)","v":{"$error":"#N/A"}},{"$f":"VLOOKUP($C126, 'Nanodrop Data Raw'!$C:$L, 4, FALSE)","v":{"$error":"#N/A"}},null,null,null,null,{"$f":"'Sample Information'!$H$6","v":0},{"$f":"'Sample Information'!$H$5","v":0},null,null,{"$f":"'Sample Information'!$H$7","v":0},null,{"$error":"#N/A"}]
[{"$f":"'Sample Information'!A127","v":126},{"$f":"'Sample Information'!B127","v":0},"0-RNA",{"$f":"'Sample Information'!D127","v":0},{"$f":"IF(VLOOKUP($C127, 'Nanodrop Data Raw'!$C:$L, 10, FALSE)<>\"\", VLOOKUP($C127, 'Nanodrop Data Raw'!$C:$L, 10, FALSE), VLOOKUP($C127, 'Nanodrop Data Raw'!$C:$L, 2, FALSE))","v":{"$error":"#N/A"}},null,null,{"$error":"#N/A"},{"$f":"VLOOKUP($C127, 'Nanodrop Data Raw'!$C:$L, 3, FALSE)","v":{"$error":"#N/A"}},{"$f":"VLOOKUP($C127, 'Nanodrop Data Raw'!$C:$L, 4, FALSE)","v":{"$error":"#N/A"}},null,null,null,null,{"$f":"'Sample Information'!$H$6","v":0},{"$f":"'Sample Information'!$H$5","v":0},null,null,{"$f":"'Sample Information'!$H$7","v":0},null,{"$error":"#N/A"}]
[{"$f":"'Sample Information'!A128","v":127},{"$f":"'Sample Information'!B128","v":0},"0-RNA",{"$f":"'Sample Information'!D128","v":0},{"$f":"IF(VLOOKUP($C128, 'Nanodrop Data Raw'!$C:$L, 10, FALSE)<>\"\", VLOOKUP($C128, 'Nanodrop Data Raw'!$C:$L, 10, FALSE), VLOOKUP($C128, 'Nanodrop Data Raw'!$C:$L, 2, FALSE))","v":{"$error":"#N/A"}},null,null,{"$error":"#N/A"},{"$f":"VLOOKUP($C128, 'Nanodrop Data Raw'!$C:$L, 3, FALSE)","v":{"$error":"#N/A"}},{"$f":"VLOOKUP($C128, 'Nanodrop Data Raw'!$C:$L, 4, FALSE)","v":{"$error":"#N/A"}},null,null,null,null,{"$f":"'Sample Information'!$H$6","v":0},{"$f":"'Sample Information'!$H$5","v":0},null,null,{"$f":"'Sample Information'!$H$7","v":0},null,{"$error":"#N/A"}]
[{"$f":"'Sample Information'!A129","v":128},{"$f":"'Sample Information'!B129","v":0},"0-RNA",{"$f":"'Sample Information'!D129","v":0},{"$f":"IF(VLOOKUP($C129, 'Nanodrop Data Raw'!$C:$L, 10, FALSE)<>\"\", VLOOKUP($C129, 'Nanodrop Data Raw'!$C:$L, 10, FALSE), VLOOKUP($C129, 'Nanodrop Data Raw'!$C:$L, 2, FALSE))","v":{"$error":"#N/A"}},null,null,{"$error":"#N/A"},{"$f":"VLOOKUP($C129, 'Nanodrop Data Raw'!$C:$L, 3, FALSE)","v":{"$error":"#N/A"}},{"$f":"VLOOKUP($C129, 'Nanodrop Data Raw'!$C:$L, 4, FALSE)","v":{"$error":"#N/A"}},null,null,null,null,{"$f":"'Sample Information'!$H$6","v":0},{"$f":"'Sample Information'!$H$5","v":0},null,null,{"$f":"'Sample Information'!$H$7","v":0},null,{"$error":"#N/A"}]
[{"$f":"'Sample Information'!A130","v":129},{"$f":"'Sample Information'!B130","v":0},"0-RNA",{"$f":"'Sample Information'!D130","v":0},{"$f":"IF(VLOOKUP($C130, 'Nanodrop Data Raw'!$C:$L, 10, FALSE)<>\"\", VLOOKUP($C130, 'Nanodrop Data Raw'!$C:$L, 10, FALSE), VLOOKUP($C130, 'Nanodrop Data Raw'!$C:$L, 2, FALSE))","v":{"$error":"#N/A"}},null,null,{"$error":"#N/A"},{"$f":"VLOOKUP($C130, 'Nanodrop Data Raw'!$C:$L, 3, FALSE)","v":{"$error":"#N/A"}},{"$f":"VLOOKUP($C130, 'Nanodrop Data Raw'!$C:$L, 4, FALSE)","v":{"$error":"#N/A"}},null,null,null,null,{"$f":"'Sample Information'!$H$6","v":0},{"$f":"'Sample Information'!$H$5","v":0},null,null,{"$f":"'Sample Information'!$H$7","v":0},null,{"$error":"#N/A"}]
[{"$f":"'Sample Information'!A131","v":130},{"$f":"'Sample Information'!B131","v":0},{"$f":"CONCATENATE(B131,\"-RNA\")","v":"0-RNA"},{"$f":"'Sample Information'!D131","v":0},{"$f":"IF(VLOOKUP($C131, 'Nanodrop Data Raw'!$C:$L, 10, FALSE)<>\"\", VLOOKUP($C131, 'Nanodrop Data Raw'!$C:$L, 10, FALSE), VLOOKUP($C131, 'Nanodrop Data Raw'!$C:$L, 2, FALSE))","v":{"$error":"#N/A"}},null,null,{"$f":"E131*F131/1000","v":{"$error":"#N/A"}},{"$f":"VLOOKUP($C131, 'Nanodrop Data Raw'!$C:$L, 3, FALSE)","v":{"$error":"#N/A"}},{"$f":"VLOOKUP($C131, 'Nanodrop Data Raw'!$C:$L, 4, FALSE)","v":{"$error":"#N/A"}},null,null,null,null,{"$f":"'Sample Information'!$H$6","v":0},{"$f":"'Sample Information'!$H$5","v":0},null,null,{"$f":"'Sample Information'!$H$7","v":0},null,{"$f":"$N131/$E131","v":{"$error":"#N/A"}}]
[{"$f":"'Sample Information'!A132","v":131},{"$f":"'Sample Information'!B132","v":0},"0-RNA",{"$f":"'Sample Information'!D132","v":0},{"$f":"IF(VLOOKUP($C132, 'Nanodrop Data Raw'!$C:$L, 10, FALSE)<>\"\", VLOOKUP($C132, 'Nanodrop Data Raw'!$C:$L, 10, FALSE), VLOOKUP($C132, 'Nanodrop Data Raw'!$C:$L, 2, FALSE))","v":{"$error":"#N/A"}},null,null,{"$error":"#N/A"},{"$f":"VLOOKUP($C132, 'Nanodrop Data Raw'!$C:$L, 3, FALSE)","v":{"$error":"#N/A"}},{"$f":"VLOOKUP($C132, 'Nanodrop Data Raw'!$C:$L, 4, FALSE)","v":{"$error":"#N/A"}},null,null,null,null,{"$f":"'Sample Information'!$H$6","v":0},{"$f":"'Sample Information'!$H$5","v":0},null,null,{"$f":"'Sample Information'!$H$7","v":0},null,{"$error":"#N/A"}]
[{"$f":"'Sample Information'!A133","v":132},{"$f":"'Sample Information'!B133","v":0},"0-RNA",{"$f":"'Sample Information'!D133","v":0},{"$f":"IF(VLOOKUP($C133, 'Nanodrop Data Raw'!$C:$L, 10, FALSE)<>\"\", VLOOKUP($C133, 'Nanodrop Data Raw'!$C:$L, 10, FALSE), VLOOKUP($C133, 'Nanodrop Data Raw'!$C:$L, 2, FALSE))","v":{"$error":"#N/A"}},null,null,{"$error":"#N/A"},{"$f":"VLOOKUP($C133, 'Nanodrop Data Raw'!$C:$L, 3, FALSE)","v":{"$error":"#N/A"}},{"$f":"VLOOKUP($C133, 'Nanodrop Data Raw'!$C:$L, 4, FALSE)","v":{"$error":"#N/A"}},null,null,null,null,{"$f":"'Sample Information'!$H$6","v":0},{"$f":"'Sample Information'!$H$5","v":0},null,null,{"$f":"'Sample Information'!$H$7","v":0},null,{"$error":"#N/A"}]
[{"$f":"'Sample Information'!A134","v":133},{"$f":"'Sample Information'!B134","v":0},"0-RNA",{"$f":"'Sample Information'!D134","v":0},{"$f":"IF(VLOOKUP($C134, 'Nanodrop Data Raw'!$C:$L, 10, FALSE)<>\"\", VLOOKUP($C134, 'Nanodrop Data Raw'!$C:$L, 10, FALSE), VLOOKUP($C134, 'Nanodrop Data Raw'!$C:$L, 2, FALSE))","v":{"$error":"#N/A"}},null,null,{"$error":"#N/A"},{"$f":"VLOOKUP($C134, 'Nanodrop Data Raw'!$C:$L, 3, FALSE)","v":{"$error":"#N/A"}},{"$f":"VLOOKUP($C134, 'Nanodrop Data Raw'!$C:$L, 4, FALSE)","v":{"$error":"#N/A"}},null,null,null,null,{"$f":"'Sample Information'!$H$6","v":0},{"$f":"'Sample Information'!$H$5","v":0},null,null,{"$f":"'Sample Information'!$H$7","v":0},null,{"$error":"#N/A"}]
[{"$f":"'Sample Information'!A135","v":134},{"$f":"'Sample Information'!B135","v":0},"0-RNA",{"$f":"'Sample Information'!D135","v":0},{"$f":"IF(VLOOKUP($C135, 'Nanodrop Data Raw'!$C:$L, 10, FALSE)<>\"\", VLOOKUP($C135, 'Nanodrop Data Raw'!$C:$L, 10, FALSE), VLOOKUP($C135, 'Nanodrop Data Raw'!$C:$L, 2, FALSE))","v":{"$error":"#N/A"}},null,null,{"$error":"#N/A"},{"$f":"VLOOKUP($C135, 'Nanodrop Data Raw'!$C:$L, 3, FALSE)","v":{"$error":"#N/A"}},{"$f":"VLOOKUP($C135, 'Nanodrop Data Raw'!$C:$L, 4, FALSE)","v":{"$error":"#N/A"}},null,null,null,null,{"$f":"'Sample Information'!$H$6","v":0},{"$f":"'Sample Information'!$H$5","v":0},null,null,{"$f":"'Sample Information'!$H$7","v":0},null,{"$error":"#N/A"}]
[{"$f":"'Sample Information'!A136","v":135},{"$f":"'Sample Information'!B136","v":0},"0-RNA",{"$f":"'Sample Information'!D136","v":0},{"$f":"IF(VLOOKUP($C136, 'Nanodrop Data Raw'!$C:$L, 10, FALSE)<>\"\", VLOOKUP($C136, 'Nanodrop Data Raw'!$C:$L, 10, FALSE), VLOOKUP($C136, 'Nanodrop Data Raw'!$C:$L, 2, FALSE))","v":{"$error":"#N/A"}},null,null,{"$error":"#N/A"},{"$f":"VLOOKUP($C136, 'Nanodrop Data Raw'!$C:$L, 3, FALSE)","v":{"$error":"#N/A"}},{"$f":"VLOOKUP($C136, 'Nanodrop Data Raw'!$C:$L, 4, FALSE)","v":{"$error":"#N/A"}},null,null,null,null,{"$f":"'Sample Information'!$H$6","v":0},{"$f":"'Sample Information'!$H$5","v":0},null,null,{"$f":"'Sample Information'!$H$7","v":0},null,{"$error":"#N/A"}]
[{"$f":"'Sample Information'!A137","v":136},{"$f":"'Sample Information'!B137","v":0},"0-RNA",{"$f":"'Sample Information'!D137","v":0},{"$f":"IF(VLOOKUP($C137, 'Nanodrop Data Raw'!$C:$L, 10, FALSE)<>\"\", VLOOKUP($C137, 'Nanodrop Data Raw'!$C:$L, 10, FALSE), VLOOKUP($C137, 'Nanodrop Data Raw'!$C:$L, 2, FALSE))","v":{"$error":"#N/A"}},null,null,{"$error":"#N/A"},{"$f":"VLOOKUP($C137, 'Nanodrop Data Raw'!$C:$L, 3, FALSE)","v":{"$error":"#N/A"}},{"$f":"VLOOKUP($C137, 'Nanodrop Data Raw'!$C:$L, 4, FALSE)","v":{"$error":"#N/A"}},null,null,null,null,{"$f":"'Sample Information'!$H$6","v":0},{"$f":"'Sample Information'!$H$5","v":0},null,null,{"$f":"'Sample Information'!$H$7","v":0},null,{"$error":"#N/A"}]
[{"$f":"'Sample Information'!A138","v":137},{"$f":"'Sample Information'!B138","v":0},"0-RNA",{"$f":"'Sample Information'!D138","v":0},{"$f":"IF(VLOOKUP($C138, 'Nanodrop Data Raw'!$C:$L, 10, FALSE)<>\"\", VLOOKUP($C138, 'Nanodrop Data Raw'!$C:$L, 10, FALSE), VLOOKUP($C138, 'Nanodrop Data Raw'!$C:$L, 2, FALSE))","v":{"$error":"#N/A"}},null,null,{"$error":"#N/A"},{"$f":"VLOOKUP($C138, 'Nanodrop Data Raw'!$C:$L, 3, FALSE)","v":{"$error":"#N/A"}},{"$f":"VLOOKUP($C138, 'Nanodrop Data Raw'!$C:$L, 4, FALSE)","v":{"$error":"#N/A"}},null,null,null,null,{"$f":"'Sample Information'!$H$6","v":0},{"$f":"'Sample Information'!$H$5","v":0},null,null,{"$f":"'Sample Information'!$H$7","v":0},null,{"$error":"#N/A"}]
[{"$f":"'Sample Information'!A139","v":138},{"$f":"'Sample Information'!B139","v":0},"0-RNA",{"$f":"'Sample Information'!D139","v":0},{"$f":"IF(VLOOKUP($C139, 'Nanodrop Data Raw'!$C:$L, 10, FALSE)<>\"\", VLOOKUP($C139, 'Nanodrop Data Raw'!$C:$L, 10, FALSE), VLOOKUP($C139, 'Nanodrop Data Raw'!$C:$L, 2, FALSE))","v":{"$error":"#N/A"}},null,null,{"$error":"#N/A"},{"$f":"VLOOKUP($C139, 'Nanodrop Data Raw'!$C:$L, 3, FALSE)","v":{"$error":"#N/A"}},{"$f":"VLOOKUP($C139, 'Nanodrop Data Raw'!$C:$L, 4, FALSE)","v":{"$error":"#N/A"}},null,null,null,null,{"$f":"'Sample Information'!$H$6","v":0},{"$f":"'Sample Information'!$H$5","v":0},null,null,{"$f":"'Sample Information'!$H$7","v":0},null,{"$error":"#N/A"}]
[{"$f":"'Sample Information'!A140","v":139},{"$f":"'Sample Information'!B140","v":0},"0-RNA",{"$f":"'Sample Information'!D140","v":0},{"$f":"IF(VLOOKUP($C140, 'Nanodrop Data Raw'!$C:$L, 10, FALSE)<>\"\", VLOOKUP($C140, 'Nanodrop Data Raw'!$C:$L, 10, FALSE), VLOOKUP($C140, 'Nanodrop Data Raw'!$C:$L, 2, FALSE))","v":{"$error":"#N/A"}},null,null,{"$error":"#N/A"},{"$f":"VLOOKUP($C140, 'Nanodrop Data Raw'!$C:$L, 3, FALSE)","v":{"$error":"#N/A"}},{"$f":"VLOOKUP($C140, 'Nanodrop Data Raw'!$C:$L, 4, FALSE)","v":{"$error":"#N/A"}},null,null,null,null,{"$f":"'Sample Information'!$H$6","v":0},{"$f":"'Sample Information'!$H$5","v":0},null,null,{"$f":"'Sample Information'!$H$7","v":0},null,{"$error":"#N/A"}]
[{"$f":"'Sample Information'!A141","v":140},{"$f":"'Sample Information'!B141","v":0},"0-RNA",{"$f":"'Sample Information'!D141","v":0},{"$f":"IF(VLOOKUP($C141, 'Nanodrop Data Raw'!$C:$L, 10, FALSE)<>\"\", VLOOKUP($C141, 'Nanodrop Data Raw'!$C:$L, 10, FALSE), VLOOKUP($C141, 'Nanodrop Data Raw'!$C:$L, 2, FALSE))","v":{"$error":"#N/A"}},null,null,{"$error":"#N/A"},{"$f":"VLOOKUP($C141, 'Nanodrop Data Raw'!$C:$L, 3, FALSE)","v":{"$error":"#N/A"}},{"$f":"VLOOKUP($C141, 'Nanodrop Data Raw'!$C:$L, 4, FALSE)","v":{"$error":"#N/A"}},null,null,null,null,{"$f":"'Sample Information'!$H$6","v":0},{"$f":"'Sample Information'!$H$5","v":0},null,null,{"$f":"'Sample Information'!$H$7","v":0},null,{"$error":"#N/A"}]
[{"$f":"'Sample Information'!A142","v":141},{"$f":"'Sample Information'!B142","v":0},"0-RNA",{"$f":"'Sample Information'!D142","v":0},{"$f":"IF(VLOOKUP($C142, 'Nanodrop Data Raw'!$C:$L, 10, FALSE)<>\"\", VLOOKUP($C142, 'Nanodrop Data Raw'!$C:$L, 10, FALSE), VLOOKUP($C142, 'Nanodrop Data Raw'!$C:$L, 2, FALSE))","v":{"$error":"#N/A"}},null,null,{"$error":"#N/A"},{"$f":"VLOOKUP($C142, 'Nanodrop Data Raw'!$C:$L, 3, FALSE)","v":{"$error":"#N/A"}},{"$f":"VLOOKUP($C142, 'Nanodrop Data Raw'!$C:$L, 4, FALSE)","v":{"$error":"#N/A"}},null,null,null,null,{"$f":"'Sample Information'!$H$6","v":0},{"$f":"'Sample Information'!$H$5","v":0},null,null,{"$f":"'Sample Information'!$H$7","v":0},null,{"$error":"#N/A"}]
[{"$f":"'Sample Information'!A143","v":142},{"$f":"'Sample Information'!B143","v":0},"0-RNA",{"$f":"'Sample Information'!D143","v":0},{"$f":"IF(VLOOKUP($C143, 'Nanodrop Data Raw'!$C:$L, 10, FALSE)<>\"\", VLOOKUP($C143, 'Nanodrop Data Raw'!$C:$L, 10, FALSE), VLOOKUP($C143, 'Nanodrop Data Raw'!$C:$L, 2, FALSE))","v":{"$error":"#N/A"}},null,null,{"$error":"#N/A"},{"$f":"VLOOKUP($C143, 'Nanodrop Data Raw'!$C:$L, 3, FALSE)","v":{"$error":"#N/A"}},{"$f":"VLOOKUP($C143, 'Nanodrop Data Raw'!$C:$L, 4, FALSE)","v":{"$error":"#N/A"}},null,null,null,null,{"$f":"'Sample Information'!$H$6","v":0},{"$f":"'Sample Information'!$H$5","v":0},null,null,{"$f":"'Sample Information'!$H$7","v":0},null,{"$error":"#N/A"}]
[{"$f":"'Sample Information'!A144","v":143},{"$f":"'Sample Information'!B144","v":0},"0-RNA",{"$f":"'Sample Information'!D144","v":0},{"$f":"IF(VLOOKUP($C144, 'Nanodrop Data Raw'!$C:$L, 10, FALSE)<>\"\", VLOOKUP($C144, 'Nanodrop Data Raw'!$C:$L, 10, FALSE), VLOOKUP($C144, 'Nanodrop Data Raw'!$C:$L, 2, FALSE))","v":{"$error":"#N/A"}},null,null,{"$error":"#N/A"},{"$f":"VLOOKUP($C144, 'Nanodrop Data Raw'!$C:$L, 3, FALSE)","v":{"$error":"#N/A"}},{"$f":"VLOOKUP($C144, 'Nanodrop Data Raw'!$C:$L, 4, FALSE)","v":{"$error":"#N/A"}},null,null,null,null,{"$f":"'Sample Information'!$H$6","v":0},{"$f":"'Sample Information'!$H$5","v":0},null,null,{"$f":"'Sample Information'!$H$7","v":0},null,{"$error":"#N/A"}]
[{"$f":"'Sample Information'!A145","v":144},{"$f":"'Sample Information'!B145","v":0},"0-RNA",{"$f":"'Sample Information'!D145","v":0},{"$f":"IF(VLOOKUP($C145, 'Nanodrop Data Raw'!$C:$L, 10, FALSE)<>\"\", VLOOKUP($C145, 'Nanodrop Data Raw'!$C:$L, 10, FALSE), VLOOKUP($C145, 'Nanodrop Data Raw'!$C:$L, 2, FALSE))","v":{"$error":"#N/A"}},null,null,{"$error":"#N/A"},{"$f":"VLOOKUP($C145, 'Nanodrop Data Raw'!$C:$L, 3, FALSE)","v":{"$error":"#N/A"}},{"$f":"VLOOKUP($C145, 'Nanodrop Data Raw'!$C:$L, 4, FALSE)","v":{"$error":"#N/A"}},null,null,null,null,{"$f":"'Sample Information'!$H$6","v":0},{"$f":"'Sample Information'!$H$5","v":0},null,null,{"$f":"'Sample Information'!$H$7","v":0},null,{"$error":"#N/A"}]
[{"$f":"'Sample Information'!A146","v":145},{"$f":"'Sample Information'!B146","v":0},"0-RNA",{"$f":"'Sample Information'!D146","v":0},{"$f":"IF(VLOOKUP($C146, 'Nanodrop Data Raw'!$C:$L, 10, FALSE)<>\"\", VLOOKUP($C146, 'Nanodrop Data Raw'!$C:$L, 10, FALSE), VLOOKUP($C146, 'Nanodrop Data Raw'!$C:$L, 2, FALSE))","v":{"$error":"#N/A"}},null,null,{"$error":"#N/A"},{"$f":"VLOOKUP($C146, 'Nanodrop Data Raw'!$C:$L, 3, FALSE)","v":{"$error":"#N/A"}},{"$f":"VLOOKUP($C146, 'Nanodrop Data Raw'!$C:$L, 4, FALSE)","v":{"$error":"#N/A"}},null,null,null,null,{"$f":"'Sample Information'!$H$6","v":0},{"$f":"'Sample Information'!$H$5","v":0},null,null,{"$f":"'Sample Information'!$H$7","v":0},null,{"$error":"#N/A"}]
[{"$f":"'Sample Information'!A147","v":146},{"$f":"'Sample Information'!B147","v":0},"0-RNA",{"$f":"'Sample Information'!D147","v":0},{"$f":"IF(VLOOKUP($C147, 'Nanodrop Data Raw'!$C:$L, 10, FALSE)<>\"\", VLOOKUP($C147, 'Nanodrop Data Raw'!$C:$L, 10, FALSE), VLOOKUP($C147, 'Nanodrop Data Raw'!$C:$L, 2, FALSE))","v":{"$error":"#N/A"}},null,null,{"$error":"#N/A"},{"$f":"VLOOKUP($C147, 'Nanodrop Data Raw'!$C:$L, 3, FALSE)","v":{"$error":"#N/A"}},{"$f":"VLOOKUP($C147, 'Nanodrop Data Raw'!$C:$L, 4, FALSE)","v":{"$error":"#N/A"}},null,null,null,null,{"$f":"'Sample Information'!$H$6","v":0},{"$f":"'Sample Information'!$H$5","v":0},null,null,{"$f":"'Sample Information'!$H$7","v":0},null,{"$error":"#N/A"}]
[{"$f":"'Sample Information'!A148","v":147},{"$f":"'Sample Information'!B148","v":0},"0-RNA",{"$f":"'Sample Information'!D148","v":0},{"$f":"IF(VLOOKUP($C148, 'Nanodrop Data Raw'!$C:$L, 10, FALSE)<>\"\", VLOOKUP($C148, 'Nanodrop Data Raw'!$C:$L, 10, FALSE), VLOOKUP($C148, 'Nanodrop Data Raw'!$C:$L, 2, FALSE))","v":{"$error":"#N/A"}},null,null,{"$error":"#N/A"},{"$f":"VLOOKUP($C148, 'Nanodrop Data Raw'!$C:$L, 3, FALSE)","v":{"$error":"#N/A"}},{"$f":"VLOOKUP($C148, 'Nanodrop Data Raw'!$C:$L, 4, FALSE)","v":{"$error":"#N/A"}},null,null,null,null,{"$f":"'Sample Information'!$H$6","v":0},{"$f":"'Sample Information'!$H$5","v":0},null,null,{"$f":"'Sample Information'!$H$7","v":0},null,{"$error":"#N/A"}]
[{"$f":"'Sample Information'!A149","v":148},{"$f":"'Sample Information'!B149","v":0},"0-RNA",{"$f":"'Sample Information'!D149","v":0},{"$f":"IF(VLOOKUP($C149, 'Nanodrop Data Raw'!$C:$L, 10, FALSE)<>\"\", VLOOKUP($C149, 'Nanodrop Data Raw'!$C:$L, 10, FALSE), VLOOKUP($C149, 'Nanodrop Data Raw'!$C:$L, 2, FALSE))","v":{"$error":"#N/A"}},null,null,{"$error":"#N/A"},{"$f":"VLOOKUP($C149, 'Nanodrop Data Raw'!$C:$L, 3, FALSE)","v":{"$error":"#N/A"}},{"$f":"VLOOKUP($C149, 'Nanodrop Data Raw'!$C:$L, 4, FALSE)","v":{"$error":"#N/A"}},null,null,null,null,{"$f":"'Sample Information'!$H$6","v":0},{"$f":"'Sample Information'!$H$5","v":0},null,null,{"$f":"'Sample Information'!$H$7","v":0},null,{"$error":"#N/A"}]
[{"$f":"'Sample Information'!A150","v":149},{"$f":"'Sample Information'!B150","v":0},"0-RNA",{"$f":"'Sample Information'!D150","v":0},{"$f":"IF(VLOOKUP($C150, 'Nanodrop Data Raw'!$C:$L, 10, FALSE)<>\"\", VLOOKUP($C150, 'Nanodrop Data Raw'!$C:$L, 10, FALSE), VLOOKUP($C150, 'Nanodrop Data Raw'!$C:$L, 2, FALSE))","v":{"$error":"#N/A"}},null,null,{"$error":"#N/A"},{"$f":"VLOOKUP($C150, 'Nanodrop Data Raw'!$C:$L, 3, FALSE)","v":{"$error":"#N/A"}},{"$f":"VLOOKUP($C150, 'Nanodrop Data Raw'!$C:$L, 4, FALSE)","v":{"$error":"#N/A"}},null,null,null,null,{"$f":"'Sample Information'!$H$6","v":0},{"$f":"'Sample Information'!$H$5","v":0},null,null,{"$f":"'Sample Information'!$H$7","v":0},null,{"$error":"#N/A"}]
[{"$f":"'Sample Information'!A151","v":150},{"$f":"'Sample Information'!B151","v":0},"0-RNA",{"$f":"'Sample Information'!D151","v":0},{"$f":"IF(VLOOKUP($C151, 'Nanodrop Data Raw'!$C:$L, 10, FALSE)<>\"\", VLOOKUP($C151, 'Nanodrop Data Raw'!$C:$L, 10, FALSE), VLOOKUP($C151, 'Nanodrop Data Raw'!$C:$L, 2, FALSE))","v":{"$error":"#N/A"}},null,null,{"$error":"#N/A"},{"$f":"VLOOKUP($C151, 'Nanodrop Data Raw'!$C:$L, 3, FALSE)","v":{"$error":"#N/A"}},{"$f":"VLOOKUP($C151, 'Nanodrop Data Raw'!$C:$L, 4, FALSE)","v":{"$error":"#N/A"}},null,null,null,null,{"$f":"'Sample Information'!$H$6","v":0},{"$f":"'Sample Information'!$H$5","v":0},null,null,{"$f":"'Sample Information'!$H$7","v":0},null,{"$error":"#N/A"}]
[{"$f":"'Sample Information'!A152","v":151},{"$f":"'Sample Information'!B152","v":0},"0-RNA",{"$f":"'Sample Information'!D152","v":0},{"$f":"IF(VLOOKUP($C152, 'Nanodrop Data Raw'!$C:$L, 10, FALSE)<>\"\", VLOOKUP($C152, 'Nanodrop Data Raw'!$C:$L, 10, FALSE), VLOOKUP($C152, 'Nanodrop Data Raw'!$C:$L, 2, FALSE))","v":{"$error":"#N/A"}},null,null,{"$error":"#N/A"},{"$f":"VLOOKUP($C152, 'Nanodrop Data Raw'!$C:$L, 3, FALSE)","v":{"$error":"#N/A"}},{"$f":"VLOOKUP($C152, 'Nanodrop Data Raw'!$C:$L, 4, FALSE)","v":{"$error":"#N/A"}},null,null,null,null,{"$f":"'Sample Information'!$H$6","v":0},{"$f":"'Sample Information'!$H$5","v":0},null,null,{"$f":"'Sample Information'!$H$7","v":0},null,{"$error":"#N/A"}]
[{"$f":"'Sample Information'!A153","v":152},{"$f":"'Sample Information'!B153","v":0},"0-RNA",{"$f":"'Sample Information'!D153","v":0},{"$f":"IF(VLOOKUP($C153, 'Nanodrop Data Raw'!$C:$L, 10, FALSE)<>\"\", VLOOKUP($C153, 'Nanodrop Data Raw'!$C:$L, 10, FALSE), VLOOKUP($C153, 'Nanodrop Data Raw'!$C:$L, 2, FALSE))","v":{"$error":"#N/A"}},null,null,{"$error":"#N/A"},{"$f":"VLOOKUP($C153, 'Nanodrop Data Raw'!$C:$L, 3, FALSE)","v":{"$error":"#N/A"}},{"$f":"VLOOKUP($C153, 'Nanodrop Data Raw'!$C:$L, 4, FALSE)","v":{"$error":"#N/A"}},null,null,null,null,{"$f":"'Sample Information'!$H$6","v":0},{"$f":"'Sample Information'!$H$5","v":0},null,null,{"$f":"'Sample Information'!$H$7","v":0},null,{"$error":"#N/A"}]
[{"$f":"'Sample Information'!A154","v":153},{"$f":"'Sample Information'!B154","v":0},"0-RNA",{"$f":"'Sample Information'!D154","v":0},{"$f":"IF(VLOOKUP($C154, 'Nanodrop Data Raw'!$C:$L, 10, FALSE)<>\"\", VLOOKUP($C154, 'Nanodrop Data Raw'!$C:$L, 10, FALSE), VLOOKUP($C154, 'Nanodrop Data Raw'!$C:$L, 2, FALSE))","v":{"$error":"#N/A"}},null,null,{"$error":"#N/A"},{"$f":"VLOOKUP($C154, 'Nanodrop Data Raw'!$C:$L, 3, FALSE)","v":{"$error":"#N/A"}},{"$f":"VLOOKUP($C154, 'Nanodrop Data Raw'!$C:$L, 4, FALSE)","v":{"$error":"#N/A"}},null,null,null,null,{"$f":"'Sample Information'!$H$6","v":0},{"$f":"'Sample Information'!$H$5","v":0},null,null,{"$f":"'Sample Information'!$H$7","v":0},null,{"$error":"#N/A"}]
[{"$f":"'Sample Information'!A155","v":154},{"$f":"'Sample Information'!B155","v":0},"0-RNA",{"$f":"'Sample Information'!D155","v":0},{"$f":"IF(VLOOKUP($C155, 'Nanodrop Data Raw'!$C:$L, 10, FALSE)<>\"\", VLOOKUP($C155, 'Nanodrop Data Raw'!$C:$L, 10, FALSE), VLOOKUP($C155, 'Nanodrop Data Raw'!$C:$L, 2, FALSE))","v":{"$error":"#N/A"}},null,null,{"$error":"#N/A"},{"$f":"VLOOKUP($C155, 'Nanodrop Data Raw'!$C:$L, 3, FALSE)","v":{"$error":"#N/A"}},{"$f":"VLOOKUP($C155, 'Nanodrop Data Raw'!$C:$L, 4, FALSE)","v":{"$error":"#N/A"}},null,null,null,null,{"$f":"'Sample Information'!$H$6","v":0},{"$f":"'Sample Information'!$H$5","v":0},null,null,{"$f":"'Sample Information'!$H$7","v":0},null,{"$error":"#N/A"}]
[{"$f":"'Sample Information'!A156","v":155},{"$f":"'Sample Information'!B156","v":0},"0-RNA",{"$f":"'Sample Information'!D156","v":0},{"$f":"IF(VLOOKUP($C156, 'Nanodrop Data Raw'!$C:$L, 10, FALSE)<>\"\", VLOOKUP($C156, 'Nanodrop Data Raw'!$C:$L, 10, FALSE), VLOOKUP($C156, 'Nanodrop Data Raw'!$C:$L, 2, FALSE))","v":{"$error":"#N/A"}},null,null,{"$error":"#N/A"},{"$f":"VLOOKUP($C156, 'Nanodrop Data Raw'!$C:$L, 3, FALSE)","v":{"$error":"#N/A"}},{"$f":"VLOOKUP($C156, 'Nanodrop Data Raw'!$C:$L, 4, FALSE)","v":{"$error":"#N/A"}},null,null,null,null,{"$f":"'Sample Information'!$H$6","v":0},{"$f":"'Sample Information'!$H$5","v":0},null,null,{"$f":"'Sample Information'!$H$7","v":0},null,{"$error":"#N/A"}]
[{"$f":"'Sample Information'!A157","v":156},{"$f":"'Sample Information'!B157","v":0},"0-RNA",{"$f":"'Sample Information'!D157","v":0},{"$f":"IF(VLOOKUP($C157, 'Nanodrop Data Raw'!$C:$L, 10, FALSE)<>\"\", VLOOKUP($C157, 'Nanodrop Data Raw'!$C:$L, 10, FALSE), VLOOKUP($C157, 'Nanodrop Data Raw'!$C:$L, 2, FALSE))","v":{"$error":"#N/A"}},null,null,{"$error":"#N/A"},{"$f":"VLOOKUP($C157, 'Nanodrop Data Raw'!$C:$L, 3, FALSE)","v":{"$error":"#N/A"}},{"$f":"VLOOKUP($C157, 'Nanodrop Data Raw'!$C:$L, 4, FALSE)","v":{"$error":"#N/A"}},null,null,null,null,{"$f":"'Sample Information'!$H$6","v":0},{"$f":"'Sample Information'!$H$5","v":0},null,null,{"$f":"'Sample Information'!$H$7","v":0},null,{"$error":"#N/A"}]
[{"$f":"'Sample Information'!A158","v":157},{"$f":"'Sample Information'!B158","v":0},"0-RNA",{"$f":"'Sample Information'!D158","v":0},{"$f":"IF(VLOOKUP($C158, 'Nanodrop Data Raw'!$C:$L, 10, FALSE)<>\"\", VLOOKUP($C158, 'Nanodrop Data Raw'!$C:$L, 10, FALSE), VLOOKUP($C158, 'Nanodrop Data Raw'!$C:$L, 2, FALSE))","v":{"$error":"#N/A"}},null,null,{"$error":"#N/A"},{"$f":"VLOOKUP($C158, 'Nanodrop Data Raw'!$C:$L, 3, FALSE)","v":{"$error":"#N/A"}},{"$f":"VLOOKUP($C158, 'Nanodrop Data Raw'!$C:$L, 4, FALSE)","v":{"$error":"#N/A"}},null,null,null,null,{"$f":"'Sample Information'!$H$6","v":0},{"$f":"'Sample Information'!$H$5","v":0},null,null,{"$f":"'Sample Information'!$H$7","v":0},null,{"$error":"#N/A"}]
[{"$f":"'Sample Information'!A159","v":158},{"$f":"'Sample Information'!B159","v":0},"0-RNA",{"$f":"'Sample Information'!D159","v":0},{"$f":"IF(VLOOKUP($C159, 'Nanodrop Data Raw'!$C:$L, 10, FALSE)<>\"\", VLOOKUP($C159, 'Nanodrop Data Raw'!$C:$L, 10, FALSE), VLOOKUP($C159, 'Nanodrop Data Raw'!$C:$L, 2, FALSE))","v":{"$error":"#N/A"}},null,null,{"$error":"#N/A"},{"$f":"VLOOKUP($C159, 'Nanodrop Data Raw'!$C:$L, 3, FALSE)","v":{"$error":"#N/A"}},{"$f":"VLOOKUP($C159, 'Nanodrop Data Raw'!$C:$L, 4, FALSE)","v":{"$error":"#N/A"}},null,null,null,null,{"$f":"'Sample Information'!$H$6","v":0},{"$f":"'Sample Information'!$H$5","v":0},null,null,{"$f":"'Sample Information'!$H$7","v":0},null,{"$error":"#N/A"}]
[{"$f":"'Sample Information'!A160","v":159},{"$f":"'Sample Information'!B160","v":0},"0-RNA",{"$f":"'Sample Information'!D160","v":0},{"$f":"IF(VLOOKUP($C160, 'Nanodrop Data Raw'!$C:$L, 10, FALSE)<>\"\", VLOOKUP($C160, 'Nanodrop Data Raw'!$C:$L, 10, FALSE), VLOOKUP($C160, 'Nanodrop Data Raw'!$C:$L, 2, FALSE))","v":{"$error":"#N/A"}},null,null,{"$error":"#N/A"},{"$f":"VLOOKUP($C160, 'Nanodrop Data Raw'!$C:$L, 3, FALSE)","v":{"$error":"#N/A"}},{"$f":"VLOOKUP($C160, 'Nanodrop Data Raw'!$C:$L, 4, FALSE)","v":{"$error":"#N/A"}},null,null,null,null,{"$f":"'Sample Information'!$H$6","v":0},{"$f":"'Sample Information'!$H$5","v":0},null,null,{"$f":"'Sample Information'!$H$7","v":0},null,{"$error":"#N/A"}]
[{"$f":"'Sample Information'!A161","v":160},{"$f":"'Sample Information'!B161","v":0},"0-RNA",{"$f":"'Sample Information'!D161","v":0},{"$f":"IF(VLOOKUP($C161, 'Nanodrop Data Raw'!$C:$L, 10, FALSE)<>\"\", VLOOKUP($C161, 'Nanodrop Data Raw'!$C:$L, 10, FALSE), VLOOKUP($C161, 'Nanodrop Data Raw'!$C:$L, 2, FALSE))","v":{"$error":"#N/A"}},null,null,{"$error":"#N/A"},{"$f":"VLOOKUP($C161, 'Nanodrop Data Raw'!$C:$L, 3, FALSE)","v":{"$error":"#N/A"}},{"$f":"VLOOKUP($C161, 'Nanodrop Data Raw'!$C:$L, 4, FALSE)","v":{"$error":"#N/A"}},null,null,null,null,{"$f":"'Sample Information'!$H$6","v":0},{"$f":"'Sample Information'!$H$5","v":0},null,null,{"$f":"'Sample Information'!$H$7","v":0},null,{"$error":"#N/A"}]
[{"$f":"'Sample Information'!A162","v":161},{"$f":"'Sample Information'!B162","v":0},"0-RNA",{"$f":"'Sample Information'!D162","v":0},{"$f":"IF(VLOOKUP($C162, 'Nanodrop Data Raw'!$C:$L, 10, FALSE)<>\"\", VLOOKUP($C162, 'Nanodrop Data Raw'!$C:$L, 10, FALSE), VLOOKUP($C162, 'Nanodrop Data Raw'!$C:$L, 2, FALSE))","v":{"$error":"#N/A"}},null,null,{"$error":"#N/A"},{"$f":"VLOOKUP($C162, 'Nanodrop Data Raw'!$C:$L, 3, FALSE)","v":{"$error":"#N/A"}},{"$f":"VLOOKUP($C162, 'Nanodrop Data Raw'!$C:$L, 4, FALSE)","v":{"$error":"#N/A"}},null,null,null,null,{"$f":"'Sample Information'!$H$6","v":0},{"$f":"'Sample Information'!$H$5","v":0},null,null,{"$f":"'Sample Information'!$H$7","v":0},null,{"$error":"#N/A"}]
[{"$f":"'Sample Information'!A163","v":162},{"$f":"'Sample Information'!B163","v":0},"0-RNA",{"$f":"'Sample Information'!D163","v":0},{"$f":"IF(VLOOKUP($C163, 'Nanodrop Data Raw'!$C:$L, 10, FALSE)<>\"\", VLOOKUP($C163, 'Nanodrop Data Raw'!$C:$L, 10, FALSE), VLOOKUP($C163, 'Nanodrop Data Raw'!$C:$L, 2, FALSE))","v":{"$error":"#N/A"}},null,null,{"$error":"#N/A"},{"$f":"VLOOKUP($C163, 'Nanodrop Data Raw'!$C:$L, 3, FALSE)","v":{"$error":"#N/A"}},{"$f":"VLOOKUP($C163, 'Nanodrop Data Raw'!$C:$L, 4, FALSE)","v":{"$error":"#N/A"}},null,null,null,null,{"$f":"'Sample Information'!$H$6","v":0},{"$f":"'Sample Information'!$H$5","v":0},null,null,{"$f":"'Sample Information'!$H$7","v":0},null,{"$error":"#N/A"}]
[{"$f":"'Sample Information'!A164","v":163},{"$f":"'Sample Information'!B164","v":0},"0-RNA",{"$f":"'Sample Information'!D164","v":0},{"$f":"IF(VLOOKUP($C164, 'Nanodrop Data Raw'!$C:$L, 10, FALSE)<>\"\", VLOOKUP($C164, 'Nanodrop Data Raw'!$C:$L, 10, FALSE), VLOOKUP($C164, 'Nanodrop Data Raw'!$C:$L, 2, FALSE))","v":{"$error":"#N/A"}},null,null,{"$error":"#N/A"},{"$f":"VLOOKUP($C164, 'Nanodrop Data Raw'!$C:$L, 3, FALSE)","v":{"$error":"#N/A"}},{"$f":"VLOOKUP($C164, 'Nanodrop Data Raw'!$C:$L, 4, FALSE)","v":{"$error":"#N/A"}},null,null,null,null,{"$f":"'Sample Information'!$H$6","v":0},{"$f":"'Sample Information'!$H$5","v":0},null,null,{"$f":"'Sample Information'!$H$7","v":0},null,{"$error":"#N/A"}]
[{"$f":"'Sample Information'!A165","v":164},{"$f":"'Sample Information'!B165","v":0},"0-RNA",{"$f":"'Sample Information'!D165","v":0},{"$f":"IF(VLOOKUP($C165, 'Nanodrop Data Raw'!$C:$L, 10, FALSE)<>\"\", VLOOKUP($C165, 'Nanodrop Data Raw'!$C:$L, 10, FALSE), VLOOKUP($C165, 'Nanodrop Data Raw'!$C:$L, 2, FALSE))","v":{"$error":"#N/A"}},null,null,{"$error":"#N/A"},{"$f":"VLOOKUP($C165, 'Nanodrop Data Raw'!$C:$L, 3, FALSE)","v":{"$error":"#N/A"}},{"$f":"VLOOKUP($C165, 'Nanodrop Data Raw'!$C:$L, 4, FALSE)","v":{"$error":"#N/A"}},null,null,null,null,{"$f":"'Sample Information'!$H$6","v":0},{"$f":"'Sample Information'!$H$5","v":0},null,null,{"$f":"'Sample Information'!$H$7","v":0},null,{"$error":"#N/A"}]
[{"$f":"'Sample Information'!A166","v":165},{"$f":"'Sample Information'!B166","v":0},"0-RNA",{"$f":"'Sample Information'!D166","v":0},{"$f":"IF(VLOOKUP($C166, 'Nanodrop Data Raw'!$C:$L, 10, FALSE)<>\"\", VLOOKUP($C166, 'Nanodrop Data Raw'!$C:$L, 10, FALSE), VLOOKUP($C166, 'Nanodrop Data Raw'!$C:$L, 2, FALSE))","v":{"$error":"#N/A"}},null,null,{"$error":"#N/A"},{"$f":"VLOOKUP($C166, 'Nanodrop Data Raw'!$C:$L, 3, FALSE)","v":{"$error":"#N/A"}},{"$f":"VLOOKUP($C166, 'Nanodrop Data Raw'!$C:$L, 4, FALSE)","v":{"$error":"#N/A"}},null,null,null,null,{"$f":"'Sample Information'!$H$6","v":0},{"$f":"'Sample Information'!$H$5","v":0},null,null,{"$f":"'Sample Information'!$H$7","v":0},null,{"$error":"#N/A"}]
[{"$f":"'Sample Information'!A167","v":166},{"$f":"'Sample Information'!B167","v":0},"0-RNA",{"$f":"'Sample Information'!D167","v":0},{"$f":"IF(VLOOKUP($C167, 'Nanodrop Data Raw'!$C:$L, 10, FALSE)<>\"\", VLOOKUP($C167, 'Nanodrop Data Raw'!$C:$L, 10, FALSE), VLOOKUP($C167, 'Nanodrop Data Raw'!$C:$L, 2, FALSE))","v":{"$error":"#N/A"}},null,null,{"$error":"#N/A"},{"$f":"VLOOKUP($C167, 'Nanodrop Data Raw'!$C:$L, 3, FALSE)","v":{"$error":"#N/A"}},{"$f":"VLOOKUP($C167, 'Nanodrop Data Raw'!$C:$L, 4, FALSE)","v":{"$error":"#N/A"}},null,null,null,null,{"$f":"'Sample Information'!$H$6","v":0},{"$f":"'Sample Information'!$H$5","v":0},null,null,{"$f":"'Sample Information'!$H$7","v":0},null,{"$error":"#N/A"}]
[{"$f":"'Sample Information'!A168","v":167},{"$f":"'Sample Information'!B168","v":0},"0-RNA",{"$f":"'Sample Information'!D168","v":0},{"$f":"IF(VLOOKUP($C168, 'Nanodrop Data Raw'!$C:$L, 10, FALSE)<>\"\", VLOOKUP($C168, 'Nanodrop Data Raw'!$C:$L, 10, FALSE), VLOOKUP($C168, 'Nanodrop Data Raw'!$C:$L, 2, FALSE))","v":{"$error":"#N/A"}},null,null,{"$error":"#N/A"},{"$f":"VLOOKUP($C168, 'Nanodrop Data Raw'!$C:$L, 3, FALSE)","v":{"$error":"#N/A"}},{"$f":"VLOOKUP($C168, 'Nanodrop Data Raw'!$C:$L, 4, FALSE)","v":{"$error":"#N/A"}},null,null,null,null,{"$f":"'Sample Information'!$H$6","v":0},{"$f":"'Sample Information'!$H$5","v":0},null,null,{"$f":"'Sample Information'!$H$7","v":0},null,{"$error":"#N/A"}]
[{"$f":"'Sample Information'!A169","v":168},{"$f":"'Sample Information'!B169","v":0},"0-RNA",{"$f":"'Sample Information'!D169","v":0},{"$f":"IF(VLOOKUP($C169, 'Nanodrop Data Raw'!$C:$L, 10, FALSE)<>\"\", VLOOKUP($C169, 'Nanodrop Data Raw'!$C:$L, 10, FALSE), VLOOKUP($C169, 'Nanodrop Data Raw'!$C:$L, 2, FALSE))","v":{"$error":"#N/A"}},null,null,{"$error":"#N/A"},{"$f":"VLOOKUP($C169, 'Nanodrop Data Raw'!$C:$L, 3, FALSE)","v":{"$error":"#N/A"}},{"$f":"VLOOKUP($C169, 'Nanodrop Data Raw'!$C:$L, 4, FALSE)","v":{"$error":"#N/A"}},null,null,null,null,{"$f":"'Sample Information'!$H$6","v":0},{"$f":"'Sample Information'!$H$5","v":0},null,null,{"$f":"'Sample Information'!$H$7","v":0},null,{"$error":"#N/A"}]
[{"$f":"'Sample Information'!A170","v":169},{"$f":"'Sample Information'!B170","v":0},"0-RNA",{"$f":"'Sample Information'!D170","v":0},{"$f":"IF(VLOOKUP($C170, 'Nanodrop Data Raw'!$C:$L, 10, FALSE)<>\"\", VLOOKUP($C170, 'Nanodrop Data Raw'!$C:$L, 10, FALSE), VLOOKUP($C170, 'Nanodrop Data Raw'!$C:$L, 2, FALSE))","v":{"$error":"#N/A"}},null,null,{"$error":"#N/A"},{"$f":"VLOOKUP($C170, 'Nanodrop Data Raw'!$C:$L, 3, FALSE)","v":{"$error":"#N/A"}},{"$f":"VLOOKUP($C170, 'Nanodrop Data Raw'!$C:$L, 4, FALSE)","v":{"$error":"#N/A"}},null,null,null,null,{"$f":"'Sample Information'!$H$6","v":0},{"$f":"'Sample Information'!$H$5","v":0},null,null,{"$f":"'Sample Information'!$H$7","v":0},null,{"$error":"#N/A"}]
[{"$f":"'Sample Information'!A171","v":170},{"$f":"'Sample Information'!B171","v":0},"0-RNA",{"$f":"'Sample Information'!D171","v":0},{"$f":"IF(VLOOKUP($C171, 'Nanodrop Data Raw'!$C:$L, 10, FALSE)<>\"\", VLOOKUP($C171, 'Nanodrop Data Raw'!$C:$L, 10, FALSE), VLOOKUP($C171, 'Nanodrop Data Raw'!$C:$L, 2, FALSE))","v":{"$error":"#N/A"}},null,null,{"$error":"#N/A"},{"$f":"VLOOKUP($C171, 'Nanodrop Data Raw'!$C:$L, 3, FALSE)","v":{"$error":"#N/A"}},{"$f":"VLOOKUP($C171, 'Nanodrop Data Raw'!$C:$L, 4, FALSE)","v":{"$error":"#N/A"}},null,null,null,null,{"$f":"'Sample Information'!$H$6","v":0},{"$f":"'Sample Information'!$H$5","v":0},null,null,{"$f":"'Sample Information'!$H$7","v":0},null,{"$error":"#N/A"}]
[{"$f":"'Sample Information'!A172","v":171},{"$f":"'Sample Information'!B172","v":0},"0-RNA",{"$f":"'Sample Information'!D172","v":0},{"$f":"IF(VLOOKUP($C172, 'Nanodrop Data Raw'!$C:$L, 10, FALSE)<>\"\", VLOOKUP($C172, 'Nanodrop Data Raw'!$C:$L, 10, FALSE), VLOOKUP($C172, 'Nanodrop Data Raw'!$C:$L, 2, FALSE))","v":{"$error":"#N/A"}},null,null,{"$error":"#N/A"},{"$f":"VLOOKUP($C172, 'Nanodrop Data Raw'!$C:$L, 3, FALSE)","v":{"$error":"#N/A"}},{"$f":"VLOOKUP($C172, 'Nanodrop Data Raw'!$C:$L, 4, FALSE)","v":{"$error":"#N/A"}},null,null,null,null,{"$f":"'Sample Information'!$H$6","v":0},{"$f":"'Sample Information'!$H$5","v":0},null,null,{"$f":"'Sample Information'!$H$7","v":0},null,{"$error":"#N/A"}]
[{"$f":"'Sample Information'!A173","v":172},{"$f":"'Sample Information'!B173","v":0},"0-RNA",{"$f":"'Sample Information'!D173","v":0},{"$f":"IF(VLOOKUP($C173, 'Nanodrop Data Raw'!$C:$L, 10, FALSE)<>\"\", VLOOKUP($C173, 'Nanodrop Data Raw'!$C:$L, 10, FALSE), VLOOKUP($C173, 'Nanodrop Data Raw'!$C:$L, 2, FALSE))","v":{"$error":"#N/A"}},null,null,{"$error":"#N/A"},{"$f":"VLOOKUP($C173, 'Nanodrop Data Raw'!$C:$L, 3, FALSE)","v":{"$error":"#N/A"}},{"$f":"VLOOKUP($C173, 'Nanodrop Data Raw'!$C:$L, 4, FALSE)","v":{"$error":"#N/A"}},null,null,null,null,{"$f":"'Sample Information'!$H$6","v":0},{"$f":"'Sample Information'!$H$5","v":0},null,null,{"$f":"'Sample Information'!$H$7","v":0},null,{"$error":"#N/A"}]
[{"$f":"'Sample Information'!A174","v":173},{"$f":"'Sample Information'!B174","v":0},"0-RNA",{"$f":"'Sample Information'!D174","v":0},{"$f":"IF(VLOOKUP($C174, 'Nanodrop Data Raw'!$C:$L, 10, FALSE)<>\"\", VLOOKUP($C174, 'Nanodrop Data Raw'!$C:$L, 10, FALSE), VLOOKUP($C174, 'Nanodrop Data Raw'!$C:$L, 2, FALSE))","v":{"$error":"#N/A"}},null,null,{"$error":"#N/A"},{"$f":"VLOOKUP($C174, 'Nanodrop Data Raw'!$C:$L, 3, FALSE)","v":{"$error":"#N/A"}},{"$f":"VLOOKUP($C174, 'Nanodrop Data Raw'!$C:$L, 4, FALSE)","v":{"$error":"#N/A"}},null,null,null,null,{"$f":"'Sample Information'!$H$6","v":0},{"$f":"'Sample Information'!$H$5","v":0},null,null,{"$f":"'Sample Information'!$H$7","v":0},null,{"$error":"#N/A"}]
[{"$f":"'Sample Information'!A175","v":174},{"$f":"'Sample Information'!B175","v":0},"0-RNA",{"$f":"'Sample Information'!D175","v":0},{"$f":"IF(VLOOKUP($C175, 'Nanodrop Data Raw'!$C:$L, 10, FALSE)<>\"\", VLOOKUP($C175, 'Nanodrop Data Raw'!$C:$L, 10, FALSE), VLOOKUP($C175, 'Nanodrop Data Raw'!$C:$L, 2, FALSE))","v":{"$error":"#N/A"}},null,null,{"$error":"#N/A"},{"$f":"VLOOKUP($C175, 'Nanodrop Data Raw'!$C:$L, 3, FALSE)","v":{"$error":"#N/A"}},{"$f":"VLOOKUP($C175, 'Nanodrop Data Raw'!$C:$L, 4, FALSE)","v":{"$error":"#N/A"}},null,null,null,null,{"$f":"'Sample Information'!$H$6","v":0},{"$f":"'Sample Information'!$H$5","v":0},null,null,{"$f":"'Sample Information'!$H$7","v":0},null,{"$error":"#N/A"}]
[{"$f":"'Sample Information'!A176","v":175},{"$f":"'Sample Information'!B176","v":0},"0-RNA",{"$f":"'Sample Information'!D176","v":0},{"$f":"IF(VLOOKUP($C176, 'Nanodrop Data Raw'!$C:$L, 10, FALSE)<>\"\", VLOOKUP($C176, 'Nanodrop Data Raw'!$C:$L, 10, FALSE), VLOOKUP($C176, 'Nanodrop Data Raw'!$C:$L, 2, FALSE))","v":{"$error":"#N/A"}},null,null,{"$error":"#N/A"},{"$f":"VLOOKUP($C176, 'Nanodrop Data Raw'!$C:$L, 3, FALSE)","v":{"$error":"#N/A"}},{"$f":"VLOOKUP($C176, 'Nanodrop Data Raw'!$C:$L, 4, FALSE)","v":{"$error":"#N/A"}},null,null,null,null,{"$f":"'Sample Information'!$H$6","v":0},{"$f":"'Sample Information'!$H$5","v":0},null,null,{"$f":"'Sample Information'!$H$7","v":0},null,{"$error":"#N/A"}]
[{"$f":"'Sample Information'!A177","v":176},{"$f":"'Sample Information'!B177","v":0},"0-RNA",{"$f":"'Sample Information'!D177","v":0},{"$f":"IF(VLOOKUP($C177, 'Nanodrop Data Raw'!$C:$L, 10, FALSE)<>\"\", VLOOKUP($C177, 'Nanodrop Data Raw'!$C:$L, 10, FALSE), VLOOKUP($C177, 'Nanodrop Data Raw'!$C:$L, 2, FALSE))","v":{"$error":"#N/A"}},null,null,{"$error":"#N/A"},{"$f":"VLOOKUP($C177, 'Nanodrop Data Raw'!$C:$L, 3, FALSE)","v":{"$error":"#N/A"}},{"$f":"VLOOKUP($C177, 'Nanodrop Data Raw'!$C:$L, 4, FALSE)","v":{"$error":"#N/A"}},null,null,null,null,{"$f":"'Sample Information'!$H$6","v":0},{"$f":"'Sample Information'!$H$5","v":0},null,null,{"$f":"'Sample Information'!$H$7","v":0},null,{"$error":"#N/A"}]
[{"$f":"'Sample Information'!A178","v":177},{"$f":"'Sample Information'!B178","v":0},"0-RNA",{"$f":"'Sample Information'!D178","v":0},{"$f":"IF(VLOOKUP($C178, 'Nanodrop Data Raw'!$C:$L, 10, FALSE)<>\"\", VLOOKUP($C178, 'Nanodrop Data Raw'!$C:$L, 10, FALSE), VLOOKUP($C178, 'Nanodrop Data Raw'!$C:$L, 2, FALSE))","v":{"$error":"#N/A"}},null,null,{"$error":"#N/A"},{"$f":"VLOOKUP($C178, 'Nanodrop Data Raw'!$C:$L, 3, FALSE)","v":{"$error":"#N/A"}},{"$f":"VLOOKUP($C178, 'Nanodrop Data Raw'!$C:$L, 4, FALSE)","v":{"$error":"#N/A"}},null,null,null,null,{"$f":"'Sample Information'!$H$6","v":0},{"$f":"'Sample Information'!$H$5","v":0},null,null,{"$f":"'Sample Information'!$H$7","v":0},null,{"$error":"#N/A"}]
[{"$f":"'Sample Information'!A179","v":178},{"$f":"'Sample Information'!B179","v":0},"0-RNA",{"$f":"'Sample Information'!D179","v":0},{"$f":"IF(VLOOKUP($C179, 'Nanodrop Data Raw'!$C:$L, 10, FALSE)<>\"\", VLOOKUP($C179, 'Nanodrop Data Raw'!$C:$L, 10, FALSE), VLOOKUP($C179, 'Nanodrop Data Raw'!$C:$L, 2, FALSE))","v":{"$error":"#N/A"}},null,null,{"$error":"#N/A"},{"$f":"VLOOKUP($C179, 'Nanodrop Data Raw'!$C:$L, 3, FALSE)","v":{"$error":"#N/A"}},{"$f":"VLOOKUP($C179, 'Nanodrop Data Raw'!$C:$L, 4, FALSE)","v":{"$error":"#N/A"}},null,null,null,null,{"$f":"'Sample Information'!$H$6","v":0},{"$f":"'Sample Information'!$H$5","v":0},null,null,{"$f":"'Sample Information'!$H$7","v":0},null,{"$error":"#N/A"}]
[{"$f":"'Sample Information'!A180","v":179},{"$f":"'Sample Information'!B180","v":0},"0-RNA",{"$f":"'Sample Information'!D180","v":0},{"$f":"IF(VLOOKUP($C180, 'Nanodrop Data Raw'!$C:$L, 10, FALSE)<>\"\", VLOOKUP($C180, 'Nanodrop Data Raw'!$C:$L, 10, FALSE), VLOOKUP($C180, 'Nanodrop Data Raw'!$C:$L, 2, FALSE))","v":{"$error":"#N/A"}},null,null,{"$error":"#N/A"},{"$f":"VLOOKUP($C180, 'Nanodrop Data Raw'!$C:$L, 3, FALSE)","v":{"$error":"#N/A"}},{"$f":"VLOOKUP($C180, 'Nanodrop Data Raw'!$C:$L, 4, FALSE)","v":{"$error":"#N/A"}},null,null,null,null,{"$f":"'Sample Information'!$H$6","v":0},{"$f":"'Sample Information'!$H$5","v":0},null,null,{"$f":"'Sample Information'!$H$7","v":0},null,{"$error":"#N/A"}]
[{"$f":"'Sample Information'!A181","v":180},{"$f":"'Sample Information'!B181","v":0},"0-RNA",{"$f":"'Sample Information'!D181","v":0},{"$f":"IF(VLOOKUP($C181, 'Nanodrop Data Raw'!$C:$L, 10, FALSE)<>\"\", VLOOKUP($C181, 'Nanodrop Data Raw'!$C:$L, 10, FALSE), VLOOKUP($C181, 'Nanodrop Data Raw'!$C:$L, 2, FALSE))","v":{"$error":"#N/A"}},null,null,{"$error":"#N/A"},{"$f":"VLOOKUP($C181, 'Nanodrop Data Raw'!$C:$L, 3, FALSE)","v":{"$error":"#N/A"}},{"$f":"VLOOKUP($C181, 'Nanodrop Data Raw'!$C:$L, 4, FALSE)","v":{"$error":"#N/A"}},null,null,null,null,{"$f":"'Sample Information'!$H$6","v":0},{"$f":"'Sample Information'!$H$5","v":0},null,null,{"$f":"'Sample Information'!$H$7","v":0},null,{"$error":"#N/A"}]
[{"$f":"'Sample Information'!A182","v":181},{"$f":"'Sample Information'!B182","v":0},"0-RNA",{"$f":"'Sample Information'!D182","v":0},{"$f":"IF(VLOOKUP($C182, 'Nanodrop Data Raw'!$C:$L, 10, FALSE)<>\"\", VLOOKUP($C182, 'Nanodrop Data Raw'!$C:$L, 10, FALSE), VLOOKUP($C182, 'Nanodrop Data Raw'!$C:$L, 2, FALSE))","v":{"$error":"#N/A"}},null,null,{"$error":"#N/A"},{"$f":"VLOOKUP($C182, 'Nanodrop Data Raw'!$C:$L, 3, FALSE)","v":{"$error":"#N/A"}},{"$f":"VLOOKUP($C182, 'Nanodrop Data Raw'!$C:$L, 4, FALSE)","v":{"$error":"#N/A"}},null,null,null,null,{"$f":"'Sample Information'!$H$6","v":0},{"$f":"'Sample Information'!$H$5","v":0},null,null,{"$f":"'Sample Information'!$H$7","v":0},null,{"$error":"#N/A"}]
[{"$f":"'Sample Information'!A183","v":182},{"$f":"'Sample Information'!B183","v":0},"0-RNA",{"$f":"'Sample Information'!D183","v":0},{"$f":"IF(VLOOKUP($C183, 'Nanodrop Data Raw'!$C:$L, 10, FALSE)<>\"\", VLOOKUP($C183, 'Nanodrop Data Raw'!$C:$L, 10, FALSE), VLOOKUP($C183, 'Nanodrop Data Raw'!$C:$L, 2, FALSE))","v":{"$error":"#N/A"}},null,null,{"$error":"#N/A"},{"$f":"VLOOKUP($C183, 'Nanodrop Data Raw'!$C:$L, 3, FALSE)","v":{"$error":"#N/A"}},{"$f":"VLOOKUP($C183, 'Nanodrop Data Raw'!$C:$L, 4, FALSE)","v":{"$error":"#N/A"}},null,null,null,null,{"$f":"'Sample Information'!$H$6","v":0},{"$f":"'Sample Information'!$H$5","v":0},null,null,{"$f":"'Sample Information'!$H$7","v":0},null,{"$error":"#N/A"}]
[{"$f":"'Sample Information'!A184","v":183},{"$f":"'Sample Information'!B184","v":0},"0-RNA",{"$f":"'Sample Information'!D184","v":0},{"$f":"IF(VLOOKUP($C184, 'Nanodrop Data Raw'!$C:$L, 10, FALSE)<>\"\", VLOOKUP($C184, 'Nanodrop Data Raw'!$C:$L, 10, FALSE), VLOOKUP($C184, 'Nanodrop Data Raw'!$C:$L, 2, FALSE))","v":{"$error":"#N/A"}},null,null,{"$error":"#N/A"},{"$f":"VLOOKUP($C184, 'Nanodrop Data Raw'!$C:$L, 3, FALSE)","v":{"$error":"#N/A"}},{"$f":"VLOOKUP($C184, 'Nanodrop Data Raw'!$C:$L, 4, FALSE)","v":{"$error":"#N/A"}},null,null,null,null,{"$f":"'Sample Information'!$H$6","v":0},{"$f":"'Sample Information'!$H$5","v":0},null,null,{"$f":"'Sample Information'!$H$7","v":0},null,{"$error":"#N/A"}]
[{"$f":"'Sample Information'!A185","v":184},{"$f":"'Sample Information'!B185","v":0},"0-RNA",{"$f":"'Sample Information'!D185","v":0},{"$f":"IF(VLOOKUP($C185, 'Nanodrop Data Raw'!$C:$L, 10, FALSE)<>\"\", VLOOKUP($C185, 'Nanodrop Data Raw'!$C:$L, 10, FALSE), VLOOKUP($C185, 'Nanodrop Data Raw'!$C:$L, 2, FALSE))","v":{"$error":"#N/A"}},null,null,{"$error":"#N/A"},{"$f":"VLOOKUP($C185, 'Nanodrop Data Raw'!$C:$L, 3, FALSE)","v":{"$error":"#N/A"}},{"$f":"VLOOKUP($C185, 'Nanodrop Data Raw'!$C:$L, 4, FALSE)","v":{"$error":"#N/A"}},null,null,null,null,{"$f":"'Sample Information'!$H$6","v":0},{"$f":"'Sample Information'!$H$5","v":0},null,null,{"$f":"'Sample Information'!$H$7","v":0},null,{"$error":"#N/A"}]
[{"$f":"'Sample Information'!A186","v":185},{"$f":"'Sample Information'!B186","v":0},"0-RNA",{"$f":"'Sample Information'!D186","v":0},{"$f":"IF(VLOOKUP($C186, 'Nanodrop Data Raw'!$C:$L, 10, FALSE)<>\"\", VLOOKUP($C186, 'Nanodrop Data Raw'!$C:$L, 10, FALSE), VLOOKUP($C186, 'Nanodrop Data Raw'!$C:$L, 2, FALSE))","v":{"$error":"#N/A"}},null,null,{"$error":"#N/A"},{"$f":"VLOOKUP($C186, 'Nanodrop Data Raw'!$C:$L, 3, FALSE)","v":{"$error":"#N/A"}},{"$f":"VLOOKUP($C186, 'Nanodrop Data Raw'!$C:$L, 4, FALSE)","v":{"$error":"#N/A"}},null,null,null,null,{"$f":"'Sample Information'!$H$6","v":0},{"$f":"'Sample Information'!$H$5","v":0},null,null,{"$f":"'Sample Information'!$H$7","v":0},null,{"$error":"#N/A"}]
[{"$f":"'Sample Information'!A187","v":186},{"$f":"'Sample Information'!B187","v":0},"0-RNA",{"$f":"'Sample Information'!D187","v":0},{"$f":"IF(VLOOKUP($C187, 'Nanodrop Data Raw'!$C:$L, 10, FALSE)<>\"\", VLOOKUP($C187, 'Nanodrop Data Raw'!$C:$L, 10, FALSE), VLOOKUP($C187, 'Nanodrop Data Raw'!$C:$L, 2, FALSE))","v":{"$error":"#N/A"}},null,null,{"$error":"#N/A"},{"$f":"VLOOKUP($C187, 'Nanodrop Data Raw'!$C:$L, 3, FALSE)","v":{"$error":"#N/A"}},{"$f":"VLOOKUP($C187, 'Nanodrop Data Raw'!$C:$L, 4, FALSE)","v":{"$error":"#N/A"}},null,null,null,null,{"$f":"'Sample Information'!$H$6","v":0},{"$f":"'Sample Information'!$H$5","v":0},null,null,{"$f":"'Sample Information'!$H$7","v":0},null,{"$error":"#N/A"}]
[{"$f":"'Sample Information'!A188","v":187},{"$f":"'Sample Information'!B188","v":0},"0-RNA",{"$f":"'Sample Information'!D188","v":0},{"$f":"IF(VLOOKUP($C188, 'Nanodrop Data Raw'!$C:$L, 10, FALSE)<>\"\", VLOOKUP($C188, 'Nanodrop Data Raw'!$C:$L, 10, FALSE), VLOOKUP($C188, 'Nanodrop Data Raw'!$C:$L, 2, FALSE))","v":{"$error":"#N/A"}},null,null,{"$error":"#N/A"},{"$f":"VLOOKUP($C188, 'Nanodrop Data Raw'!$C:$L, 3, FALSE)","v":{"$error":"#N/A"}},{"$f":"VLOOKUP($C188, 'Nanodrop Data Raw'!$C:$L, 4, FALSE)","v":{"$error":"#N/A"}},null,null,null,null,{"$f":"'Sample Information'!$H$6","v":0},{"$f":"'Sample Information'!$H$5","v":0},null,null,{"$f":"'Sample Information'!$H$7","v":0},null,{"$error":"#N/A"}]
[{"$f":"'Sample Information'!A189","v":188},{"$f":"'Sample Information'!B189","v":0},"0-RNA",{"$f":"'Sample Information'!D189","v":0},{"$f":"IF(VLOOKUP($C189, 'Nanodrop Data Raw'!$C:$L, 10, FALSE)<>\"\", VLOOKUP($C189, 'Nanodrop Data Raw'!$C:$L, 10, FALSE), VLOOKUP($C189, 'Nanodrop Data Raw'!$C:$L, 2, FALSE))","v":{"$error":"#N/A"}},null,null,{"$error":"#N/A"},{"$f":"VLOOKUP($C189, 'Nanodrop Data Raw'!$C:$L, 3, FALSE)","v":{"$error":"#N/A"}},{"$f":"VLOOKUP($C189, 'Nanodrop Data Raw'!$C:$L, 4, FALSE)","v":{"$error":"#N/A"}},null,null,null,null,{"$f":"'Sample Information'!$H$6","v":0},{"$f":"'Sample Information'!$H$5","v":0},null,null,{"$f":"'Sample Information'!$H$7","v":0},null,{"$error":"#N/A"}]
[{"$f":"'Sample Information'!A190","v":189},{"$f":"'Sample Information'!B190","v":0},"0-RNA",{"$f":"'Sample Information'!D190","v":0},{"$f":"IF(VLOOKUP($C190, 'Nanodrop Data Raw'!$C:$L, 10, FALSE)<>\"\", VLOOKUP($C190, 'Nanodrop Data Raw'!$C:$L, 10, FALSE), VLOOKUP($C190, 'Nanodrop Data Raw'!$C:$L, 2, FALSE))","v":{"$error":"#N/A"}},null,null,{"$error":"#N/A"},{"$f":"VLOOKUP($C190, 'Nanodrop Data Raw'!$C:$L, 3, FALSE)","v":{"$error":"#N/A"}},{"$f":"VLOOKUP($C190, 'Nanodrop Data Raw'!$C:$L, 4, FALSE)","v":{"$error":"#N/A"}},null,null,null,null,{"$f":"'Sample Information'!$H$6","v":0},{"$f":"'Sample Information'!$H$5","v":0},null,null,{"$f":"'Sample Information'!$H$7","v":0},null,{"$error":"#N/A"}]
[{"$f":"'Sample Information'!A191","v":190},{"$f":"'Sample Information'!B191","v":0},"0-RNA",{"$f":"'Sample Information'!D191","v":0},{"$f":"IF(VLOOKUP($C191, 'Nanodrop Data Raw'!$C:$L, 10, FALSE)<>\"\", VLOOKUP($C191, 'Nanodrop Data Raw'!$C:$L, 10, FALSE), VLOOKUP($C191, 'Nanodrop Data Raw'!$C:$L, 2, FALSE))","v":{"$error":"#N/A"}},null,null,{"$error":"#N/A"},{"$f":"VLOOKUP($C191, 'Nanodrop Data Raw'!$C:$L, 3, FALSE)","v":{"$error":"#N/A"}},{"$f":"VLOOKUP($C191, 'Nanodrop Data Raw'!$C:$L, 4, FALSE)","v":{"$error":"#N/A"}},null,null,null,null,{"$f":"'Sample Information'!$H$6","v":0},{"$f":"'Sample Information'!$H$5","v":0},null,null,{"$f":"'Sample Information'!$H$7","v":0},null,{"$error":"#N/A"}]
[{"$f":"'Sample Information'!A192","v":191},{"$f":"'Sample Information'!B192","v":0},"0-RNA",{"$f":"'Sample Information'!D192","v":0},{"$f":"IF(VLOOKUP($C192, 'Nanodrop Data Raw'!$C:$L, 10, FALSE)<>\"\", VLOOKUP($C192, 'Nanodrop Data Raw'!$C:$L, 10, FALSE), VLOOKUP($C192, 'Nanodrop Data Raw'!$C:$L, 2, FALSE))","v":{"$error":"#N/A"}},null,null,{"$error":"#N/A"},{"$f":"VLOOKUP($C192, 'Nanodrop Data Raw'!$C:$L, 3, FALSE)","v":{"$error":"#N/A"}},{"$f":"VLOOKUP($C192, 'Nanodrop Data Raw'!$C:$L, 4, FALSE)","v":{"$error":"#N/A"}},null,null,null,null,{"$f":"'Sample Information'!$H$6","v":0},{"$f":"'Sample Information'!$H$5","v":0},null,null,{"$f":"'Sample Information'!$H$7","v":0},null,{"$error":"#N/A"}]
[{"$f":"'Sample Information'!A193","v":192},{"$f":"'Sample Information'!B193","v":0},"0-RNA",{"$f":"'Sample Information'!D193","v":0},{"$f":"IF(VLOOKUP($C193, 'Nanodrop Data Raw'!$C:$L, 10, FALSE)<>\"\", VLOOKUP($C193, 'Nanodrop Data Raw'!$C:$L, 10, FALSE), VLOOKUP($C193, 'Nanodrop Data Raw'!$C:$L, 2, FALSE))","v":{"$error":"#N/A"}},null,null,{"$error":"#N/A"},{"$f":"VLOOKUP($C193, 'Nanodrop Data Raw'!$C:$L, 3, FALSE)","v":{"$error":"#N/A"}},{"$f":"VLOOKUP($C193, 'Nanodrop Data Raw'!$C:$L, 4, FALSE)","v":{"$error":"#N/A"}},null,null,null,null,{"$f":"'Sample Information'!$H$6","v":0},{"$f":"'Sample Information'!$H$5","v":0},null,null,{"$f":"'Sample Information'!$H$7","v":0},null,{"$error":"#N/A"}]
[{"$f":"'Sample Information'!A194","v":193},{"$f":"'Sample Information'!B194","v":0},"0-RNA",{"$f":"'Sample Information'!D194","v":0},{"$f":"IF(VLOOKUP($C194, 'Nanodrop Data Raw'!$C:$L, 10, FALSE)<>\"\", VLOOKUP($C194, 'Nanodrop Data Raw'!$C:$L, 10, FALSE), VLOOKUP($C194, 'Nanodrop Data Raw'!$C:$L, 2, FALSE))","v":{"$error":"#N/A"}},null,null,{"$error":"#N/A"},{"$f":"VLOOKUP($C194, 'Nanodrop Data Raw'!$C:$L, 3, FALSE)","v":{"$error":"#N/A"}},{"$f":"VLOOKUP($C194, 'Nanodrop Data Raw'!$C:$L, 4, FALSE)","v":{"$error":"#N/A"}},null,null,null,null,{"$f":"'Sample Information'!$H$6","v":0},{"$f":"'Sample Information'!$H$5","v":0},null,null,{"$f":"'Sample Information'!$H$7","v":0},null,{"$error":"#N/A"}]
[{"$f":"'Sample Information'!A195","v":194},{"$f":"'Sample Information'!B195","v":0},{"$f":"CONCATENATE(B195,\"-RNA\")","v":"0-RNA"},{"$f":"'Sample Information'!D195","v":0},{"$f":"IF(VLOOKUP($C195, 'Nanodrop Data Raw'!$C:$L, 10, FALSE)<>\"\", VLOOKUP($C195, 'Nanodrop Data Raw'!$C:$L, 10, FALSE), VLOOKUP($C195, 'Nanodrop Data Raw'!$C:$L, 2, FALSE))","v":{"$error":"#N/A"}},null,null,{"$f":"E195*F195/1000","v":{"$error":"#N/A"}},{"$f":"VLOOKUP($C195, 'Nanodrop Data Raw'!$C:$L, 3, FALSE)","v":{"$error":"#N/A"}},{"$f":"VLOOKUP($C195, 'Nanodrop Data Raw'!$C:$L, 4, FALSE)","v":{"$error":"#N/A"}},null,null,null,null,{"$f":"'Sample Information'!$H$6","v":0},{"$f":"'Sample Information'!$H$5","v":0},null,null,{"$f":"'Sample Information'!$H$7","v":0},null,{"$f":"$N195/$E195","v":{"$error":"#N/A"}}]
[{"$f":"'Sample Information'!A196","v":195},{"$f":"'Sample Information'!B196","v":0},"0-RNA",{"$f":"'Sample Information'!D196","v":0},{"$f":"IF(VLOOKUP($C196, 'Nanodrop Data Raw'!$C:$L, 10, FALSE)<>\"\", VLOOKUP($C196, 'Nanodrop Data Raw'!$C:$L, 10, FALSE), VLOOKUP($C196, 'Nanodrop Data Raw'!$C:$L, 2, FALSE))","v":{"$error":"#N/A"}},null,null,{"$error":"#N/A"},{"$f":"VLOOKUP($C196, 'Nanodrop Data Raw'!$C:$L, 3, FALSE)","v":{"$error":"#N/A"}},{"$f":"VLOOKUP($C196, 'Nanodrop Data Raw'!$C:$L, 4, FALSE)","v":{"$error":"#N/A"}},null,null,null,null,{"$f":"'Sample Information'!$H$6","v":0},{"$f":"'Sample Information'!$H$5","v":0},null,null,{"$f":"'Sample Information'!$H$7","v":0},null,{"$error":"#N/A"}]
[{"$f":"'Sample Information'!A197","v":196},{"$f":"'Sample Information'!B197","v":0},"0-RNA",{"$f":"'Sample Information'!D197","v":0},{"$f":"IF(VLOOKUP($C197, 'Nanodrop Data Raw'!$C:$L, 10, FALSE)<>\"\", VLOOKUP($C197, 'Nanodrop Data Raw'!$C:$L, 10, FALSE), VLOOKUP($C197, 'Nanodrop Data Raw'!$C:$L, 2, FALSE))","v":{"$error":"#N/A"}},null,null,{"$error":"#N/A"},{"$f":"VLOOKUP($C197, 'Nanodrop Data Raw'!$C:$L, 3, FALSE)","v":{"$error":"#N/A"}},{"$f":"VLOOKUP($C197, 'Nanodrop Data Raw'!$C:$L, 4, FALSE)","v":{"$error":"#N/A"}},null,null,null,null,{"$f":"'Sample Information'!$H$6","v":0},{"$f":"'Sample Information'!$H$5","v":0},null,null,{"$f":"'Sample Information'!$H$7","v":0},null,{"$error":"#N/A"}]
[{"$f":"'Sample Information'!A198","v":197},{"$f":"'Sample Information'!B198","v":0},"0-RNA",{"$f":"'Sample Information'!D198","v":0},{"$f":"IF(VLOOKUP($C198, 'Nanodrop Data Raw'!$C:$L, 10, FALSE)<>\"\", VLOOKUP($C198, 'Nanodrop Data Raw'!$C:$L, 10, FALSE), VLOOKUP($C198, 'Nanodrop Data Raw'!$C:$L, 2, FALSE))","v":{"$error":"#N/A"}},null,null,{"$error":"#N/A"},{"$f":"VLOOKUP($C198, 'Nanodrop Data Raw'!$C:$L, 3, FALSE)","v":{"$error":"#N/A"}},{"$f":"VLOOKUP($C198, 'Nanodrop Data Raw'!$C:$L, 4, FALSE)","v":{"$error":"#N/A"}},null,null,null,null,{"$f":"'Sample Information'!$H$6","v":0},{"$f":"'Sample Information'!$H$5","v":0},null,null,{"$f":"'Sample Information'!$H$7","v":0},null,{"$error":"#N/A"}]
[{"$f":"'Sample Information'!A199","v":198},{"$f":"'Sample Information'!B199","v":0},"0-RNA",{"$f":"'Sample Information'!D199","v":0},{"$f":"IF(VLOOKUP($C199, 'Nanodrop Data Raw'!$C:$L, 10, FALSE)<>\"\", VLOOKUP($C199, 'Nanodrop Data Raw'!$C:$L, 10, FALSE), VLOOKUP($C199, 'Nanodrop Data Raw'!$C:$L, 2, FALSE))","v":{"$error":"#N/A"}},null,null,{"$error":"#N/A"},{"$f":"VLOOKUP($C199, 'Nanodrop Data Raw'!$C:$L, 3, FALSE)","v":{"$error":"#N/A"}},{"$f":"VLOOKUP($C199, 'Nanodrop Data Raw'!$C:$L, 4, FALSE)","v":{"$error":"#N/A"}},null,null,null,null,{"$f":"'Sample Information'!$H$6","v":0},{"$f":"'Sample Information'!$H$5","v":0},null,null,{"$f":"'Sample Information'!$H$7","v":0},null,{"$error":"#N/A"}]
[{"$f":"'Sample Information'!A200","v":199},{"$f":"'Sample Information'!B200","v":0},"0-RNA",{"$f":"'Sample Information'!D200","v":0},{"$f":"IF(VLOOKUP($C200, 'Nanodrop Data Raw'!$C:$L, 10, FALSE)<>\"\", VLOOKUP($C200, 'Nanodrop Data Raw'!$C:$L, 10, FALSE), VLOOKUP($C200, 'Nanodrop Data Raw'!$C:$L, 2, FALSE))","v":{"$error":"#N/A"}},null,null,{"$error":"#N/A"},{"$f":"VLOOKUP($C200, 'Nanodrop Data Raw'!$C:$L, 3, FALSE)","v":{"$error":"#N/A"}},{"$f":"VLOOKUP($C200, 'Nanodrop Data Raw'!$C:$L, 4, FALSE)","v":{"$error":"#N/A"}},null,null,null,null,{"$f":"'Sample Information'!$H$6","v":0},{"$f":"'Sample Information'!$H$5","v":0},null,null,{"$f":"'Sample Information'!$H$7","v":0},null,{"$error":"#N/A"}]
[{"$f":"'Sample Information'!A201","v":200},{"$f":"'Sample Information'!B201","v":0},"0-RNA",{"$f":"'Sample Information'!D201","v":0},{"$f":"IF(VLOOKUP($C201, 'Nanodrop Data Raw'!$C:$L, 10, FALSE)<>\"\", VLOOKUP($C201, 'Nanodrop Data Raw'!$C:$L, 10, FALSE), VLOOKUP($C201, 'Nanodrop Data Raw'!$C:$L, 2, FALSE))","v":{"$error":"#N/A"}},null,null,{"$error":"#N/A"},{"$f":"VLOOKUP($C201, 'Nanodrop Data Raw'!$C:$L, 3, FALSE)","v":{"$error":"#N/A"}},{"$f":"VLOOKUP($C201, 'Nanodrop Data Raw'!$C:$L, 4, FALSE)","v":{"$error":"#N/A"}},null,null,null,null,{"$f":"'Sample Information'!$H$6","v":0},{"$f":"'Sample Information'!$H$5","v":0},null,null,{"$f":"'Sample Information'!$H$7","v":0},null,{"$error":"#N/A"}]
[{"$f":"'Sample Information'!A202","v":201},{"$f":"'Sample Information'!B202","v":0},"0-RNA",{"$f":"'Sample Information'!D202","v":0},{"$f":"IF(VLOOKUP($C202, 'Nanodrop Data Raw'!$C:$L, 10, FALSE)<>\"\", VLOOKUP($C202, 'Nanodrop Data Raw'!$C:$L, 10, FALSE), VLOOKUP($C202, 'Nanodrop Data Raw'!$C:$L, 2, FALSE))","v":{"$error":"#N/A"}},null,null,{"$error":"#N/A"},{"$f":"VLOOKUP($C202, 'Nanodrop Data Raw'!$C:$L, 3, FALSE)","v":{"$error":"#N/A"}},{"$f":"VLOOKUP($C202, 'Nanodrop Data Raw'!$C:$L, 4, FALSE)","v":{"$error":"#N/A"}},null,null,null,null,{"$f":"'Sample Information'!$H$6","v":0},{"$f":"'Sample Information'!$H$5","v":0},null,null,{"$f":"'Sample Information'!$H$7","v":0},null,{"$error":"#N/A"}]
[{"$f":"'Sample Information'!A203","v":202},{"$f":"'Sample Information'!B203","v":0},"0-RNA",{"$f":"'Sample Information'!D203","v":0},{"$f":"IF(VLOOKUP($C203, 'Nanodrop Data Raw'!$C:$L, 10, FALSE)<>\"\", VLOOKUP($C203, 'Nanodrop Data Raw'!$C:$L, 10, FALSE), VLOOKUP($C203, 'Nanodrop Data Raw'!$C:$L, 2, FALSE))","v":{"$error":"#N/A"}},null,null,{"$error":"#N/A"},{"$f":"VLOOKUP($C203, 'Nanodrop Data Raw'!$C:$L, 3, FALSE)","v":{"$error":"#N/A"}},{"$f":"VLOOKUP($C203, 'Nanodrop Data Raw'!$C:$L, 4, FALSE)","v":{"$error":"#N/A"}},null,null,null,null,{"$f":"'Sample Information'!$H$6","v":0},{"$f":"'Sample Information'!$H$5","v":0},null,null,{"$f":"'Sample Information'!$H$7","v":0},null,{"$error":"#N/A"}]
[{"$f":"'Sample Information'!A204","v":203},{"$f":"'Sample Information'!B204","v":0},"0-RNA",{"$f":"'Sample Information'!D204","v":0},{"$f":"IF(VLOOKUP($C204, 'Nanodrop Data Raw'!$C:$L, 10, FALSE)<>\"\", VLOOKUP($C204, 'Nanodrop Data Raw'!$C:$L, 10, FALSE), VLOOKUP($C204, 'Nanodrop Data Raw'!$C:$L, 2, FALSE))","v":{"$error":"#N/A"}},null,null,{"$error":"#N/A"},{"$f":"VLOOKUP($C204, 'Nanodrop Data Raw'!$C:$L, 3, FALSE)","v":{"$error":"#N/A"}},{"$f":"VLOOKUP($C204, 'Nanodrop Data Raw'!$C:$L, 4, FALSE)","v":{"$error":"#N/A"}},null,null,null,null,{"$f":"'Sample Information'!$H$6","v":0},{"$f":"'Sample Information'!$H$5","v":0},null,null,{"$f":"'Sample Information'!$H$7","v":0},null,{"$error":"#N/A"}]
[{"$f":"'Sample Information'!A205","v":204},{"$f":"'Sample Information'!B205","v":0},"0-RNA",{"$f":"'Sample Information'!D205","v":0},{"$f":"IF(VLOOKUP($C205, 'Nanodrop Data Raw'!$C:$L, 10, FALSE)<>\"\", VLOOKUP($C205, 'Nanodrop Data Raw'!$C:$L, 10, FALSE), VLOOKUP($C205, 'Nanodrop Data Raw'!$C:$L, 2, FALSE))","v":{"$error":"#N/A"}},null,null,{"$error":"#N/A"},{"$f":"VLOOKUP($C205, 'Nanodrop Data Raw'!$C:$L, 3, FALSE)","v":{"$error":"#N/A"}},{"$f":"VLOOKUP($C205, 'Nanodrop Data Raw'!$C:$L, 4, FALSE)","v":{"$error":"#N/A"}},null,null,null,null,{"$f":"'Sample Information'!$H$6","v":0},{"$f":"'Sample Information'!$H$5","v":0},null,null,{"$f":"'Sample Information'!$H$7","v":0},null,{"$error":"#N/A"}]
[{"$f":"'Sample Information'!A206","v":205},{"$f":"'Sample Information'!B206","v":0},"0-RNA",{"$f":"'Sample Information'!D206","v":0},{"$f":"IF(VLOOKUP($C206, 'Nanodrop Data Raw'!$C:$L, 10, FALSE)<>\"\", VLOOKUP($C206, 'Nanodrop Data Raw'!$C:$L, 10, FALSE), VLOOKUP($C206, 'Nanodrop Data Raw'!$C:$L, 2, FALSE))","v":{"$error":"#N/A"}},null,null,{"$error":"#N/A"},{"$f":"VLOOKUP($C206, 'Nanodrop Data Raw'!$C:$L, 3, FALSE)","v":{"$error":"#N/A"}},{"$f":"VLOOKUP($C206, 'Nanodrop Data Raw'!$C:$L, 4, FALSE)","v":{"$error":"#N/A"}},null,null,null,null,{"$f":"'Sample Information'!$H$6","v":0},{"$f":"'Sample Information'!$H$5","v":0},null,null,{"$f":"'Sample Information'!$H$7","v":0},null,{"$error":"#N/A"}]
[{"$f":"'Sample Information'!A207","v":206},{"$f":"'Sample Information'!B207","v":0},"0-RNA",{"$f":"'Sample Information'!D207","v":0},{"$f":"IF(VLOOKUP($C207, 'Nanodrop Data Raw'!$C:$L, 10, FALSE)<>\"\", VLOOKUP($C207, 'Nanodrop Data Raw'!$C:$L, 10, FALSE), VLOOKUP($C207, 'Nanodrop Data Raw'!$C:$L, 2, FALSE))","v":{"$error":"#N/A"}},null,null,{"$error":"#N/A"},{"$f":"VLOOKUP($C207, 'Nanodrop Data Raw'!$C:$L, 3, FALSE)","v":{"$error":"#N/A"}},{"$f":"VLOOKUP($C207, 'Nanodrop Data Raw'!$C:$L, 4, FALSE)","v":{"$error":"#N/A"}},null,null,null,null,{"$f":"'Sample Information'!$H$6","v":0},{"$f":"'Sample Information'!$H$5","v":0},null,null,{"$f":"'Sample Information'!$H$7","v":0},null,{"$error":"#N/A"}]
[{"$f":"'Sample Information'!A208","v":207},{"$f":"'Sample Information'!B208","v":0},"0-RNA",{"$f":"'Sample Information'!D208","v":0},{"$f":"IF(VLOOKUP($C208, 'Nanodrop Data Raw'!$C:$L, 10, FALSE)<>\"\", VLOOKUP($C208, 'Nanodrop Data Raw'!$C:$L, 10, FALSE), VLOOKUP($C208, 'Nanodrop Data Raw'!$C:$L, 2, FALSE))","v":{"$error":"#N/A"}},null,null,{"$error":"#N/A"},{"$f":"VLOOKUP($C208, 'Nanodrop Data Raw'!$C:$L, 3, FALSE)","v":{"$error":"#N/A"}},{"$f":"VLOOKUP($C208, 'Nanodrop Data Raw'!$C:$L, 4, FALSE)","v":{"$error":"#N/A"}},null,null,null,null,{"$f":"'Sample Information'!$H$6","v":0},{"$f":"'Sample Information'!$H$5","v":0},null,null,{"$f":"'Sample Information'!$H$7","v":0},null,{"$error":"#N/A"}]
[{"$f":"'Sample Information'!A209","v":208},{"$f":"'Sample Information'!B209","v":0},"0-RNA",{"$f":"'Sample Information'!D209","v":0},{"$f":"IF(VLOOKUP($C209, 'Nanodrop Data Raw'!$C:$L, 10, FALSE)<>\"\", VLOOKUP($C209, 'Nanodrop Data Raw'!$C:$L, 10, FALSE), VLOOKUP($C209, 'Nanodrop Data Raw'!$C:$L, 2, FALSE))","v":{"$error":"#N/A"}},null,null,{"$error":"#N/A"},{"$f":"VLOOKUP($C209, 'Nanodrop Data Raw'!$C:$L, 3, FALSE)","v":{"$error":"#N/A"}},{"$f":"VLOOKUP($C209, 'Nanodrop Data Raw'!$C:$L, 4, FALSE)","v":{"$error":"#N/A"}},null,null,null,null,{"$f":"'Sample Information'!$H$6","v":0},{"$f":"'Sample Information'!$H$5","v":0},null,null,{"$f":"'Sample Information'!$H$7","v":0},null,{"$error":"#N/A"}]
[{"$f":"'Sample Information'!A210","v":209},{"$f":"'Sample Information'!B210","v":0},"0-RNA",{"$f":"'Sample Information'!D210","v":0},{"$f":"IF(VLOOKUP($C210, 'Nanodrop Data Raw'!$C:$L, 10, FALSE)<>\"\", VLOOKUP($C210, 'Nanodrop Data Raw'!$C:$L, 10, FALSE), VLOOKUP($C210, 'Nanodrop Data Raw'!$C:$L, 2, FALSE))","v":{"$error":"#N/A"}},null,null,{"$error":"#N/A"},{"$f":"VLOOKUP($C210, 'Nanodrop Data Raw'!$C:$L, 3, FALSE)","v":{"$error":"#N/A"}},{"$f":"VLOOKUP($C210, 'Nanodrop Data Raw'!$C:$L, 4, FALSE)","v":{"$error":"#N/A"}},null,null,null,null,{"$f":"'Sample Information'!$H$6","v":0},{"$f":"'Sample Information'!$H$5","v":0},null,null,{"$f":"'Sample Information'!$H$7","v":0},null,{"$error":"#N/A"}]
[{"$f":"'Sample Information'!A211","v":210},{"$f":"'Sample Information'!B211","v":0},"0-RNA",{"$f":"'Sample Information'!D211","v":0},{"$f":"IF(VLOOKUP($C211, 'Nanodrop Data Raw'!$C:$L, 10, FALSE)<>\"\", VLOOKUP($C211, 'Nanodrop Data Raw'!$C:$L, 10, FALSE), VLOOKUP($C211, 'Nanodrop Data Raw'!$C:$L, 2, FALSE))","v":{"$error":"#N/A"}},null,null,{"$error":"#N/A"},{"$f":"VLOOKUP($C211, 'Nanodrop Data Raw'!$C:$L, 3, FALSE)","v":{"$error":"#N/A"}},{"$f":"VLOOKUP($C211, 'Nanodrop Data Raw'!$C:$L, 4, FALSE)","v":{"$error":"#N/A"}},null,null,null,null,{"$f":"'Sample Information'!$H$6","v":0},{"$f":"'Sample Information'!$H$5","v":0},null,null,{"$f":"'Sample Information'!$H$7","v":0},null,{"$error":"#N/A"}]
[{"$f":"'Sample Information'!A212","v":211},{"$f":"'Sample Information'!B212","v":0},"0-RNA",{"$f":"'Sample Information'!D212","v":0},{"$f":"IF(VLOOKUP($C212, 'Nanodrop Data Raw'!$C:$L, 10, FALSE)<>\"\", VLOOKUP($C212, 'Nanodrop Data Raw'!$C:$L, 10, FALSE), VLOOKUP($C212, 'Nanodrop Data Raw'!$C:$L, 2, FALSE))","v":{"$error":"#N/A"}},null,null,{"$error":"#N/A"},{"$f":"VLOOKUP($C212, 'Nanodrop Data Raw'!$C:$L, 3, FALSE)","v":{"$error":"#N/A"}},{"$f":"VLOOKUP($C212, 'Nanodrop Data Raw'!$C:$L, 4, FALSE)","v":{"$error":"#N/A"}},null,null,null,null,{"$f":"'Sample Information'!$H$6","v":0},{"$f":"'Sample Information'!$H$5","v":0},null,null,{"$f":"'Sample Information'!$H$7","v":0},null,{"$error":"#N/A"}]
[{"$f":"'Sample Information'!A213","v":212},{"$f":"'Sample Information'!B213","v":0},"0-RNA",{"$f":"'Sample Information'!D213","v":0},{"$f":"IF(VLOOKUP($C213, 'Nanodrop Data Raw'!$C:$L, 10, FALSE)<>\"\", VLOOKUP($C213, 'Nanodrop Data Raw'!$C:$L, 10, FALSE), VLOOKUP($C213, 'Nanodrop Data Raw'!$C:$L, 2, FALSE))","v":{"$error":"#N/A"}},null,null,{"$error":"#N/A"},{"$f":"VLOOKUP($C213, 'Nanodrop Data Raw'!$C:$L, 3, FALSE)","v":{"$error":"#N/A"}},{"$f":"VLOOKUP($C213, 'Nanodrop Data Raw'!$C:$L, 4, FALSE)","v":{"$error":"#N/A"}},null,null,null,null,{"$f":"'Sample Information'!$H$6","v":0},{"$f":"'Sample Information'!$H$5","v":0},null,null,{"$f":"'Sample Information'!$H$7","v":0},null,{"$error":"#N/A"}]
[{"$f":"'Sample Information'!A214","v":213},{"$f":"'Sample Information'!B214","v":0},"0-RNA",{"$f":"'Sample Information'!D214","v":0},{"$f":"IF(VLOOKUP($C214, 'Nanodrop Data Raw'!$C:$L, 10, FALSE)<>\"\", VLOOKUP($C214, 'Nanodrop Data Raw'!$C:$L, 10, FALSE), VLOOKUP($C214, 'Nanodrop Data Raw'!$C:$L, 2, FALSE))","v":{"$error":"#N/A"}},null,null,{"$error":"#N/A"},{"$f":"VLOOKUP($C214, 'Nanodrop Data Raw'!$C:$L, 3, FALSE)","v":{"$error":"#N/A"}},{"$f":"VLOOKUP($C214, 'Nanodrop Data Raw'!$C:$L, 4, FALSE)","v":{"$error":"#N/A"}},null,null,null,null,{"$f":"'Sample Information'!$H$6","v":0},{"$f":"'Sample Information'!$H$5","v":0},null,null,{"$f":"'Sample Information'!$H$7","v":0},null,{"$error":"#N/A"}]
[{"$f":"'Sample Information'!A215","v":214},{"$f":"'Sample Information'!B215","v":0},"0-RNA",{"$f":"'Sample Information'!D215","v":0},{"$f":"IF(VLOOKUP($C215, 'Nanodrop Data Raw'!$C:$L, 10, FALSE)<>\"\", VLOOKUP($C215, 'Nanodrop Data Raw'!$C:$L, 10, FALSE), VLOOKUP($C215, 'Nanodrop Data Raw'!$C:$L, 2, FALSE))","v":{"$error":"#N/A"}},null,null,{"$error":"#N/A"},{"$f":"VLOOKUP($C215, 'Nanodrop Data Raw'!$C:$L, 3, FALSE)","v":{"$error":"#N/A"}},{"$f":"VLOOKUP($C215, 'Nanodrop Data Raw'!$C:$L, 4, FALSE)","v":{"$error":"#N/A"}},null,null,null,null,{"$f":"'Sample Information'!$H$6","v":0},{"$f":"'Sample Information'!$H$5","v":0},null,null,{"$f":"'Sample Information'!$H$7","v":0},null,{"$error":"#N/A"}]
[{"$f":"'Sample Information'!A216","v":215},{"$f":"'Sample Information'!B216","v":0},"0-RNA",{"$f":"'Sample Information'!D216","v":0},{"$f":"IF(VLOOKUP($C216, 'Nanodrop Data Raw'!$C:$L, 10, FALSE)<>\"\", VLOOKUP($C216, 'Nanodrop Data Raw'!$C:$L, 10, FALSE), VLOOKUP($C216, 'Nanodrop Data Raw'!$C:$L, 2, FALSE))","v":{"$error":"#N/A"}},null,null,{"$error":"#N/A"},{"$f":"VLOOKUP($C216, 'Nanodrop Data Raw'!$C:$L, 3, FALSE)","v":{"$error":"#N/A"}},{"$f":"VLOOKUP($C216, 'Nanodrop Data Raw'!$C:$L, 4, FALSE)","v":{"$error":"#N/A"}},null,null,null,null,{"$f":"'Sample Information'!$H$6","v":0},{"$f":"'Sample Information'!$H$5","v":0},null,null,{"$f":"'Sample Information'!$H$7","v":0},null,{"$error":"#N/A"}]
[{"$f":"'Sample Information'!A217","v":216},{"$f":"'Sample Information'!B217","v":0},"0-RNA",{"$f":"'Sample Information'!D217","v":0},{"$f":"IF(VLOOKUP($C217, 'Nanodrop Data Raw'!$C:$L, 10, FALSE)<>\"\", VLOOKUP($C217, 'Nanodrop Data Raw'!$C:$L, 10, FALSE), VLOOKUP($C217, 'Nanodrop Data Raw'!$C:$L, 2, FALSE))","v":{"$error":"#N/A"}},null,null,{"$error":"#N/A"},{"$f":"VLOOKUP($C217, 'Nanodrop Data Raw'!$C:$L, 3, FALSE)","v":{"$error":"#N/A"}},{"$f":"VLOOKUP($C217, 'Nanodrop Data Raw'!$C:$L, 4, FALSE)","v":{"$error":"#N/A"}},null,null,null,null,{"$f":"'Sample Information'!$H$6","v":0},{"$f":"'Sample Information'!$H$5","v":0},null,null,{"$f":"'Sample Information'!$H$7","v":0},null,{"$error":"#N/A"}]
[{"$f":"'Sample Information'!A218","v":217},{"$f":"'Sample Information'!B218","v":0},"0-RNA",{"$f":"'Sample Information'!D218","v":0},{"$f":"IF(VLOOKUP($C218, 'Nanodrop Data Raw'!$C:$L, 10, FALSE)<>\"\", VLOOKUP($C218, 'Nanodrop Data Raw'!$C:$L, 10, FALSE), VLOOKUP($C218, 'Nanodrop Data Raw'!$C:$L, 2, FALSE))","v":{"$error":"#N/A"}},null,null,{"$error":"#N/A"},{"$f":"VLOOKUP($C218, 'Nanodrop Data Raw'!$C:$L, 3, FALSE)","v":{"$error":"#N/A"}},{"$f":"VLOOKUP($C218, 'Nanodrop Data Raw'!$C:$L, 4, FALSE)","v":{"$error":"#N/A"}},null,null,null,null,{"$f":"'Sample Information'!$H$6","v":0},{"$f":"'Sample Information'!$H$5","v":0},null,null,{"$f":"'Sample Information'!$H$7","v":0},null,{"$error":"#N/A"}]
[{"$f":"'Sample Information'!A219","v":218},{"$f":"'Sample Information'!B219","v":0},"0-RNA",{"$f":"'Sample Information'!D219","v":0},{"$f":"IF(VLOOKUP($C219, 'Nanodrop Data Raw'!$C:$L, 10, FALSE)<>\"\", VLOOKUP($C219, 'Nanodrop Data Raw'!$C:$L, 10, FALSE), VLOOKUP($C219, 'Nanodrop Data Raw'!$C:$L, 2, FALSE))","v":{"$error":"#N/A"}},null,null,{"$error":"#N/A"},{"$f":"VLOOKUP($C219, 'Nanodrop Data Raw'!$C:$L, 3, FALSE)","v":{"$error":"#N/A"}},{"$f":"VLOOKUP($C219, 'Nanodrop Data Raw'!$C:$L, 4, FALSE)","v":{"$error":"#N/A"}},null,null,null,null,{"$f":"'Sample Information'!$H$6","v":0},{"$f":"'Sample Information'!$H$5","v":0},null,null,{"$f":"'Sample Information'!$H$7","v":0},null,{"$error":"#N/A"}]
[{"$f":"'Sample Information'!A220","v":219},{"$f":"'Sample Information'!B220","v":0},"0-RNA",{"$f":"'Sample Information'!D220","v":0},{"$f":"IF(VLOOKUP($C220, 'Nanodrop Data Raw'!$C:$L, 10, FALSE)<>\"\", VLOOKUP($C220, 'Nanodrop Data Raw'!$C:$L, 10, FALSE), VLOOKUP($C220, 'Nanodrop Data Raw'!$C:$L, 2, FALSE))","v":{"$error":"#N/A"}},null,null,{"$error":"#N/A"},{"$f":"VLOOKUP($C220, 'Nanodrop Data Raw'!$C:$L, 3, FALSE)","v":{"$error":"#N/A"}},{"$f":"VLOOKUP($C220, 'Nanodrop Data Raw'!$C:$L, 4, FALSE)","v":{"$error":"#N/A"}},null,null,null,null,{"$f":"'Sample Information'!$H$6","v":0},{"$f":"'Sample Information'!$H$5","v":0},null,null,{"$f":"'Sample Information'!$H$7","v":0},null,{"$error":"#N/A"}]
[{"$f":"'Sample Information'!A221","v":220},{"$f":"'Sample Information'!B221","v":0},"0-RNA",{"$f":"'Sample Information'!D221","v":0},{"$f":"IF(VLOOKUP($C221, 'Nanodrop Data Raw'!$C:$L, 10, FALSE)<>\"\", VLOOKUP($C221, 'Nanodrop Data Raw'!$C:$L, 10, FALSE), VLOOKUP($C221, 'Nanodrop Data Raw'!$C:$L, 2, FALSE))","v":{"$error":"#N/A"}},null,null,{"$error":"#N/A"},{"$f":"VLOOKUP($C221, 'Nanodrop Data Raw'!$C:$L, 3, FALSE)","v":{"$error":"#N/A"}},{"$f":"VLOOKUP($C221, 'Nanodrop Data Raw'!$C:$L, 4, FALSE)","v":{"$error":"#N/A"}},null,null,null,null,{"$f":"'Sample Information'!$H$6","v":0},{"$f":"'Sample Information'!$H$5","v":0},null,null,{"$f":"'Sample Information'!$H$7","v":0},null,{"$error":"#N/A"}]
[{"$f":"'Sample Information'!A222","v":221},{"$f":"'Sample Information'!B222","v":0},"0-RNA",{"$f":"'Sample Information'!D222","v":0},{"$f":"IF(VLOOKUP($C222, 'Nanodrop Data Raw'!$C:$L, 10, FALSE)<>\"\", VLOOKUP($C222, 'Nanodrop Data Raw'!$C:$L, 10, FALSE), VLOOKUP($C222, 'Nanodrop Data Raw'!$C:$L, 2, FALSE))","v":{"$error":"#N/A"}},null,null,{"$error":"#N/A"},{"$f":"VLOOKUP($C222, 'Nanodrop Data Raw'!$C:$L, 3, FALSE)","v":{"$error":"#N/A"}},{"$f":"VLOOKUP($C222, 'Nanodrop Data Raw'!$C:$L, 4, FALSE)","v":{"$error":"#N/A"}},null,null,null,null,{"$f":"'Sample Information'!$H$6","v":0},{"$f":"'Sample Information'!$H$5","v":0},null,null,{"$f":"'Sample Information'!$H$7","v":0},null,{"$error":"#N/A"}]
[{"$f":"'Sample Information'!A223","v":222},{"$f":"'Sample Information'!B223","v":0},"0-RNA",{"$f":"'Sample Information'!D223","v":0},{"$f":"IF(VLOOKUP($C223, 'Nanodrop Data Raw'!$C:$L, 10, FALSE)<>\"\", VLOOKUP($C223, 'Nanodrop Data Raw'!$C:$L, 10, FALSE), VLOOKUP($C223, 'Nanodrop Data Raw'!$C:$L, 2, FALSE))","v":{"$error":"#N/A"}},null,null,{"$error":"#N/A"},{"$f":"VLOOKUP($C223, 'Nanodrop Data Raw'!$C:$L, 3, FALSE)","v":{"$error":"#N/A"}},{"$f":"VLOOKUP($C223, 'Nanodrop Data Raw'!$C:$L, 4, FALSE)","v":{"$error":"#N/A"}},null,null,null,null,{"$f":"'Sample Information'!$H$6","v":0},{"$f":"'Sample Information'!$H$5","v":0},null,null,{"$f":"'Sample Information'!$H$7","v":0},null,{"$error":"#N/A"}]
[{"$f":"'Sample Information'!A224","v":223},{"$f":"'Sample Information'!B224","v":0},"0-RNA",{"$f":"'Sample Information'!D224","v":0},{"$f":"IF(VLOOKUP($C224, 'Nanodrop Data Raw'!$C:$L, 10, FALSE)<>\"\", VLOOKUP($C224, 'Nanodrop Data Raw'!$C:$L, 10, FALSE), VLOOKUP($C224, 'Nanodrop Data Raw'!$C:$L, 2, FALSE))","v":{"$error":"#N/A"}},null,null,{"$error":"#N/A"},{"$f":"VLOOKUP($C224, 'Nanodrop Data Raw'!$C:$L, 3, FALSE)","v":{"$error":"#N/A"}},{"$f":"VLOOKUP($C224, 'Nanodrop Data Raw'!$C:$L, 4, FALSE)","v":{"$error":"#N/A"}},null,null,null,null,{"$f":"'Sample Information'!$H$6","v":0},{"$f":"'Sample Information'!$H$5","v":0},null,null,{"$f":"'Sample Information'!$H$7","v":0},null,{"$error":"#N/A"}]
[{"$f":"'Sample Information'!A225","v":224},{"$f":"'Sample Information'!B225","v":0},"0-RNA",{"$f":"'Sample Information'!D225","v":0},{"$f":"IF(VLOOKUP($C225, 'Nanodrop Data Raw'!$C:$L, 10, FALSE)<>\"\", VLOOKUP($C225, 'Nanodrop Data Raw'!$C:$L, 10, FALSE), VLOOKUP($C225, 'Nanodrop Data Raw'!$C:$L, 2, FALSE))","v":{"$error":"#N/A"}},null,null,{"$error":"#N/A"},{"$f":"VLOOKUP($C225, 'Nanodrop Data Raw'!$C:$L, 3, FALSE)","v":{"$error":"#N/A"}},{"$f":"VLOOKUP($C225, 'Nanodrop Data Raw'!$C:$L, 4, FALSE)","v":{"$error":"#N/A"}},null,null,null,null,{"$f":"'Sample Information'!$H$6","v":0},{"$f":"'Sample Information'!$H$5","v":0},null,null,{"$f":"'Sample Information'!$H$7","v":0},null,{"$error":"#N/A"}]
[{"$f":"'Sample Information'!A226","v":225},{"$f":"'Sample Information'!B226","v":0},"0-RNA",{"$f":"'Sample Information'!D226","v":0},{"$f":"IF(VLOOKUP($C226, 'Nanodrop Data Raw'!$C:$L, 10, FALSE)<>\"\", VLOOKUP($C226, 'Nanodrop Data Raw'!$C:$L, 10, FALSE), VLOOKUP($C226, 'Nanodrop Data Raw'!$C:$L, 2, FALSE))","v":{"$error":"#N/A"}},null,null,{"$error":"#N/A"},{"$f":"VLOOKUP($C226, 'Nanodrop Data Raw'!$C:$L, 3, FALSE)","v":{"$error":"#N/A"}},{"$f":"VLOOKUP($C226, 'Nanodrop Data Raw'!$C:$L, 4, FALSE)","v":{"$error":"#N/A"}},null,null,null,null,{"$f":"'Sample Information'!$H$6","v":0},{"$f":"'Sample Information'!$H$5","v":0},null,null,{"$f":"'Sample Information'!$H$7","v":0},null,{"$error":"#N/A"}]
[{"$f":"'Sample Information'!A227","v":226},{"$f":"'Sample Information'!B227","v":0},"0-RNA",{"$f":"'Sample Information'!D227","v":0},{"$f":"IF(VLOOKUP($C227, 'Nanodrop Data Raw'!$C:$L, 10, FALSE)<>\"\", VLOOKUP($C227, 'Nanodrop Data Raw'!$C:$L, 10, FALSE), VLOOKUP($C227, 'Nanodrop Data Raw'!$C:$L, 2, FALSE))","v":{"$error":"#N/A"}},null,null,{"$error":"#N/A"},{"$f":"VLOOKUP($C227, 'Nanodrop Data Raw'!$C:$L, 3, FALSE)","v":{"$error":"#N/A"}},{"$f":"VLOOKUP($C227, 'Nanodrop Data Raw'!$C:$L, 4, FALSE)","v":{"$error":"#N/A"}},null,null,null,null,{"$f":"'Sample Information'!$H$6","v":0},{"$f":"'Sample Information'!$H$5","v":0},null,null,{"$f":"'Sample Information'!$H$7","v":0},null,{"$error":"#N/A"}]
[{"$f":"'Sample Information'!A228","v":227},{"$f":"'Sample Information'!B228","v":0},"0-RNA",{"$f":"'Sample Information'!D228","v":0},{"$f":"IF(VLOOKUP($C228, 'Nanodrop Data Raw'!$C:$L, 10, FALSE)<>\"\", VLOOKUP($C228, 'Nanodrop Data Raw'!$C:$L, 10, FALSE), VLOOKUP($C228, 'Nanodrop Data Raw'!$C:$L, 2, FALSE))","v":{"$error":"#N/A"}},null,null,{"$error":"#N/A"},{"$f":"VLOOKUP($C228, 'Nanodrop Data Raw'!$C:$L, 3, FALSE)","v":{"$error":"#N/A"}},{"$f":"VLOOKUP($C228, 'Nanodrop Data Raw'!$C:$L, 4, FALSE)","v":{"$error":"#N/A"}},null,null,null,null,{"$f":"'Sample Information'!$H$6","v":0},{"$f":"'Sample Information'!$H$5","v":0},null,null,{"$f":"'Sample Information'!$H$7","v":0},null,{"$error":"#N/A"}]
[{"$f":"'Sample Information'!A229","v":228},{"$f":"'Sample Information'!B229","v":0},"0-RNA",{"$f":"'Sample Information'!D229","v":0},{"$f":"IF(VLOOKUP($C229, 'Nanodrop Data Raw'!$C:$L, 10, FALSE)<>\"\", VLOOKUP($C229, 'Nanodrop Data Raw'!$C:$L, 10, FALSE), VLOOKUP($C229, 'Nanodrop Data Raw'!$C:$L, 2, FALSE))","v":{"$error":"#N/A"}},null,null,{"$error":"#N/A"},{"$f":"VLOOKUP($C229, 'Nanodrop Data Raw'!$C:$L, 3, FALSE)","v":{"$error":"#N/A"}},{"$f":"VLOOKUP($C229, 'Nanodrop Data Raw'!$C:$L, 4, FALSE)","v":{"$error":"#N/A"}},null,null,null,null,{"$f":"'Sample Information'!$H$6","v":0},{"$f":"'Sample Information'!$H$5","v":0},null,null,{"$f":"'Sample Information'!$H$7","v":0},null,{"$error":"#N/A"}]
[{"$f":"'Sample Information'!A230","v":229},{"$f":"'Sample Information'!B230","v":0},"0-RNA",{"$f":"'Sample Information'!D230","v":0},{"$f":"IF(VLOOKUP($C230, 'Nanodrop Data Raw'!$C:$L, 10, FALSE)<>\"\", VLOOKUP($C230, 'Nanodrop Data Raw'!$C:$L, 10, FALSE), VLOOKUP($C230, 'Nanodrop Data Raw'!$C:$L, 2, FALSE))","v":{"$error":"#N/A"}},null,null,{"$error":"#N/A"},{"$f":"VLOOKUP($C230, 'Nanodrop Data Raw'!$C:$L, 3, FALSE)","v":{"$error":"#N/A"}},{"$f":"VLOOKUP($C230, 'Nanodrop Data Raw'!$C:$L, 4, FALSE)","v":{"$error":"#N/A"}},null,null,null,null,{"$f":"'Sample Information'!$H$6","v":0},{"$f":"'Sample Information'!$H$5","v":0},null,null,{"$f":"'Sample Information'!$H$7","v":0},null,{"$error":"#N/A"}]
[{"$f":"'Sample Information'!A231","v":230},{"$f":"'Sample Information'!B231","v":0},"0-RNA",{"$f":"'Sample Information'!D231","v":0},{"$f":"IF(VLOOKUP($C231, 'Nanodrop Data Raw'!$C:$L, 10, FALSE)<>\"\", VLOOKUP($C231, 'Nanodrop Data Raw'!$C:$L, 10, FALSE), VLOOKUP($C231, 'Nanodrop Data Raw'!$C:$L, 2, FALSE))","v":{"$error":"#N/A"}},null,null,{"$error":"#N/A"},{"$f":"VLOOKUP($C231, 'Nanodrop Data Raw'!$C:$L, 3, FALSE)","v":{"$error":"#N/A"}},{"$f":"VLOOKUP($C231, 'Nanodrop Data Raw'!$C:$L, 4, FALSE)","v":{"$error":"#N/A"}},null,null,null,null,{"$f":"'Sample Information'!$H$6","v":0},{"$f":"'Sample Information'!$H$5","v":0},null,null,{"$f":"'Sample Information'!$H$7","v":0},null,{"$error":"#N/A"}]
[{"$f":"'Sample Information'!A232","v":231},{"$f":"'Sample Information'!B232","v":0},"0-RNA",{"$f":"'Sample Information'!D232","v":0},{"$f":"IF(VLOOKUP($C232, 'Nanodrop Data Raw'!$C:$L, 10, FALSE)<>\"\", VLOOKUP($C232, 'Nanodrop Data Raw'!$C:$L, 10, FALSE), VLOOKUP($C232, 'Nanodrop Data Raw'!$C:$L, 2, FALSE))","v":{"$error":"#N/A"}},null,null,{"$error":"#N/A"},{"$f":"VLOOKUP($C232, 'Nanodrop Data Raw'!$C:$L, 3, FALSE)","v":{"$error":"#N/A"}},{"$f":"VLOOKUP($C232, 'Nanodrop Data Raw'!$C:$L, 4, FALSE)","v":{"$error":"#N/A"}},null,null,null,null,{"$f":"'Sample Information'!$H$6","v":0},{"$f":"'Sample Information'!$H$5","v":0},null,null,{"$f":"'Sample Information'!$H$7","v":0},null,{"$error":"#N/A"}]
[{"$f":"'Sample Information'!A233","v":232},{"$f":"'Sample Information'!B233","v":0},"0-RNA",{"$f":"'Sample Information'!D233","v":0},{"$f":"IF(VLOOKUP($C233, 'Nanodrop Data Raw'!$C:$L, 10, FALSE)<>\"\", VLOOKUP($C233, 'Nanodrop Data Raw'!$C:$L, 10, FALSE), VLOOKUP($C233, 'Nanodrop Data Raw'!$C:$L, 2, FALSE))","v":{"$error":"#N/A"}},null,null,{"$error":"#N/A"},{"$f":"VLOOKUP($C233, 'Nanodrop Data Raw'!$C:$L, 3, FALSE)","v":{"$error":"#N/A"}},{"$f":"VLOOKUP($C233, 'Nanodrop Data Raw'!$C:$L, 4, FALSE)","v":{"$error":"#N/A"}},null,null,null,null,{"$f":"'Sample Information'!$H$6","v":0},{"$f":"'Sample Information'!$H$5","v":0},null,null,{"$f":"'Sample Information'!$H$7","v":0},null,{"$error":"#N/A"}]
[{"$f":"'Sample Information'!A234","v":233},{"$f":"'Sample Information'!B234","v":0},"0-RNA",{"$f":"'Sample Information'!D234","v":0},{"$f":"IF(VLOOKUP($C234, 'Nanodrop Data Raw'!$C:$L, 10, FALSE)<>\"\", VLOOKUP($C234, 'Nanodrop Data Raw'!$C:$L, 10, FALSE), VLOOKUP($C234, 'Nanodrop Data Raw'!$C:$L, 2, FALSE))","v":{"$error":"#N/A"}},null,null,{"$error":"#N/A"},{"$f":"VLOOKUP($C234, 'Nanodrop Data Raw'!$C:$L, 3, FALSE)","v":{"$error":"#N/A"}},{"$f":"VLOOKUP($C234, 'Nanodrop Data Raw'!$C:$L, 4, FALSE)","v":{"$error":"#N/A"}},null,null,null,null,{"$f":"'Sample Information'!$H$6","v":0},{"$f":"'Sample Information'!$H$5","v":0},null,null,{"$f":"'Sample Information'!$H$7","v":0},null,{"$error":"#N/A"}]
[{"$f":"'Sample Information'!A235","v":234},{"$f":"'Sample Information'!B235","v":0},"0-RNA",{"$f":"'Sample Information'!D235","v":0},{"$f":"IF(VLOOKUP($C235, 'Nanodrop Data Raw'!$C:$L, 10, FALSE)<>\"\", VLOOKUP($C235, 'Nanodrop Data Raw'!$C:$L, 10, FALSE), VLOOKUP($C235, 'Nanodrop Data Raw'!$C:$L, 2, FALSE))","v":{"$error":"#N/A"}},null,null,{"$error":"#N/A"},{"$f":"VLOOKUP($C235, 'Nanodrop Data Raw'!$C:$L, 3, FALSE)","v":{"$error":"#N/A"}},{"$f":"VLOOKUP($C235, 'Nanodrop Data Raw'!$C:$L, 4, FALSE)","v":{"$error":"#N/A"}},null,null,null,null,{"$f":"'Sample Information'!$H$6","v":0},{"$f":"'Sample Information'!$H$5","v":0},null,null,{"$f":"'Sample Information'!$H$7","v":0},null,{"$error":"#N/A"}]
[{"$f":"'Sample Information'!A236","v":235},{"$f":"'Sample Information'!B236","v":0},"0-RNA",{"$f":"'Sample Information'!D236","v":0},{"$f":"IF(VLOOKUP($C236, 'Nanodrop Data Raw'!$C:$L, 10, FALSE)<>\"\", VLOOKUP($C236, 'Nanodrop Data Raw'!$C:$L, 10, FALSE), VLOOKUP($C236, 'Nanodrop Data Raw'!$C:$L, 2, FALSE))","v":{"$error":"#N/A"}},null,null,{"$error":"#N/A"},{"$f":"VLOOKUP($C236, 'Nanodrop Data Raw'!$C:$L, 3, FALSE)","v":{"$error":"#N/A"}},{"$f":"VLOOKUP($C236, 'Nanodrop Data Raw'!$C:$L, 4, FALSE)","v":{"$error":"#N/A"}},null,null,null,null,{"$f":"'Sample Information'!$H$6","v":0},{"$f":"'Sample Information'!$H$5","v":0},null,null,{"$f":"'Sample Information'!$H$7","v":0},null,{"$error":"#N/A"}]
[{"$f":"'Sample Information'!A237","v":236},{"$f":"'Sample Information'!B237","v":0},"0-RNA",{"$f":"'Sample Information'!D237","v":0},{"$f":"IF(VLOOKUP($C237, 'Nanodrop Data Raw'!$C:$L, 10, FALSE)<>\"\", VLOOKUP($C237, 'Nanodrop Data Raw'!$C:$L, 10, FALSE), VLOOKUP($C237, 'Nanodrop Data Raw'!$C:$L, 2, FALSE))","v":{"$error":"#N/A"}},null,null,{"$error":"#N/A"},{"$f":"VLOOKUP($C237, 'Nanodrop Data Raw'!$C:$L, 3, FALSE)","v":{"$error":"#N/A"}},{"$f":"VLOOKUP($C237, 'Nanodrop Data Raw'!$C:$L, 4, FALSE)","v":{"$error":"#N/A"}},null,null,null,null,{"$f":"'Sample Information'!$H$6","v":0},{"$f":"'Sample Information'!$H$5","v":0},null,null,{"$f":"'Sample Information'!$H$7","v":0},null,{"$error":"#N/A"}]
[{"$f":"'Sample Information'!A238","v":237},{"$f":"'Sample Information'!B238","v":0},"0-RNA",{"$f":"'Sample Information'!D238","v":0},{"$f":"IF(VLOOKUP($C238, 'Nanodrop Data Raw'!$C:$L, 10, FALSE)<>\"\", VLOOKUP($C238, 'Nanodrop Data Raw'!$C:$L, 10, FALSE), VLOOKUP($C238, 'Nanodrop Data Raw'!$C:$L, 2, FALSE))","v":{"$error":"#N/A"}},null,null,{"$error":"#N/A"},{"$f":"VLOOKUP($C238, 'Nanodrop Data Raw'!$C:$L, 3, FALSE)","v":{"$error":"#N/A"}},{"$f":"VLOOKUP($C238, 'Nanodrop Data Raw'!$C:$L, 4, FALSE)","v":{"$error":"#N/A"}},null,null,null,null,{"$f":"'Sample Information'!$H$6","v":0},{"$f":"'Sample Information'!$H$5","v":0},null,null,{"$f":"'Sample Information'!$H$7","v":0},null,{"$error":"#N/A"}]
[{"$f":"'Sample Information'!A239","v":238},{"$f":"'Sample Information'!B239","v":0},"0-RNA",{"$f":"'Sample Information'!D239","v":0},{"$f":"IF(VLOOKUP($C239, 'Nanodrop Data Raw'!$C:$L, 10, FALSE)<>\"\", VLOOKUP($C239, 'Nanodrop Data Raw'!$C:$L, 10, FALSE), VLOOKUP($C239, 'Nanodrop Data Raw'!$C:$L, 2, FALSE))","v":{"$error":"#N/A"}},null,null,{"$error":"#N/A"},{"$f":"VLOOKUP($C239, 'Nanodrop Data Raw'!$C:$L, 3, FALSE)","v":{"$error":"#N/A"}},{"$f":"VLOOKUP($C239, 'Nanodrop Data Raw'!$C:$L, 4, FALSE)","v":{"$error":"#N/A"}},null,null,null,null,{"$f":"'Sample Information'!$H$6","v":0},{"$f":"'Sample Information'!$H$5","v":0},null,null,{"$f":"'Sample Information'!$H$7","v":0},null,{"$error":"#N/A"}]
[{"$f":"'Sample Information'!A240","v":239},{"$f":"'Sample Information'!B240","v":0},"0-RNA",{"$f":"'Sample Information'!D240","v":0},{"$f":"IF(VLOOKUP($C240, 'Nanodrop Data Raw'!$C:$L, 10, FALSE)<>\"\", VLOOKUP($C240, 'Nanodrop Data Raw'!$C:$L, 10, FALSE), VLOOKUP($C240, 'Nanodrop Data Raw'!$C:$L, 2, FALSE))","v":{"$error":"#N/A"}},null,null,{"$error":"#N/A"},{"$f":"VLOOKUP($C240, 'Nanodrop Data Raw'!$C:$L, 3, FALSE)","v":{"$error":"#N/A"}},{"$f":"VLOOKUP($C240, 'Nanodrop Data Raw'!$C:$L, 4, FALSE)","v":{"$error":"#N/A"}},null,null,null,null,{"$f":"'Sample Information'!$H$6","v":0},{"$f":"'Sample Information'!$H$5","v":0},null,null,{"$f":"'Sample Information'!$H$7","v":0},null,{"$error":"#N/A"}]
[{"$f":"'Sample Information'!A241","v":240},{"$f":"'Sample Information'!B241","v":0},"0-RNA",{"$f":"'Sample Information'!D241","v":0},{"$f":"IF(VLOOKUP($C241, 'Nanodrop Data Raw'!$C:$L, 10, FALSE)<>\"\", VLOOKUP($C241, 'Nanodrop Data Raw'!$C:$L, 10, FALSE), VLOOKUP($C241, 'Nanodrop Data Raw'!$C:$L, 2, FALSE))","v":{"$error":"#N/A"}},null,null,{"$error":"#N/A"},{"$f":"VLOOKUP($C241, 'Nanodrop Data Raw'!$C:$L, 3, FALSE)","v":{"$error":"#N/A"}},{"$f":"VLOOKUP($C241, 'Nanodrop Data Raw'!$C:$L, 4, FALSE)","v":{"$error":"#N/A"}},null,null,null,null,{"$f":"'Sample Information'!$H$6","v":0},{"$f":"'Sample Information'!$H$5","v":0},null,null,{"$f":"'Sample Information'!$H$7","v":0},null,{"$error":"#N/A"}]
[{"$f":"'Sample Information'!A242","v":241},{"$f":"'Sample Information'!B242","v":0},"0-RNA",{"$f":"'Sample Information'!D242","v":0},{"$f":"IF(VLOOKUP($C242, 'Nanodrop Data Raw'!$C:$L, 10, FALSE)<>\"\", VLOOKUP($C242, 'Nanodrop Data Raw'!$C:$L, 10, FALSE), VLOOKUP($C242, 'Nanodrop Data Raw'!$C:$L, 2, FALSE))","v":{"$error":"#N/A"}},null,null,{"$error":"#N/A"},{"$f":"VLOOKUP($C242, 'Nanodrop Data Raw'!$C:$L, 3, FALSE)","v":{"$error":"#N/A"}},{"$f":"VLOOKUP($C242, 'Nanodrop Data Raw'!$C:$L, 4, FALSE)","v":{"$error":"#N/A"}},null,null,null,null,{"$f":"'Sample Information'!$H$6","v":0},{"$f":"'Sample Information'!$H$5","v":0},null,null,{"$f":"'Sample Information'!$H$7","v":0},null,{"$error":"#N/A"}]
[{"$f":"'Sample Information'!A243","v":242},{"$f":"'Sample Information'!B243","v":0},"0-RNA",{"$f":"'Sample Information'!D243","v":0},{"$f":"IF(VLOOKUP($C243, 'Nanodrop Data Raw'!$C:$L, 10, FALSE)<>\"\", VLOOKUP($C243, 'Nanodrop Data Raw'!$C:$L, 10, FALSE), VLOOKUP($C243, 'Nanodrop Data Raw'!$C:$L, 2, FALSE))","v":{"$error":"#N/A"}},null,null,{"$error":"#N/A"},{"$f":"VLOOKUP($C243, 'Nanodrop Data Raw'!$C:$L, 3, FALSE)","v":{"$error":"#N/A"}},{"$f":"VLOOKUP($C243, 'Nanodrop Data Raw'!$C:$L, 4, FALSE)","v":{"$error":"#N/A"}},null,null,null,null,{"$f":"'Sample Information'!$H$6","v":0},{"$f":"'Sample Information'!$H$5","v":0},null,null,{"$f":"'Sample Information'!$H$7","v":0},null,{"$error":"#N/A"}]
[{"$f":"'Sample Information'!A244","v":243},{"$f":"'Sample Information'!B244","v":0},"0-RNA",{"$f":"'Sample Information'!D244","v":0},{"$f":"IF(VLOOKUP($C244, 'Nanodrop Data Raw'!$C:$L, 10, FALSE)<>\"\", VLOOKUP($C244, 'Nanodrop Data Raw'!$C:$L, 10, FALSE), VLOOKUP($C244, 'Nanodrop Data Raw'!$C:$L, 2, FALSE))","v":{"$error":"#N/A"}},null,null,{"$error":"#N/A"},{"$f":"VLOOKUP($C244, 'Nanodrop Data Raw'!$C:$L, 3, FALSE)","v":{"$error":"#N/A"}},{"$f":"VLOOKUP($C244, 'Nanodrop Data Raw'!$C:$L, 4, FALSE)","v":{"$error":"#N/A"}},null,null,null,null,{"$f":"'Sample Information'!$H$6","v":0},{"$f":"'Sample Information'!$H$5","v":0},null,null,{"$f":"'Sample Information'!$H$7","v":0},null,{"$error":"#N/A"}]
[{"$f":"'Sample Information'!A245","v":244},{"$f":"'Sample Information'!B245","v":0},"0-RNA",{"$f":"'Sample Information'!D245","v":0},{"$f":"IF(VLOOKUP($C245, 'Nanodrop Data Raw'!$C:$L, 10, FALSE)<>\"\", VLOOKUP($C245, 'Nanodrop Data Raw'!$C:$L, 10, FALSE), VLOOKUP($C245, 'Nanodrop Data Raw'!$C:$L, 2, FALSE))","v":{"$error":"#N/A"}},null,null,{"$error":"#N/A"},{"$f":"VLOOKUP($C245, 'Nanodrop Data Raw'!$C:$L, 3, FALSE)","v":{"$error":"#N/A"}},{"$f":"VLOOKUP($C245, 'Nanodrop Data Raw'!$C:$L, 4, FALSE)","v":{"$error":"#N/A"}},null,null,null,null,{"$f":"'Sample Information'!$H$6","v":0},{"$f":"'Sample Information'!$H$5","v":0},null,null,{"$f":"'Sample Information'!$H$7","v":0},null,{"$error":"#N/A"}]
[{"$f":"'Sample Information'!A246","v":245},{"$f":"'Sample Information'!B246","v":0},"0-RNA",{"$f":"'Sample Information'!D246","v":0},{"$f":"IF(VLOOKUP($C246, 'Nanodrop Data Raw'!$C:$L, 10, FALSE)<>\"\", VLOOKUP($C246, 'Nanodrop Data Raw'!$C:$L, 10, FALSE), VLOOKUP($C246, 'Nanodrop Data Raw'!$C:$L, 2, FALSE))","v":{"$error":"#N/A"}},null,null,{"$error":"#N/A"},{"$f":"VLOOKUP($C246, 'Nanodrop Data Raw'!$C:$L, 3, FALSE)","v":{"$error":"#N/A"}},{"$f":"VLOOKUP($C246, 'Nanodrop Data Raw'!$C:$L, 4, FALSE)","v":{"$error":"#N/A"}},null,null,null,null,{"$f":"'Sample Information'!$H$6","v":0},{"$f":"'Sample Information'!$H$5","v":0},null,null,{"$f":"'Sample Information'!$H$7","v":0},null,{"$error":"#N/A"}]
[{"$f":"'Sample Information'!A247","v":246},{"$f":"'Sample Information'!B247","v":0},"0-RNA",{"$f":"'Sample Information'!D247","v":0},{"$f":"IF(VLOOKUP($C247, 'Nanodrop Data Raw'!$C:$L, 10, FALSE)<>\"\", VLOOKUP($C247, 'Nanodrop Data Raw'!$C:$L, 10, FALSE), VLOOKUP($C247, 'Nanodrop Data Raw'!$C:$L, 2, FALSE))","v":{"$error":"#N/A"}},null,null,{"$error":"#N/A"},{"$f":"VLOOKUP($C247, 'Nanodrop Data Raw'!$C:$L, 3, FALSE)","v":{"$error":"#N/A"}},{"$f":"VLOOKUP($C247, 'Nanodrop Data Raw'!$C:$L, 4, FALSE)","v":{"$error":"#N/A"}},null,null,null,null,{"$f":"'Sample Information'!$H$6","v":0},{"$f":"'Sample Information'!$H$5","v":0},null,null,{"$f":"'Sample Information'!$H$7","v":0},null,{"$error":"#N/A"}]
[{"$f":"'Sample Information'!A248","v":247},{"$f":"'Sample Information'!B248","v":0},"0-RNA",{"$f":"'Sample Information'!D248","v":0},{"$f":"IF(VLOOKUP($C248, 'Nanodrop Data Raw'!$C:$L, 10, FALSE)<>\"\", VLOOKUP($C248, 'Nanodrop Data Raw'!$C:$L, 10, FALSE), VLOOKUP($C248, 'Nanodrop Data Raw'!$C:$L, 2, FALSE))","v":{"$error":"#N/A"}},null,null,{"$error":"#N/A"},{"$f":"VLOOKUP($C248, 'Nanodrop Data Raw'!$C:$L, 3, FALSE)","v":{"$error":"#N/A"}},{"$f":"VLOOKUP($C248, 'Nanodrop Data Raw'!$C:$L, 4, FALSE)","v":{"$error":"#N/A"}},null,null,null,null,{"$f":"'Sample Information'!$H$6","v":0},{"$f":"'Sample Information'!$H$5","v":0},null,null,{"$f":"'Sample Information'!$H$7","v":0},null,{"$error":"#N/A"}]
[{"$f":"'Sample Information'!A249","v":248},{"$f":"'Sample Information'!B249","v":0},"0-RNA",{"$f":"'Sample Information'!D249","v":0},{"$f":"IF(VLOOKUP($C249, 'Nanodrop Data Raw'!$C:$L, 10, FALSE)<>\"\", VLOOKUP($C249, 'Nanodrop Data Raw'!$C:$L, 10, FALSE), VLOOKUP($C249, 'Nanodrop Data Raw'!$C:$L, 2, FALSE))","v":{"$error":"#N/A"}},null,null,{"$error":"#N/A"},{"$f":"VLOOKUP($C249, 'Nanodrop Data Raw'!$C:$L, 3, FALSE)","v":{"$error":"#N/A"}},{"$f":"VLOOKUP($C249, 'Nanodrop Data Raw'!$C:$L, 4, FALSE)","v":{"$error":"#N/A"}},null,null,null,null,{"$f":"'Sample Information'!$H$6","v":0},{"$f":"'Sample Information'!$H$5","v":0},null,null,{"$f":"'Sample Information'!$H$7","v":0},null,{"$error":"#N/A"}]
[{"$f":"'Sample Information'!A250","v":249},{"$f":"'Sample Information'!B250","v":0},"0-RNA",{"$f":"'Sample Information'!D250","v":0},{"$f":"IF(VLOOKUP($C250, 'Nanodrop Data Raw'!$C:$L, 10, FALSE)<>\"\", VLOOKUP($C250, 'Nanodrop Data Raw'!$C:$L, 10, FALSE), VLOOKUP($C250, 'Nanodrop Data Raw'!$C:$L, 2, FALSE))","v":{"$error":"#N/A"}},null,null,{"$error":"#N/A"},{"$f":"VLOOKUP($C250, 'Nanodrop Data Raw'!$C:$L, 3, FALSE)","v":{"$error":"#N/A"}},{"$f":"VLOOKUP($C250, 'Nanodrop Data Raw'!$C:$L, 4, FALSE)","v":{"$error":"#N/A"}},null,null,null,null,{"$f":"'Sample Information'!$H$6","v":0},{"$f":"'Sample Information'!$H$5","v":0},null,null,{"$f":"'Sample Information'!$H$7","v":0},null,{"$error":"#N/A"}]
[{"$f":"'Sample Information'!A251","v":250},{"$f":"'Sample Information'!B251","v":0},"0-RNA",{"$f":"'Sample Information'!D251","v":0},{"$f":"IF(VLOOKUP($C251, 'Nanodrop Data Raw'!$C:$L, 10, FALSE)<>\"\", VLOOKUP($C251, 'Nanodrop Data Raw'!$C:$L, 10, FALSE), VLOOKUP($C251, 'Nanodrop Data Raw'!$C:$L, 2, FALSE))","v":{"$error":"#N/A"}},null,null,{"$error":"#N/A"},{"$f":"VLOOKUP($C251, 'Nanodrop Data Raw'!$C:$L, 3, FALSE)","v":{"$error":"#N/A"}},{"$f":"VLOOKUP($C251, 'Nanodrop Data Raw'!$C:$L, 4, FALSE)","v":{"$error":"#N/A"}},null,null,null,null,{"$f":"'Sample Information'!$H$6","v":0},{"$f":"'Sample Information'!$H$5","v":0},null,null,{"$f":"'Sample Information'!$H$7","v":0},null,{"$error":"#N/A"}]
[{"$f":"'Sample Information'!A252","v":251},{"$f":"'Sample Information'!B252","v":0},"0-RNA",{"$f":"'Sample Information'!D252","v":0},{"$f":"IF(VLOOKUP($C252, 'Nanodrop Data Raw'!$C:$L, 10, FALSE)<>\"\", VLOOKUP($C252, 'Nanodrop Data Raw'!$C:$L, 10, FALSE), VLOOKUP($C252, 'Nanodrop Data Raw'!$C:$L, 2, FALSE))","v":{"$error":"#N/A"}},null,null,{"$error":"#N/A"},{"$f":"VLOOKUP($C252, 'Nanodrop Data Raw'!$C:$L, 3, FALSE)","v":{"$error":"#N/A"}},{"$f":"VLOOKUP($C252, 'Nanodrop Data Raw'!$C:$L, 4, FALSE)","v":{"$error":"#N/A"}},null,null,null,null,{"$f":"'Sample Information'!$H$6","v":0},{"$f":"'Sample Information'!$H$5","v":0},null,null,{"$f":"'Sample Information'!$H$7","v":0},null,{"$error":"#N/A"}]
[{"$f":"'Sample Information'!A253","v":252},{"$f":"'Sample Information'!B253","v":0},"0-RNA",{"$f":"'Sample Information'!D253","v":0},{"$f":"IF(VLOOKUP($C253, 'Nanodrop Data Raw'!$C:$L, 10, FALSE)<>\"\", VLOOKUP($C253, 'Nanodrop Data Raw'!$C:$L, 10, FALSE), VLOOKUP($C253, 'Nanodrop Data Raw'!$C:$L, 2, FALSE))","v":{"$error":"#N/A"}},null,null,{"$error":"#N/A"},{"$f":"VLOOKUP($C253, 'Nanodrop Data Raw'!$C:$L, 3, FALSE)","v":{"$error":"#N/A"}},{"$f":"VLOOKUP($C253, 'Nanodrop Data Raw'!$C:$L, 4, FALSE)","v":{"$error":"#N/A"}},null,null,null,null,{"$f":"'Sample Information'!$H$6","v":0},{"$f":"'Sample Information'!$H$5","v":0},null,null,{"$f":"'Sample Information'!$H$7","v":0},null,{"$error":"#N/A"}]
[{"$f":"'Sample Information'!A254","v":253},{"$f":"'Sample Information'!B254","v":0},"0-RNA",{"$f":"'Sample Information'!D254","v":0},{"$f":"IF(VLOOKUP($C254, 'Nanodrop Data Raw'!$C:$L, 10, FALSE)<>\"\", VLOOKUP($C254, 'Nanodrop Data Raw'!$C:$L, 10, FALSE), VLOOKUP($C254, 'Nanodrop Data Raw'!$C:$L, 2, FALSE))","v":{"$error":"#N/A"}},null,null,{"$error":"#N/A"},{"$f":"VLOOKUP($C254, 'Nanodrop Data Raw'!$C:$L, 3, FALSE)","v":{"$error":"#N/A"}},{"$f":"VLOOKUP($C254, 'Nanodrop Data Raw'!$C:$L, 4, FALSE)","v":{"$error":"#N/A"}},null,null,null,null,{"$f":"'Sample Information'!$H$6","v":0},{"$f":"'Sample Information'!$H$5","v":0},null,null,{"$f":"'Sample Information'!$H$7","v":0},null,{"$error":"#N/A"}]
[{"$f":"'Sample Information'!A255","v":254},{"$f":"'Sample Information'!B255","v":0},"0-RNA",{"$f":"'Sample Information'!D255","v":0},{"$f":"IF(VLOOKUP($C255, 'Nanodrop Data Raw'!$C:$L, 10, FALSE)<>\"\", VLOOKUP($C255, 'Nanodrop Data Raw'!$C:$L, 10, FALSE), VLOOKUP($C255, 'Nanodrop Data Raw'!$C:$L, 2, FALSE))","v":{"$error":"#N/A"}},null,null,{"$error":"#N/A"},{"$f":"VLOOKUP($C255, 'Nanodrop Data Raw'!$C:$L, 3, FALSE)","v":{"$error":"#N/A"}},{"$f":"VLOOKUP($C255, 'Nanodrop Data Raw'!$C:$L, 4, FALSE)","v":{"$error":"#N/A"}},null,null,null,null,{"$f":"'Sample Information'!$H$6","v":0},{"$f":"'Sample Information'!$H$5","v":0},null,null,{"$f":"'Sample Information'!$H$7","v":0},null,{"$error":"#N/A"}]
[{"$f":"'Sample Information'!A256","v":255},{"$f":"'Sample Information'!B256","v":0},"0-RNA",{"$f":"'Sample Information'!D256","v":0},{"$f":"IF(VLOOKUP($C256, 'Nanodrop Data Raw'!$C:$L, 10, FALSE)<>\"\", VLOOKUP($C256, 'Nanodrop Data Raw'!$C:$L, 10, FALSE), VLOOKUP($C256, 'Nanodrop Data Raw'!$C:$L, 2, FALSE))","v":{"$error":"#N/A"}},null,null,{"$error":"#N/A"},{"$f":"VLOOKUP($C256, 'Nanodrop Data Raw'!$C:$L, 3, FALSE)","v":{"$error":"#N/A"}},{"$f":"VLOOKUP($C256, 'Nanodrop Data Raw'!$C:$L, 4, FALSE)","v":{"$error":"#N/A"}},null,null,null,null,{"$f":"'Sample Information'!$H$6","v":0},{"$f":"'Sample Information'!$H$5","v":0},null,null,{"$f":"'Sample Information'!$H$7","v":0},null,{"$error":"#N/A"}]
[{"$f":"'Sample Information'!A257","v":256},{"$f":"'Sample Information'!B257","v":0},"0-RNA",{"$f":"'Sample Information'!D257","v":0},{"$f":"IF(VLOOKUP($C257, 'Nanodrop Data Raw'!$C:$L, 10, FALSE)<>\"\", VLOOKUP($C257, 'Nanodrop Data Raw'!$C:$L, 10, FALSE), VLOOKUP($C257, 'Nanodrop Data Raw'!$C:$L, 2, FALSE))","v":{"$error":"#N/A"}},null,null,{"$error":"#N/A"},{"$f":"VLOOKUP($C257, 'Nanodrop Data Raw'!$C:$L, 3, FALSE)","v":{"$error":"#N/A"}},{"$f":"VLOOKUP($C257, 'Nanodrop Data Raw'!$C:$L, 4, FALSE)","v":{"$error":"#N/A"}},null,null,null,null,{"$f":"'Sample Information'!$H$6","v":0},{"$f":"'Sample Information'!$H$5","v":0},null,null,{"$f":"'Sample Information'!$H$7","v":0},null,{"$error":"#N/A"}]
[{"$f":"'Sample Information'!A258","v":257},{"$f":"'Sample Information'!B258","v":0},"0-RNA",{"$f":"'Sample Information'!D258","v":0},{"$f":"IF(VLOOKUP($C258, 'Nanodrop Data Raw'!$C:$L, 10, FALSE)<>\"\", VLOOKUP($C258, 'Nanodrop Data Raw'!$C:$L, 10, FALSE), VLOOKUP($C258, 'Nanodrop Data Raw'!$C:$L, 2, FALSE))","v":{"$error":"#N/A"}},null,null,{"$error":"#N/A"},{"$f":"VLOOKUP($C258, 'Nanodrop Data Raw'!$C:$L, 3, FALSE)","v":{"$error":"#N/A"}},{"$f":"VLOOKUP($C258, 'Nanodrop Data Raw'!$C:$L, 4, FALSE)","v":{"$error":"#N/A"}},null,null,null,null,{"$f":"'Sample Information'!$H$6","v":0},{"$f":"'Sample Information'!$H$5","v":0},null,null,{"$f":"'Sample Information'!$H$7","v":0},null,{"$error":"#N/A"}]
[{"$f":"'Sample Information'!A259","v":258},{"$f":"'Sample Information'!B259","v":0},{"$f":"CONCATENATE(B259,\"-RNA\")","v":"0-RNA"},{"$f":"'Sample Information'!D259","v":0},{"$f":"IF(VLOOKUP($C259, 'Nanodrop Data Raw'!$C:$L, 10, FALSE)<>\"\", VLOOKUP($C259, 'Nanodrop Data Raw'!$C:$L, 10, FALSE), VLOOKUP($C259, 'Nanodrop Data Raw'!$C:$L, 2, FALSE))","v":{"$error":"#N/A"}},null,null,{"$f":"E259*F259/1000","v":{"$error":"#N/A"}},{"$f":"VLOOKUP($C259, 'Nanodrop Data Raw'!$C:$L, 3, FALSE)","v":{"$error":"#N/A"}},{"$f":"VLOOKUP($C259, 'Nanodrop Data Raw'!$C:$L, 4, FALSE)","v":{"$error":"#N/A"}},null,null,null,null,{"$f":"'Sample Information'!$H$6","v":0},{"$f":"'Sample Information'!$H$5","v":0},null,null,{"$f":"'Sample Information'!$H$7","v":0},null,{"$f":"$N259/$E259","v":{"$error":"#N/A"}}]
[{"$f":"'Sample Information'!A260","v":259},{"$f":"'Sample Information'!B260","v":0},"0-RNA",{"$f":"'Sample Information'!D260","v":0},{"$f":"IF(VLOOKUP($C260, 'Nanodrop Data Raw'!$C:$L, 10, FALSE)<>\"\", VLOOKUP($C260, 'Nanodrop Data Raw'!$C:$L, 10, FALSE), VLOOKUP($C260, 'Nanodrop Data Raw'!$C:$L, 2, FALSE))","v":{"$error":"#N/A"}},null,null,{"$error":"#N/A"},{"$f":"VLOOKUP($C260, 'Nanodrop Data Raw'!$C:$L, 3, FALSE)","v":{"$error":"#N/A"}},{"$f":"VLOOKUP($C260, 'Nanodrop Data Raw'!$C:$L, 4, FALSE)","v":{"$error":"#N/A"}},null,null,null,null,{"$f":"'Sample Information'!$H$6","v":0},{"$f":"'Sample Information'!$H$5","v":0},null,null,{"$f":"'Sample Information'!$H$7","v":0},null,{"$error":"#N/A"}]
[{"$f":"'Sample Information'!A261","v":260},{"$f":"'Sample Information'!B261","v":0},"0-RNA",{"$f":"'Sample Information'!D261","v":0},{"$f":"IF(VLOOKUP($C261, 'Nanodrop Data Raw'!$C:$L, 10, FALSE)<>\"\", VLOOKUP($C261, 'Nanodrop Data Raw'!$C:$L, 10, FALSE), VLOOKUP($C261, 'Nanodrop Data Raw'!$C:$L, 2, FALSE))","v":{"$error":"#N/A"}},null,null,{"$error":"#N/A"},{"$f":"VLOOKUP($C261, 'Nanodrop Data Raw'!$C:$L, 3, FALSE)","v":{"$error":"#N/A"}},{"$f":"VLOOKUP($C261, 'Nanodrop Data Raw'!$C:$L, 4, FALSE)","v":{"$error":"#N/A"}},null,null,null,null,{"$f":"'Sample Information'!$H$6","v":0},{"$f":"'Sample Information'!$H$5","v":0},null,null,{"$f":"'Sample Information'!$H$7","v":0},null,{"$error":"#N/A"}]
[{"$f":"'Sample Information'!A262","v":261},{"$f":"'Sample Information'!B262","v":0},"0-RNA",{"$f":"'Sample Information'!D262","v":0},{"$f":"IF(VLOOKUP($C262, 'Nanodrop Data Raw'!$C:$L, 10, FALSE)<>\"\", VLOOKUP($C262, 'Nanodrop Data Raw'!$C:$L, 10, FALSE), VLOOKUP($C262, 'Nanodrop Data Raw'!$C:$L, 2, FALSE))","v":{"$error":"#N/A"}},null,null,{"$error":"#N/A"},{"$f":"VLOOKUP($C262, 'Nanodrop Data Raw'!$C:$L, 3, FALSE)","v":{"$error":"#N/A"}},{"$f":"VLOOKUP($C262, 'Nanodrop Data Raw'!$C:$L, 4, FALSE)","v":{"$error":"#N/A"}},null,null,null,null,{"$f":"'Sample Information'!$H$6","v":0},{"$f":"'Sample Information'!$H$5","v":0},null,null,{"$f":"'Sample Information'!$H$7","v":0},null,{"$error":"#N/A"}]
[{"$f":"'Sample Information'!A263","v":262},{"$f":"'Sample Information'!B263","v":0},"0-RNA",{"$f":"'Sample Information'!D263","v":0},{"$f":"IF(VLOOKUP($C263, 'Nanodrop Data Raw'!$C:$L, 10, FALSE)<>\"\", VLOOKUP($C263, 'Nanodrop Data Raw'!$C:$L, 10, FALSE), VLOOKUP($C263, 'Nanodrop Data Raw'!$C:$L, 2, FALSE))","v":{"$error":"#N/A"}},null,null,{"$error":"#N/A"},{"$f":"VLOOKUP($C263, 'Nanodrop Data Raw'!$C:$L, 3, FALSE)","v":{"$error":"#N/A"}},{"$f":"VLOOKUP($C263, 'Nanodrop Data Raw'!$C:$L, 4, FALSE)","v":{"$error":"#N/A"}},null,null,null,null,{"$f":"'Sample Information'!$H$6","v":0},{"$f":"'Sample Information'!$H$5","v":0},null,null,{"$f":"'Sample Information'!$H$7","v":0},null,{"$error":"#N/A"}]
[{"$f":"'Sample Information'!A264","v":263},{"$f":"'Sample Information'!B264","v":0},"0-RNA",{"$f":"'Sample Information'!D264","v":0},{"$f":"IF(VLOOKUP($C264, 'Nanodrop Data Raw'!$C:$L, 10, FALSE)<>\"\", VLOOKUP($C264, 'Nanodrop Data Raw'!$C:$L, 10, FALSE), VLOOKUP($C264, 'Nanodrop Data Raw'!$C:$L, 2, FALSE))","v":{"$error":"#N/A"}},null,null,{"$error":"#N/A"},{"$f":"VLOOKUP($C264, 'Nanodrop Data Raw'!$C:$L, 3, FALSE)","v":{"$error":"#N/A"}},{"$f":"VLOOKUP($C264, 'Nanodrop Data Raw'!$C:$L, 4, FALSE)","v":{"$error":"#N/A"}},null,null,null,null,{"$f":"'Sample Information'!$H$6","v":0},{"$f":"'Sample Information'!$H$5","v":0},null,null,{"$f":"'Sample Information'!$H$7","v":0},null,{"$error":"#N/A"}]
[{"$f":"'Sample Information'!A265","v":264},{"$f":"'Sample Information'!B265","v":0},"0-RNA",{"$f":"'Sample Information'!D265","v":0},{"$f":"IF(VLOOKUP($C265, 'Nanodrop Data Raw'!$C:$L, 10, FALSE)<>\"\", VLOOKUP($C265, 'Nanodrop Data Raw'!$C:$L, 10, FALSE), VLOOKUP($C265, 'Nanodrop Data Raw'!$C:$L, 2, FALSE))","v":{"$error":"#N/A"}},null,null,{"$error":"#N/A"},{"$f":"VLOOKUP($C265, 'Nanodrop Data Raw'!$C:$L, 3, FALSE)","v":{"$error":"#N/A"}},{"$f":"VLOOKUP($C265, 'Nanodrop Data Raw'!$C:$L, 4, FALSE)","v":{"$error":"#N/A"}},null,null,null,null,{"$f":"'Sample Information'!$H$6","v":0},{"$f":"'Sample Information'!$H$5","v":0},null,null,{"$f":"'Sample Information'!$H$7","v":0},null,{"$error":"#N/A"}]
[{"$f":"'Sample Information'!A266","v":265},{"$f":"'Sample Information'!B266","v":0},"0-RNA",{"$f":"'Sample Information'!D266","v":0},{"$f":"IF(VLOOKUP($C266, 'Nanodrop Data Raw'!$C:$L, 10, FALSE)<>\"\", VLOOKUP($C266, 'Nanodrop Data Raw'!$C:$L, 10, FALSE), VLOOKUP($C266, 'Nanodrop Data Raw'!$C:$L, 2, FALSE))","v":{"$error":"#N/A"}},null,null,{"$error":"#N/A"},{"$f":"VLOOKUP($C266, 'Nanodrop Data Raw'!$C:$L, 3, FALSE)","v":{"$error":"#N/A"}},{"$f":"VLOOKUP($C266, 'Nanodrop Data Raw'!$C:$L, 4, FALSE)","v":{"$error":"#N/A"}},null,null,null,null,{"$f":"'Sample Information'!$H$6","v":0},{"$f":"'Sample Information'!$H$5","v":0},null,null,{"$f":"'Sample Information'!$H$7","v":0},null,{"$error":"#N/A"}]
[{"$f":"'Sample Information'!A267","v":266},{"$f":"'Sample Information'!B267","v":0},"0-RNA",{"$f":"'Sample Information'!D267","v":0},{"$f":"IF(VLOOKUP($C267, 'Nanodrop Data Raw'!$C:$L, 10, FALSE)<>\"\", VLOOKUP($C267, 'Nanodrop Data Raw'!$C:$L, 10, FALSE), VLOOKUP($C267, 'Nanodrop Data Raw'!$C:$L, 2, FALSE))","v":{"$error":"#N/A"}},null,null,{"$error":"#N/A"},{"$f":"VLOOKUP($C267, 'Nanodrop Data Raw'!$C:$L, 3, FALSE)","v":{"$error":"#N/A"}},{"$f":"VLOOKUP($C267, 'Nanodrop Data Raw'!$C:$L, 4, FALSE)","v":{"$error":"#N/A"}},null,null,null,null,{"$f":"'Sample Information'!$H$6","v":0},{"$f":"'Sample Information'!$H$5","v":0},null,null,{"$f":"'Sample Information'!$H$7","v":0},null,{"$error":"#N/A"}]
[{"$f":"'Sample Information'!A268","v":267},{"$f":"'Sample Information'!B268","v":0},"0-RNA",{"$f":"'Sample Information'!D268","v":0},{"$f":"IF(VLOOKUP($C268, 'Nanodrop Data Raw'!$C:$L, 10, FALSE)<>\"\", VLOOKUP($C268, 'Nanodrop Data Raw'!$C:$L, 10, FALSE), VLOOKUP($C268, 'Nanodrop Data Raw'!$C:$L, 2, FALSE))","v":{"$error":"#N/A"}},null,null,{"$error":"#N/A"},{"$f":"VLOOKUP($C268, 'Nanodrop Data Raw'!$C:$L, 3, FALSE)","v":{"$error":"#N/A"}},{"$f":"VLOOKUP($C268, 'Nanodrop Data Raw'!$C:$L, 4, FALSE)","v":{"$error":"#N/A"}},null,null,null,null,{"$f":"'Sample Information'!$H$6","v":0},{"$f":"'Sample Information'!$H$5","v":0},null,null,{"$f":"'Sample Information'!$H$7","v":0},null,{"$error":"#N/A"}]
[{"$f":"'Sample Information'!A269","v":268},{"$f":"'Sample Information'!B269","v":0},"0-RNA",{"$f":"'Sample Information'!D269","v":0},{"$f":"IF(VLOOKUP($C269, 'Nanodrop Data Raw'!$C:$L, 10, FALSE)<>\"\", VLOOKUP($C269, 'Nanodrop Data Raw'!$C:$L, 10, FALSE), VLOOKUP($C269, 'Nanodrop Data Raw'!$C:$L, 2, FALSE))","v":{"$error":"#N/A"}},null,null,{"$error":"#N/A"},{"$f":"VLOOKUP($C269, 'Nanodrop Data Raw'!$C:$L, 3, FALSE)","v":{"$error":"#N/A"}},{"$f":"VLOOKUP($C269, 'Nanodrop Data Raw'!$C:$L, 4, FALSE)","v":{"$error":"#N/A"}},null,null,null,null,{"$f":"'Sample Information'!$H$6","v":0},{"$f":"'Sample Information'!$H$5","v":0},null,null,{"$f":"'Sample Information'!$H$7","v":0},null,{"$error":"#N/A"}]
[{"$f":"'Sample Information'!A270","v":269},{"$f":"'Sample Information'!B270","v":0},"0-RNA",{"$f":"'Sample Information'!D270","v":0},{"$f":"IF(VLOOKUP($C270, 'Nanodrop Data Raw'!$C:$L, 10, FALSE)<>\"\", VLOOKUP($C270, 'Nanodrop Data Raw'!$C:$L, 10, FALSE), VLOOKUP($C270, 'Nanodrop Data Raw'!$C:$L, 2, FALSE))","v":{"$error":"#N/A"}},null,null,{"$error":"#N/A"},{"$f":"VLOOKUP($C270, 'Nanodrop Data Raw'!$C:$L, 3, FALSE)","v":{"$error":"#N/A"}},{"$f":"VLOOKUP($C270, 'Nanodrop Data Raw'!$C:$L, 4, FALSE)","v":{"$error":"#N/A"}},null,null,null,null,{"$f":"'Sample Information'!$H$6","v":0},{"$f":"'Sample Information'!$H$5","v":0},null,null,{"$f":"'Sample Information'!$H$7","v":0},null,{"$error":"#N/A"}]
[{"$f":"'Sample Information'!A271","v":270},{"$f":"'Sample Information'!B271","v":0},"0-RNA",{"$f":"'Sample Information'!D271","v":0},{"$f":"IF(VLOOKUP($C271, 'Nanodrop Data Raw'!$C:$L, 10, FALSE)<>\"\", VLOOKUP($C271, 'Nanodrop Data Raw'!$C:$L, 10, FALSE), VLOOKUP($C271, 'Nanodrop Data Raw'!$C:$L, 2, FALSE))","v":{"$error":"#N/A"}},null,null,{"$error":"#N/A"},{"$f":"VLOOKUP($C271, 'Nanodrop Data Raw'!$C:$L, 3, FALSE)","v":{"$error":"#N/A"}},{"$f":"VLOOKUP($C271, 'Nanodrop Data Raw'!$C:$L, 4, FALSE)","v":{"$error":"#N/A"}},null,null,null,null,{"$f":"'Sample Information'!$H$6","v":0},{"$f":"'Sample Information'!$H$5","v":0},null,null,{"$f":"'Sample Information'!$H$7","v":0},null,{"$error":"#N/A"}]
[{"$f":"'Sample Information'!A272","v":271},{"$f":"'Sample Information'!B272","v":0},"0-RNA",{"$f":"'Sample Information'!D272","v":0},{"$f":"IF(VLOOKUP($C272, 'Nanodrop Data Raw'!$C:$L, 10, FALSE)<>\"\", VLOOKUP($C272, 'Nanodrop Data Raw'!$C:$L, 10, FALSE), VLOOKUP($C272, 'Nanodrop Data Raw'!$C:$L, 2, FALSE))","v":{"$error":"#N/A"}},null,null,{"$error":"#N/A"},{"$f":"VLOOKUP($C272, 'Nanodrop Data Raw'!$C:$L, 3, FALSE)","v":{"$error":"#N/A"}},{"$f":"VLOOKUP($C272, 'Nanodrop Data Raw'!$C:$L, 4, FALSE)","v":{"$error":"#N/A"}},null,null,null,null,{"$f":"'Sample Information'!$H$6","v":0},{"$f":"'Sample Information'!$H$5","v":0},null,null,{"$f":"'Sample Information'!$H$7","v":0},null,{"$error":"#N/A"}]
[{"$f":"'Sample Information'!A273","v":272},{"$f":"'Sample Information'!B273","v":0},"0-RNA",{"$f":"'Sample Information'!D273","v":0},{"$f":"IF(VLOOKUP($C273, 'Nanodrop Data Raw'!$C:$L, 10, FALSE)<>\"\", VLOOKUP($C273, 'Nanodrop Data Raw'!$C:$L, 10, FALSE), VLOOKUP($C273, 'Nanodrop Data Raw'!$C:$L, 2, FALSE))","v":{"$error":"#N/A"}},null,null,{"$error":"#N/A"},{"$f":"VLOOKUP($C273, 'Nanodrop Data Raw'!$C:$L, 3, FALSE)","v":{"$error":"#N/A"}},{"$f":"VLOOKUP($C273, 'Nanodrop Data Raw'!$C:$L, 4, FALSE)","v":{"$error":"#N/A"}},null,null,null,null,{"$f":"'Sample Information'!$H$6","v":0},{"$f":"'Sample Information'!$H$5","v":0},null,null,{"$f":"'Sample Information'!$H$7","v":0},null,{"$error":"#N/A"}]
[{"$f":"'Sample Information'!A274","v":273},{"$f":"'Sample Information'!B274","v":0},"0-RNA",{"$f":"'Sample Information'!D274","v":0},{"$f":"IF(VLOOKUP($C274, 'Nanodrop Data Raw'!$C:$L, 10, FALSE)<>\"\", VLOOKUP($C274, 'Nanodrop Data Raw'!$C:$L, 10, FALSE), VLOOKUP($C274, 'Nanodrop Data Raw'!$C:$L, 2, FALSE))","v":{"$error":"#N/A"}},null,null,{"$error":"#N/A"},{"$f":"VLOOKUP($C274, 'Nanodrop Data Raw'!$C:$L, 3, FALSE)","v":{"$error":"#N/A"}},{"$f":"VLOOKUP($C274, 'Nanodrop Data Raw'!$C:$L, 4, FALSE)","v":{"$error":"#N/A"}},null,null,null,null,{"$f":"'Sample Information'!$H$6","v":0},{"$f":"'Sample Information'!$H$5","v":0},null,null,{"$f":"'Sample Information'!$H$7","v":0},null,{"$error":"#N/A"}]
[{"$f":"'Sample Information'!A275","v":274},{"$f":"'Sample Information'!B275","v":0},"0-RNA",{"$f":"'Sample Information'!D275","v":0},{"$f":"IF(VLOOKUP($C275, 'Nanodrop Data Raw'!$C:$L, 10, FALSE)<>\"\", VLOOKUP($C275, 'Nanodrop Data Raw'!$C:$L, 10, FALSE), VLOOKUP($C275, 'Nanodrop Data Raw'!$C:$L, 2, FALSE))","v":{"$error":"#N/A"}},null,null,{"$error":"#N/A"},{"$f":"VLOOKUP($C275, 'Nanodrop Data Raw'!$C:$L, 3, FALSE)","v":{"$error":"#N/A"}},{"$f":"VLOOKUP($C275, 'Nanodrop Data Raw'!$C:$L, 4, FALSE)","v":{"$error":"#N/A"}},null,null,null,null,{"$f":"'Sample Information'!$H$6","v":0},{"$f":"'Sample Information'!$H$5","v":0},null,null,{"$f":"'Sample Information'!$H$7","v":0},null,{"$error":"#N/A"}]
[{"$f":"'Sample Information'!A276","v":275},{"$f":"'Sample Information'!B276","v":0},"0-RNA",{"$f":"'Sample Information'!D276","v":0},{"$f":"IF(VLOOKUP($C276, 'Nanodrop Data Raw'!$C:$L, 10, FALSE)<>\"\", VLOOKUP($C276, 'Nanodrop Data Raw'!$C:$L, 10, FALSE), VLOOKUP($C276, 'Nanodrop Data Raw'!$C:$L, 2, FALSE))","v":{"$error":"#N/A"}},null,null,{"$error":"#N/A"},{"$f":"VLOOKUP($C276, 'Nanodrop Data Raw'!$C:$L, 3, FALSE)","v":{"$error":"#N/A"}},{"$f":"VLOOKUP($C276, 'Nanodrop Data Raw'!$C:$L, 4, FALSE)","v":{"$error":"#N/A"}},null,null,null,null,{"$f":"'Sample Information'!$H$6","v":0},{"$f":"'Sample Information'!$H$5","v":0},null,null,{"$f":"'Sample Information'!$H$7","v":0},null,{"$error":"#N/A"}]
[{"$f":"'Sample Information'!A277","v":276},{"$f":"'Sample Information'!B277","v":0},"0-RNA",{"$f":"'Sample Information'!D277","v":0},{"$f":"IF(VLOOKUP($C277, 'Nanodrop Data Raw'!$C:$L, 10, FALSE)<>\"\", VLOOKUP($C277, 'Nanodrop Data Raw'!$C:$L, 10, FALSE), VLOOKUP($C277, 'Nanodrop Data Raw'!$C:$L, 2, FALSE))","v":{"$error":"#N/A"}},null,null,{"$error":"#N/A"},{"$f":"VLOOKUP($C277, 'Nanodrop Data Raw'!$C:$L, 3, FALSE)","v":{"$error":"#N/A"}},{"$f":"VLOOKUP($C277, 'Nanodrop Data Raw'!$C:$L, 4, FALSE)","v":{"$error":"#N/A"}},null,null,null,null,{"$f":"'Sample Information'!$H$6","v":0},{"$f":"'Sample Information'!$H$5","v":0},null,null,{"$f":"'Sample Information'!$H$7","v":0},null,{"$error":"#N/A"}]
[{"$f":"'Sample Information'!A278","v":277},{"$f":"'Sample Information'!B278","v":0},"0-RNA",{"$f":"'Sample Information'!D278","v":0},{"$f":"IF(VLOOKUP($C278, 'Nanodrop Data Raw'!$C:$L, 10, FALSE)<>\"\", VLOOKUP($C278, 'Nanodrop Data Raw'!$C:$L, 10, FALSE), VLOOKUP($C278, 'Nanodrop Data Raw'!$C:$L, 2, FALSE))","v":{"$error":"#N/A"}},null,null,{"$error":"#N/A"},{"$f":"VLOOKUP($C278, 'Nanodrop Data Raw'!$C:$L, 3, FALSE)","v":{"$error":"#N/A"}},{"$f":"VLOOKUP($C278, 'Nanodrop Data Raw'!$C:$L, 4, FALSE)","v":{"$error":"#N/A"}},null,null,null,null,{"$f":"'Sample Information'!$H$6","v":0},{"$f":"'Sample Information'!$H$5","v":0},null,null,{"$f":"'Sample Information'!$H$7","v":0},null,{"$error":"#N/A"}]
[{"$f":"'Sample Information'!A279","v":278},{"$f":"'Sample Information'!B279","v":0},"0-RNA",{"$f":"'Sample Information'!D279","v":0},{"$f":"IF(VLOOKUP($C279, 'Nanodrop Data Raw'!$C:$L, 10, FALSE)<>\"\", VLOOKUP($C279, 'Nanodrop Data Raw'!$C:$L, 10, FALSE), VLOOKUP($C279, 'Nanodrop Data Raw'!$C:$L, 2, FALSE))","v":{"$error":"#N/A"}},null,null,{"$error":"#N/A"},{"$f":"VLOOKUP($C279, 'Nanodrop Data Raw'!$C:$L, 3, FALSE)","v":{"$error":"#N/A"}},{"$f":"VLOOKUP($C279, 'Nanodrop Data Raw'!$C:$L, 4, FALSE)","v":{"$error":"#N/A"}},null,null,null,null,{"$f":"'Sample Information'!$H$6","v":0},{"$f":"'Sample Information'!$H$5","v":0},null,null,{"$f":"'Sample Information'!$H$7","v":0},null,{"$error":"#N/A"}]
[{"$f":"'Sample Information'!A280","v":279},{"$f":"'Sample Information'!B280","v":0},"0-RNA",{"$f":"'Sample Information'!D280","v":0},{"$f":"IF(VLOOKUP($C280, 'Nanodrop Data Raw'!$C:$L, 10, FALSE)<>\"\", VLOOKUP($C280, 'Nanodrop Data Raw'!$C:$L, 10, FALSE), VLOOKUP($C280, 'Nanodrop Data Raw'!$C:$L, 2, FALSE))","v":{"$error":"#N/A"}},null,null,{"$error":"#N/A"},{"$f":"VLOOKUP($C280, 'Nanodrop Data Raw'!$C:$L, 3, FALSE)","v":{"$error":"#N/A"}},{"$f":"VLOOKUP($C280, 'Nanodrop Data Raw'!$C:$L, 4, FALSE)","v":{"$error":"#N/A"}},null,null,null,null,{"$f":"'Sample Information'!$H$6","v":0},{"$f":"'Sample Information'!$H$5","v":0},null,null,{"$f":"'Sample Information'!$H$7","v":0},null,{"$error":"#N/A"}]
[{"$f":"'Sample Information'!A281","v":280},{"$f":"'Sample Information'!B281","v":0},"0-RNA",{"$f":"'Sample Information'!D281","v":0},{"$f":"IF(VLOOKUP($C281, 'Nanodrop Data Raw'!$C:$L, 10, FALSE)<>\"\", VLOOKUP($C281, 'Nanodrop Data Raw'!$C:$L, 10, FALSE), VLOOKUP($C281, 'Nanodrop Data Raw'!$C:$L, 2, FALSE))","v":{"$error":"#N/A"}},null,null,{"$error":"#N/A"},{"$f":"VLOOKUP($C281, 'Nanodrop Data Raw'!$C:$L, 3, FALSE)","v":{"$error":"#N/A"}},{"$f":"VLOOKUP($C281, 'Nanodrop Data Raw'!$C:$L, 4, FALSE)","v":{"$error":"#N/A"}},null,null,null,null,{"$f":"'Sample Information'!$H$6","v":0},{"$f":"'Sample Information'!$H$5","v":0},null,null,{"$f":"'Sample Information'!$H$7","v":0},null,{"$error":"#N/A"}]
[{"$f":"'Sample Information'!A282","v":281},{"$f":"'Sample Information'!B282","v":0},"0-RNA",{"$f":"'Sample Information'!D282","v":0},{"$f":"IF(VLOOKUP($C282, 'Nanodrop Data Raw'!$C:$L, 10, FALSE)<>\"\", VLOOKUP($C282, 'Nanodrop Data Raw'!$C:$L, 10, FALSE), VLOOKUP($C282, 'Nanodrop Data Raw'!$C:$L, 2, FALSE))","v":{"$error":"#N/A"}},null,null,{"$error":"#N/A"},{"$f":"VLOOKUP($C282, 'Nanodrop Data Raw'!$C:$L, 3, FALSE)","v":{"$error":"#N/A"}},{"$f":"VLOOKUP($C282, 'Nanodrop Data Raw'!$C:$L, 4, FALSE)","v":{"$error":"#N/A"}},null,null,null,null,{"$f":"'Sample Information'!$H$6","v":0},{"$f":"'Sample Information'!$H$5","v":0},null,null,{"$f":"'Sample Information'!$H$7","v":0},null,{"$error":"#N/A"}]
[{"$f":"'Sample Information'!A283","v":282},{"$f":"'Sample Information'!B283","v":0},"0-RNA",{"$f":"'Sample Information'!D283","v":0},{"$f":"IF(VLOOKUP($C283, 'Nanodrop Data Raw'!$C:$L, 10, FALSE)<>\"\", VLOOKUP($C283, 'Nanodrop Data Raw'!$C:$L, 10, FALSE), VLOOKUP($C283, 'Nanodrop Data Raw'!$C:$L, 2, FALSE))","v":{"$error":"#N/A"}},null,null,{"$error":"#N/A"},{"$f":"VLOOKUP($C283, 'Nanodrop Data Raw'!$C:$L, 3, FALSE)","v":{"$error":"#N/A"}},{"$f":"VLOOKUP($C283, 'Nanodrop Data Raw'!$C:$L, 4, FALSE)","v":{"$error":"#N/A"}},null,null,null,null,{"$f":"'Sample Information'!$H$6","v":0},{"$f":"'Sample Information'!$H$5","v":0},null,null,{"$f":"'Sample Information'!$H$7","v":0},null,{"$error":"#N/A"}]
[{"$f":"'Sample Information'!A284","v":283},{"$f":"'Sample Information'!B284","v":0},"0-RNA",{"$f":"'Sample Information'!D284","v":0},{"$f":"IF(VLOOKUP($C284, 'Nanodrop Data Raw'!$C:$L, 10, FALSE)<>\"\", VLOOKUP($C284, 'Nanodrop Data Raw'!$C:$L, 10, FALSE), VLOOKUP($C284, 'Nanodrop Data Raw'!$C:$L, 2, FALSE))","v":{"$error":"#N/A"}},null,null,{"$error":"#N/A"},{"$f":"VLOOKUP($C284, 'Nanodrop Data Raw'!$C:$L, 3, FALSE)","v":{"$error":"#N/A"}},{"$f":"VLOOKUP($C284, 'Nanodrop Data Raw'!$C:$L, 4, FALSE)","v":{"$error":"#N/A"}},null,null,null,null,{"$f":"'Sample Information'!$H$6","v":0},{"$f":"'Sample Information'!$H$5","v":0},null,null,{"$f":"'Sample Information'!$H$7","v":0},null,{"$error":"#N/A"}]
[{"$f":"'Sample Information'!A285","v":284},{"$f":"'Sample Information'!B285","v":0},"0-RNA",{"$f":"'Sample Information'!D285","v":0},{"$f":"IF(VLOOKUP($C285, 'Nanodrop Data Raw'!$C:$L, 10, FALSE)<>\"\", VLOOKUP($C285, 'Nanodrop Data Raw'!$C:$L, 10, FALSE), VLOOKUP($C285, 'Nanodrop Data Raw'!$C:$L, 2, FALSE))","v":{"$error":"#N/A"}},null,null,{"$error":"#N/A"},{"$f":"VLOOKUP($C285, 'Nanodrop Data Raw'!$C:$L, 3, FALSE)","v":{"$error":"#N/A"}},{"$f":"VLOOKUP($C285, 'Nanodrop Data Raw'!$C:$L, 4, FALSE)","v":{"$error":"#N/A"}},null,null,null,null,{"$f":"'Sample Information'!$H$6","v":0},{"$f":"'Sample Information'!$H$5","v":0},null,null,{"$f":"'Sample Information'!$H$7","v":0},null,{"$error":"#N/A"}]
[{"$f":"'Sample Information'!A286","v":285},{"$f":"'Sample Information'!B286","v":0},"0-RNA",{"$f":"'Sample Information'!D286","v":0},{"$f":"IF(VLOOKUP($C286, 'Nanodrop Data Raw'!$C:$L, 10, FALSE)<>\"\", VLOOKUP($C286, 'Nanodrop Data Raw'!$C:$L, 10, FALSE), VLOOKUP($C286, 'Nanodrop Data Raw'!$C:$L, 2, FALSE))","v":{"$error":"#N/A"}},null,null,{"$error":"#N/A"},{"$f":"VLOOKUP($C286, 'Nanodrop Data Raw'!$C:$L, 3, FALSE)","v":{"$error":"#N/A"}},{"$f":"VLOOKUP($C286, 'Nanodrop Data Raw'!$C:$L, 4, FALSE)","v":{"$error":"#N/A"}},null,null,null,null,{"$f":"'Sample Information'!$H$6","v":0},{"$f":"'Sample Information'!$H$5","v":0},null,null,{"$f":"'Sample Information'!$H$7","v":0},null,{"$error":"#N/A"}]
[{"$f":"'Sample Information'!A287","v":286},{"$f":"'Sample Information'!B287","v":0},"0-RNA",{"$f":"'Sample Information'!D287","v":0},{"$f":"IF(VLOOKUP($C287, 'Nanodrop Data Raw'!$C:$L, 10, FALSE)<>\"\", VLOOKUP($C287, 'Nanodrop Data Raw'!$C:$L, 10, FALSE), VLOOKUP($C287, 'Nanodrop Data Raw'!$C:$L, 2, FALSE))","v":{"$error":"#N/A"}},null,null,{"$error":"#N/A"},{"$f":"VLOOKUP($C287, 'Nanodrop Data Raw'!$C:$L, 3, FALSE)","v":{"$error":"#N/A"}},{"$f":"VLOOKUP($C287, 'Nanodrop Data Raw'!$C:$L, 4, FALSE)","v":{"$error":"#N/A"}},null,null,null,null,{"$f":"'Sample Information'!$H$6","v":0},{"$f":"'Sample Information'!$H$5","v":0},null,null,{"$f":"'Sample Information'!$H$7","v":0},null,{"$error":"#N/A"}]
[{"$f":"'Sample Information'!A288","v":287},{"$f":"'Sample Information'!B288","v":0},"0-RNA",{"$f":"'Sample Information'!D288","v":0},{"$f":"IF(VLOOKUP($C288, 'Nanodrop Data Raw'!$C:$L, 10, FALSE)<>\"\", VLOOKUP($C288, 'Nanodrop Data Raw'!$C:$L, 10, FALSE), VLOOKUP($C288, 'Nanodrop Data Raw'!$C:$L, 2, FALSE))","v":{"$error":"#N/A"}},null,null,{"$error":"#N/A"},{"$f":"VLOOKUP($C288, 'Nanodrop Data Raw'!$C:$L, 3, FALSE)","v":{"$error":"#N/A"}},{"$f":"VLOOKUP($C288, 'Nanodrop Data Raw'!$C:$L, 4, FALSE)","v":{"$error":"#N/A"}},null,null,null,null,{"$f":"'Sample Information'!$H$6","v":0},{"$f":"'Sample Information'!$H$5","v":0},null,null,{"$f":"'Sample Information'!$H$7","v":0},null,{"$error":"#N/A"}]
[{"$f":"'Sample Information'!A289","v":288},{"$f":"'Sample Information'!B289","v":0},"0-RNA",{"$f":"'Sample Information'!D289","v":0},{"$f":"IF(VLOOKUP($C289, 'Nanodrop Data Raw'!$C:$L, 10, FALSE)<>\"\", VLOOKUP($C289, 'Nanodrop Data Raw'!$C:$L, 10, FALSE), VLOOKUP($C289, 'Nanodrop Data Raw'!$C:$L, 2, FALSE))","v":{"$error":"#N/A"}},null,null,{"$error":"#N/A"},{"$f":"VLOOKUP($C289, 'Nanodrop Data Raw'!$C:$L, 3, FALSE)","v":{"$error":"#N/A"}},{"$f":"VLOOKUP($C289, 'Nanodrop Data Raw'!$C:$L, 4, FALSE)","v":{"$error":"#N/A"}},null,null,null,null,{"$f":"'Sample Information'!$H$6","v":0},{"$f":"'Sample Information'!$H$5","v":0},null,null,{"$f":"'Sample Information'!$H$7","v":0},null,{"$error":"#N/A"}]
[{"$f":"'Sample Information'!A290","v":289},{"$f":"'Sample Information'!B290","v":0},"0-RNA",{"$f":"'Sample Information'!D290","v":0},{"$f":"IF(VLOOKUP($C290, 'Nanodrop Data Raw'!$C:$L, 10, FALSE)<>\"\", VLOOKUP($C290, 'Nanodrop Data Raw'!$C:$L, 10, FALSE), VLOOKUP($C290, 'Nanodrop Data Raw'!$C:$L, 2, FALSE))","v":{"$error":"#N/A"}},null,null,{"$error":"#N/A"},{"$f":"VLOOKUP($C290, 'Nanodrop Data Raw'!$C:$L, 3, FALSE)","v":{"$error":"#N/A"}},{"$f":"VLOOKUP($C290, 'Nanodrop Data Raw'!$C:$L, 4, FALSE)","v":{"$error":"#N/A"}},null,null,null,null,{"$f":"'Sample Information'!$H$6","v":0},{"$f":"'Sample Information'!$H$5","v":0},null,null,{"$f":"'Sample Information'!$H$7","v":0},null,{"$error":"#N/A"}]
[{"$f":"'Sample Information'!A291","v":290},{"$f":"'Sample Information'!B291","v":0},"0-RNA",{"$f":"'Sample Information'!D291","v":0},{"$f":"IF(VLOOKUP($C291, 'Nanodrop Data Raw'!$C:$L, 10, FALSE)<>\"\", VLOOKUP($C291, 'Nanodrop Data Raw'!$C:$L, 10, FALSE), VLOOKUP($C291, 'Nanodrop Data Raw'!$C:$L, 2, FALSE))","v":{"$error":"#N/A"}},null,null,{"$error":"#N/A"},{"$f":"VLOOKUP($C291, 'Nanodrop Data Raw'!$C:$L, 3, FALSE)","v":{"$error":"#N/A"}},{"$f":"VLOOKUP($C291, 'Nanodrop Data Raw'!$C:$L, 4, FALSE)","v":{"$error":"#N/A"}},null,null,null,null,{"$f":"'Sample Information'!$H$6","v":0},{"$f":"'Sample Information'!$H$5","v":0},null,null,{"$f":"'Sample Information'!$H$7","v":0},null,{"$error":"#N/A"}]
[{"$f":"'Sample Information'!A292","v":291},{"$f":"'Sample Information'!B292","v":0},"0-RNA",{"$f":"'Sample Information'!D292","v":0},{"$f":"IF(VLOOKUP($C292, 'Nanodrop Data Raw'!$C:$L, 10, FALSE)<>\"\", VLOOKUP($C292, 'Nanodrop Data Raw'!$C:$L, 10, FALSE), VLOOKUP($C292, 'Nanodrop Data Raw'!$C:$L, 2, FALSE))","v":{"$error":"#N/A"}},null,null,{"$error":"#N/A"},{"$f":"VLOOKUP($C292, 'Nanodrop Data Raw'!$C:$L, 3, FALSE)","v":{"$error":"#N/A"}},{"$f":"VLOOKUP($C292, 'Nanodrop Data Raw'!$C:$L, 4, FALSE)","v":{"$error":"#N/A"}},null,null,null,null,{"$f":"'Sample Information'!$H$6","v":0},{"$f":"'Sample Information'!$H$5","v":0},null,null,{"$f":"'Sample Information'!$H$7","v":0},null,{"$error":"#N/A"}]
[{"$f":"'Sample Information'!A293","v":292},{"$f":"'Sample Information'!B293","v":0},"0-RNA",{"$f":"'Sample Information'!D293","v":0},{"$f":"IF(VLOOKUP($C293, 'Nanodrop Data Raw'!$C:$L, 10, FALSE)<>\"\", VLOOKUP($C293, 'Nanodrop Data Raw'!$C:$L, 10, FALSE), VLOOKUP($C293, 'Nanodrop Data Raw'!$C:$L, 2, FALSE))","v":{"$error":"#N/A"}},null,null,{"$error":"#N/A"},{"$f":"VLOOKUP($C293, 'Nanodrop Data Raw'!$C:$L, 3, FALSE)","v":{"$error":"#N/A"}},{"$f":"VLOOKUP($C293, 'Nanodrop Data Raw'!$C:$L, 4, FALSE)","v":{"$error":"#N/A"}},null,null,null,null,{"$f":"'Sample Information'!$H$6","v":0},{"$f":"'Sample Information'!$H$5","v":0},null,null,{"$f":"'Sample Information'!$H$7","v":0},null,{"$error":"#N/A"}]
[{"$f":"'Sample Information'!A294","v":293},{"$f":"'Sample Information'!B294","v":0},"0-RNA",{"$f":"'Sample Information'!D294","v":0},{"$f":"IF(VLOOKUP($C294, 'Nanodrop Data Raw'!$C:$L, 10, FALSE)<>\"\", VLOOKUP($C294, 'Nanodrop Data Raw'!$C:$L, 10, FALSE), VLOOKUP($C294, 'Nanodrop Data Raw'!$C:$L, 2, FALSE))","v":{"$error":"#N/A"}},null,null,{"$error":"#N/A"},{"$f":"VLOOKUP($C294, 'Nanodrop Data Raw'!$C:$L, 3, FALSE)","v":{"$error":"#N/A"}},{"$f":"VLOOKUP($C294, 'Nanodrop Data Raw'!$C:$L, 4, FALSE)","v":{"$error":"#N/A"}},null,null,null,null,{"$f":"'Sample Information'!$H$6","v":0},{"$f":"'Sample Information'!$H$5","v":0},null,null,{"$f":"'Sample Information'!$H$7","v":0},null,{"$error":"#N/A"}]
[{"$f":"'Sample Information'!A295","v":294},{"$f":"'Sample Information'!B295","v":0},"0-RNA",{"$f":"'Sample Information'!D295","v":0},{"$f":"IF(VLOOKUP($C295, 'Nanodrop Data Raw'!$C:$L, 10, FALSE)<>\"\", VLOOKUP($C295, 'Nanodrop Data Raw'!$C:$L, 10, FALSE), VLOOKUP($C295, 'Nanodrop Data Raw'!$C:$L, 2, FALSE))","v":{"$error":"#N/A"}},null,null,{"$error":"#N/A"},{"$f":"VLOOKUP($C295, 'Nanodrop Data Raw'!$C:$L, 3, FALSE)","v":{"$error":"#N/A"}},{"$f":"VLOOKUP($C295, 'Nanodrop Data Raw'!$C:$L, 4, FALSE)","v":{"$error":"#N/A"}},null,null,null,null,{"$f":"'Sample Information'!$H$6","v":0},{"$f":"'Sample Information'!$H$5","v":0},null,null,{"$f":"'Sample Information'!$H$7","v":0},null,{"$error":"#N/A"}]
[{"$f":"'Sample Information'!A296","v":295},{"$f":"'Sample Information'!B296","v":0},"0-RNA",{"$f":"'Sample Information'!D296","v":0},{"$f":"IF(VLOOKUP($C296, 'Nanodrop Data Raw'!$C:$L, 10, FALSE)<>\"\", VLOOKUP($C296, 'Nanodrop Data Raw'!$C:$L, 10, FALSE), VLOOKUP($C296, 'Nanodrop Data Raw'!$C:$L, 2, FALSE))","v":{"$error":"#N/A"}},null,null,{"$error":"#N/A"},{"$f":"VLOOKUP($C296, 'Nanodrop Data Raw'!$C:$L, 3, FALSE)","v":{"$error":"#N/A"}},{"$f":"VLOOKUP($C296, 'Nanodrop Data Raw'!$C:$L, 4, FALSE)","v":{"$error":"#N/A"}},null,null,null,null,{"$f":"'Sample Information'!$H$6","v":0},{"$f":"'Sample Information'!$H$5","v":0},null,null,{"$f":"'Sample Information'!$H$7","v":0},null,{"$error":"#N/A"}]
[{"$f":"'Sample Information'!A297","v":296},{"$f":"'Sample Information'!B297","v":0},"0-RNA",{"$f":"'Sample Information'!D297","v":0},{"$f":"IF(VLOOKUP($C297, 'Nanodrop Data Raw'!$C:$L, 10, FALSE)<>\"\", VLOOKUP($C297, 'Nanodrop Data Raw'!$C:$L, 10, FALSE), VLOOKUP($C297, 'Nanodrop Data Raw'!$C:$L, 2, FALSE))","v":{"$error":"#N/A"}},null,null,{"$error":"#N/A"},{"$f":"VLOOKUP($C297, 'Nanodrop Data Raw'!$C:$L, 3, FALSE)","v":{"$error":"#N/A"}},{"$f":"VLOOKUP($C297, 'Nanodrop Data Raw'!$C:$L, 4, FALSE)","v":{"$error":"#N/A"}},null,null,null,null,{"$f":"'Sample Information'!$H$6","v":0},{"$f":"'Sample Information'!$H$5","v":0},null,null,{"$f":"'Sample Information'!$H$7","v":0},null,{"$error":"#N/A"}]
[{"$f":"'Sample Information'!A298","v":297},{"$f":"'Sample Information'!B298","v":0},"0-RNA",{"$f":"'Sample Information'!D298","v":0},{"$f":"IF(VLOOKUP($C298, 'Nanodrop Data Raw'!$C:$L, 10, FALSE)<>\"\", VLOOKUP($C298, 'Nanodrop Data Raw'!$C:$L, 10, FALSE), VLOOKUP($C298, 'Nanodrop Data Raw'!$C:$L, 2, FALSE))","v":{"$error":"#N/A"}},null,null,{"$error":"#N/A"},{"$f":"VLOOKUP($C298, 'Nanodrop Data Raw'!$C:$L, 3, FALSE)","v":{"$error":"#N/A"}},{"$f":"VLOOKUP($C298, 'Nanodrop Data Raw'!$C:$L, 4, FALSE)","v":{"$error":"#N/A"}},null,null,null,null,{"$f":"'Sample Information'!$H$6","v":0},{"$f":"'Sample Information'!$H$5","v":0},null,null,{"$f":"'Sample Information'!$H$7","v":0},null,{"$error":"#N/A"}]
[{"$f":"'Sample Information'!A299","v":298},{"$f":"'Sample Information'!B299","v":0},"0-RNA",{"$f":"'Sample Information'!D299","v":0},{"$f":"IF(VLOOKUP($C299, 'Nanodrop Data Raw'!$C:$L, 10, FALSE)<>\"\", VLOOKUP($C299, 'Nanodrop Data Raw'!$C:$L, 10, FALSE), VLOOKUP($C299, 'Nanodrop Data Raw'!$C:$L, 2, FALSE))","v":{"$error":"#N/A"}},null,null,{"$error":"#N/A"},{"$f":"VLOOKUP($C299, 'Nanodrop Data Raw'!$C:$L, 3, FALSE)","v":{"$error":"#N/A"}},{"$f":"VLOOKUP($C299, 'Nanodrop Data Raw'!$C:$L, 4, FALSE)","v":{"$error":"#N/A"}},null,null,null,null,{"$f":"'Sample Information'!$H$6","v":0},{"$f":"'Sample Information'!$H$5","v":0},null,null,{"$f":"'Sample Information'!$H$7","v":0},null,{"$error":"#N/A"}]
[{"$f":"'Sample Information'!A300","v":299},{"$f":"'Sample Information'!B300","v":0},"0-RNA",{"$f":"'Sample Information'!D300","v":0},{"$f":"IF(VLOOKUP($C300, 'Nanodrop Data Raw'!$C:$L, 10, FALSE)<>\"\", VLOOKUP($C300, 'Nanodrop Data Raw'!$C:$L, 10, FALSE), VLOOKUP($C300, 'Nanodrop Data Raw'!$C:$L, 2, FALSE))","v":{"$error":"#N/A"}},null,null,{"$error":"#N/A"},{"$f":"VLOOKUP($C300, 'Nanodrop Data Raw'!$C:$L, 3, FALSE)","v":{"$error":"#N/A"}},{"$f":"VLOOKUP($C300, 'Nanodrop Data Raw'!$C:$L, 4, FALSE)","v":{"$error":"#N/A"}},null,null,null,null,{"$f":"'Sample Information'!$H$6","v":0},{"$f":"'Sample Information'!$H$5","v":0},null,null,{"$f":"'Sample Information'!$H$7","v":0},null,{"$error":"#N/A"}]
[{"$f":"'Sample Information'!A301","v":300},{"$f":"'Sample Information'!B301","v":0},"0-RNA",{"$f":"'Sample Information'!D301","v":0},{"$f":"IF(VLOOKUP($C301, 'Nanodrop Data Raw'!$C:$L, 10, FALSE)<>\"\", VLOOKUP($C301, 'Nanodrop Data Raw'!$C:$L, 10, FALSE), VLOOKUP($C301, 'Nanodrop Data Raw'!$C:$L, 2, FALSE))","v":{"$error":"#N/A"}},null,null,{"$error":"#N/A"},{"$f":"VLOOKUP($C301, 'Nanodrop Data Raw'!$C:$L, 3, FALSE)","v":{"$error":"#N/A"}},{"$f":"VLOOKUP($C301, 'Nanodrop Data Raw'!$C:$L, 4, FALSE)","v":{"$error":"#N/A"}},null,null,null,null,{"$f":"'Sample Information'!$H$6","v":0},{"$f":"'Sample Information'!$H$5","v":0},null,null,{"$f":"'Sample Information'!$H$7","v":0},null,{"$error":"#N/A"}]
[{"$f":"'Sample Information'!A302","v":301},{"$f":"'Sample Information'!B302","v":0},"0-RNA",{"$f":"'Sample Information'!D302","v":0},{"$f":"IF(VLOOKUP($C302, 'Nanodrop Data Raw'!$C:$L, 10, FALSE)<>\"\", VLOOKUP($C302, 'Nanodrop Data Raw'!$C:$L, 10, FALSE), VLOOKUP($C302, 'Nanodrop Data Raw'!$C:$L, 2, FALSE))","v":{"$error":"#N/A"}},null,null,{"$error":"#N/A"},{"$f":"VLOOKUP($C302, 'Nanodrop Data Raw'!$C:$L, 3, FALSE)","v":{"$error":"#N/A"}},{"$f":"VLOOKUP($C302, 'Nanodrop Data Raw'!$C:$L, 4, FALSE)","v":{"$error":"#N/A"}},null,null,null,null,{"$f":"'Sample Information'!$H$6","v":0},{"$f":"'Sample Information'!$H$5","v":0},null,null,{"$f":"'Sample Information'!$H$7","v":0},null,{"$error":"#N/A"}]
[{"$f":"'Sample Information'!A303","v":302},{"$f":"'Sample Information'!B303","v":0},"0-RNA",{"$f":"'Sample Information'!D303","v":0},{"$f":"IF(VLOOKUP($C303, 'Nanodrop Data Raw'!$C:$L, 10, FALSE)<>\"\", VLOOKUP($C303, 'Nanodrop Data Raw'!$C:$L, 10, FALSE), VLOOKUP($C303, 'Nanodrop Data Raw'!$C:$L, 2, FALSE))","v":{"$error":"#N/A"}},null,null,{"$error":"#N/A"},{"$f":"VLOOKUP($C303, 'Nanodrop Data Raw'!$C:$L, 3, FALSE)","v":{"$error":"#N/A"}},{"$f":"VLOOKUP($C303, 'Nanodrop Data Raw'!$C:$L, 4, FALSE)","v":{"$error":"#N/A"}},null,null,null,null,{"$f":"'Sample Information'!$H$6","v":0},{"$f":"'Sample Information'!$H$5","v":0},null,null,{"$f":"'Sample Information'!$H$7","v":0},null,{"$error":"#N/A"}]
[{"$f":"'Sample Information'!A304","v":303},{"$f":"'Sample Information'!B304","v":0},"0-RNA",{"$f":"'Sample Information'!D304","v":0},{"$f":"IF(VLOOKUP($C304, 'Nanodrop Data Raw'!$C:$L, 10, FALSE)<>\"\", VLOOKUP($C304, 'Nanodrop Data Raw'!$C:$L, 10, FALSE), VLOOKUP($C304, 'Nanodrop Data Raw'!$C:$L, 2, FALSE))","v":{"$error":"#N/A"}},null,null,{"$error":"#N/A"},{"$f":"VLOOKUP($C304, 'Nanodrop Data Raw'!$C:$L, 3, FALSE)","v":{"$error":"#N/A"}},{"$f":"VLOOKUP($C304, 'Nanodrop Data Raw'!$C:$L, 4, FALSE)","v":{"$error":"#N/A"}},null,null,null,null,{"$f":"'Sample Information'!$H$6","v":0},{"$f":"'Sample Information'!$H$5","v":0},null,null,{"$f":"'Sample Information'!$H$7","v":0},null,{"$error":"#N/A"}]
[{"$f":"'Sample Information'!A305","v":304},{"$f":"'Sample Information'!B305","v":0},"0-RNA",{"$f":"'Sample Information'!D305","v":0},{"$f":"IF(VLOOKUP($C305, 'Nanodrop Data Raw'!$C:$L, 10, FALSE)<>\"\", VLOOKUP($C305, 'Nanodrop Data Raw'!$C:$L, 10, FALSE), VLOOKUP($C305, 'Nanodrop Data Raw'!$C:$L, 2, FALSE))","v":{"$error":"#N/A"}},null,null,{"$error":"#N/A"},{"$f":"VLOOKUP($C305, 'Nanodrop Data Raw'!$C:$L, 3, FALSE)","v":{"$error":"#N/A"}},{"$f":"VLOOKUP($C305, 'Nanodrop Data Raw'!$C:$L, 4, FALSE)","v":{"$error":"#N/A"}},null,null,null,null,{"$f":"'Sample Information'!$H$6","v":0},{"$f":"'Sample Information'!$H$5","v":0},null,null,{"$f":"'Sample Information'!$H$7","v":0},null,{"$error":"#N/A"}]
[{"$f":"'Sample Information'!A306","v":305},{"$f":"'Sample Information'!B306","v":0},"0-RNA",{"$f":"'Sample Information'!D306","v":0},{"$f":"IF(VLOOKUP($C306, 'Nanodrop Data Raw'!$C:$L, 10, FALSE)<>\"\", VLOOKUP($C306, 'Nanodrop Data Raw'!$C:$L, 10, FALSE), VLOOKUP($C306, 'Nanodrop Data Raw'!$C:$L, 2, FALSE))","v":{"$error":"#N/A"}},null,null,{"$error":"#N/A"},{"$f":"VLOOKUP($C306, 'Nanodrop Data Raw'!$C:$L, 3, FALSE)","v":{"$error":"#N/A"}},{"$f":"VLOOKUP($C306, 'Nanodrop Data Raw'!$C:$L, 4, FALSE)","v":{"$error":"#N/A"}},null,null,null,null,{"$f":"'Sample Information'!$H$6","v":0},{"$f":"'Sample Information'!$H$5","v":0},null,null,{"$f":"'Sample Information'!$H$7","v":0},null,{"$error":"#N/A"}]
[{"$f":"'Sample Information'!A307","v":306},{"$f":"'Sample Information'!B307","v":0},"0-RNA",{"$f":"'Sample Information'!D307","v":0},{"$f":"IF(VLOOKUP($C307, 'Nanodrop Data Raw'!$C:$L, 10, FALSE)<>\"\", VLOOKUP($C307, 'Nanodrop Data Raw'!$C:$L, 10, FALSE), VLOOKUP($C307, 'Nanodrop Data Raw'!$C:$L, 2, FALSE))","v":{"$error":"#N/A"}},null,null,{"$error":"#N/A"},{"$f":"VLOOKUP($C307, 'Nanodrop Data Raw'!$C:$L, 3, FALSE)","v":{"$error":"#N/A"}},{"$f":"VLOOKUP($C307, 'Nanodrop Data Raw'!$C:$L, 4, FALSE)","v":{"$error":"#N/A"}},null,null,null,null,{"$f":"'Sample Information'!$H$6","v":0},{"$f":"'Sample Information'!$H$5","v":0},null,null,{"$f":"'Sample Information'!$H$7","v":0},null,{"$error":"#N/A"}]
[{"$f":"'Sample Information'!A308","v":307},{"$f":"'Sample Information'!B308","v":0},"0-RNA",{"$f":"'Sample Information'!D308","v":0},{"$f":"IF(VLOOKUP($C308, 'Nanodrop Data Raw'!$C:$L, 10, FALSE)<>\"\", VLOOKUP($C308, 'Nanodrop Data Raw'!$C:$L, 10, FALSE), VLOOKUP($C308, 'Nanodrop Data Raw'!$C:$L, 2, FALSE))","v":{"$error":"#N/A"}},null,null,{"$error":"#N/A"},{"$f":"VLOOKUP($C308, 'Nanodrop Data Raw'!$C:$L, 3, FALSE)","v":{"$error":"#N/A"}},{"$f":"VLOOKUP($C308, 'Nanodrop Data Raw'!$C:$L, 4, FALSE)","v":{"$error":"#N/A"}},null,null,null,null,{"$f":"'Sample Information'!$H$6","v":0},{"$f":"'Sample Information'!$H$5","v":0},null,null,{"$f":"'Sample Information'!$H$7","v":0},null,{"$error":"#N/A"}]
[{"$f":"'Sample Information'!A309","v":308},{"$f":"'Sample Information'!B309","v":0},"0-RNA",{"$f":"'Sample Information'!D309","v":0},{"$f":"IF(VLOOKUP($C309, 'Nanodrop Data Raw'!$C:$L, 10, FALSE)<>\"\", VLOOKUP($C309, 'Nanodrop Data Raw'!$C:$L, 10, FALSE), VLOOKUP($C309, 'Nanodrop Data Raw'!$C:$L, 2, FALSE))","v":{"$error":"#N/A"}},null,null,{"$error":"#N/A"},{"$f":"VLOOKUP($C309, 'Nanodrop Data Raw'!$C:$L, 3, FALSE)","v":{"$error":"#N/A"}},{"$f":"VLOOKUP($C309, 'Nanodrop Data Raw'!$C:$L, 4, FALSE)","v":{"$error":"#N/A"}},null,null,null,null,{"$f":"'Sample Information'!$H$6","v":0},{"$f":"'Sample Information'!$H$5","v":0},null,null,{"$f":"'Sample Information'!$H$7","v":0},null,{"$error":"#N/A"}]
[{"$f":"'Sample Information'!A310","v":309},{"$f":"'Sample Information'!B310","v":0},"0-RNA",{"$f":"'Sample Information'!D310","v":0},{"$f":"IF(VLOOKUP($C310, 'Nanodrop Data Raw'!$C:$L, 10, FALSE)<>\"\", VLOOKUP($C310, 'Nanodrop Data Raw'!$C:$L, 10, FALSE), VLOOKUP($C310, 'Nanodrop Data Raw'!$C:$L, 2, FALSE))","v":{"$error":"#N/A"}},null,null,{"$error":"#N/A"},{"$f":"VLOOKUP($C310, 'Nanodrop Data Raw'!$C:$L, 3, FALSE)","v":{"$error":"#N/A"}},{"$f":"VLOOKUP($C310, 'Nanodrop Data Raw'!$C:$L, 4, FALSE)","v":{"$error":"#N/A"}},null,null,null,null,{"$f":"'Sample Information'!$H$6","v":0},{"$f":"'Sample Information'!$H$5","v":0},null,null,{"$f":"'Sample Information'!$H$7","v":0},null,{"$error":"#N/A"}]
[{"$f":"'Sample Information'!A311","v":310},{"$f":"'Sample Information'!B311","v":0},"0-RNA",{"$f":"'Sample Information'!D311","v":0},{"$f":"IF(VLOOKUP($C311, 'Nanodrop Data Raw'!$C:$L, 10, FALSE)<>\"\", VLOOKUP($C311, 'Nanodrop Data Raw'!$C:$L, 10, FALSE), VLOOKUP($C311, 'Nanodrop Data Raw'!$C:$L, 2, FALSE))","v":{"$error":"#N/A"}},null,null,{"$error":"#N/A"},{"$f":"VLOOKUP($C311, 'Nanodrop Data Raw'!$C:$L, 3, FALSE)","v":{"$error":"#N/A"}},{"$f":"VLOOKUP($C311, 'Nanodrop Data Raw'!$C:$L, 4, FALSE)","v":{"$error":"#N/A"}},null,null,null,null,{"$f":"'Sample Information'!$H$6","v":0},{"$f":"'Sample Information'!$H$5","v":0},null,null,{"$f":"'Sample Information'!$H$7","v":0},null,{"$error":"#N/A"}]
[{"$f":"'Sample Information'!A312","v":311},{"$f":"'Sample Information'!B312","v":0},"0-RNA",{"$f":"'Sample Information'!D312","v":0},{"$f":"IF(VLOOKUP($C312, 'Nanodrop Data Raw'!$C:$L, 10, FALSE)<>\"\", VLOOKUP($C312, 'Nanodrop Data Raw'!$C:$L, 10, FALSE), VLOOKUP($C312, 'Nanodrop Data Raw'!$C:$L, 2, FALSE))","v":{"$error":"#N/A"}},null,null,{"$error":"#N/A"},{"$f":"VLOOKUP($C312, 'Nanodrop Data Raw'!$C:$L, 3, FALSE)","v":{"$error":"#N/A"}},{"$f":"VLOOKUP($C312, 'Nanodrop Data Raw'!$C:$L, 4, FALSE)","v":{"$error":"#N/A"}},null,null,null,null,{"$f":"'Sample Information'!$H$6","v":0},{"$f":"'Sample Information'!$H$5","v":0},null,null,{"$f":"'Sample Information'!$H$7","v":0},null,{"$error":"#N/A"}]
[{"$f":"'Sample Information'!A313","v":312},{"$f":"'Sample Information'!B313","v":0},"0-RNA",{"$f":"'Sample Information'!D313","v":0},{"$f":"IF(VLOOKUP($C313, 'Nanodrop Data Raw'!$C:$L, 10, FALSE)<>\"\", VLOOKUP($C313, 'Nanodrop Data Raw'!$C:$L, 10, FALSE), VLOOKUP($C313, 'Nanodrop Data Raw'!$C:$L, 2, FALSE))","v":{"$error":"#N/A"}},null,null,{"$error":"#N/A"},{"$f":"VLOOKUP($C313, 'Nanodrop Data Raw'!$C:$L, 3, FALSE)","v":{"$error":"#N/A"}},{"$f":"VLOOKUP($C313, 'Nanodrop Data Raw'!$C:$L, 4, FALSE)","v":{"$error":"#N/A"}},null,null,null,null,{"$f":"'Sample Information'!$H$6","v":0},{"$f":"'Sample Information'!$H$5","v":0},null,null,{"$f":"'Sample Information'!$H$7","v":0},null,{"$error":"#N/A"}]
[{"$f":"'Sample Information'!A314","v":313},{"$f":"'Sample Information'!B314","v":0},"0-RNA",{"$f":"'Sample Information'!D314","v":0},{"$f":"IF(VLOOKUP($C314, 'Nanodrop Data Raw'!$C:$L, 10, FALSE)<>\"\", VLOOKUP($C314, 'Nanodrop Data Raw'!$C:$L, 10, FALSE), VLOOKUP($C314, 'Nanodrop Data Raw'!$C:$L, 2, FALSE))","v":{"$error":"#N/A"}},null,null,{"$error":"#N/A"},{"$f":"VLOOKUP($C314, 'Nanodrop Data Raw'!$C:$L, 3, FALSE)","v":{"$error":"#N/A"}},{"$f":"VLOOKUP($C314, 'Nanodrop Data Raw'!$C:$L, 4, FALSE)","v":{"$error":"#N/A"}},null,null,null,null,{"$f":"'Sample Information'!$H$6","v":0},{"$f":"'Sample Information'!$H$5","v":0},null,null,{"$f":"'Sample Information'!$H$7","v":0},null,{"$error":"#N/A"}]
[{"$f":"'Sample Information'!A315","v":314},{"$f":"'Sample Information'!B315","v":0},"0-RNA",{"$f":"'Sample Information'!D315","v":0},{"$f":"IF(VLOOKUP($C315, 'Nanodrop Data Raw'!$C:$L, 10, FALSE)<>\"\", VLOOKUP($C315, 'Nanodrop Data Raw'!$C:$L, 10, FALSE), VLOOKUP($C315, 'Nanodrop Data Raw'!$C:$L, 2, FALSE))","v":{"$error":"#N/A"}},null,null,{"$error":"#N/A"},{"$f":"VLOOKUP($C315, 'Nanodrop Data Raw'!$C:$L, 3, FALSE)","v":{"$error":"#N/A"}},{"$f":"VLOOKUP($C315, 'Nanodrop Data Raw'!$C:$L, 4, FALSE)","v":{"$error":"#N/A"}},null,null,null,null,{"$f":"'Sample Information'!$H$6","v":0},{"$f":"'Sample Information'!$H$5","v":0},null,null,{"$f":"'Sample Information'!$H$7","v":0},null,{"$error":"#N/A"}]
[{"$f":"'Sample Information'!A316","v":315},{"$f":"'Sample Information'!B316","v":0},"0-RNA",{"$f":"'Sample Information'!D316","v":0},{"$f":"IF(VLOOKUP($C316, 'Nanodrop Data Raw'!$C:$L, 10, FALSE)<>\"\", VLOOKUP($C316, 'Nanodrop Data Raw'!$C:$L, 10, FALSE), VLOOKUP($C316, 'Nanodrop Data Raw'!$C:$L, 2, FALSE))","v":{"$error":"#N/A"}},null,null,{"$error":"#N/A"},{"$f":"VLOOKUP($C316, 'Nanodrop Data Raw'!$C:$L, 3, FALSE)","v":{"$error":"#N/A"}},{"$f":"VLOOKUP($C316, 'Nanodrop Data Raw'!$C:$L, 4, FALSE)","v":{"$error":"#N/A"}},null,null,null,null,{"$f":"'Sample Information'!$H$6","v":0},{"$f":"'Sample Information'!$H$5","v":0},null,null,{"$f":"'Sample Information'!$H$7","v":0},null,{"$error":"#N/A"}]
[{"$f":"'Sample Information'!A317","v":316},{"$f":"'Sample Information'!B317","v":0},"0-RNA",{"$f":"'Sample Information'!D317","v":0},{"$f":"IF(VLOOKUP($C317, 'Nanodrop Data Raw'!$C:$L, 10, FALSE)<>\"\", VLOOKUP($C317, 'Nanodrop Data Raw'!$C:$L, 10, FALSE), VLOOKUP($C317, 'Nanodrop Data Raw'!$C:$L, 2, FALSE))","v":{"$error":"#N/A"}},null,null,{"$error":"#N/A"},{"$f":"VLOOKUP($C317, 'Nanodrop Data Raw'!$C:$L, 3, FALSE)","v":{"$error":"#N/A"}},{"$f":"VLOOKUP($C317, 'Nanodrop Data Raw'!$C:$L, 4, FALSE)","v":{"$error":"#N/A"}},null,null,null,null,{"$f":"'Sample Information'!$H$6","v":0},{"$f":"'Sample Information'!$H$5","v":0},null,null,{"$f":"'Sample Information'!$H$7","v":0},null,{"$error":"#N/A"}]
[{"$f":"'Sample Information'!A318","v":317},{"$f":"'Sample Information'!B318","v":0},"0-RNA",{"$f":"'Sample Information'!D318","v":0},{"$f":"IF(VLOOKUP($C318, 'Nanodrop Data Raw'!$C:$L, 10, FALSE)<>\"\", VLOOKUP($C318, 'Nanodrop Data Raw'!$C:$L, 10, FALSE), VLOOKUP($C318, 'Nanodrop Data Raw'!$C:$L, 2, FALSE))","v":{"$error":"#N/A"}},null,null,{"$error":"#N/A"},{"$f":"VLOOKUP($C318, 'Nanodrop Data Raw'!$C:$L, 3, FALSE)","v":{"$error":"#N/A"}},{"$f":"VLOOKUP($C318, 'Nanodrop Data Raw'!$C:$L, 4, FALSE)","v":{"$error":"#N/A"}},null,null,null,null,{"$f":"'Sample Information'!$H$6","v":0},{"$f":"'Sample Information'!$H$5","v":0},null,null,{"$f":"'Sample Information'!$H$7","v":0},null,{"$error":"#N/A"}]
[{"$f":"'Sample Information'!A319","v":318},{"$f":"'Sample Information'!B319","v":0},"0-RNA",{"$f":"'Sample Information'!D319","v":0},{"$f":"IF(VLOOKUP($C319, 'Nanodrop Data Raw'!$C:$L, 10, FALSE)<>\"\", VLOOKUP($C319, 'Nanodrop Data Raw'!$C:$L, 10, FALSE), VLOOKUP($C319, 'Nanodrop Data Raw'!$C:$L, 2, FALSE))","v":{"$error":"#N/A"}},null,null,{"$error":"#N/A"},{"$f":"VLOOKUP($C319, 'Nanodrop Data Raw'!$C:$L, 3, FALSE)","v":{"$error":"#N/A"}},{"$f":"VLOOKUP($C319, 'Nanodrop Data Raw'!$C:$L, 4, FALSE)","v":{"$error":"#N/A"}},null,null,null,null,{"$f":"'Sample Information'!$H$6","v":0},{"$f":"'Sample Information'!$H$5","v":0},null,null,{"$f":"'Sample Information'!$H$7","v":0},null,{"$error":"#N/A"}]
[{"$f":"'Sample Information'!A320","v":319},{"$f":"'Sample Information'!B320","v":0},"0-RNA",{"$f":"'Sample Information'!D320","v":0},{"$f":"IF(VLOOKUP($C320, 'Nanodrop Data Raw'!$C:$L, 10, FALSE)<>\"\", VLOOKUP($C320, 'Nanodrop Data Raw'!$C:$L, 10, FALSE), VLOOKUP($C320, 'Nanodrop Data Raw'!$C:$L, 2, FALSE))","v":{"$error":"#N/A"}},null,null,{"$error":"#N/A"},{"$f":"VLOOKUP($C320, 'Nanodrop Data Raw'!$C:$L, 3, FALSE)","v":{"$error":"#N/A"}},{"$f":"VLOOKUP($C320, 'Nanodrop Data Raw'!$C:$L, 4, FALSE)","v":{"$error":"#N/A"}},null,null,null,null,{"$f":"'Sample Information'!$H$6","v":0},{"$f":"'Sample Information'!$H$5","v":0},null,null,{"$f":"'Sample Information'!$H$7","v":0},null,{"$error":"#N/A"}]
[{"$f":"'Sample Information'!A321","v":320},{"$f":"'Sample Information'!B321","v":0},"0-RNA",{"$f":"'Sample Information'!D321","v":0},{"$f":"IF(VLOOKUP($C321, 'Nanodrop Data Raw'!$C:$L, 10, FALSE)<>\"\", VLOOKUP($C321, 'Nanodrop Data Raw'!$C:$L, 10, FALSE), VLOOKUP($C321, 'Nanodrop Data Raw'!$C:$L, 2, FALSE))","v":{"$error":"#N/A"}},null,null,{"$error":"#N/A"},{"$f":"VLOOKUP($C321, 'Nanodrop Data Raw'!$C:$L, 3, FALSE)","v":{"$error":"#N/A"}},{"$f":"VLOOKUP($C321, 'Nanodrop Data Raw'!$C:$L, 4, FALSE)","v":{"$error":"#N/A"}},null,null,null,null,{"$f":"'Sample Information'!$H$6","v":0},{"$f":"'Sample Information'!$H$5","v":0},null,null,{"$f":"'Sample Information'!$H$7","v":0},null,{"$error":"#N/A"}]
[{"$f":"'Sample Information'!A322","v":321},{"$f":"'Sample Information'!B322","v":0},"0-RNA",{"$f":"'Sample Information'!D322","v":0},{"$f":"IF(VLOOKUP($C322, 'Nanodrop Data Raw'!$C:$L, 10, FALSE)<>\"\", VLOOKUP($C322, 'Nanodrop Data Raw'!$C:$L, 10, FALSE), VLOOKUP($C322, 'Nanodrop Data Raw'!$C:$L, 2, FALSE))","v":{"$error":"#N/A"}},null,null,{"$error":"#N/A"},{"$f":"VLOOKUP($C322, 'Nanodrop Data Raw'!$C:$L, 3, FALSE)","v":{"$error":"#N/A"}},{"$f":"VLOOKUP($C322, 'Nanodrop Data Raw'!$C:$L, 4, FALSE)","v":{"$error":"#N/A"}},null,null,null,null,{"$f":"'Sample Information'!$H$6","v":0},{"$f":"'Sample Information'!$H$5","v":0},null,null,{"$f":"'Sample Information'!$H$7","v":0},null,{"$error":"#N/A"}]
[{"$f":"'Sample Information'!A323","v":322},{"$f":"'Sample Information'!B323","v":0},{"$f":"CONCATENATE(B323,\"-RNA\")","v":"0-RNA"},{"$f":"'Sample Information'!D323","v":0},{"$f":"IF(VLOOKUP($C323, 'Nanodrop Data Raw'!$C:$L, 10, FALSE)<>\"\", VLOOKUP($C323, 'Nanodrop Data Raw'!$C:$L, 10, FALSE), VLOOKUP($C323, 'Nanodrop Data Raw'!$C:$L, 2, FALSE))","v":{"$error":"#N/A"}},null,null,{"$f":"E323*F323/1000","v":{"$error":"#N/A"}},{"$f":"VLOOKUP($C323, 'Nanodrop Data Raw'!$C:$L, 3, FALSE)","v":{"$error":"#N/A"}},{"$f":"VLOOKUP($C323, 'Nanodrop Data Raw'!$C:$L, 4, FALSE)","v":{"$error":"#N/A"}},null,null,null,null,{"$f":"'Sample Information'!$H$6","v":0},{"$f":"'Sample Information'!$H$5","v":0},null,null,{"$f":"'Sample Information'!$H$7","v":0},null,{"$f":"$N323/$E323","v":{"$error":"#N/A"}}]
[{"$f":"'Sample Information'!A324","v":323},{"$f":"'Sample Information'!B324","v":0},"0-RNA",{"$f":"'Sample Information'!D324","v":0},{"$f":"IF(VLOOKUP($C324, 'Nanodrop Data Raw'!$C:$L, 10, FALSE)<>\"\", VLOOKUP($C324, 'Nanodrop Data Raw'!$C:$L, 10, FALSE), VLOOKUP($C324, 'Nanodrop Data Raw'!$C:$L, 2, FALSE))","v":{"$error":"#N/A"}},null,null,{"$error":"#N/A"},{"$f":"VLOOKUP($C324, 'Nanodrop Data Raw'!$C:$L, 3, FALSE)","v":{"$error":"#N/A"}},{"$f":"VLOOKUP($C324, 'Nanodrop Data Raw'!$C:$L, 4, FALSE)","v":{"$error":"#N/A"}},null,null,null,null,{"$f":"'Sample Information'!$H$6","v":0},{"$f":"'Sample Information'!$H$5","v":0},null,null,{"$f":"'Sample Information'!$H$7","v":0},null,{"$error":"#N/A"}]
[{"$f":"'Sample Information'!A325","v":324},{"$f":"'Sample Information'!B325","v":0},"0-RNA",{"$f":"'Sample Information'!D325","v":0},{"$f":"IF(VLOOKUP($C325, 'Nanodrop Data Raw'!$C:$L, 10, FALSE)<>\"\", VLOOKUP($C325, 'Nanodrop Data Raw'!$C:$L, 10, FALSE), VLOOKUP($C325, 'Nanodrop Data Raw'!$C:$L, 2, FALSE))","v":{"$error":"#N/A"}},null,null,{"$error":"#N/A"},{"$f":"VLOOKUP($C325, 'Nanodrop Data Raw'!$C:$L, 3, FALSE)","v":{"$error":"#N/A"}},{"$f":"VLOOKUP($C325, 'Nanodrop Data Raw'!$C:$L, 4, FALSE)","v":{"$error":"#N/A"}},null,null,null,null,{"$f":"'Sample Information'!$H$6","v":0},{"$f":"'Sample Information'!$H$5","v":0},null,null,{"$f":"'Sample Information'!$H$7","v":0},null,{"$error":"#N/A"}]
[{"$f":"'Sample Information'!A326","v":325},{"$f":"'Sample Information'!B326","v":0},"0-RNA",{"$f":"'Sample Information'!D326","v":0},{"$f":"IF(VLOOKUP($C326, 'Nanodrop Data Raw'!$C:$L, 10, FALSE)<>\"\", VLOOKUP($C326, 'Nanodrop Data Raw'!$C:$L, 10, FALSE), VLOOKUP($C326, 'Nanodrop Data Raw'!$C:$L, 2, FALSE))","v":{"$error":"#N/A"}},null,null,{"$error":"#N/A"},{"$f":"VLOOKUP($C326, 'Nanodrop Data Raw'!$C:$L, 3, FALSE)","v":{"$error":"#N/A"}},{"$f":"VLOOKUP($C326, 'Nanodrop Data Raw'!$C:$L, 4, FALSE)","v":{"$error":"#N/A"}},null,null,null,null,{"$f":"'Sample Information'!$H$6","v":0},{"$f":"'Sample Information'!$H$5","v":0},null,null,{"$f":"'Sample Information'!$H$7","v":0},null,{"$error":"#N/A"}]
[{"$f":"'Sample Information'!A327","v":326},{"$f":"'Sample Information'!B327","v":0},"0-RNA",{"$f":"'Sample Information'!D327","v":0},{"$f":"IF(VLOOKUP($C327, 'Nanodrop Data Raw'!$C:$L, 10, FALSE)<>\"\", VLOOKUP($C327, 'Nanodrop Data Raw'!$C:$L, 10, FALSE), VLOOKUP($C327, 'Nanodrop Data Raw'!$C:$L, 2, FALSE))","v":{"$error":"#N/A"}},null,null,{"$error":"#N/A"},{"$f":"VLOOKUP($C327, 'Nanodrop Data Raw'!$C:$L, 3, FALSE)","v":{"$error":"#N/A"}},{"$f":"VLOOKUP($C327, 'Nanodrop Data Raw'!$C:$L, 4, FALSE)","v":{"$error":"#N/A"}},null,null,null,null,{"$f":"'Sample Information'!$H$6","v":0},{"$f":"'Sample Information'!$H$5","v":0},null,null,{"$f":"'Sample Information'!$H$7","v":0},null,{"$error":"#N/A"}]
[{"$f":"'Sample Information'!A328","v":327},{"$f":"'Sample Information'!B328","v":0},"0-RNA",{"$f":"'Sample Information'!D328","v":0},{"$f":"IF(VLOOKUP($C328, 'Nanodrop Data Raw'!$C:$L, 10, FALSE)<>\"\", VLOOKUP($C328, 'Nanodrop Data Raw'!$C:$L, 10, FALSE), VLOOKUP($C328, 'Nanodrop Data Raw'!$C:$L, 2, FALSE))","v":{"$error":"#N/A"}},null,null,{"$error":"#N/A"},{"$f":"VLOOKUP($C328, 'Nanodrop Data Raw'!$C:$L, 3, FALSE)","v":{"$error":"#N/A"}},{"$f":"VLOOKUP($C328, 'Nanodrop Data Raw'!$C:$L, 4, FALSE)","v":{"$error":"#N/A"}},null,null,null,null,{"$f":"'Sample Information'!$H$6","v":0},{"$f":"'Sample Information'!$H$5","v":0},null,null,{"$f":"'Sample Information'!$H$7","v":0},null,{"$error":"#N/A"}]
[{"$f":"'Sample Information'!A329","v":328},{"$f":"'Sample Information'!B329","v":0},"0-RNA",{"$f":"'Sample Information'!D329","v":0},{"$f":"IF(VLOOKUP($C329, 'Nanodrop Data Raw'!$C:$L, 10, FALSE)<>\"\", VLOOKUP($C329, 'Nanodrop Data Raw'!$C:$L, 10, FALSE), VLOOKUP($C329, 'Nanodrop Data Raw'!$C:$L, 2, FALSE))","v":{"$error":"#N/A"}},null,null,{"$error":"#N/A"},{"$f":"VLOOKUP($C329, 'Nanodrop Data Raw'!$C:$L, 3, FALSE)","v":{"$error":"#N/A"}},{"$f":"VLOOKUP($C329, 'Nanodrop Data Raw'!$C:$L, 4, FALSE)","v":{"$error":"#N/A"}},null,null,null,null,{"$f":"'Sample Information'!$H$6","v":0},{"$f":"'Sample Information'!$H$5","v":0},null,null,{"$f":"'Sample Information'!$H$7","v":0},null,{"$error":"#N/A"}]
[{"$f":"'Sample Information'!A330","v":329},{"$f":"'Sample Information'!B330","v":0},"0-RNA",{"$f":"'Sample Information'!D330","v":0},{"$f":"IF(VLOOKUP($C330, 'Nanodrop Data Raw'!$C:$L, 10, FALSE)<>\"\", VLOOKUP($C330, 'Nanodrop Data Raw'!$C:$L, 10, FALSE), VLOOKUP($C330, 'Nanodrop Data Raw'!$C:$L, 2, FALSE))","v":{"$error":"#N/A"}},null,null,{"$error":"#N/A"},{"$f":"VLOOKUP($C330, 'Nanodrop Data Raw'!$C:$L, 3, FALSE)","v":{"$error":"#N/A"}},{"$f":"VLOOKUP($C330, 'Nanodrop Data Raw'!$C:$L, 4, FALSE)","v":{"$error":"#N/A"}},null,null,null,null,{"$f":"'Sample Information'!$H$6","v":0},{"$f":"'Sample Information'!$H$5","v":0},null,null,{"$f":"'Sample Information'!$H$7","v":0},null,{"$error":"#N/A"}]
[{"$f":"'Sample Information'!A331","v":330},{"$f":"'Sample Information'!B331","v":0},"0-RNA",{"$f":"'Sample Information'!D331","v":0},{"$f":"IF(VLOOKUP($C331, 'Nanodrop Data Raw'!$C:$L, 10, FALSE)<>\"\", VLOOKUP($C331, 'Nanodrop Data Raw'!$C:$L, 10, FALSE), VLOOKUP($C331, 'Nanodrop Data Raw'!$C:$L, 2, FALSE))","v":{"$error":"#N/A"}},null,null,{"$error":"#N/A"},{"$f":"VLOOKUP($C331, 'Nanodrop Data Raw'!$C:$L, 3, FALSE)","v":{"$error":"#N/A"}},{"$f":"VLOOKUP($C331, 'Nanodrop Data Raw'!$C:$L, 4, FALSE)","v":{"$error":"#N/A"}},null,null,null,null,{"$f":"'Sample Information'!$H$6","v":0},{"$f":"'Sample Information'!$H$5","v":0},null,null,{"$f":"'Sample Information'!$H$7","v":0},null,{"$error":"#N/A"}]
[{"$f":"'Sample Information'!A332","v":331},{"$f":"'Sample Information'!B332","v":0},"0-RNA",{"$f":"'Sample Information'!D332","v":0},{"$f":"IF(VLOOKUP($C332, 'Nanodrop Data Raw'!$C:$L, 10, FALSE)<>\"\", VLOOKUP($C332, 'Nanodrop Data Raw'!$C:$L, 10, FALSE), VLOOKUP($C332, 'Nanodrop Data Raw'!$C:$L, 2, FALSE))","v":{"$error":"#N/A"}},null,null,{"$error":"#N/A"},{"$f":"VLOOKUP($C332, 'Nanodrop Data Raw'!$C:$L, 3, FALSE)","v":{"$error":"#N/A"}},{"$f":"VLOOKUP($C332, 'Nanodrop Data Raw'!$C:$L, 4, FALSE)","v":{"$error":"#N/A"}},null,null,null,null,{"$f":"'Sample Information'!$H$6","v":0},{"$f":"'Sample Information'!$H$5","v":0},null,null,{"$f":"'Sample Information'!$H$7","v":0},null,{"$error":"#N/A"}]
[{"$f":"'Sample Information'!A333","v":332},{"$f":"'Sample Information'!B333","v":0},"0-RNA",{"$f":"'Sample Information'!D333","v":0},{"$f":"IF(VLOOKUP($C333, 'Nanodrop Data Raw'!$C:$L, 10, FALSE)<>\"\", VLOOKUP($C333, 'Nanodrop Data Raw'!$C:$L, 10, FALSE), VLOOKUP($C333, 'Nanodrop Data Raw'!$C:$L, 2, FALSE))","v":{"$error":"#N/A"}},null,null,{"$error":"#N/A"},{"$f":"VLOOKUP($C333, 'Nanodrop Data Raw'!$C:$L, 3, FALSE)","v":{"$error":"#N/A"}},{"$f":"VLOOKUP($C333, 'Nanodrop Data Raw'!$C:$L, 4, FALSE)","v":{"$error":"#N/A"}},null,null,null,null,{"$f":"'Sample Information'!$H$6","v":0},{"$f":"'Sample Information'!$H$5","v":0},null,null,{"$f":"'Sample Information'!$H$7","v":0},null,{"$error":"#N/A"}]
[{"$f":"'Sample Information'!A334","v":333},{"$f":"'Sample Information'!B334","v":0},"0-RNA",{"$f":"'Sample Information'!D334","v":0},{"$f":"IF(VLOOKUP($C334, 'Nanodrop Data Raw'!$C:$L, 10, FALSE)<>\"\", VLOOKUP($C334, 'Nanodrop Data Raw'!$C:$L, 10, FALSE), VLOOKUP($C334, 'Nanodrop Data Raw'!$C:$L, 2, FALSE))","v":{"$error":"#N/A"}},null,null,{"$error":"#N/A"},{"$f":"VLOOKUP($C334, 'Nanodrop Data Raw'!$C:$L, 3, FALSE)","v":{"$error":"#N/A"}},{"$f":"VLOOKUP($C334, 'Nanodrop Data Raw'!$C:$L, 4, FALSE)","v":{"$error":"#N/A"}},null,null,null,null,{"$f":"'Sample Information'!$H$6","v":0},{"$f":"'Sample Information'!$H$5","v":0},null,null,{"$f":"'Sample Information'!$H$7","v":0},null,{"$error":"#N/A"}]
[{"$f":"'Sample Information'!A335","v":334},{"$f":"'Sample Information'!B335","v":0},"0-RNA",{"$f":"'Sample Information'!D335","v":0},{"$f":"IF(VLOOKUP($C335, 'Nanodrop Data Raw'!$C:$L, 10, FALSE)<>\"\", VLOOKUP($C335, 'Nanodrop Data Raw'!$C:$L, 10, FALSE), VLOOKUP($C335, 'Nanodrop Data Raw'!$C:$L, 2, FALSE))","v":{"$error":"#N/A"}},null,null,{"$error":"#N/A"},{"$f":"VLOOKUP($C335, 'Nanodrop Data Raw'!$C:$L, 3, FALSE)","v":{"$error":"#N/A"}},{"$f":"VLOOKUP($C335, 'Nanodrop Data Raw'!$C:$L, 4, FALSE)","v":{"$error":"#N/A"}},null,null,null,null,{"$f":"'Sample Information'!$H$6","v":0},{"$f":"'Sample Information'!$H$5","v":0},null,null,{"$f":"'Sample Information'!$H$7","v":0},null,{"$error":"#N/A"}]
[{"$f":"'Sample Information'!A336","v":335},{"$f":"'Sample Information'!B336","v":0},"0-RNA",{"$f":"'Sample Information'!D336","v":0},{"$f":"IF(VLOOKUP($C336, 'Nanodrop Data Raw'!$C:$L, 10, FALSE)<>\"\", VLOOKUP($C336, 'Nanodrop Data Raw'!$C:$L, 10, FALSE), VLOOKUP($C336, 'Nanodrop Data Raw'!$C:$L, 2, FALSE))","v":{"$error":"#N/A"}},null,null,{"$error":"#N/A"},{"$f":"VLOOKUP($C336, 'Nanodrop Data Raw'!$C:$L, 3, FALSE)","v":{"$error":"#N/A"}},{"$f":"VLOOKUP($C336, 'Nanodrop Data Raw'!$C:$L, 4, FALSE)","v":{"$error":"#N/A"}},null,null,null,null,{"$f":"'Sample Information'!$H$6","v":0},{"$f":"'Sample Information'!$H$5","v":0},null,null,{"$f":"'Sample Information'!$H$7","v":0},null,{"$error":"#N/A"}]
[{"$f":"'Sample Information'!A337","v":336},{"$f":"'Sample Information'!B337","v":0},"0-RNA",{"$f":"'Sample Information'!D337","v":0},{"$f":"IF(VLOOKUP($C337, 'Nanodrop Data Raw'!$C:$L, 10, FALSE)<>\"\", VLOOKUP($C337, 'Nanodrop Data Raw'!$C:$L, 10, FALSE), VLOOKUP($C337, 'Nanodrop Data Raw'!$C:$L, 2, FALSE))","v":{"$error":"#N/A"}},null,null,{"$error":"#N/A"},{"$f":"VLOOKUP($C337, 'Nanodrop Data Raw'!$C:$L, 3, FALSE)","v":{"$error":"#N/A"}},{"$f":"VLOOKUP($C337, 'Nanodrop Data Raw'!$C:$L, 4, FALSE)","v":{"$error":"#N/A"}},null,null,null,null,{"$f":"'Sample Information'!$H$6","v":0},{"$f":"'Sample Information'!$H$5","v":0},null,null,{"$f":"'Sample Information'!$H$7","v":0},null,{"$error":"#N/A"}]
[{"$f":"'Sample Information'!A338","v":337},{"$f":"'Sample Information'!B338","v":0},"0-RNA",{"$f":"'Sample Information'!D338","v":0},{"$f":"IF(VLOOKUP($C338, 'Nanodrop Data Raw'!$C:$L, 10, FALSE)<>\"\", VLOOKUP($C338, 'Nanodrop Data Raw'!$C:$L, 10, FALSE), VLOOKUP($C338, 'Nanodrop Data Raw'!$C:$L, 2, FALSE))","v":{"$error":"#N/A"}},null,null,{"$error":"#N/A"},{"$f":"VLOOKUP($C338, 'Nanodrop Data Raw'!$C:$L, 3, FALSE)","v":{"$error":"#N/A"}},{"$f":"VLOOKUP($C338, 'Nanodrop Data Raw'!$C:$L, 4, FALSE)","v":{"$error":"#N/A"}},null,null,null,null,{"$f":"'Sample Information'!$H$6","v":0},{"$f":"'Sample Information'!$H$5","v":0},null,null,{"$f":"'Sample Information'!$H$7","v":0},null,{"$error":"#N/A"}]
[{"$f":"'Sample Information'!A339","v":338},{"$f":"'Sample Information'!B339","v":0},"0-RNA",{"$f":"'Sample Information'!D339","v":0},{"$f":"IF(VLOOKUP($C339, 'Nanodrop Data Raw'!$C:$L, 10, FALSE)<>\"\", VLOOKUP($C339, 'Nanodrop Data Raw'!$C:$L, 10, FALSE), VLOOKUP($C339, 'Nanodrop Data Raw'!$C:$L, 2, FALSE))","v":{"$error":"#N/A"}},null,null,{"$error":"#N/A"},{"$f":"VLOOKUP($C339, 'Nanodrop Data Raw'!$C:$L, 3, FALSE)","v":{"$error":"#N/A"}},{"$f":"VLOOKUP($C339, 'Nanodrop Data Raw'!$C:$L, 4, FALSE)","v":{"$error":"#N/A"}},null,null,null,null,{"$f":"'Sample Information'!$H$6","v":0},{"$f":"'Sample Information'!$H$5","v":0},null,null,{"$f":"'Sample Information'!$H$7","v":0},null,{"$error":"#N/A"}]
[{"$f":"'Sample Information'!A340","v":339},{"$f":"'Sample Information'!B340","v":0},"0-RNA",{"$f":"'Sample Information'!D340","v":0},{"$f":"IF(VLOOKUP($C340, 'Nanodrop Data Raw'!$C:$L, 10, FALSE)<>\"\", VLOOKUP($C340, 'Nanodrop Data Raw'!$C:$L, 10, FALSE), VLOOKUP($C340, 'Nanodrop Data Raw'!$C:$L, 2, FALSE))","v":{"$error":"#N/A"}},null,null,{"$error":"#N/A"},{"$f":"VLOOKUP($C340, 'Nanodrop Data Raw'!$C:$L, 3, FALSE)","v":{"$error":"#N/A"}},{"$f":"VLOOKUP($C340, 'Nanodrop Data Raw'!$C:$L, 4, FALSE)","v":{"$error":"#N/A"}},null,null,null,null,{"$f":"'Sample Information'!$H$6","v":0},{"$f":"'Sample Information'!$H$5","v":0},null,null,{"$f":"'Sample Information'!$H$7","v":0},null,{"$error":"#N/A"}]
[{"$f":"'Sample Information'!A341","v":340},{"$f":"'Sample Information'!B341","v":0},"0-RNA",{"$f":"'Sample Information'!D341","v":0},{"$f":"IF(VLOOKUP($C341, 'Nanodrop Data Raw'!$C:$L, 10, FALSE)<>\"\", VLOOKUP($C341, 'Nanodrop Data Raw'!$C:$L, 10, FALSE), VLOOKUP($C341, 'Nanodrop Data Raw'!$C:$L, 2, FALSE))","v":{"$error":"#N/A"}},null,null,{"$error":"#N/A"},{"$f":"VLOOKUP($C341, 'Nanodrop Data Raw'!$C:$L, 3, FALSE)","v":{"$error":"#N/A"}},{"$f":"VLOOKUP($C341, 'Nanodrop Data Raw'!$C:$L, 4, FALSE)","v":{"$error":"#N/A"}},null,null,null,null,{"$f":"'Sample Information'!$H$6","v":0},{"$f":"'Sample Information'!$H$5","v":0},null,null,{"$f":"'Sample Information'!$H$7","v":0},null,{"$error":"#N/A"}]
[{"$f":"'Sample Information'!A342","v":341},{"$f":"'Sample Information'!B342","v":0},"0-RNA",{"$f":"'Sample Information'!D342","v":0},{"$f":"IF(VLOOKUP($C342, 'Nanodrop Data Raw'!$C:$L, 10, FALSE)<>\"\", VLOOKUP($C342, 'Nanodrop Data Raw'!$C:$L, 10, FALSE), VLOOKUP($C342, 'Nanodrop Data Raw'!$C:$L, 2, FALSE))","v":{"$error":"#N/A"}},null,null,{"$error":"#N/A"},{"$f":"VLOOKUP($C342, 'Nanodrop Data Raw'!$C:$L, 3, FALSE)","v":{"$error":"#N/A"}},{"$f":"VLOOKUP($C342, 'Nanodrop Data Raw'!$C:$L, 4, FALSE)","v":{"$error":"#N/A"}},null,null,null,null,{"$f":"'Sample Information'!$H$6","v":0},{"$f":"'Sample Information'!$H$5","v":0},null,null,{"$f":"'Sample Information'!$H$7","v":0},null,{"$error":"#N/A"}]
[{"$f":"'Sample Information'!A343","v":342},{"$f":"'Sample Information'!B343","v":0},"0-RNA",{"$f":"'Sample Information'!D343","v":0},{"$f":"IF(VLOOKUP($C343, 'Nanodrop Data Raw'!$C:$L, 10, FALSE)<>\"\", VLOOKUP($C343, 'Nanodrop Data Raw'!$C:$L, 10, FALSE), VLOOKUP($C343, 'Nanodrop Data Raw'!$C:$L, 2, FALSE))","v":{"$error":"#N/A"}},null,null,{"$error":"#N/A"},{"$f":"VLOOKUP($C343, 'Nanodrop Data Raw'!$C:$L, 3, FALSE)","v":{"$error":"#N/A"}},{"$f":"VLOOKUP($C343, 'Nanodrop Data Raw'!$C:$L, 4, FALSE)","v":{"$error":"#N/A"}},null,null,null,null,{"$f":"'Sample Information'!$H$6","v":0},{"$f":"'Sample Information'!$H$5","v":0},null,null,{"$f":"'Sample Information'!$H$7","v":0},null,{"$error":"#N/A"}]
[{"$f":"'Sample Information'!A344","v":343},{"$f":"'Sample Information'!B344","v":0},"0-RNA",{"$f":"'Sample Information'!D344","v":0},{"$f":"IF(VLOOKUP($C344, 'Nanodrop Data Raw'!$C:$L, 10, FALSE)<>\"\", VLOOKUP($C344, 'Nanodrop Data Raw'!$C:$L, 10, FALSE), VLOOKUP($C344, 'Nanodrop Data Raw'!$C:$L, 2, FALSE))","v":{"$error":"#N/A"}},null,null,{"$error":"#N/A"},{"$f":"VLOOKUP($C344, 'Nanodrop Data Raw'!$C:$L, 3, FALSE)","v":{"$error":"#N/A"}},{"$f":"VLOOKUP($C344, 'Nanodrop Data Raw'!$C:$L, 4, FALSE)","v":{"$error":"#N/A"}},null,null,null,null,{"$f":"'Sample Information'!$H$6","v":0},{"$f":"'Sample Information'!$H$5","v":0},null,null,{"$f":"'Sample Information'!$H$7","v":0},null,{"$error":"#N/A"}]
[{"$f":"'Sample Information'!A345","v":344},{"$f":"'Sample Information'!B345","v":0},"0-RNA",{"$f":"'Sample Information'!D345","v":0},{"$f":"IF(VLOOKUP($C345, 'Nanodrop Data Raw'!$C:$L, 10, FALSE)<>\"\", VLOOKUP($C345, 'Nanodrop Data Raw'!$C:$L, 10, FALSE), VLOOKUP($C345, 'Nanodrop Data Raw'!$C:$L, 2, FALSE))","v":{"$error":"#N/A"}},null,null,{"$error":"#N/A"},{"$f":"VLOOKUP($C345, 'Nanodrop Data Raw'!$C:$L, 3, FALSE)","v":{"$error":"#N/A"}},{"$f":"VLOOKUP($C345, 'Nanodrop Data Raw'!$C:$L, 4, FALSE)","v":{"$error":"#N/A"}},null,null,null,null,{"$f":"'Sample Information'!$H$6","v":0},{"$f":"'Sample Information'!$H$5","v":0},null,null,{"$f":"'Sample Information'!$H$7","v":0},null,{"$error":"#N/A"}]
[{"$f":"'Sample Information'!A346","v":345},{"$f":"'Sample Information'!B346","v":0},"0-RNA",{"$f":"'Sample Information'!D346","v":0},{"$f":"IF(VLOOKUP($C346, 'Nanodrop Data Raw'!$C:$L, 10, FALSE)<>\"\", VLOOKUP($C346, 'Nanodrop Data Raw'!$C:$L, 10, FALSE), VLOOKUP($C346, 'Nanodrop Data Raw'!$C:$L, 2, FALSE))","v":{"$error":"#N/A"}},null,null,{"$error":"#N/A"},{"$f":"VLOOKUP($C346, 'Nanodrop Data Raw'!$C:$L, 3, FALSE)","v":{"$error":"#N/A"}},{"$f":"VLOOKUP($C346, 'Nanodrop Data Raw'!$C:$L, 4, FALSE)","v":{"$error":"#N/A"}},null,null,null,null,{"$f":"'Sample Information'!$H$6","v":0},{"$f":"'Sample Information'!$H$5","v":0},null,null,{"$f":"'Sample Information'!$H$7","v":0},null,{"$error":"#N/A"}]
[{"$f":"'Sample Information'!A347","v":346},{"$f":"'Sample Information'!B347","v":0},"0-RNA",{"$f":"'Sample Information'!D347","v":0},{"$f":"IF(VLOOKUP($C347, 'Nanodrop Data Raw'!$C:$L, 10, FALSE)<>\"\", VLOOKUP($C347, 'Nanodrop Data Raw'!$C:$L, 10, FALSE), VLOOKUP($C347, 'Nanodrop Data Raw'!$C:$L, 2, FALSE))","v":{"$error":"#N/A"}},null,null,{"$error":"#N/A"},{"$f":"VLOOKUP($C347, 'Nanodrop Data Raw'!$C:$L, 3, FALSE)","v":{"$error":"#N/A"}},{"$f":"VLOOKUP($C347, 'Nanodrop Data Raw'!$C:$L, 4, FALSE)","v":{"$error":"#N/A"}},null,null,null,null,{"$f":"'Sample Information'!$H$6","v":0},{"$f":"'Sample Information'!$H$5","v":0},null,null,{"$f":"'Sample Information'!$H$7","v":0},null,{"$error":"#N/A"}]
[{"$f":"'Sample Information'!A348","v":347},{"$f":"'Sample Information'!B348","v":0},"0-RNA",{"$f":"'Sample Information'!D348","v":0},{"$f":"IF(VLOOKUP($C348, 'Nanodrop Data Raw'!$C:$L, 10, FALSE)<>\"\", VLOOKUP($C348, 'Nanodrop Data Raw'!$C:$L, 10, FALSE), VLOOKUP($C348, 'Nanodrop Data Raw'!$C:$L, 2, FALSE))","v":{"$error":"#N/A"}},null,null,{"$error":"#N/A"},{"$f":"VLOOKUP($C348, 'Nanodrop Data Raw'!$C:$L, 3, FALSE)","v":{"$error":"#N/A"}},{"$f":"VLOOKUP($C348, 'Nanodrop Data Raw'!$C:$L, 4, FALSE)","v":{"$error":"#N/A"}},null,null,null,null,{"$f":"'Sample Information'!$H$6","v":0},{"$f":"'Sample Information'!$H$5","v":0},null,null,{"$f":"'Sample Information'!$H$7","v":0},null,{"$error":"#N/A"}]
[{"$f":"'Sample Information'!A349","v":348},{"$f":"'Sample Information'!B349","v":0},"0-RNA",{"$f":"'Sample Information'!D349","v":0},{"$f":"IF(VLOOKUP($C349, 'Nanodrop Data Raw'!$C:$L, 10, FALSE)<>\"\", VLOOKUP($C349, 'Nanodrop Data Raw'!$C:$L, 10, FALSE), VLOOKUP($C349, 'Nanodrop Data Raw'!$C:$L, 2, FALSE))","v":{"$error":"#N/A"}},null,null,{"$error":"#N/A"},{"$f":"VLOOKUP($C349, 'Nanodrop Data Raw'!$C:$L, 3, FALSE)","v":{"$error":"#N/A"}},{"$f":"VLOOKUP($C349, 'Nanodrop Data Raw'!$C:$L, 4, FALSE)","v":{"$error":"#N/A"}},null,null,null,null,{"$f":"'Sample Information'!$H$6","v":0},{"$f":"'Sample Information'!$H$5","v":0},null,null,{"$f":"'Sample Information'!$H$7","v":0},null,{"$error":"#N/A"}]
[{"$f":"'Sample Information'!A350","v":349},{"$f":"'Sample Information'!B350","v":0},"0-RNA",{"$f":"'Sample Information'!D350","v":0},{"$f":"IF(VLOOKUP($C350, 'Nanodrop Data Raw'!$C:$L, 10, FALSE)<>\"\", VLOOKUP($C350, 'Nanodrop Data Raw'!$C:$L, 10, FALSE), VLOOKUP($C350, 'Nanodrop Data Raw'!$C:$L, 2, FALSE))","v":{"$error":"#N/A"}},null,null,{"$error":"#N/A"},{"$f":"VLOOKUP($C350, 'Nanodrop Data Raw'!$C:$L, 3, FALSE)","v":{"$error":"#N/A"}},{"$f":"VLOOKUP($C350, 'Nanodrop Data Raw'!$C:$L, 4, FALSE)","v":{"$error":"#N/A"}},null,null,null,null,{"$f":"'Sample Information'!$H$6","v":0},{"$f":"'Sample Information'!$H$5","v":0},null,null,{"$f":"'Sample Information'!$H$7","v":0},null,{"$error":"#N/A"}]
[{"$f":"'Sample Information'!A351","v":350},{"$f":"'Sample Information'!B351","v":0},"0-RNA",{"$f":"'Sample Information'!D351","v":0},{"$f":"IF(VLOOKUP($C351, 'Nanodrop Data Raw'!$C:$L, 10, FALSE)<>\"\", VLOOKUP($C351, 'Nanodrop Data Raw'!$C:$L, 10, FALSE), VLOOKUP($C351, 'Nanodrop Data Raw'!$C:$L, 2, FALSE))","v":{"$error":"#N/A"}},null,null,{"$error":"#N/A"},{"$f":"VLOOKUP($C351, 'Nanodrop Data Raw'!$C:$L, 3, FALSE)","v":{"$error":"#N/A"}},{"$f":"VLOOKUP($C351, 'Nanodrop Data Raw'!$C:$L, 4, FALSE)","v":{"$error":"#N/A"}},null,null,null,null,{"$f":"'Sample Information'!$H$6","v":0},{"$f":"'Sample Information'!$H$5","v":0},null,null,{"$f":"'Sample Information'!$H$7","v":0},null,{"$error":"#N/A"}]
[{"$f":"'Sample Information'!A352","v":351},{"$f":"'Sample Information'!B352","v":0},"0-RNA",{"$f":"'Sample Information'!D352","v":0},{"$f":"IF(VLOOKUP($C352, 'Nanodrop Data Raw'!$C:$L, 10, FALSE)<>\"\", VLOOKUP($C352, 'Nanodrop Data Raw'!$C:$L, 10, FALSE), VLOOKUP($C352, 'Nanodrop Data Raw'!$C:$L, 2, FALSE))","v":{"$error":"#N/A"}},null,null,{"$error":"#N/A"},{"$f":"VLOOKUP($C352, 'Nanodrop Data Raw'!$C:$L, 3, FALSE)","v":{"$error":"#N/A"}},{"$f":"VLOOKUP($C352, 'Nanodrop Data Raw'!$C:$L, 4, FALSE)","v":{"$error":"#N/A"}},null,null,null,null,{"$f":"'Sample Information'!$H$6","v":0},{"$f":"'Sample Information'!$H$5","v":0},null,null,{"$f":"'Sample Information'!$H$7","v":0},null,{"$error":"#N/A"}]
[{"$f":"'Sample Information'!A353","v":352},{"$f":"'Sample Information'!B353","v":0},"0-RNA",{"$f":"'Sample Information'!D353","v":0},{"$f":"IF(VLOOKUP($C353, 'Nanodrop Data Raw'!$C:$L, 10, FALSE)<>\"\", VLOOKUP($C353, 'Nanodrop Data Raw'!$C:$L, 10, FALSE), VLOOKUP($C353, 'Nanodrop Data Raw'!$C:$L, 2, FALSE))","v":{"$error":"#N/A"}},null,null,{"$error":"#N/A"},{"$f":"VLOOKUP($C353, 'Nanodrop Data Raw'!$C:$L, 3, FALSE)","v":{"$error":"#N/A"}},{"$f":"VLOOKUP($C353, 'Nanodrop Data Raw'!$C:$L, 4, FALSE)","v":{"$error":"#N/A"}},null,null,null,null,{"$f":"'Sample Information'!$H$6","v":0},{"$f":"'Sample Information'!$H$5","v":0},null,null,{"$f":"'Sample Information'!$H$7","v":0},null,{"$error":"#N/A"}]
[{"$f":"'Sample Information'!A354","v":353},{"$f":"'Sample Information'!B354","v":0},"0-RNA",{"$f":"'Sample Information'!D354","v":0},{"$f":"IF(VLOOKUP($C354, 'Nanodrop Data Raw'!$C:$L, 10, FALSE)<>\"\", VLOOKUP($C354, 'Nanodrop Data Raw'!$C:$L, 10, FALSE), VLOOKUP($C354, 'Nanodrop Data Raw'!$C:$L, 2, FALSE))","v":{"$error":"#N/A"}},null,null,{"$error":"#N/A"},{"$f":"VLOOKUP($C354, 'Nanodrop Data Raw'!$C:$L, 3, FALSE)","v":{"$error":"#N/A"}},{"$f":"VLOOKUP($C354, 'Nanodrop Data Raw'!$C:$L, 4, FALSE)","v":{"$error":"#N/A"}},null,null,null,null,{"$f":"'Sample Information'!$H$6","v":0},{"$f":"'Sample Information'!$H$5","v":0},null,null,{"$f":"'Sample Information'!$H$7","v":0},null,{"$error":"#N/A"}]
[{"$f":"'Sample Information'!A355","v":354},{"$f":"'Sample Information'!B355","v":0},"0-RNA",{"$f":"'Sample Information'!D355","v":0},{"$f":"IF(VLOOKUP($C355, 'Nanodrop Data Raw'!$C:$L, 10, FALSE)<>\"\", VLOOKUP($C355, 'Nanodrop Data Raw'!$C:$L, 10, FALSE), VLOOKUP($C355, 'Nanodrop Data Raw'!$C:$L, 2, FALSE))","v":{"$error":"#N/A"}},null,null,{"$error":"#N/A"},{"$f":"VLOOKUP($C355, 'Nanodrop Data Raw'!$C:$L, 3, FALSE)","v":{"$error":"#N/A"}},{"$f":"VLOOKUP($C355, 'Nanodrop Data Raw'!$C:$L, 4, FALSE)","v":{"$error":"#N/A"}},null,null,null,null,{"$f":"'Sample Information'!$H$6","v":0},{"$f":"'Sample Information'!$H$5","v":0},null,null,{"$f":"'Sample Information'!$H$7","v":0},null,{"$error":"#N/A"}]
[{"$f":"'Sample Information'!A356","v":355},{"$f":"'Sample Information'!B356","v":0},"0-RNA",{"$f":"'Sample Information'!D356","v":0},{"$f":"IF(VLOOKUP($C356, 'Nanodrop Data Raw'!$C:$L, 10, FALSE)<>\"\", VLOOKUP($C356, 'Nanodrop Data Raw'!$C:$L, 10, FALSE), VLOOKUP($C356, 'Nanodrop Data Raw'!$C:$L, 2, FALSE))","v":{"$error":"#N/A"}},null,null,{"$error":"#N/A"},{"$f":"VLOOKUP($C356, 'Nanodrop Data Raw'!$C:$L, 3, FALSE)","v":{"$error":"#N/A"}},{"$f":"VLOOKUP($C356, 'Nanodrop Data Raw'!$C:$L, 4, FALSE)","v":{"$error":"#N/A"}},null,null,null,null,{"$f":"'Sample Information'!$H$6","v":0},{"$f":"'Sample Information'!$H$5","v":0},null,null,{"$f":"'Sample Information'!$H$7","v":0},null,{"$error":"#N/A"}]
[{"$f":"'Sample Information'!A357","v":356},{"$f":"'Sample Information'!B357","v":0},"0-RNA",{"$f":"'Sample Information'!D357","v":0},{"$f":"IF(VLOOKUP($C357, 'Nanodrop Data Raw'!$C:$L, 10, FALSE)<>\"\", VLOOKUP($C357, 'Nanodrop Data Raw'!$C:$L, 10, FALSE), VLOOKUP($C357, 'Nanodrop Data Raw'!$C:$L, 2, FALSE))","v":{"$error":"#N/A"}},null,null,{"$error":"#N/A"},{"$f":"VLOOKUP($C357, 'Nanodrop Data Raw'!$C:$L, 3, FALSE)","v":{"$error":"#N/A"}},{"$f":"VLOOKUP($C357, 'Nanodrop Data Raw'!$C:$L, 4, FALSE)","v":{"$error":"#N/A"}},null,null,null,null,{"$f":"'Sample Information'!$H$6","v":0},{"$f":"'Sample Information'!$H$5","v":0},null,null,{"$f":"'Sample Information'!$H$7","v":0},null,{"$error":"#N/A"}]
[{"$f":"'Sample Information'!A358","v":357},{"$f":"'Sample Information'!B358","v":0},"0-RNA",{"$f":"'Sample Information'!D358","v":0},{"$f":"IF(VLOOKUP($C358, 'Nanodrop Data Raw'!$C:$L, 10, FALSE)<>\"\", VLOOKUP($C358, 'Nanodrop Data Raw'!$C:$L, 10, FALSE), VLOOKUP($C358, 'Nanodrop Data Raw'!$C:$L, 2, FALSE))","v":{"$error":"#N/A"}},null,null,{"$error":"#N/A"},{"$f":"VLOOKUP($C358, 'Nanodrop Data Raw'!$C:$L, 3, FALSE)","v":{"$error":"#N/A"}},{"$f":"VLOOKUP($C358, 'Nanodrop Data Raw'!$C:$L, 4, FALSE)","v":{"$error":"#N/A"}},null,null,null,null,{"$f":"'Sample Information'!$H$6","v":0},{"$f":"'Sample Information'!$H$5","v":0},null,null,{"$f":"'Sample Information'!$H$7","v":0},null,{"$error":"#N/A"}]
[{"$f":"'Sample Information'!A359","v":358},{"$f":"'Sample Information'!B359","v":0},"0-RNA",{"$f":"'Sample Information'!D359","v":0},{"$f":"IF(VLOOKUP($C359, 'Nanodrop Data Raw'!$C:$L, 10, FALSE)<>\"\", VLOOKUP($C359, 'Nanodrop Data Raw'!$C:$L, 10, FALSE), VLOOKUP($C359, 'Nanodrop Data Raw'!$C:$L, 2, FALSE))","v":{"$error":"#N/A"}},null,null,{"$error":"#N/A"},{"$f":"VLOOKUP($C359, 'Nanodrop Data Raw'!$C:$L, 3, FALSE)","v":{"$error":"#N/A"}},{"$f":"VLOOKUP($C359, 'Nanodrop Data Raw'!$C:$L, 4, FALSE)","v":{"$error":"#N/A"}},null,null,null,null,{"$f":"'Sample Information'!$H$6","v":0},{"$f":"'Sample Information'!$H$5","v":0},null,null,{"$f":"'Sample Information'!$H$7","v":0},null,{"$error":"#N/A"}]
[{"$f":"'Sample Information'!A360","v":359},{"$f":"'Sample Information'!B360","v":0},"0-RNA",{"$f":"'Sample Information'!D360","v":0},{"$f":"IF(VLOOKUP($C360, 'Nanodrop Data Raw'!$C:$L, 10, FALSE)<>\"\", VLOOKUP($C360, 'Nanodrop Data Raw'!$C:$L, 10, FALSE), VLOOKUP($C360, 'Nanodrop Data Raw'!$C:$L, 2, FALSE))","v":{"$error":"#N/A"}},null,null,{"$error":"#N/A"},{"$f":"VLOOKUP($C360, 'Nanodrop Data Raw'!$C:$L, 3, FALSE)","v":{"$error":"#N/A"}},{"$f":"VLOOKUP($C360, 'Nanodrop Data Raw'!$C:$L, 4, FALSE)","v":{"$error":"#N/A"}},null,null,null,null,{"$f":"'Sample Information'!$H$6","v":0},{"$f":"'Sample Information'!$H$5","v":0},null,null,{"$f":"'Sample Information'!$H$7","v":0},null,{"$error":"#N/A"}]
[{"$f":"'Sample Information'!A361","v":360},{"$f":"'Sample Information'!B361","v":0},"0-RNA",{"$f":"'Sample Information'!D361","v":0},{"$f":"IF(VLOOKUP($C361, 'Nanodrop Data Raw'!$C:$L, 10, FALSE)<>\"\", VLOOKUP($C361, 'Nanodrop Data Raw'!$C:$L, 10, FALSE), VLOOKUP($C361, 'Nanodrop Data Raw'!$C:$L, 2, FALSE))","v":{"$error":"#N/A"}},null,null,{"$error":"#N/A"},{"$f":"VLOOKUP($C361, 'Nanodrop Data Raw'!$C:$L, 3, FALSE)","v":{"$error":"#N/A"}},{"$f":"VLOOKUP($C361, 'Nanodrop Data Raw'!$C:$L, 4, FALSE)","v":{"$error":"#N/A"}},null,null,null,null,{"$f":"'Sample Information'!$H$6","v":0},{"$f":"'Sample Information'!$H$5","v":0},null,null,{"$f":"'Sample Information'!$H$7","v":0},null,{"$error":"#N/A"}]
[{"$f":"'Sample Information'!A362","v":361},{"$f":"'Sample Information'!B362","v":0},"0-RNA",{"$f":"'Sample Information'!D362","v":0},{"$f":"IF(VLOOKUP($C362, 'Nanodrop Data Raw'!$C:$L, 10, FALSE)<>\"\", VLOOKUP($C362, 'Nanodrop Data Raw'!$C:$L, 10, FALSE), VLOOKUP($C362, 'Nanodrop Data Raw'!$C:$L, 2, FALSE))","v":{"$error":"#N/A"}},null,null,{"$error":"#N/A"},{"$f":"VLOOKUP($C362, 'Nanodrop Data Raw'!$C:$L, 3, FALSE)","v":{"$error":"#N/A"}},{"$f":"VLOOKUP($C362, 'Nanodrop Data Raw'!$C:$L, 4, FALSE)","v":{"$error":"#N/A"}},null,null,null,null,{"$f":"'Sample Information'!$H$6","v":0},{"$f":"'Sample Information'!$H$5","v":0},null,null,{"$f":"'Sample Information'!$H$7","v":0},null,{"$error":"#N/A"}]
[{"$f":"'Sample Information'!A363","v":362},{"$f":"'Sample Information'!B363","v":0},"0-RNA",{"$f":"'Sample Information'!D363","v":0},{"$f":"IF(VLOOKUP($C363, 'Nanodrop Data Raw'!$C:$L, 10, FALSE)<>\"\", VLOOKUP($C363, 'Nanodrop Data Raw'!$C:$L, 10, FALSE), VLOOKUP($C363, 'Nanodrop Data Raw'!$C:$L, 2, FALSE))","v":{"$error":"#N/A"}},null,null,{"$error":"#N/A"},{"$f":"VLOOKUP($C363, 'Nanodrop Data Raw'!$C:$L, 3, FALSE)","v":{"$error":"#N/A"}},{"$f":"VLOOKUP($C363, 'Nanodrop Data Raw'!$C:$L, 4, FALSE)","v":{"$error":"#N/A"}},null,null,null,null,{"$f":"'Sample Information'!$H$6","v":0},{"$f":"'Sample Information'!$H$5","v":0},null,null,{"$f":"'Sample Information'!$H$7","v":0},null,{"$error":"#N/A"}]
[{"$f":"'Sample Information'!A364","v":363},{"$f":"'Sample Information'!B364","v":0},"0-RNA",{"$f":"'Sample Information'!D364","v":0},{"$f":"IF(VLOOKUP($C364, 'Nanodrop Data Raw'!$C:$L, 10, FALSE)<>\"\", VLOOKUP($C364, 'Nanodrop Data Raw'!$C:$L, 10, FALSE), VLOOKUP($C364, 'Nanodrop Data Raw'!$C:$L, 2, FALSE))","v":{"$error":"#N/A"}},null,null,{"$error":"#N/A"},{"$f":"VLOOKUP($C364, 'Nanodrop Data Raw'!$C:$L, 3, FALSE)","v":{"$error":"#N/A"}},{"$f":"VLOOKUP($C364, 'Nanodrop Data Raw'!$C:$L, 4, FALSE)","v":{"$error":"#N/A"}},null,null,null,null,{"$f":"'Sample Information'!$H$6","v":0},{"$f":"'Sample Information'!$H$5","v":0},null,null,{"$f":"'Sample Information'!$H$7","v":0},null,{"$error":"#N/A"}]
[{"$f":"'Sample Information'!A365","v":364},{"$f":"'Sample Information'!B365","v":0},"0-RNA",{"$f":"'Sample Information'!D365","v":0},{"$f":"IF(VLOOKUP($C365, 'Nanodrop Data Raw'!$C:$L, 10, FALSE)<>\"\", VLOOKUP($C365, 'Nanodrop Data Raw'!$C:$L, 10, FALSE), VLOOKUP($C365, 'Nanodrop Data Raw'!$C:$L, 2, FALSE))","v":{"$error":"#N/A"}},null,null,{"$error":"#N/A"},{"$f":"VLOOKUP($C365, 'Nanodrop Data Raw'!$C:$L, 3, FALSE)","v":{"$error":"#N/A"}},{"$f":"VLOOKUP($C365, 'Nanodrop Data Raw'!$C:$L, 4, FALSE)","v":{"$error":"#N/A"}},null,null,null,null,{"$f":"'Sample Information'!$H$6","v":0},{"$f":"'Sample Information'!$H$5","v":0},null,null,{"$f":"'Sample Information'!$H$7","v":0},null,{"$error":"#N/A"}]
[{"$f":"'Sample Information'!A366","v":365},{"$f":"'Sample Information'!B366","v":0},"0-RNA",{"$f":"'Sample Information'!D366","v":0},{"$f":"IF(VLOOKUP($C366, 'Nanodrop Data Raw'!$C:$L, 10, FALSE)<>\"\", VLOOKUP($C366, 'Nanodrop Data Raw'!$C:$L, 10, FALSE), VLOOKUP($C366, 'Nanodrop Data Raw'!$C:$L, 2, FALSE))","v":{"$error":"#N/A"}},null,null,{"$error":"#N/A"},{"$f":"VLOOKUP($C366, 'Nanodrop Data Raw'!$C:$L, 3, FALSE)","v":{"$error":"#N/A"}},{"$f":"VLOOKUP($C366, 'Nanodrop Data Raw'!$C:$L, 4, FALSE)","v":{"$error":"#N/A"}},null,null,null,null,{"$f":"'Sample Information'!$H$6","v":0},{"$f":"'Sample Information'!$H$5","v":0},null,null,{"$f":"'Sample Information'!$H$7","v":0},null,{"$error":"#N/A"}]
[{"$f":"'Sample Information'!A367","v":366},{"$f":"'Sample Information'!B367","v":0},"0-RNA",{"$f":"'Sample Information'!D367","v":0},{"$f":"IF(VLOOKUP($C367, 'Nanodrop Data Raw'!$C:$L, 10, FALSE)<>\"\", VLOOKUP($C367, 'Nanodrop Data Raw'!$C:$L, 10, FALSE), VLOOKUP($C367, 'Nanodrop Data Raw'!$C:$L, 2, FALSE))","v":{"$error":"#N/A"}},null,null,{"$error":"#N/A"},{"$f":"VLOOKUP($C367, 'Nanodrop Data Raw'!$C:$L, 3, FALSE)","v":{"$error":"#N/A"}},{"$f":"VLOOKUP($C367, 'Nanodrop Data Raw'!$C:$L, 4, FALSE)","v":{"$error":"#N/A"}},null,null,null,null,{"$f":"'Sample Information'!$H$6","v":0},{"$f":"'Sample Information'!$H$5","v":0},null,null,{"$f":"'Sample Information'!$H$7","v":0},null,{"$error":"#N/A"}]
[{"$f":"'Sample Information'!A368","v":367},{"$f":"'Sample Information'!B368","v":0},"0-RNA",{"$f":"'Sample Information'!D368","v":0},{"$f":"IF(VLOOKUP($C368, 'Nanodrop Data Raw'!$C:$L, 10, FALSE)<>\"\", VLOOKUP($C368, 'Nanodrop Data Raw'!$C:$L, 10, FALSE), VLOOKUP($C368, 'Nanodrop Data Raw'!$C:$L, 2, FALSE))","v":{"$error":"#N/A"}},null,null,{"$error":"#N/A"},{"$f":"VLOOKUP($C368, 'Nanodrop Data Raw'!$C:$L, 3, FALSE)","v":{"$error":"#N/A"}},{"$f":"VLOOKUP($C368, 'Nanodrop Data Raw'!$C:$L, 4, FALSE)","v":{"$error":"#N/A"}},null,null,null,null,{"$f":"'Sample Information'!$H$6","v":0},{"$f":"'Sample Information'!$H$5","v":0},null,null,{"$f":"'Sample Information'!$H$7","v":0},null,{"$error":"#N/A"}]
[{"$f":"'Sample Information'!A369","v":368},{"$f":"'Sample Information'!B369","v":0},"0-RNA",{"$f":"'Sample Information'!D369","v":0},{"$f":"IF(VLOOKUP($C369, 'Nanodrop Data Raw'!$C:$L, 10, FALSE)<>\"\", VLOOKUP($C369, 'Nanodrop Data Raw'!$C:$L, 10, FALSE), VLOOKUP($C369, 'Nanodrop Data Raw'!$C:$L, 2, FALSE))","v":{"$error":"#N/A"}},null,null,{"$error":"#N/A"},{"$f":"VLOOKUP($C369, 'Nanodrop Data Raw'!$C:$L, 3, FALSE)","v":{"$error":"#N/A"}},{"$f":"VLOOKUP($C369, 'Nanodrop Data Raw'!$C:$L, 4, FALSE)","v":{"$error":"#N/A"}},null,null,null,null,{"$f":"'Sample Information'!$H$6","v":0},{"$f":"'Sample Information'!$H$5","v":0},null,null,{"$f":"'Sample Information'!$H$7","v":0},null,{"$error":"#N/A"}]
[{"$f":"'Sample Information'!A370","v":369},{"$f":"'Sample Information'!B370","v":0},"0-RNA",{"$f":"'Sample Information'!D370","v":0},{"$f":"IF(VLOOKUP($C370, 'Nanodrop Data Raw'!$C:$L, 10, FALSE)<>\"\", VLOOKUP($C370, 'Nanodrop Data Raw'!$C:$L, 10, FALSE), VLOOKUP($C370, 'Nanodrop Data Raw'!$C:$L, 2, FALSE))","v":{"$error":"#N/A"}},null,null,{"$error":"#N/A"},{"$f":"VLOOKUP($C370, 'Nanodrop Data Raw'!$C:$L, 3, FALSE)","v":{"$error":"#N/A"}},{"$f":"VLOOKUP($C370, 'Nanodrop Data Raw'!$C:$L, 4, FALSE)","v":{"$error":"#N/A"}},null,null,null,null,{"$f":"'Sample Information'!$H$6","v":0},{"$f":"'Sample Information'!$H$5","v":0},null,null,{"$f":"'Sample Information'!$H$7","v":0},null,{"$error":"#N/A"}]
[{"$f":"'Sample Information'!A371","v":370},{"$f":"'Sample Information'!B371","v":0},"0-RNA",{"$f":"'Sample Information'!D371","v":0},{"$f":"IF(VLOOKUP($C371, 'Nanodrop Data Raw'!$C:$L, 10, FALSE)<>\"\", VLOOKUP($C371, 'Nanodrop Data Raw'!$C:$L, 10, FALSE), VLOOKUP($C371, 'Nanodrop Data Raw'!$C:$L, 2, FALSE))","v":{"$error":"#N/A"}},null,null,{"$error":"#N/A"},{"$f":"VLOOKUP($C371, 'Nanodrop Data Raw'!$C:$L, 3, FALSE)","v":{"$error":"#N/A"}},{"$f":"VLOOKUP($C371, 'Nanodrop Data Raw'!$C:$L, 4, FALSE)","v":{"$error":"#N/A"}},null,null,null,null,{"$f":"'Sample Information'!$H$6","v":0},{"$f":"'Sample Information'!$H$5","v":0},null,null,{"$f":"'Sample Information'!$H$7","v":0},null,{"$error":"#N/A"}]
[{"$f":"'Sample Information'!A372","v":371},{"$f":"'Sample Information'!B372","v":0},"0-RNA",{"$f":"'Sample Information'!D372","v":0},{"$f":"IF(VLOOKUP($C372, 'Nanodrop Data Raw'!$C:$L, 10, FALSE)<>\"\", VLOOKUP($C372, 'Nanodrop Data Raw'!$C:$L, 10, FALSE), VLOOKUP($C372, 'Nanodrop Data Raw'!$C:$L, 2, FALSE))","v":{"$error":"#N/A"}},null,null,{"$error":"#N/A"},{"$f":"VLOOKUP($C372, 'Nanodrop Data Raw'!$C:$L, 3, FALSE)","v":{"$error":"#N/A"}},{"$f":"VLOOKUP($C372, 'Nanodrop Data Raw'!$C:$L, 4, FALSE)","v":{"$error":"#N/A"}},null,null,null,null,{"$f":"'Sample Information'!$H$6","v":0},{"$f":"'Sample Information'!$H$5","v":0},null,null,{"$f":"'Sample Information'!$H$7","v":0},null,{"$error":"#N/A"}]
[{"$f":"'Sample Information'!A373","v":372},{"$f":"'Sample Information'!B373","v":0},"0-RNA",{"$f":"'Sample Information'!D373","v":0},{"$f":"IF(VLOOKUP($C373, 'Nanodrop Data Raw'!$C:$L, 10, FALSE)<>\"\", VLOOKUP($C373, 'Nanodrop Data Raw'!$C:$L, 10, FALSE), VLOOKUP($C373, 'Nanodrop Data Raw'!$C:$L, 2, FALSE))","v":{"$error":"#N/A"}},null,null,{"$error":"#N/A"},{"$f":"VLOOKUP($C373, 'Nanodrop Data Raw'!$C:$L, 3, FALSE)","v":{"$error":"#N/A"}},{"$f":"VLOOKUP($C373, 'Nanodrop Data Raw'!$C:$L, 4, FALSE)","v":{"$error":"#N/A"}},null,null,null,null,{"$f":"'Sample Information'!$H$6","v":0},{"$f":"'Sample Information'!$H$5","v":0},null,null,{"$f":"'Sample Information'!$H$7","v":0},null,{"$error":"#N/A"}]
[{"$f":"'Sample Information'!A374","v":373},{"$f":"'Sample Information'!B374","v":0},"0-RNA",{"$f":"'Sample Information'!D374","v":0},{"$f":"IF(VLOOKUP($C374, 'Nanodrop Data Raw'!$C:$L, 10, FALSE)<>\"\", VLOOKUP($C374, 'Nanodrop Data Raw'!$C:$L, 10, FALSE), VLOOKUP($C374, 'Nanodrop Data Raw'!$C:$L, 2, FALSE))","v":{"$error":"#N/A"}},null,null,{"$error":"#N/A"},{"$f":"VLOOKUP($C374, 'Nanodrop Data Raw'!$C:$L, 3, FALSE)","v":{"$error":"#N/A"}},{"$f":"VLOOKUP($C374, 'Nanodrop Data Raw'!$C:$L, 4, FALSE)","v":{"$error":"#N/A"}},null,null,null,null,{"$f":"'Sample Information'!$H$6","v":0},{"$f":"'Sample Information'!$H$5","v":0},null,null,{"$f":"'Sample Information'!$H$7","v":0},null,{"$error":"#N/A"}]
[{"$f":"'Sample Information'!A375","v":374},{"$f":"'Sample Information'!B375","v":0},"0-RNA",{"$f":"'Sample Information'!D375","v":0},{"$f":"IF(VLOOKUP($C375, 'Nanodrop Data Raw'!$C:$L, 10, FALSE)<>\"\", VLOOKUP($C375, 'Nanodrop Data Raw'!$C:$L, 10, FALSE), VLOOKUP($C375, 'Nanodrop Data Raw'!$C:$L, 2, FALSE))","v":{"$error":"#N/A"}},null,null,{"$error":"#N/A"},{"$f":"VLOOKUP($C375, 'Nanodrop Data Raw'!$C:$L, 3, FALSE)","v":{"$error":"#N/A"}},{"$f":"VLOOKUP($C375, 'Nanodrop Data Raw'!$C:$L, 4, FALSE)","v":{"$error":"#N/A"}},null,null,null,null,{"$f":"'Sample Information'!$H$6","v":0},{"$f":"'Sample Information'!$H$5","v":0},null,null,{"$f":"'Sample Information'!$H$7","v":0},null,{"$error":"#N/A"}]
[{"$f":"'Sample Information'!A376","v":375},{"$f":"'Sample Information'!B376","v":0},"0-RNA",{"$f":"'Sample Information'!D376","v":0},{"$f":"IF(VLOOKUP($C376, 'Nanodrop Data Raw'!$C:$L, 10, FALSE)<>\"\", VLOOKUP($C376, 'Nanodrop Data Raw'!$C:$L, 10, FALSE), VLOOKUP($C376, 'Nanodrop Data Raw'!$C:$L, 2, FALSE))","v":{"$error":"#N/A"}},null,null,{"$error":"#N/A"},{"$f":"VLOOKUP($C376, 'Nanodrop Data Raw'!$C:$L, 3, FALSE)","v":{"$error":"#N/A"}},{"$f":"VLOOKUP($C376, 'Nanodrop Data Raw'!$C:$L, 4, FALSE)","v":{"$error":"#N/A"}},null,null,null,null,{"$f":"'Sample Information'!$H$6","v":0},{"$f":"'Sample Information'!$H$5","v":0},null,null,{"$f":"'Sample Information'!$H$7","v":0},null,{"$error":"#N/A"}]
[{"$f":"'Sample Information'!A377","v":376},{"$f":"'Sample Information'!B377","v":0},"0-RNA",{"$f":"'Sample Information'!D377","v":0},{"$f":"IF(VLOOKUP($C377, 'Nanodrop Data Raw'!$C:$L, 10, FALSE)<>\"\", VLOOKUP($C377, 'Nanodrop Data Raw'!$C:$L, 10, FALSE), VLOOKUP($C377, 'Nanodrop Data Raw'!$C:$L, 2, FALSE))","v":{"$error":"#N/A"}},null,null,{"$error":"#N/A"},{"$f":"VLOOKUP($C377, 'Nanodrop Data Raw'!$C:$L, 3, FALSE)","v":{"$error":"#N/A"}},{"$f":"VLOOKUP($C377, 'Nanodrop Data Raw'!$C:$L, 4, FALSE)","v":{"$error":"#N/A"}},null,null,null,null,{"$f":"'Sample Information'!$H$6","v":0},{"$f":"'Sample Information'!$H$5","v":0},null,null,{"$f":"'Sample Information'!$H$7","v":0},null,{"$error":"#N/A"}]
[{"$f":"'Sample Information'!A378","v":377},{"$f":"'Sample Information'!B378","v":0},"0-RNA",{"$f":"'Sample Information'!D378","v":0},{"$f":"IF(VLOOKUP($C378, 'Nanodrop Data Raw'!$C:$L, 10, FALSE)<>\"\", VLOOKUP($C378, 'Nanodrop Data Raw'!$C:$L, 10, FALSE), VLOOKUP($C378, 'Nanodrop Data Raw'!$C:$L, 2, FALSE))","v":{"$error":"#N/A"}},null,null,{"$error":"#N/A"},{"$f":"VLOOKUP($C378, 'Nanodrop Data Raw'!$C:$L, 3, FALSE)","v":{"$error":"#N/A"}},{"$f":"VLOOKUP($C378, 'Nanodrop Data Raw'!$C:$L, 4, FALSE)","v":{"$error":"#N/A"}},null,null,null,null,{"$f":"'Sample Information'!$H$6","v":0},{"$f":"'Sample Information'!$H$5","v":0},null,null,{"$f":"'Sample Information'!$H$7","v":0},null,{"$error":"#N/A"}]
[{"$f":"'Sample Information'!A379","v":378},{"$f":"'Sample Information'!B379","v":0},"0-RNA",{"$f":"'Sample Information'!D379","v":0},{"$f":"IF(VLOOKUP($C379, 'Nanodrop Data Raw'!$C:$L, 10, FALSE)<>\"\", VLOOKUP($C379, 'Nanodrop Data Raw'!$C:$L, 10, FALSE), VLOOKUP($C379, 'Nanodrop Data Raw'!$C:$L, 2, FALSE))","v":{"$error":"#N/A"}},null,null,{"$error":"#N/A"},{"$f":"VLOOKUP($C379, 'Nanodrop Data Raw'!$C:$L, 3, FALSE)","v":{"$error":"#N/A"}},{"$f":"VLOOKUP($C379, 'Nanodrop Data Raw'!$C:$L, 4, FALSE)","v":{"$error":"#N/A"}},null,null,null,null,{"$f":"'Sample Information'!$H$6","v":0},{"$f":"'Sample Information'!$H$5","v":0},null,null,{"$f":"'Sample Information'!$H$7","v":0},null,{"$error":"#N/A"}]
[{"$f":"'Sample Information'!A380","v":379},{"$f":"'Sample Information'!B380","v":0},"0-RNA",{"$f":"'Sample Information'!D380","v":0},{"$f":"IF(VLOOKUP($C380, 'Nanodrop Data Raw'!$C:$L, 10, FALSE)<>\"\", VLOOKUP($C380, 'Nanodrop Data Raw'!$C:$L, 10, FALSE), VLOOKUP($C380, 'Nanodrop Data Raw'!$C:$L, 2, FALSE))","v":{"$error":"#N/A"}},null,null,{"$error":"#N/A"},{"$f":"VLOOKUP($C380, 'Nanodrop Data Raw'!$C:$L, 3, FALSE)","v":{"$error":"#N/A"}},{"$f":"VLOOKUP($C380, 'Nanodrop Data Raw'!$C:$L, 4, FALSE)","v":{"$error":"#N/A"}},null,null,null,null,{"$f":"'Sample Information'!$H$6","v":0},{"$f":"'Sample Information'!$H$5","v":0},null,null,{"$f":"'Sample Information'!$H$7","v":0},null,{"$error":"#N/A"}]
[{"$f":"'Sample Information'!A381","v":380},{"$f":"'Sample Information'!B381","v":0},"0-RNA",{"$f":"'Sample Information'!D381","v":0},{"$f":"IF(VLOOKUP($C381, 'Nanodrop Data Raw'!$C:$L, 10, FALSE)<>\"\", VLOOKUP($C381, 'Nanodrop Data Raw'!$C:$L, 10, FALSE), VLOOKUP($C381, 'Nanodrop Data Raw'!$C:$L, 2, FALSE))","v":{"$error":"#N/A"}},null,null,{"$error":"#N/A"},{"$f":"VLOOKUP($C381, 'Nanodrop Data Raw'!$C:$L, 3, FALSE)","v":{"$error":"#N/A"}},{"$f":"VLOOKUP($C381, 'Nanodrop Data Raw'!$C:$L, 4, FALSE)","v":{"$error":"#N/A"}},null,null,null,null,{"$f":"'Sample Information'!$H$6","v":0},{"$f":"'Sample Information'!$H$5","v":0},null,null,{"$f":"'Sample Information'!$H$7","v":0},null,{"$error":"#N/A"}]
[{"$f":"'Sample Information'!A382","v":381},{"$f":"'Sample Information'!B382","v":0},"0-RNA",{"$f":"'Sample Information'!D382","v":0},{"$f":"IF(VLOOKUP($C382, 'Nanodrop Data Raw'!$C:$L, 10, FALSE)<>\"\", VLOOKUP($C382, 'Nanodrop Data Raw'!$C:$L, 10, FALSE), VLOOKUP($C382, 'Nanodrop Data Raw'!$C:$L, 2, FALSE))","v":{"$error":"#N/A"}},null,null,{"$error":"#N/A"},{"$f":"VLOOKUP($C382, 'Nanodrop Data Raw'!$C:$L, 3, FALSE)","v":{"$error":"#N/A"}},{"$f":"VLOOKUP($C382, 'Nanodrop Data Raw'!$C:$L, 4, FALSE)","v":{"$error":"#N/A"}},null,null,null,null,{"$f":"'Sample Information'!$H$6","v":0},{"$f":"'Sample Information'!$H$5","v":0},null,null,{"$f":"'Sample Information'!$H$7","v":0},null,{"$error":"#N/A"}]
[{"$f":"'Sample Information'!A383","v":382},{"$f":"'Sample Information'!B383","v":0},"0-RNA",{"$f":"'Sample Information'!D383","v":0},{"$f":"IF(VLOOKUP($C383, 'Nanodrop Data Raw'!$C:$L, 10, FALSE)<>\"\", VLOOKUP($C383, 'Nanodrop Data Raw'!$C:$L, 10, FALSE), VLOOKUP($C383, 'Nanodrop Data Raw'!$C:$L, 2, FALSE))","v":{"$error":"#N/A"}},null,null,{"$error":"#N/A"},{"$f":"VLOOKUP($C383, 'Nanodrop Data Raw'!$C:$L, 3, FALSE)","v":{"$error":"#N/A"}},{"$f":"VLOOKUP($C383, 'Nanodrop Data Raw'!$C:$L, 4, FALSE)","v":{"$error":"#N/A"}},null,null,null,null,{"$f":"'Sample Information'!$H$6","v":0},{"$f":"'Sample Information'!$H$5","v":0},null,null,{"$f":"'Sample Information'!$H$7","v":0},null,{"$error":"#N/A"}]
[{"$f":"'Sample Information'!A384","v":383},{"$f":"'Sample Information'!B384","v":0},"0-RNA",{"$f":"'Sample Information'!D384","v":0},{"$f":"IF(VLOOKUP($C384, 'Nanodrop Data Raw'!$C:$L, 10, FALSE)<>\"\", VLOOKUP($C384, 'Nanodrop Data Raw'!$C:$L, 10, FALSE), VLOOKUP($C384, 'Nanodrop Data Raw'!$C:$L, 2, FALSE))","v":{"$error":"#N/A"}},null,null,{"$error":"#N/A"},{"$f":"VLOOKUP($C384, 'Nanodrop Data Raw'!$C:$L, 3, FALSE)","v":{"$error":"#N/A"}},{"$f":"VLOOKUP($C384, 'Nanodrop Data Raw'!$C:$L, 4, FALSE)","v":{"$error":"#N/A"}},null,null,null,null,{"$f":"'Sample Information'!$H$6","v":0},{"$f":"'Sample Information'!$H$5","v":0},null,null,{"$f":"'Sample Information'!$H$7","v":0},null,{"$error":"#N/A"}]
[{"$f":"'Sample Information'!A385","v":384},{"$f":"'Sample Information'!B385","v":0},"0-RNA",{"$f":"'Sample Information'!D385","v":0},{"$f":"IF(VLOOKUP($C385, 'Nanodrop Data Raw'!$C:$L, 10, FALSE)<>\"\", VLOOKUP($C385, 'Nanodrop Data Raw'!$C:$L, 10, FALSE), VLOOKUP($C385, 'Nanodrop Data Raw'!$C:$L, 2, FALSE))","v":{"$error":"#N/A"}},null,null,{"$error":"#N/A"},{"$f":"VLOOKUP($C385, 'Nanodrop Data Raw'!$C:$L, 3, FALSE)","v":{"$error":"#N/A"}},{"$f":"VLOOKUP($C385, 'Nanodrop Data Raw'!$C:$L, 4, FALSE)","v":{"$error":"#N/A"}},null,null,null,null,{"$f":"'Sample Information'!$H$6","v":0},{"$f":"'Sample Information'!$H$5","v":0},null,null,{"$f":"'Sample Information'!$H$7","v":0},null,{"$error":"#N/A"}]
[{"$f":"'Sample Information'!A386","v":385},{"$f":"'Sample Information'!B386","v":0},"0-RNA",{"$f":"'Sample Information'!D386","v":0},{"$f":"IF(VLOOKUP($C386, 'Nanodrop Data Raw'!$C:$L, 10, FALSE)<>\"\", VLOOKUP($C386, 'Nanodrop Data Raw'!$C:$L, 10, FALSE), VLOOKUP($C386, 'Nanodrop Data Raw'!$C:$L, 2, FALSE))","v":{"$error":"#N/A"}},null,null,{"$error":"#N/A"},{"$f":"VLOOKUP($C386, 'Nanodrop Data Raw'!$C:$L, 3, FALSE)","v":{"$error":"#N/A"}},{"$f":"VLOOKUP($C386, 'Nanodrop Data Raw'!$C:$L, 4, FALSE)","v":{"$error":"#N/A"}},null,null,null,null,{"$f":"'Sample Information'!$H$6","v":0},{"$f":"'Sample Information'!$H$5","v":0},null,null,{"$f":"'Sample Information'!$H$7","v":0},null,{"$error":"#N/A"}]
[{"$f":"'Sample Information'!A387","v":386},{"$f":"'Sample Information'!B387","v":0},{"$f":"CONCATENATE(B387,\"-RNA\")","v":"0-RNA"},{"$f":"'Sample Information'!D387","v":0},{"$f":"IF(VLOOKUP($C387, 'Nanodrop Data Raw'!$C:$L, 10, FALSE)<>\"\", VLOOKUP($C387, 'Nanodrop Data Raw'!$C:$L, 10, FALSE), VLOOKUP($C387, 'Nanodrop Data Raw'!$C:$L, 2, FALSE))","v":{"$error":"#N/A"}},null,null,{"$f":"E387*F387/1000","v":{"$error":"#N/A"}},{"$f":"VLOOKUP($C387, 'Nanodrop Data Raw'!$C:$L, 3, FALSE)","v":{"$error":"#N/A"}},{"$f":"VLOOKUP($C387, 'Nanodrop Data Raw'!$C:$L, 4, FALSE)","v":{"$error":"#N/A"}},null,null,null,null,{"$f":"'Sample Information'!$H$6","v":0},{"$f":"'Sample Information'!$H$5","v":0},null,null,{"$f":"'Sample Information'!$H$7","v":0},null,{"$f":"$N387/$E387","v":{"$error":"#N/A"}}]
[{"$f":"'Sample Information'!A388","v":387},{"$f":"'Sample Information'!B388","v":0},"0-RNA",{"$f":"'Sample Information'!D388","v":0},{"$f":"IF(VLOOKUP($C388, 'Nanodrop Data Raw'!$C:$L, 10, FALSE)<>\"\", VLOOKUP($C388, 'Nanodrop Data Raw'!$C:$L, 10, FALSE), VLOOKUP($C388, 'Nanodrop Data Raw'!$C:$L, 2, FALSE))","v":{"$error":"#N/A"}},null,null,{"$error":"#N/A"},{"$f":"VLOOKUP($C388, 'Nanodrop Data Raw'!$C:$L, 3, FALSE)","v":{"$error":"#N/A"}},{"$f":"VLOOKUP($C388, 'Nanodrop Data Raw'!$C:$L, 4, FALSE)","v":{"$error":"#N/A"}},null,null,null,null,{"$f":"'Sample Information'!$H$6","v":0},{"$f":"'Sample Information'!$H$5","v":0},null,null,{"$f":"'Sample Information'!$H$7","v":0},null,{"$error":"#N/A"}]
[{"$f":"'Sample Information'!A389","v":388},{"$f":"'Sample Information'!B389","v":0},"0-RNA",{"$f":"'Sample Information'!D389","v":0},{"$f":"IF(VLOOKUP($C389, 'Nanodrop Data Raw'!$C:$L, 10, FALSE)<>\"\", VLOOKUP($C389, 'Nanodrop Data Raw'!$C:$L, 10, FALSE), VLOOKUP($C389, 'Nanodrop Data Raw'!$C:$L, 2, FALSE))","v":{"$error":"#N/A"}},null,null,{"$error":"#N/A"},{"$f":"VLOOKUP($C389, 'Nanodrop Data Raw'!$C:$L, 3, FALSE)","v":{"$error":"#N/A"}},{"$f":"VLOOKUP($C389, 'Nanodrop Data Raw'!$C:$L, 4, FALSE)","v":{"$error":"#N/A"}},null,null,null,null,{"$f":"'Sample Information'!$H$6","v":0},{"$f":"'Sample Information'!$H$5","v":0},null,null,{"$f":"'Sample Information'!$H$7","v":0},null,{"$error":"#N/A"}]
[{"$f":"'Sample Information'!A390","v":389},{"$f":"'Sample Information'!B390","v":0},"0-RNA",{"$f":"'Sample Information'!D390","v":0},{"$f":"IF(VLOOKUP($C390, 'Nanodrop Data Raw'!$C:$L, 10, FALSE)<>\"\", VLOOKUP($C390, 'Nanodrop Data Raw'!$C:$L, 10, FALSE), VLOOKUP($C390, 'Nanodrop Data Raw'!$C:$L, 2, FALSE))","v":{"$error":"#N/A"}},null,null,{"$error":"#N/A"},{"$f":"VLOOKUP($C390, 'Nanodrop Data Raw'!$C:$L, 3, FALSE)","v":{"$error":"#N/A"}},{"$f":"VLOOKUP($C390, 'Nanodrop Data Raw'!$C:$L, 4, FALSE)","v":{"$error":"#N/A"}},null,null,null,null,{"$f":"'Sample Information'!$H$6","v":0},{"$f":"'Sample Information'!$H$5","v":0},null,null,{"$f":"'Sample Information'!$H$7","v":0},null,{"$error":"#N/A"}]
[{"$f":"'Sample Information'!A391","v":390},{"$f":"'Sample Information'!B391","v":0},"0-RNA",{"$f":"'Sample Information'!D391","v":0},{"$f":"IF(VLOOKUP($C391, 'Nanodrop Data Raw'!$C:$L, 10, FALSE)<>\"\", VLOOKUP($C391, 'Nanodrop Data Raw'!$C:$L, 10, FALSE), VLOOKUP($C391, 'Nanodrop Data Raw'!$C:$L, 2, FALSE))","v":{"$error":"#N/A"}},null,null,{"$error":"#N/A"},{"$f":"VLOOKUP($C391, 'Nanodrop Data Raw'!$C:$L, 3, FALSE)","v":{"$error":"#N/A"}},{"$f":"VLOOKUP($C391, 'Nanodrop Data Raw'!$C:$L, 4, FALSE)","v":{"$error":"#N/A"}},null,null,null,null,{"$f":"'Sample Information'!$H$6","v":0},{"$f":"'Sample Information'!$H$5","v":0},null,null,{"$f":"'Sample Information'!$H$7","v":0},null,{"$error":"#N/A"}]
[{"$f":"'Sample Information'!A392","v":391},{"$f":"'Sample Information'!B392","v":0},"0-RNA",{"$f":"'Sample Information'!D392","v":0},{"$f":"IF(VLOOKUP($C392, 'Nanodrop Data Raw'!$C:$L, 10, FALSE)<>\"\", VLOOKUP($C392, 'Nanodrop Data Raw'!$C:$L, 10, FALSE), VLOOKUP($C392, 'Nanodrop Data Raw'!$C:$L, 2, FALSE))","v":{"$error":"#N/A"}},null,null,{"$error":"#N/A"},{"$f":"VLOOKUP($C392, 'Nanodrop Data Raw'!$C:$L, 3, FALSE)","v":{"$error":"#N/A"}},{"$f":"VLOOKUP($C392, 'Nanodrop Data Raw'!$C:$L, 4, FALSE)","v":{"$error":"#N/A"}},null,null,null,null,{"$f":"'Sample Information'!$H$6","v":0},{"$f":"'Sample Information'!$H$5","v":0},null,null,{"$f":"'Sample Information'!$H$7","v":0},null,{"$error":"#N/A"}]
[{"$f":"'Sample Information'!A393","v":392},{"$f":"'Sample Information'!B393","v":0},"0-RNA",{"$f":"'Sample Information'!D393","v":0},{"$f":"IF(VLOOKUP($C393, 'Nanodrop Data Raw'!$C:$L, 10, FALSE)<>\"\", VLOOKUP($C393, 'Nanodrop Data Raw'!$C:$L, 10, FALSE), VLOOKUP($C393, 'Nanodrop Data Raw'!$C:$L, 2, FALSE))","v":{"$error":"#N/A"}},null,null,{"$error":"#N/A"},{"$f":"VLOOKUP($C393, 'Nanodrop Data Raw'!$C:$L, 3, FALSE)","v":{"$error":"#N/A"}},{"$f":"VLOOKUP($C393, 'Nanodrop Data Raw'!$C:$L, 4, FALSE)","v":{"$error":"#N/A"}},null,null,null,null,{"$f":"'Sample Information'!$H$6","v":0},{"$f":"'Sample Information'!$H$5","v":0},null,null,{"$f":"'Sample Information'!$H$7","v":0},null,{"$error":"#N/A"}]
[{"$f":"'Sample Information'!A394","v":393},{"$f":"'Sample Information'!B394","v":0},"0-RNA",{"$f":"'Sample Information'!D394","v":0},{"$f":"IF(VLOOKUP($C394, 'Nanodrop Data Raw'!$C:$L, 10, FALSE)<>\"\", VLOOKUP($C394, 'Nanodrop Data Raw'!$C:$L, 10, FALSE), VLOOKUP($C394, 'Nanodrop Data Raw'!$C:$L, 2, FALSE))","v":{"$error":"#N/A"}},null,null,{"$error":"#N/A"},{"$f":"VLOOKUP($C394, 'Nanodrop Data Raw'!$C:$L, 3, FALSE)","v":{"$error":"#N/A"}},{"$f":"VLOOKUP($C394, 'Nanodrop Data Raw'!$C:$L, 4, FALSE)","v":{"$error":"#N/A"}},null,null,null,null,{"$f":"'Sample Information'!$H$6","v":0},{"$f":"'Sample Information'!$H$5","v":0},null,null,{"$f":"'Sample Information'!$H$7","v":0},null,{"$error":"#N/A"}]
[{"$f":"'Sample Information'!A395","v":394},{"$f":"'Sample Information'!B395","v":0},"0-RNA",{"$f":"'Sample Information'!D395","v":0},{"$f":"IF(VLOOKUP($C395, 'Nanodrop Data Raw'!$C:$L, 10, FALSE)<>\"\", VLOOKUP($C395, 'Nanodrop Data Raw'!$C:$L, 10, FALSE), VLOOKUP($C395, 'Nanodrop Data Raw'!$C:$L, 2, FALSE))","v":{"$error":"#N/A"}},null,null,{"$error":"#N/A"},{"$f":"VLOOKUP($C395, 'Nanodrop Data Raw'!$C:$L, 3, FALSE)","v":{"$error":"#N/A"}},{"$f":"VLOOKUP($C395, 'Nanodrop Data Raw'!$C:$L, 4, FALSE)","v":{"$error":"#N/A"}},null,null,null,null,{"$f":"'Sample Information'!$H$6","v":0},{"$f":"'Sample Information'!$H$5","v":0},null,null,{"$f":"'Sample Information'!$H$7","v":0},null,{"$error":"#N/A"}]
[{"$f":"'Sample Information'!A396","v":395},{"$f":"'Sample Information'!B396","v":0},"0-RNA",{"$f":"'Sample Information'!D396","v":0},{"$f":"IF(VLOOKUP($C396, 'Nanodrop Data Raw'!$C:$L, 10, FALSE)<>\"\", VLOOKUP($C396, 'Nanodrop Data Raw'!$C:$L, 10, FALSE), VLOOKUP($C396, 'Nanodrop Data Raw'!$C:$L, 2, FALSE))","v":{"$error":"#N/A"}},null,null,{"$error":"#N/A"},{"$f":"VLOOKUP($C396, 'Nanodrop Data Raw'!$C:$L, 3, FALSE)","v":{"$error":"#N/A"}},{"$f":"VLOOKUP($C396, 'Nanodrop Data Raw'!$C:$L, 4, FALSE)","v":{"$error":"#N/A"}},null,null,null,null,{"$f":"'Sample Information'!$H$6","v":0},{"$f":"'Sample Information'!$H$5","v":0},null,null,{"$f":"'Sample Information'!$H$7","v":0},null,{"$error":"#N/A"}]
[{"$f":"'Sample Information'!A397","v":396},{"$f":"'Sample Information'!B397","v":0},"0-RNA",{"$f":"'Sample Information'!D397","v":0},{"$f":"IF(VLOOKUP($C397, 'Nanodrop Data Raw'!$C:$L, 10, FALSE)<>\"\", VLOOKUP($C397, 'Nanodrop Data Raw'!$C:$L, 10, FALSE), VLOOKUP($C397, 'Nanodrop Data Raw'!$C:$L, 2, FALSE))","v":{"$error":"#N/A"}},null,null,{"$error":"#N/A"},{"$f":"VLOOKUP($C397, 'Nanodrop Data Raw'!$C:$L, 3, FALSE)","v":{"$error":"#N/A"}},{"$f":"VLOOKUP($C397, 'Nanodrop Data Raw'!$C:$L, 4, FALSE)","v":{"$error":"#N/A"}},null,null,null,null,{"$f":"'Sample Information'!$H$6","v":0},{"$f":"'Sample Information'!$H$5","v":0},null,null,{"$f":"'Sample Information'!$H$7","v":0},null,{"$error":"#N/A"}]
[{"$f":"'Sample Information'!A398","v":397},{"$f":"'Sample Information'!B398","v":0},"0-RNA",{"$f":"'Sample Information'!D398","v":0},{"$f":"IF(VLOOKUP($C398, 'Nanodrop Data Raw'!$C:$L, 10, FALSE)<>\"\", VLOOKUP($C398, 'Nanodrop Data Raw'!$C:$L, 10, FALSE), VLOOKUP($C398, 'Nanodrop Data Raw'!$C:$L, 2, FALSE))","v":{"$error":"#N/A"}},null,null,{"$error":"#N/A"},{"$f":"VLOOKUP($C398, 'Nanodrop Data Raw'!$C:$L, 3, FALSE)","v":{"$error":"#N/A"}},{"$f":"VLOOKUP($C398, 'Nanodrop Data Raw'!$C:$L, 4, FALSE)","v":{"$error":"#N/A"}},null,null,null,null,{"$f":"'Sample Information'!$H$6","v":0},{"$f":"'Sample Information'!$H$5","v":0},null,null,{"$f":"'Sample Information'!$H$7","v":0},null,{"$error":"#N/A"}]
[{"$f":"'Sample Information'!A399","v":398},{"$f":"'Sample Information'!B399","v":0},"0-RNA",{"$f":"'Sample Information'!D399","v":0},{"$f":"IF(VLOOKUP($C399, 'Nanodrop Data Raw'!$C:$L, 10, FALSE)<>\"\", VLOOKUP($C399, 'Nanodrop Data Raw'!$C:$L, 10, FALSE), VLOOKUP($C399, 'Nanodrop Data Raw'!$C:$L, 2, FALSE))","v":{"$error":"#N/A"}},null,null,{"$error":"#N/A"},{"$f":"VLOOKUP($C399, 'Nanodrop Data Raw'!$C:$L, 3, FALSE)","v":{"$error":"#N/A"}},{"$f":"VLOOKUP($C399, 'Nanodrop Data Raw'!$C:$L, 4, FALSE)","v":{"$error":"#N/A"}},null,null,null,null,{"$f":"'Sample Information'!$H$6","v":0},{"$f":"'Sample Information'!$H$5","v":0},null,null,{"$f":"'Sample Information'!$H$7","v":0},null,{"$error":"#N/A"}]
[{"$f":"'Sample Information'!A400","v":399},{"$f":"'Sample Information'!B400","v":0},"0-RNA",{"$f":"'Sample Information'!D400","v":0},{"$f":"IF(VLOOKUP($C400, 'Nanodrop Data Raw'!$C:$L, 10, FALSE)<>\"\", VLOOKUP($C400, 'Nanodrop Data Raw'!$C:$L, 10, FALSE), VLOOKUP($C400, 'Nanodrop Data Raw'!$C:$L, 2, FALSE))","v":{"$error":"#N/A"}},null,null,{"$error":"#N/A"},{"$f":"VLOOKUP($C400, 'Nanodrop Data Raw'!$C:$L, 3, FALSE)","v":{"$error":"#N/A"}},{"$f":"VLOOKUP($C400, 'Nanodrop Data Raw'!$C:$L, 4, FALSE)","v":{"$error":"#N/A"}},null,null,null,null,{"$f":"'Sample Information'!$H$6","v":0},{"$f":"'Sample Information'!$H$5","v":0},null,null,{"$f":"'Sample Information'!$H$7","v":0},null,{"$error":"#N/A"}]
[{"$f":"'Sample Information'!A401","v":400},{"$f":"'Sample Information'!B401","v":0},"0-RNA",{"$f":"'Sample Information'!D401","v":0},{"$f":"IF(VLOOKUP($C401, 'Nanodrop Data Raw'!$C:$L, 10, FALSE)<>\"\", VLOOKUP($C401, 'Nanodrop Data Raw'!$C:$L, 10, FALSE), VLOOKUP($C401, 'Nanodrop Data Raw'!$C:$L, 2, FALSE))","v":{"$error":"#N/A"}},null,null,{"$error":"#N/A"},{"$f":"VLOOKUP($C401, 'Nanodrop Data Raw'!$C:$L, 3, FALSE)","v":{"$error":"#N/A"}},{"$f":"VLOOKUP($C401, 'Nanodrop Data Raw'!$C:$L, 4, FALSE)","v":{"$error":"#N/A"}},null,null,null,null,{"$f":"'Sample Information'!$H$6","v":0},{"$f":"'Sample Information'!$H$5","v":0},null,null,{"$f":"'Sample Information'!$H$7","v":0},null,{"$error":"#N/A"}]
[{"$f":"'Sample Information'!A402","v":401},{"$f":"'Sample Information'!B402","v":0},"0-RNA",{"$f":"'Sample Information'!D402","v":0},{"$f":"IF(VLOOKUP($C402, 'Nanodrop Data Raw'!$C:$L, 10, FALSE)<>\"\", VLOOKUP($C402, 'Nanodrop Data Raw'!$C:$L, 10, FALSE), VLOOKUP($C402, 'Nanodrop Data Raw'!$C:$L, 2, FALSE))","v":{"$error":"#N/A"}},null,null,{"$error":"#N/A"},{"$f":"VLOOKUP($C402, 'Nanodrop Data Raw'!$C:$L, 3, FALSE)","v":{"$error":"#N/A"}},{"$f":"VLOOKUP($C402, 'Nanodrop Data Raw'!$C:$L, 4, FALSE)","v":{"$error":"#N/A"}},null,null,null,null,{"$f":"'Sample Information'!$H$6","v":0},{"$f":"'Sample Information'!$H$5","v":0},null,null,{"$f":"'Sample Information'!$H$7","v":0},null,{"$error":"#N/A"}]
[{"$f":"'Sample Information'!A403","v":402},{"$f":"'Sample Information'!B403","v":0},"0-RNA",{"$f":"'Sample Information'!D403","v":0},{"$f":"IF(VLOOKUP($C403, 'Nanodrop Data Raw'!$C:$L, 10, FALSE)<>\"\", VLOOKUP($C403, 'Nanodrop Data Raw'!$C:$L, 10, FALSE), VLOOKUP($C403, 'Nanodrop Data Raw'!$C:$L, 2, FALSE))","v":{"$error":"#N/A"}},null,null,{"$error":"#N/A"},{"$f":"VLOOKUP($C403, 'Nanodrop Data Raw'!$C:$L, 3, FALSE)","v":{"$error":"#N/A"}},{"$f":"VLOOKUP($C403, 'Nanodrop Data Raw'!$C:$L, 4, FALSE)","v":{"$error":"#N/A"}},null,null,null,null,{"$f":"'Sample Information'!$H$6","v":0},{"$f":"'Sample Information'!$H$5","v":0},null,null,{"$f":"'Sample Information'!$H$7","v":0},null,{"$error":"#N/A"}]
[{"$f":"'Sample Information'!A404","v":403},{"$f":"'Sample Information'!B404","v":0},"0-RNA",{"$f":"'Sample Information'!D404","v":0},{"$f":"IF(VLOOKUP($C404, 'Nanodrop Data Raw'!$C:$L, 10, FALSE)<>\"\", VLOOKUP($C404, 'Nanodrop Data Raw'!$C:$L, 10, FALSE), VLOOKUP($C404, 'Nanodrop Data Raw'!$C:$L, 2, FALSE))","v":{"$error":"#N/A"}},null,null,{"$error":"#N/A"},{"$f":"VLOOKUP($C404, 'Nanodrop Data Raw'!$C:$L, 3, FALSE)","v":{"$error":"#N/A"}},{"$f":"VLOOKUP($C404, 'Nanodrop Data Raw'!$C:$L, 4, FALSE)","v":{"$error":"#N/A"}},null,null,null,null,{"$f":"'Sample Information'!$H$6","v":0},{"$f":"'Sample Information'!$H$5","v":0},null,null,{"$f":"'Sample Information'!$H$7","v":0},null,{"$error":"#N/A"}]
[{"$f":"'Sample Information'!A405","v":404},{"$f":"'Sample Information'!B405","v":0},"0-RNA",{"$f":"'Sample Information'!D405","v":0},{"$f":"IF(VLOOKUP($C405, 'Nanodrop Data Raw'!$C:$L, 10, FALSE)<>\"\", VLOOKUP($C405, 'Nanodrop Data Raw'!$C:$L, 10, FALSE), VLOOKUP($C405, 'Nanodrop Data Raw'!$C:$L, 2, FALSE))","v":{"$error":"#N/A"}},null,null,{"$error":"#N/A"},{"$f":"VLOOKUP($C405, 'Nanodrop Data Raw'!$C:$L, 3, FALSE)","v":{"$error":"#N/A"}},{"$f":"VLOOKUP($C405, 'Nanodrop Data Raw'!$C:$L, 4, FALSE)","v":{"$error":"#N/A"}},null,null,null,null,{"$f":"'Sample Information'!$H$6","v":0},{"$f":"'Sample Information'!$H$5","v":0},null,null,{"$f":"'Sample Information'!$H$7","v":0},null,{"$error":"#N/A"}]
[{"$f":"'Sample Information'!A406","v":405},{"$f":"'Sample Information'!B406","v":0},"0-RNA",{"$f":"'Sample Information'!D406","v":0},{"$f":"IF(VLOOKUP($C406, 'Nanodrop Data Raw'!$C:$L, 10, FALSE)<>\"\", VLOOKUP($C406, 'Nanodrop Data Raw'!$C:$L, 10, FALSE), VLOOKUP($C406, 'Nanodrop Data Raw'!$C:$L, 2, FALSE))","v":{"$error":"#N/A"}},null,null,{"$error":"#N/A"},{"$f":"VLOOKUP($C406, 'Nanodrop Data Raw'!$C:$L, 3, FALSE)","v":{"$error":"#N/A"}},{"$f":"VLOOKUP($C406, 'Nanodrop Data Raw'!$C:$L, 4, FALSE)","v":{"$error":"#N/A"}},null,null,null,null,{"$f":"'Sample Information'!$H$6","v":0},{"$f":"'Sample Information'!$H$5","v":0},null,null,{"$f":"'Sample Information'!$H$7","v":0},null,{"$error":"#N/A"}]
[{"$f":"'Sample Information'!A407","v":406},{"$f":"'Sample Information'!B407","v":0},"0-RNA",{"$f":"'Sample Information'!D407","v":0},{"$f":"IF(VLOOKUP($C407, 'Nanodrop Data Raw'!$C:$L, 10, FALSE)<>\"\", VLOOKUP($C407, 'Nanodrop Data Raw'!$C:$L, 10, FALSE), VLOOKUP($C407, 'Nanodrop Data Raw'!$C:$L, 2, FALSE))","v":{"$error":"#N/A"}},null,null,{"$error":"#N/A"},{"$f":"VLOOKUP($C407, 'Nanodrop Data Raw'!$C:$L, 3, FALSE)","v":{"$error":"#N/A"}},{"$f":"VLOOKUP($C407, 'Nanodrop Data Raw'!$C:$L, 4, FALSE)","v":{"$error":"#N/A"}},null,null,null,null,{"$f":"'Sample Information'!$H$6","v":0},{"$f":"'Sample Information'!$H$5","v":0},null,null,{"$f":"'Sample Information'!$H$7","v":0},null,{"$error":"#N/A"}]
[{"$f":"'Sample Information'!A408","v":407},{"$f":"'Sample Information'!B408","v":0},"0-RNA",{"$f":"'Sample Information'!D408","v":0},{"$f":"IF(VLOOKUP($C408, 'Nanodrop Data Raw'!$C:$L, 10, FALSE)<>\"\", VLOOKUP($C408, 'Nanodrop Data Raw'!$C:$L, 10, FALSE), VLOOKUP($C408, 'Nanodrop Data Raw'!$C:$L, 2, FALSE))","v":{"$error":"#N/A"}},null,null,{"$error":"#N/A"},{"$f":"VLOOKUP($C408, 'Nanodrop Data Raw'!$C:$L, 3, FALSE)","v":{"$error":"#N/A"}},{"$f":"VLOOKUP($C408, 'Nanodrop Data Raw'!$C:$L, 4, FALSE)","v":{"$error":"#N/A"}},null,null,null,null,{"$f":"'Sample Information'!$H$6","v":0},{"$f":"'Sample Information'!$H$5","v":0},null,null,{"$f":"'Sample Information'!$H$7","v":0},null,{"$error":"#N/A"}]
[{"$f":"'Sample Information'!A409","v":408},{"$f":"'Sample Information'!B409","v":0},"0-RNA",{"$f":"'Sample Information'!D409","v":0},{"$f":"IF(VLOOKUP($C409, 'Nanodrop Data Raw'!$C:$L, 10, FALSE)<>\"\", VLOOKUP($C409, 'Nanodrop Data Raw'!$C:$L, 10, FALSE), VLOOKUP($C409, 'Nanodrop Data Raw'!$C:$L, 2, FALSE))","v":{"$error":"#N/A"}},null,null,{"$error":"#N/A"},{"$f":"VLOOKUP($C409, 'Nanodrop Data Raw'!$C:$L, 3, FALSE)","v":{"$error":"#N/A"}},{"$f":"VLOOKUP($C409, 'Nanodrop Data Raw'!$C:$L, 4, FALSE)","v":{"$error":"#N/A"}},null,null,null,null,{"$f":"'Sample Information'!$H$6","v":0},{"$f":"'Sample Information'!$H$5","v":0},null,null,{"$f":"'Sample Information'!$H$7","v":0},null,{"$error":"#N/A"}]
[{"$f":"'Sample Information'!A410","v":409},{"$f":"'Sample Information'!B410","v":0},"0-RNA",{"$f":"'Sample Information'!D410","v":0},{"$f":"IF(VLOOKUP($C410, 'Nanodrop Data Raw'!$C:$L, 10, FALSE)<>\"\", VLOOKUP($C410, 'Nanodrop Data Raw'!$C:$L, 10, FALSE), VLOOKUP($C410, 'Nanodrop Data Raw'!$C:$L, 2, FALSE))","v":{"$error":"#N/A"}},null,null,{"$error":"#N/A"},{"$f":"VLOOKUP($C410, 'Nanodrop Data Raw'!$C:$L, 3, FALSE)","v":{"$error":"#N/A"}},{"$f":"VLOOKUP($C410, 'Nanodrop Data Raw'!$C:$L, 4, FALSE)","v":{"$error":"#N/A"}},null,null,null,null,{"$f":"'Sample Information'!$H$6","v":0},{"$f":"'Sample Information'!$H$5","v":0},null,null,{"$f":"'Sample Information'!$H$7","v":0},null,{"$error":"#N/A"}]
[{"$f":"'Sample Information'!A411","v":410},{"$f":"'Sample Information'!B411","v":0},"0-RNA",{"$f":"'Sample Information'!D411","v":0},{"$f":"IF(VLOOKUP($C411, 'Nanodrop Data Raw'!$C:$L, 10, FALSE)<>\"\", VLOOKUP($C411, 'Nanodrop Data Raw'!$C:$L, 10, FALSE), VLOOKUP($C411, 'Nanodrop Data Raw'!$C:$L, 2, FALSE))","v":{"$error":"#N/A"}},null,null,{"$error":"#N/A"},{"$f":"VLOOKUP($C411, 'Nanodrop Data Raw'!$C:$L, 3, FALSE)","v":{"$error":"#N/A"}},{"$f":"VLOOKUP($C411, 'Nanodrop Data Raw'!$C:$L, 4, FALSE)","v":{"$error":"#N/A"}},null,null,null,null,{"$f":"'Sample Information'!$H$6","v":0},{"$f":"'Sample Information'!$H$5","v":0},null,null,{"$f":"'Sample Information'!$H$7","v":0},null,{"$error":"#N/A"}]
[{"$f":"'Sample Information'!A412","v":411},{"$f":"'Sample Information'!B412","v":0},"0-RNA",{"$f":"'Sample Information'!D412","v":0},{"$f":"IF(VLOOKUP($C412, 'Nanodrop Data Raw'!$C:$L, 10, FALSE)<>\"\", VLOOKUP($C412, 'Nanodrop Data Raw'!$C:$L, 10, FALSE), VLOOKUP($C412, 'Nanodrop Data Raw'!$C:$L, 2, FALSE))","v":{"$error":"#N/A"}},null,null,{"$error":"#N/A"},{"$f":"VLOOKUP($C412, 'Nanodrop Data Raw'!$C:$L, 3, FALSE)","v":{"$error":"#N/A"}},{"$f":"VLOOKUP($C412, 'Nanodrop Data Raw'!$C:$L, 4, FALSE)","v":{"$error":"#N/A"}},null,null,null,null,{"$f":"'Sample Information'!$H$6","v":0},{"$f":"'Sample Information'!$H$5","v":0},null,null,{"$f":"'Sample Information'!$H$7","v":0},null,{"$error":"#N/A"}]
[{"$f":"'Sample Information'!A413","v":412},{"$f":"'Sample Information'!B413","v":0},"0-RNA",{"$f":"'Sample Information'!D413","v":0},{"$f":"IF(VLOOKUP($C413, 'Nanodrop Data Raw'!$C:$L, 10, FALSE)<>\"\", VLOOKUP($C413, 'Nanodrop Data Raw'!$C:$L, 10, FALSE), VLOOKUP($C413, 'Nanodrop Data Raw'!$C:$L, 2, FALSE))","v":{"$error":"#N/A"}},null,null,{"$error":"#N/A"},{"$f":"VLOOKUP($C413, 'Nanodrop Data Raw'!$C:$L, 3, FALSE)","v":{"$error":"#N/A"}},{"$f":"VLOOKUP($C413, 'Nanodrop Data Raw'!$C:$L, 4, FALSE)","v":{"$error":"#N/A"}},null,null,null,null,{"$f":"'Sample Information'!$H$6","v":0},{"$f":"'Sample Information'!$H$5","v":0},null,null,{"$f":"'Sample Information'!$H$7","v":0},null,{"$error":"#N/A"}]
[{"$f":"'Sample Information'!A414","v":413},{"$f":"'Sample Information'!B414","v":0},"0-RNA",{"$f":"'Sample Information'!D414","v":0},{"$f":"IF(VLOOKUP($C414, 'Nanodrop Data Raw'!$C:$L, 10, FALSE)<>\"\", VLOOKUP($C414, 'Nanodrop Data Raw'!$C:$L, 10, FALSE), VLOOKUP($C414, 'Nanodrop Data Raw'!$C:$L, 2, FALSE))","v":{"$error":"#N/A"}},null,null,{"$error":"#N/A"},{"$f":"VLOOKUP($C414, 'Nanodrop Data Raw'!$C:$L, 3, FALSE)","v":{"$error":"#N/A"}},{"$f":"VLOOKUP($C414, 'Nanodrop Data Raw'!$C:$L, 4, FALSE)","v":{"$error":"#N/A"}},null,null,null,null,{"$f":"'Sample Information'!$H$6","v":0},{"$f":"'Sample Information'!$H$5","v":0},null,null,{"$f":"'Sample Information'!$H$7","v":0},null,{"$error":"#N/A"}]
[{"$f":"'Sample Information'!A415","v":414},{"$f":"'Sample Information'!B415","v":0},"0-RNA",{"$f":"'Sample Information'!D415","v":0},{"$f":"IF(VLOOKUP($C415, 'Nanodrop Data Raw'!$C:$L, 10, FALSE)<>\"\", VLOOKUP($C415, 'Nanodrop Data Raw'!$C:$L, 10, FALSE), VLOOKUP($C415, 'Nanodrop Data Raw'!$C:$L, 2, FALSE))","v":{"$error":"#N/A"}},null,null,{"$error":"#N/A"},{"$f":"VLOOKUP($C415, 'Nanodrop Data Raw'!$C:$L, 3, FALSE)","v":{"$error":"#N/A"}},{"$f":"VLOOKUP($C415, 'Nanodrop Data Raw'!$C:$L, 4, FALSE)","v":{"$error":"#N/A"}},null,null,null,null,{"$f":"'Sample Information'!$H$6","v":0},{"$f":"'Sample Information'!$H$5","v":0},null,null,{"$f":"'Sample Information'!$H$7","v":0},null,{"$error":"#N/A"}]
[{"$f":"'Sample Information'!A416","v":415},{"$f":"'Sample Information'!B416","v":0},"0-RNA",{"$f":"'Sample Information'!D416","v":0},{"$f":"IF(VLOOKUP($C416, 'Nanodrop Data Raw'!$C:$L, 10, FALSE)<>\"\", VLOOKUP($C416, 'Nanodrop Data Raw'!$C:$L, 10, FALSE), VLOOKUP($C416, 'Nanodrop Data Raw'!$C:$L, 2, FALSE))","v":{"$error":"#N/A"}},null,null,{"$error":"#N/A"},{"$f":"VLOOKUP($C416, 'Nanodrop Data Raw'!$C:$L, 3, FALSE)","v":{"$error":"#N/A"}},{"$f":"VLOOKUP($C416, 'Nanodrop Data Raw'!$C:$L, 4, FALSE)","v":{"$error":"#N/A"}},null,null,null,null,{"$f":"'Sample Information'!$H$6","v":0},{"$f":"'Sample Information'!$H$5","v":0},null,null,{"$f":"'Sample Information'!$H$7","v":0},null,{"$error":"#N/A"}]
[{"$f":"'Sample Information'!A417","v":416},{"$f":"'Sample Information'!B417","v":0},"0-RNA",{"$f":"'Sample Information'!D417","v":0},{"$f":"IF(VLOOKUP($C417, 'Nanodrop Data Raw'!$C:$L, 10, FALSE)<>\"\", VLOOKUP($C417, 'Nanodrop Data Raw'!$C:$L, 10, FALSE), VLOOKUP($C417, 'Nanodrop Data Raw'!$C:$L, 2, FALSE))","v":{"$error":"#N/A"}},null,null,{"$error":"#N/A"},{"$f":"VLOOKUP($C417, 'Nanodrop Data Raw'!$C:$L, 3, FALSE)","v":{"$error":"#N/A"}},{"$f":"VLOOKUP($C417, 'Nanodrop Data Raw'!$C:$L, 4, FALSE)","v":{"$error":"#N/A"}},null,null,null,null,{"$f":"'Sample Information'!$H$6","v":0},{"$f":"'Sample Information'!$H$5","v":0},null,null,{"$f":"'Sample Information'!$H$7","v":0},null,{"$error":"#N/A"}]
[{"$f":"'Sample Information'!A418","v":417},{"$f":"'Sample Information'!B418","v":0},"0-RNA",{"$f":"'Sample Information'!D418","v":0},{"$f":"IF(VLOOKUP($C418, 'Nanodrop Data Raw'!$C:$L, 10, FALSE)<>\"\", VLOOKUP($C418, 'Nanodrop Data Raw'!$C:$L, 10, FALSE), VLOOKUP($C418, 'Nanodrop Data Raw'!$C:$L, 2, FALSE))","v":{"$error":"#N/A"}},null,null,{"$error":"#N/A"},{"$f":"VLOOKUP($C418, 'Nanodrop Data Raw'!$C:$L, 3, FALSE)","v":{"$error":"#N/A"}},{"$f":"VLOOKUP($C418, 'Nanodrop Data Raw'!$C:$L, 4, FALSE)","v":{"$error":"#N/A"}},null,null,null,null,{"$f":"'Sample Information'!$H$6","v":0},{"$f":"'Sample Information'!$H$5","v":0},null,null,{"$f":"'Sample Information'!$H$7","v":0},null,{"$error":"#N/A"}]
[{"$f":"'Sample Information'!A419","v":418},{"$f":"'Sample Information'!B419","v":0},"0-RNA",{"$f":"'Sample Information'!D419","v":0},{"$f":"IF(VLOOKUP($C419, 'Nanodrop Data Raw'!$C:$L, 10, FALSE)<>\"\", VLOOKUP($C419, 'Nanodrop Data Raw'!$C:$L, 10, FALSE), VLOOKUP($C419, 'Nanodrop Data Raw'!$C:$L, 2, FALSE))","v":{"$error":"#N/A"}},null,null,{"$error":"#N/A"},{"$f":"VLOOKUP($C419, 'Nanodrop Data Raw'!$C:$L, 3, FALSE)","v":{"$error":"#N/A"}},{"$f":"VLOOKUP($C419, 'Nanodrop Data Raw'!$C:$L, 4, FALSE)","v":{"$error":"#N/A"}},null,null,null,null,{"$f":"'Sample Information'!$H$6","v":0},{"$f":"'Sample Information'!$H$5","v":0},null,null,{"$f":"'Sample Information'!$H$7","v":0},null,{"$error":"#N/A"}]
[{"$f":"'Sample Information'!A420","v":419},{"$f":"'Sample Information'!B420","v":0},"0-RNA",{"$f":"'Sample Information'!D420","v":0},{"$f":"IF(VLOOKUP($C420, 'Nanodrop Data Raw'!$C:$L, 10, FALSE)<>\"\", VLOOKUP($C420, 'Nanodrop Data Raw'!$C:$L, 10, FALSE), VLOOKUP($C420, 'Nanodrop Data Raw'!$C:$L, 2, FALSE))","v":{"$error":"#N/A"}},null,null,{"$error":"#N/A"},{"$f":"VLOOKUP($C420, 'Nanodrop Data Raw'!$C:$L, 3, FALSE)","v":{"$error":"#N/A"}},{"$f":"VLOOKUP($C420, 'Nanodrop Data Raw'!$C:$L, 4, FALSE)","v":{"$error":"#N/A"}},null,null,null,null,{"$f":"'Sample Information'!$H$6","v":0},{"$f":"'Sample Information'!$H$5","v":0},null,null,{"$f":"'Sample Information'!$H$7","v":0},null,{"$error":"#N/A"}]
[{"$f":"'Sample Information'!A421","v":420},{"$f":"'Sample Information'!B421","v":0},"0-RNA",{"$f":"'Sample Information'!D421","v":0},{"$f":"IF(VLOOKUP($C421, 'Nanodrop Data Raw'!$C:$L, 10, FALSE)<>\"\", VLOOKUP($C421, 'Nanodrop Data Raw'!$C:$L, 10, FALSE), VLOOKUP($C421, 'Nanodrop Data Raw'!$C:$L, 2, FALSE))","v":{"$error":"#N/A"}},null,null,{"$error":"#N/A"},{"$f":"VLOOKUP($C421, 'Nanodrop Data Raw'!$C:$L, 3, FALSE)","v":{"$error":"#N/A"}},{"$f":"VLOOKUP($C421, 'Nanodrop Data Raw'!$C:$L, 4, FALSE)","v":{"$error":"#N/A"}},null,null,null,null,{"$f":"'Sample Information'!$H$6","v":0},{"$f":"'Sample Information'!$H$5","v":0},null,null,{"$f":"'Sample Information'!$H$7","v":0},null,{"$error":"#N/A"}]
[{"$f":"'Sample Information'!A422","v":421},{"$f":"'Sample Information'!B422","v":0},"0-RNA",{"$f":"'Sample Information'!D422","v":0},{"$f":"IF(VLOOKUP($C422, 'Nanodrop Data Raw'!$C:$L, 10, FALSE)<>\"\", VLOOKUP($C422, 'Nanodrop Data Raw'!$C:$L, 10, FALSE), VLOOKUP($C422, 'Nanodrop Data Raw'!$C:$L, 2, FALSE))","v":{"$error":"#N/A"}},null,null,{"$error":"#N/A"},{"$f":"VLOOKUP($C422, 'Nanodrop Data Raw'!$C:$L, 3, FALSE)","v":{"$error":"#N/A"}},{"$f":"VLOOKUP($C422, 'Nanodrop Data Raw'!$C:$L, 4, FALSE)","v":{"$error":"#N/A"}},null,null,null,null,{"$f":"'Sample Information'!$H$6","v":0},{"$f":"'Sample Information'!$H$5","v":0},null,null,{"$f":"'Sample Information'!$H$7","v":0},null,{"$error":"#N/A"}]
[{"$f":"'Sample Information'!A423","v":422},{"$f":"'Sample Information'!B423","v":0},"0-RNA",{"$f":"'Sample Information'!D423","v":0},{"$f":"IF(VLOOKUP($C423, 'Nanodrop Data Raw'!$C:$L, 10, FALSE)<>\"\", VLOOKUP($C423, 'Nanodrop Data Raw'!$C:$L, 10, FALSE), VLOOKUP($C423, 'Nanodrop Data Raw'!$C:$L, 2, FALSE))","v":{"$error":"#N/A"}},null,null,{"$error":"#N/A"},{"$f":"VLOOKUP($C423, 'Nanodrop Data Raw'!$C:$L, 3, FALSE)","v":{"$error":"#N/A"}},{"$f":"VLOOKUP($C423, 'Nanodrop Data Raw'!$C:$L, 4, FALSE)","v":{"$error":"#N/A"}},null,null,null,null,{"$f":"'Sample Information'!$H$6","v":0},{"$f":"'Sample Information'!$H$5","v":0},null,null,{"$f":"'Sample Information'!$H$7","v":0},null,{"$error":"#N/A"}]
[{"$f":"'Sample Information'!A424","v":423},{"$f":"'Sample Information'!B424","v":0},"0-RNA",{"$f":"'Sample Information'!D424","v":0},{"$f":"IF(VLOOKUP($C424, 'Nanodrop Data Raw'!$C:$L, 10, FALSE)<>\"\", VLOOKUP($C424, 'Nanodrop Data Raw'!$C:$L, 10, FALSE), VLOOKUP($C424, 'Nanodrop Data Raw'!$C:$L, 2, FALSE))","v":{"$error":"#N/A"}},null,null,{"$error":"#N/A"},{"$f":"VLOOKUP($C424, 'Nanodrop Data Raw'!$C:$L, 3, FALSE)","v":{"$error":"#N/A"}},{"$f":"VLOOKUP($C424, 'Nanodrop Data Raw'!$C:$L, 4, FALSE)","v":{"$error":"#N/A"}},null,null,null,null,{"$f":"'Sample Information'!$H$6","v":0},{"$f":"'Sample Information'!$H$5","v":0},null,null,{"$f":"'Sample Information'!$H$7","v":0},null,{"$error":"#N/A"}]
[{"$f":"'Sample Information'!A425","v":424},{"$f":"'Sample Information'!B425","v":0},"0-RNA",{"$f":"'Sample Information'!D425","v":0},{"$f":"IF(VLOOKUP($C425, 'Nanodrop Data Raw'!$C:$L, 10, FALSE)<>\"\", VLOOKUP($C425, 'Nanodrop Data Raw'!$C:$L, 10, FALSE), VLOOKUP($C425, 'Nanodrop Data Raw'!$C:$L, 2, FALSE))","v":{"$error":"#N/A"}},null,null,{"$error":"#N/A"},{"$f":"VLOOKUP($C425, 'Nanodrop Data Raw'!$C:$L, 3, FALSE)","v":{"$error":"#N/A"}},{"$f":"VLOOKUP($C425, 'Nanodrop Data Raw'!$C:$L, 4, FALSE)","v":{"$error":"#N/A"}},null,null,null,null,{"$f":"'Sample Information'!$H$6","v":0},{"$f":"'Sample Information'!$H$5","v":0},null,null,{"$f":"'Sample Information'!$H$7","v":0},null,{"$error":"#N/A"}]
[{"$f":"'Sample Information'!A426","v":425},{"$f":"'Sample Information'!B426","v":0},"0-RNA",{"$f":"'Sample Information'!D426","v":0},{"$f":"IF(VLOOKUP($C426, 'Nanodrop Data Raw'!$C:$L, 10, FALSE)<>\"\", VLOOKUP($C426, 'Nanodrop Data Raw'!$C:$L, 10, FALSE), VLOOKUP($C426, 'Nanodrop Data Raw'!$C:$L, 2, FALSE))","v":{"$error":"#N/A"}},null,null,{"$error":"#N/A"},{"$f":"VLOOKUP($C426, 'Nanodrop Data Raw'!$C:$L, 3, FALSE)","v":{"$error":"#N/A"}},{"$f":"VLOOKUP($C426, 'Nanodrop Data Raw'!$C:$L, 4, FALSE)","v":{"$error":"#N/A"}},null,null,null,null,{"$f":"'Sample Information'!$H$6","v":0},{"$f":"'Sample Information'!$H$5","v":0},null,null,{"$f":"'Sample Information'!$H$7","v":0},null,{"$error":"#N/A"}]
[{"$f":"'Sample Information'!A427","v":426},{"$f":"'Sample Information'!B427","v":0},"0-RNA",{"$f":"'Sample Information'!D427","v":0},{"$f":"IF(VLOOKUP($C427, 'Nanodrop Data Raw'!$C:$L, 10, FALSE)<>\"\", VLOOKUP($C427, 'Nanodrop Data Raw'!$C:$L, 10, FALSE), VLOOKUP($C427, 'Nanodrop Data Raw'!$C:$L, 2, FALSE))","v":{"$error":"#N/A"}},null,null,{"$error":"#N/A"},{"$f":"VLOOKUP($C427, 'Nanodrop Data Raw'!$C:$L, 3, FALSE)","v":{"$error":"#N/A"}},{"$f":"VLOOKUP($C427, 'Nanodrop Data Raw'!$C:$L, 4, FALSE)","v":{"$error":"#N/A"}},null,null,null,null,{"$f":"'Sample Information'!$H$6","v":0},{"$f":"'Sample Information'!$H$5","v":0},null,null,{"$f":"'Sample Information'!$H$7","v":0},null,{"$error":"#N/A"}]
[{"$f":"'Sample Information'!A428","v":427},{"$f":"'Sample Information'!B428","v":0},"0-RNA",{"$f":"'Sample Information'!D428","v":0},{"$f":"IF(VLOOKUP($C428, 'Nanodrop Data Raw'!$C:$L, 10, FALSE)<>\"\", VLOOKUP($C428, 'Nanodrop Data Raw'!$C:$L, 10, FALSE), VLOOKUP($C428, 'Nanodrop Data Raw'!$C:$L, 2, FALSE))","v":{"$error":"#N/A"}},null,null,{"$error":"#N/A"},{"$f":"VLOOKUP($C428, 'Nanodrop Data Raw'!$C:$L, 3, FALSE)","v":{"$error":"#N/A"}},{"$f":"VLOOKUP($C428, 'Nanodrop Data Raw'!$C:$L, 4, FALSE)","v":{"$error":"#N/A"}},null,null,null,null,{"$f":"'Sample Information'!$H$6","v":0},{"$f":"'Sample Information'!$H$5","v":0},null,null,{"$f":"'Sample Information'!$H$7","v":0},null,{"$error":"#N/A"}]
[{"$f":"'Sample Information'!A429","v":428},{"$f":"'Sample Information'!B429","v":0},"0-RNA",{"$f":"'Sample Information'!D429","v":0},{"$f":"IF(VLOOKUP($C429, 'Nanodrop Data Raw'!$C:$L, 10, FALSE)<>\"\", VLOOKUP($C429, 'Nanodrop Data Raw'!$C:$L, 10, FALSE), VLOOKUP($C429, 'Nanodrop Data Raw'!$C:$L, 2, FALSE))","v":{"$error":"#N/A"}},null,null,{"$error":"#N/A"},{"$f":"VLOOKUP($C429, 'Nanodrop Data Raw'!$C:$L, 3, FALSE)","v":{"$error":"#N/A"}},{"$f":"VLOOKUP($C429, 'Nanodrop Data Raw'!$C:$L, 4, FALSE)","v":{"$error":"#N/A"}},null,null,null,null,{"$f":"'Sample Information'!$H$6","v":0},{"$f":"'Sample Information'!$H$5","v":0},null,null,{"$f":"'Sample Information'!$H$7","v":0},null,{"$error":"#N/A"}]
[{"$f":"'Sample Information'!A430","v":429},{"$f":"'Sample Information'!B430","v":0},"0-RNA",{"$f":"'Sample Information'!D430","v":0},{"$f":"IF(VLOOKUP($C430, 'Nanodrop Data Raw'!$C:$L, 10, FALSE)<>\"\", VLOOKUP($C430, 'Nanodrop Data Raw'!$C:$L, 10, FALSE), VLOOKUP($C430, 'Nanodrop Data Raw'!$C:$L, 2, FALSE))","v":{"$error":"#N/A"}},null,null,{"$error":"#N/A"},{"$f":"VLOOKUP($C430, 'Nanodrop Data Raw'!$C:$L, 3, FALSE)","v":{"$error":"#N/A"}},{"$f":"VLOOKUP($C430, 'Nanodrop Data Raw'!$C:$L, 4, FALSE)","v":{"$error":"#N/A"}},null,null,null,null,{"$f":"'Sample Information'!$H$6","v":0},{"$f":"'Sample Information'!$H$5","v":0},null,null,{"$f":"'Sample Information'!$H$7","v":0},null,{"$error":"#N/A"}]
[{"$f":"'Sample Information'!A431","v":430},{"$f":"'Sample Information'!B431","v":0},"0-RNA",{"$f":"'Sample Information'!D431","v":0},{"$f":"IF(VLOOKUP($C431, 'Nanodrop Data Raw'!$C:$L, 10, FALSE)<>\"\", VLOOKUP($C431, 'Nanodrop Data Raw'!$C:$L, 10, FALSE), VLOOKUP($C431, 'Nanodrop Data Raw'!$C:$L, 2, FALSE))","v":{"$error":"#N/A"}},null,null,{"$error":"#N/A"},{"$f":"VLOOKUP($C431, 'Nanodrop Data Raw'!$C:$L, 3, FALSE)","v":{"$error":"#N/A"}},{"$f":"VLOOKUP($C431, 'Nanodrop Data Raw'!$C:$L, 4, FALSE)","v":{"$error":"#N/A"}},null,null,null,null,{"$f":"'Sample Information'!$H$6","v":0},{"$f":"'Sample Information'!$H$5","v":0},null,null,{"$f":"'Sample Information'!$H$7","v":0},null,{"$error":"#N/A"}]
[{"$f":"'Sample Information'!A432","v":431},{"$f":"'Sample Information'!B432","v":0},"0-RNA",{"$f":"'Sample Information'!D432","v":0},{"$f":"IF(VLOOKUP($C432, 'Nanodrop Data Raw'!$C:$L, 10, FALSE)<>\"\", VLOOKUP($C432, 'Nanodrop Data Raw'!$C:$L, 10, FALSE), VLOOKUP($C432, 'Nanodrop Data Raw'!$C:$L, 2, FALSE))","v":{"$error":"#N/A"}},null,null,{"$error":"#N/A"},{"$f":"VLOOKUP($C432, 'Nanodrop Data Raw'!$C:$L, 3, FALSE)","v":{"$error":"#N/A"}},{"$f":"VLOOKUP($C432, 'Nanodrop Data Raw'!$C:$L, 4, FALSE)","v":{"$error":"#N/A"}},null,null,null,null,{"$f":"'Sample Information'!$H$6","v":0},{"$f":"'Sample Information'!$H$5","v":0},null,null,{"$f":"'Sample Information'!$H$7","v":0},null,{"$error":"#N/A"}]
[{"$f":"'Sample Information'!A433","v":432},{"$f":"'Sample Information'!B433","v":0},"0-RNA",{"$f":"'Sample Information'!D433","v":0},{"$f":"IF(VLOOKUP($C433, 'Nanodrop Data Raw'!$C:$L, 10, FALSE)<>\"\", VLOOKUP($C433, 'Nanodrop Data Raw'!$C:$L, 10, FALSE), VLOOKUP($C433, 'Nanodrop Data Raw'!$C:$L, 2, FALSE))","v":{"$error":"#N/A"}},null,null,{"$error":"#N/A"},{"$f":"VLOOKUP($C433, 'Nanodrop Data Raw'!$C:$L, 3, FALSE)","v":{"$error":"#N/A"}},{"$f":"VLOOKUP($C433, 'Nanodrop Data Raw'!$C:$L, 4, FALSE)","v":{"$error":"#N/A"}},null,null,null,null,{"$f":"'Sample Information'!$H$6","v":0},{"$f":"'Sample Information'!$H$5","v":0},null,null,{"$f":"'Sample Information'!$H$7","v":0},null,{"$error":"#N/A"}]
[{"$f":"'Sample Information'!A434","v":433},{"$f":"'Sample Information'!B434","v":0},"0-RNA",{"$f":"'Sample Information'!D434","v":0},{"$f":"IF(VLOOKUP($C434, 'Nanodrop Data Raw'!$C:$L, 10, FALSE)<>\"\", VLOOKUP($C434, 'Nanodrop Data Raw'!$C:$L, 10, FALSE), VLOOKUP($C434, 'Nanodrop Data Raw'!$C:$L, 2, FALSE))","v":{"$error":"#N/A"}},null,null,{"$error":"#N/A"},{"$f":"VLOOKUP($C434, 'Nanodrop Data Raw'!$C:$L, 3, FALSE)","v":{"$error":"#N/A"}},{"$f":"VLOOKUP($C434, 'Nanodrop Data Raw'!$C:$L, 4, FALSE)","v":{"$error":"#N/A"}},null,null,null,null,{"$f":"'Sample Information'!$H$6","v":0},{"$f":"'Sample Information'!$H$5","v":0},null,null,{"$f":"'Sample Information'!$H$7","v":0},null,{"$error":"#N/A"}]
[{"$f":"'Sample Information'!A435","v":434},{"$f":"'Sample Information'!B435","v":0},"0-RNA",{"$f":"'Sample Information'!D435","v":0},{"$f":"IF(VLOOKUP($C435, 'Nanodrop Data Raw'!$C:$L, 10, FALSE)<>\"\", VLOOKUP($C435, 'Nanodrop Data Raw'!$C:$L, 10, FALSE), VLOOKUP($C435, 'Nanodrop Data Raw'!$C:$L, 2, FALSE))","v":{"$error":"#N/A"}},null,null,{"$error":"#N/A"},{"$f":"VLOOKUP($C435, 'Nanodrop Data Raw'!$C:$L, 3, FALSE)","v":{"$error":"#N/A"}},{"$f":"VLOOKUP($C435, 'Nanodrop Data Raw'!$C:$L, 4, FALSE)","v":{"$error":"#N/A"}},null,null,null,null,{"$f":"'Sample Information'!$H$6","v":0},{"$f":"'Sample Information'!$H$5","v":0},null,null,{"$f":"'Sample Information'!$H$7","v":0},null,{"$error":"#N/A"}]
[{"$f":"'Sample Information'!A436","v":435},{"$f":"'Sample Information'!B436","v":0},"0-RNA",{"$f":"'Sample Information'!D436","v":0},{"$f":"IF(VLOOKUP($C436, 'Nanodrop Data Raw'!$C:$L, 10, FALSE)<>\"\", VLOOKUP($C436, 'Nanodrop Data Raw'!$C:$L, 10, FALSE), VLOOKUP($C436, 'Nanodrop Data Raw'!$C:$L, 2, FALSE))","v":{"$error":"#N/A"}},null,null,{"$error":"#N/A"},{"$f":"VLOOKUP($C436, 'Nanodrop Data Raw'!$C:$L, 3, FALSE)","v":{"$error":"#N/A"}},{"$f":"VLOOKUP($C436, 'Nanodrop Data Raw'!$C:$L, 4, FALSE)","v":{"$error":"#N/A"}},null,null,null,null,{"$f":"'Sample Information'!$H$6","v":0},{"$f":"'Sample Information'!$H$5","v":0},null,null,{"$f":"'Sample Information'!$H$7","v":0},null,{"$error":"#N/A"}]
[{"$f":"'Sample Information'!A437","v":436},{"$f":"'Sample Information'!B437","v":0},"0-RNA",{"$f":"'Sample Information'!D437","v":0},{"$f":"IF(VLOOKUP($C437, 'Nanodrop Data Raw'!$C:$L, 10, FALSE)<>\"\", VLOOKUP($C437, 'Nanodrop Data Raw'!$C:$L, 10, FALSE), VLOOKUP($C437, 'Nanodrop Data Raw'!$C:$L, 2, FALSE))","v":{"$error":"#N/A"}},null,null,{"$error":"#N/A"},{"$f":"VLOOKUP($C437, 'Nanodrop Data Raw'!$C:$L, 3, FALSE)","v":{"$error":"#N/A"}},{"$f":"VLOOKUP($C437, 'Nanodrop Data Raw'!$C:$L, 4, FALSE)","v":{"$error":"#N/A"}},null,null,null,null,{"$f":"'Sample Information'!$H$6","v":0},{"$f":"'Sample Information'!$H$5","v":0},null,null,{"$f":"'Sample Information'!$H$7","v":0},null,{"$error":"#N/A"}]
[{"$f":"'Sample Information'!A438","v":437},{"$f":"'Sample Information'!B438","v":0},"0-RNA",{"$f":"'Sample Information'!D438","v":0},{"$f":"IF(VLOOKUP($C438, 'Nanodrop Data Raw'!$C:$L, 10, FALSE)<>\"\", VLOOKUP($C438, 'Nanodrop Data Raw'!$C:$L, 10, FALSE), VLOOKUP($C438, 'Nanodrop Data Raw'!$C:$L, 2, FALSE))","v":{"$error":"#N/A"}},null,null,{"$error":"#N/A"},{"$f":"VLOOKUP($C438, 'Nanodrop Data Raw'!$C:$L, 3, FALSE)","v":{"$error":"#N/A"}},{"$f":"VLOOKUP($C438, 'Nanodrop Data Raw'!$C:$L, 4, FALSE)","v":{"$error":"#N/A"}},null,null,null,null,{"$f":"'Sample Information'!$H$6","v":0},{"$f":"'Sample Information'!$H$5","v":0},null,null,{"$f":"'Sample Information'!$H$7","v":0},null,{"$error":"#N/A"}]
[{"$f":"'Sample Information'!A439","v":438},{"$f":"'Sample Information'!B439","v":0},"0-RNA",{"$f":"'Sample Information'!D439","v":0},{"$f":"IF(VLOOKUP($C439, 'Nanodrop Data Raw'!$C:$L, 10, FALSE)<>\"\", VLOOKUP($C439, 'Nanodrop Data Raw'!$C:$L, 10, FALSE), VLOOKUP($C439, 'Nanodrop Data Raw'!$C:$L, 2, FALSE))","v":{"$error":"#N/A"}},null,null,{"$error":"#N/A"},{"$f":"VLOOKUP($C439, 'Nanodrop Data Raw'!$C:$L, 3, FALSE)","v":{"$error":"#N/A"}},{"$f":"VLOOKUP($C439, 'Nanodrop Data Raw'!$C:$L, 4, FALSE)","v":{"$error":"#N/A"}},null,null,null,null,{"$f":"'Sample Information'!$H$6","v":0},{"$f":"'Sample Information'!$H$5","v":0},null,null,{"$f":"'Sample Information'!$H$7","v":0},null,{"$error":"#N/A"}]
[{"$f":"'Sample Information'!A440","v":439},{"$f":"'Sample Information'!B440","v":0},"0-RNA",{"$f":"'Sample Information'!D440","v":0},{"$f":"IF(VLOOKUP($C440, 'Nanodrop Data Raw'!$C:$L, 10, FALSE)<>\"\", VLOOKUP($C440, 'Nanodrop Data Raw'!$C:$L, 10, FALSE), VLOOKUP($C440, 'Nanodrop Data Raw'!$C:$L, 2, FALSE))","v":{"$error":"#N/A"}},null,null,{"$error":"#N/A"},{"$f":"VLOOKUP($C440, 'Nanodrop Data Raw'!$C:$L, 3, FALSE)","v":{"$error":"#N/A"}},{"$f":"VLOOKUP($C440, 'Nanodrop Data Raw'!$C:$L, 4, FALSE)","v":{"$error":"#N/A"}},null,null,null,null,{"$f":"'Sample Information'!$H$6","v":0},{"$f":"'Sample Information'!$H$5","v":0},null,null,{"$f":"'Sample Information'!$H$7","v":0},null,{"$error":"#N/A"}]
[{"$f":"'Sample Information'!A441","v":440},{"$f":"'Sample Information'!B441","v":0},"0-RNA",{"$f":"'Sample Information'!D441","v":0},{"$f":"IF(VLOOKUP($C441, 'Nanodrop Data Raw'!$C:$L, 10, FALSE)<>\"\", VLOOKUP($C441, 'Nanodrop Data Raw'!$C:$L, 10, FALSE), VLOOKUP($C441, 'Nanodrop Data Raw'!$C:$L, 2, FALSE))","v":{"$error":"#N/A"}},null,null,{"$error":"#N/A"},{"$f":"VLOOKUP($C441, 'Nanodrop Data Raw'!$C:$L, 3, FALSE)","v":{"$error":"#N/A"}},{"$f":"VLOOKUP($C441, 'Nanodrop Data Raw'!$C:$L, 4, FALSE)","v":{"$error":"#N/A"}},null,null,null,null,{"$f":"'Sample Information'!$H$6","v":0},{"$f":"'Sample Information'!$H$5","v":0},null,null,{"$f":"'Sample Information'!$H$7","v":0},null,{"$error":"#N/A"}]
[{"$f":"'Sample Information'!A442","v":441},{"$f":"'Sample Information'!B442","v":0},"0-RNA",{"$f":"'Sample Information'!D442","v":0},{"$f":"IF(VLOOKUP($C442, 'Nanodrop Data Raw'!$C:$L, 10, FALSE)<>\"\", VLOOKUP($C442, 'Nanodrop Data Raw'!$C:$L, 10, FALSE), VLOOKUP($C442, 'Nanodrop Data Raw'!$C:$L, 2, FALSE))","v":{"$error":"#N/A"}},null,null,{"$error":"#N/A"},{"$f":"VLOOKUP($C442, 'Nanodrop Data Raw'!$C:$L, 3, FALSE)","v":{"$error":"#N/A"}},{"$f":"VLOOKUP($C442, 'Nanodrop Data Raw'!$C:$L, 4, FALSE)","v":{"$error":"#N/A"}},null,null,null,null,{"$f":"'Sample Information'!$H$6","v":0},{"$f":"'Sample Information'!$H$5","v":0},null,null,{"$f":"'Sample Information'!$H$7","v":0},null,{"$error":"#N/A"}]
[{"$f":"'Sample Information'!A443","v":442},{"$f":"'Sample Information'!B443","v":0},"0-RNA",{"$f":"'Sample Information'!D443","v":0},{"$f":"IF(VLOOKUP($C443, 'Nanodrop Data Raw'!$C:$L, 10, FALSE)<>\"\", VLOOKUP($C443, 'Nanodrop Data Raw'!$C:$L, 10, FALSE), VLOOKUP($C443, 'Nanodrop Data Raw'!$C:$L, 2, FALSE))","v":{"$error":"#N/A"}},null,null,{"$error":"#N/A"},{"$f":"VLOOKUP($C443, 'Nanodrop Data Raw'!$C:$L, 3, FALSE)","v":{"$error":"#N/A"}},{"$f":"VLOOKUP($C443, 'Nanodrop Data Raw'!$C:$L, 4, FALSE)","v":{"$error":"#N/A"}},null,null,null,null,{"$f":"'Sample Information'!$H$6","v":0},{"$f":"'Sample Information'!$H$5","v":0},null,null,{"$f":"'Sample Information'!$H$7","v":0},null,{"$error":"#N/A"}]
[{"$f":"'Sample Information'!A444","v":443},{"$f":"'Sample Information'!B444","v":0},"0-RNA",{"$f":"'Sample Information'!D444","v":0},{"$f":"IF(VLOOKUP($C444, 'Nanodrop Data Raw'!$C:$L, 10, FALSE)<>\"\", VLOOKUP($C444, 'Nanodrop Data Raw'!$C:$L, 10, FALSE), VLOOKUP($C444, 'Nanodrop Data Raw'!$C:$L, 2, FALSE))","v":{"$error":"#N/A"}},null,null,{"$error":"#N/A"},{"$f":"VLOOKUP($C444, 'Nanodrop Data Raw'!$C:$L, 3, FALSE)","v":{"$error":"#N/A"}},{"$f":"VLOOKUP($C444, 'Nanodrop Data Raw'!$C:$L, 4, FALSE)","v":{"$error":"#N/A"}},null,null,null,null,{"$f":"'Sample Information'!$H$6","v":0},{"$f":"'Sample Information'!$H$5","v":0},null,null,{"$f":"'Sample Information'!$H$7","v":0},null,{"$error":"#N/A"}]
[{"$f":"'Sample Information'!A445","v":444},{"$f":"'Sample Information'!B445","v":0},"0-RNA",{"$f":"'Sample Information'!D445","v":0},{"$f":"IF(VLOOKUP($C445, 'Nanodrop Data Raw'!$C:$L, 10, FALSE)<>\"\", VLOOKUP($C445, 'Nanodrop Data Raw'!$C:$L, 10, FALSE), VLOOKUP($C445, 'Nanodrop Data Raw'!$C:$L, 2, FALSE))","v":{"$error":"#N/A"}},null,null,{"$error":"#N/A"},{"$f":"VLOOKUP($C445, 'Nanodrop Data Raw'!$C:$L, 3, FALSE)","v":{"$error":"#N/A"}},{"$f":"VLOOKUP($C445, 'Nanodrop Data Raw'!$C:$L, 4, FALSE)","v":{"$error":"#N/A"}},null,null,null,null,{"$f":"'Sample Information'!$H$6","v":0},{"$f":"'Sample Information'!$H$5","v":0},null,null,{"$f":"'Sample Information'!$H$7","v":0},null,{"$error":"#N/A"}]
[{"$f":"'Sample Information'!A446","v":445},{"$f":"'Sample Information'!B446","v":0},"0-RNA",{"$f":"'Sample Information'!D446","v":0},{"$f":"IF(VLOOKUP($C446, 'Nanodrop Data Raw'!$C:$L, 10, FALSE)<>\"\", VLOOKUP($C446, 'Nanodrop Data Raw'!$C:$L, 10, FALSE), VLOOKUP($C446, 'Nanodrop Data Raw'!$C:$L, 2, FALSE))","v":{"$error":"#N/A"}},null,null,{"$error":"#N/A"},{"$f":"VLOOKUP($C446, 'Nanodrop Data Raw'!$C:$L, 3, FALSE)","v":{"$error":"#N/A"}},{"$f":"VLOOKUP($C446, 'Nanodrop Data Raw'!$C:$L, 4, FALSE)","v":{"$error":"#N/A"}},null,null,null,null,{"$f":"'Sample Information'!$H$6","v":0},{"$f":"'Sample Information'!$H$5","v":0},null,null,{"$f":"'Sample Information'!$H$7","v":0},null,{"$error":"#N/A"}]
[{"$f":"'Sample Information'!A447","v":446},{"$f":"'Sample Information'!B447","v":0},"0-RNA",{"$f":"'Sample Information'!D447","v":0},{"$f":"IF(VLOOKUP($C447, 'Nanodrop Data Raw'!$C:$L, 10, FALSE)<>\"\", VLOOKUP($C447, 'Nanodrop Data Raw'!$C:$L, 10, FALSE), VLOOKUP($C447, 'Nanodrop Data Raw'!$C:$L, 2, FALSE))","v":{"$error":"#N/A"}},null,null,{"$error":"#N/A"},{"$f":"VLOOKUP($C447, 'Nanodrop Data Raw'!$C:$L, 3, FALSE)","v":{"$error":"#N/A"}},{"$f":"VLOOKUP($C447, 'Nanodrop Data Raw'!$C:$L, 4, FALSE)","v":{"$error":"#N/A"}},null,null,null,null,{"$f":"'Sample Information'!$H$6","v":0},{"$f":"'Sample Information'!$H$5","v":0},null,null,{"$f":"'Sample Information'!$H$7","v":0},null,{"$error":"#N/A"}]
[{"$f":"'Sample Information'!A448","v":447},{"$f":"'Sample Information'!B448","v":0},"0-RNA",{"$f":"'Sample Information'!D448","v":0},{"$f":"IF(VLOOKUP($C448, 'Nanodrop Data Raw'!$C:$L, 10, FALSE)<>\"\", VLOOKUP($C448, 'Nanodrop Data Raw'!$C:$L, 10, FALSE), VLOOKUP($C448, 'Nanodrop Data Raw'!$C:$L, 2, FALSE))","v":{"$error":"#N/A"}},null,null,{"$error":"#N/A"},{"$f":"VLOOKUP($C448, 'Nanodrop Data Raw'!$C:$L, 3, FALSE)","v":{"$error":"#N/A"}},{"$f":"VLOOKUP($C448, 'Nanodrop Data Raw'!$C:$L, 4, FALSE)","v":{"$error":"#N/A"}},null,null,null,null,{"$f":"'Sample Information'!$H$6","v":0},{"$f":"'Sample Information'!$H$5","v":0},null,null,{"$f":"'Sample Information'!$H$7","v":0},null,{"$error":"#N/A"}]
[{"$f":"'Sample Information'!A449","v":448},{"$f":"'Sample Information'!B449","v":0},"0-RNA",{"$f":"'Sample Information'!D449","v":0},{"$f":"IF(VLOOKUP($C449, 'Nanodrop Data Raw'!$C:$L, 10, FALSE)<>\"\", VLOOKUP($C449, 'Nanodrop Data Raw'!$C:$L, 10, FALSE), VLOOKUP($C449, 'Nanodrop Data Raw'!$C:$L, 2, FALSE))","v":{"$error":"#N/A"}},null,null,{"$error":"#N/A"},{"$f":"VLOOKUP($C449, 'Nanodrop Data Raw'!$C:$L, 3, FALSE)","v":{"$error":"#N/A"}},{"$f":"VLOOKUP($C449, 'Nanodrop Data Raw'!$C:$L, 4, FALSE)","v":{"$error":"#N/A"}},null,null,null,null,{"$f":"'Sample Information'!$H$6","v":0},{"$f":"'Sample Information'!$H$5","v":0},null,null,{"$f":"'Sample Information'!$H$7","v":0},null,{"$error":"#N/A"}]
[{"$f":"'Sample Information'!A450","v":449},{"$f":"'Sample Information'!B450","v":0},"0-RNA",{"$f":"'Sample Information'!D450","v":0},{"$f":"IF(VLOOKUP($C450, 'Nanodrop Data Raw'!$C:$L, 10, FALSE)<>\"\", VLOOKUP($C450, 'Nanodrop Data Raw'!$C:$L, 10, FALSE), VLOOKUP($C450, 'Nanodrop Data Raw'!$C:$L, 2, FALSE))","v":{"$error":"#N/A"}},null,null,{"$error":"#N/A"},{"$f":"VLOOKUP($C450, 'Nanodrop Data Raw'!$C:$L, 3, FALSE)","v":{"$error":"#N/A"}},{"$f":"VLOOKUP($C450, 'Nanodrop Data Raw'!$C:$L, 4, FALSE)","v":{"$error":"#N/A"}},null,null,null,null,{"$f":"'Sample Information'!$H$6","v":0},{"$f":"'Sample Information'!$H$5","v":0},null,null,{"$f":"'Sample Information'!$H$7","v":0},null,{"$error":"#N/A"}]
[{"$f":"'Sample Information'!A451","v":450},{"$f":"'Sample Information'!B451","v":0},{"$f":"CONCATENATE(B451,\"-RNA\")","v":"0-RNA"},{"$f":"'Sample Information'!D451","v":0},{"$f":"IF(VLOOKUP($C451, 'Nanodrop Data Raw'!$C:$L, 10, FALSE)<>\"\", VLOOKUP($C451, 'Nanodrop Data Raw'!$C:$L, 10, FALSE), VLOOKUP($C451, 'Nanodrop Data Raw'!$C:$L, 2, FALSE))","v":{"$error":"#N/A"}},null,null,{"$f":"E451*F451/1000","v":{"$error":"#N/A"}},{"$f":"VLOOKUP($C451, 'Nanodrop Data Raw'!$C:$L, 3, FALSE)","v":{"$error":"#N/A"}},{"$f":"VLOOKUP($C451, 'Nanodrop Data Raw'!$C:$L, 4, FALSE)","v":{"$error":"#N/A"}},null,null,null,null,{"$f":"'Sample Information'!$H$6","v":0},{"$f":"'Sample Information'!$H$5","v":0},null,null,{"$f":"'Sample Information'!$H$7","v":0},null,{"$f":"$N451/$E451","v":{"$error":"#N/A"}}]
[{"$f":"'Sample Information'!A452","v":451},{"$f":"'Sample Information'!B452","v":0},"0-RNA",{"$f":"'Sample Information'!D452","v":0},{"$f":"IF(VLOOKUP($C452, 'Nanodrop Data Raw'!$C:$L, 10, FALSE)<>\"\", VLOOKUP($C452, 'Nanodrop Data Raw'!$C:$L, 10, FALSE), VLOOKUP($C452, 'Nanodrop Data Raw'!$C:$L, 2, FALSE))","v":{"$error":"#N/A"}},null,null,{"$error":"#N/A"},{"$f":"VLOOKUP($C452, 'Nanodrop Data Raw'!$C:$L, 3, FALSE)","v":{"$error":"#N/A"}},{"$f":"VLOOKUP($C452, 'Nanodrop Data Raw'!$C:$L, 4, FALSE)","v":{"$error":"#N/A"}},null,null,null,null,{"$f":"'Sample Information'!$H$6","v":0},{"$f":"'Sample Information'!$H$5","v":0},null,null,{"$f":"'Sample Information'!$H$7","v":0},null,{"$error":"#N/A"}]
[{"$f":"'Sample Information'!A453","v":452},{"$f":"'Sample Information'!B453","v":0},"0-RNA",{"$f":"'Sample Information'!D453","v":0},{"$f":"IF(VLOOKUP($C453, 'Nanodrop Data Raw'!$C:$L, 10, FALSE)<>\"\", VLOOKUP($C453, 'Nanodrop Data Raw'!$C:$L, 10, FALSE), VLOOKUP($C453, 'Nanodrop Data Raw'!$C:$L, 2, FALSE))","v":{"$error":"#N/A"}},null,null,{"$error":"#N/A"},{"$f":"VLOOKUP($C453, 'Nanodrop Data Raw'!$C:$L, 3, FALSE)","v":{"$error":"#N/A"}},{"$f":"VLOOKUP($C453, 'Nanodrop Data Raw'!$C:$L, 4, FALSE)","v":{"$error":"#N/A"}},null,null,null,null,{"$f":"'Sample Information'!$H$6","v":0},{"$f":"'Sample Information'!$H$5","v":0},null,null,{"$f":"'Sample Information'!$H$7","v":0},null,{"$error":"#N/A"}]
[{"$f":"'Sample Information'!A454","v":453},{"$f":"'Sample Information'!B454","v":0},"0-RNA",{"$f":"'Sample Information'!D454","v":0},{"$f":"IF(VLOOKUP($C454, 'Nanodrop Data Raw'!$C:$L, 10, FALSE)<>\"\", VLOOKUP($C454, 'Nanodrop Data Raw'!$C:$L, 10, FALSE), VLOOKUP($C454, 'Nanodrop Data Raw'!$C:$L, 2, FALSE))","v":{"$error":"#N/A"}},null,null,{"$error":"#N/A"},{"$f":"VLOOKUP($C454, 'Nanodrop Data Raw'!$C:$L, 3, FALSE)","v":{"$error":"#N/A"}},{"$f":"VLOOKUP($C454, 'Nanodrop Data Raw'!$C:$L, 4, FALSE)","v":{"$error":"#N/A"}},null,null,null,null,{"$f":"'Sample Information'!$H$6","v":0},{"$f":"'Sample Information'!$H$5","v":0},null,null,{"$f":"'Sample Information'!$H$7","v":0},null,{"$error":"#N/A"}]
[{"$f":"'Sample Information'!A455","v":454},{"$f":"'Sample Information'!B455","v":0},"0-RNA",{"$f":"'Sample Information'!D455","v":0},{"$f":"IF(VLOOKUP($C455, 'Nanodrop Data Raw'!$C:$L, 10, FALSE)<>\"\", VLOOKUP($C455, 'Nanodrop Data Raw'!$C:$L, 10, FALSE), VLOOKUP($C455, 'Nanodrop Data Raw'!$C:$L, 2, FALSE))","v":{"$error":"#N/A"}},null,null,{"$error":"#N/A"},{"$f":"VLOOKUP($C455, 'Nanodrop Data Raw'!$C:$L, 3, FALSE)","v":{"$error":"#N/A"}},{"$f":"VLOOKUP($C455, 'Nanodrop Data Raw'!$C:$L, 4, FALSE)","v":{"$error":"#N/A"}},null,null,null,null,{"$f":"'Sample Information'!$H$6","v":0},{"$f":"'Sample Information'!$H$5","v":0},null,null,{"$f":"'Sample Information'!$H$7","v":0},null,{"$error":"#N/A"}]
[{"$f":"'Sample Information'!A456","v":455},{"$f":"'Sample Information'!B456","v":0},"0-RNA",{"$f":"'Sample Information'!D456","v":0},{"$f":"IF(VLOOKUP($C456, 'Nanodrop Data Raw'!$C:$L, 10, FALSE)<>\"\", VLOOKUP($C456, 'Nanodrop Data Raw'!$C:$L, 10, FALSE), VLOOKUP($C456, 'Nanodrop Data Raw'!$C:$L, 2, FALSE))","v":{"$error":"#N/A"}},null,null,{"$error":"#N/A"},{"$f":"VLOOKUP($C456, 'Nanodrop Data Raw'!$C:$L, 3, FALSE)","v":{"$error":"#N/A"}},{"$f":"VLOOKUP($C456, 'Nanodrop Data Raw'!$C:$L, 4, FALSE)","v":{"$error":"#N/A"}},null,null,null,null,{"$f":"'Sample Information'!$H$6","v":0},{"$f":"'Sample Information'!$H$5","v":0},null,null,{"$f":"'Sample Information'!$H$7","v":0},null,{"$error":"#N/A"}]
[{"$f":"'Sample Information'!A457","v":456},{"$f":"'Sample Information'!B457","v":0},"0-RNA",{"$f":"'Sample Information'!D457","v":0},{"$f":"IF(VLOOKUP($C457, 'Nanodrop Data Raw'!$C:$L, 10, FALSE)<>\"\", VLOOKUP($C457, 'Nanodrop Data Raw'!$C:$L, 10, FALSE), VLOOKUP($C457, 'Nanodrop Data Raw'!$C:$L, 2, FALSE))","v":{"$error":"#N/A"}},null,null,{"$error":"#N/A"},{"$f":"VLOOKUP($C457, 'Nanodrop Data Raw'!$C:$L, 3, FALSE)","v":{"$error":"#N/A"}},{"$f":"VLOOKUP($C457, 'Nanodrop Data Raw'!$C:$L, 4, FALSE)","v":{"$error":"#N/A"}},null,null,null,null,{"$f":"'Sample Information'!$H$6","v":0},{"$f":"'Sample Information'!$H$5","v":0},null,null,{"$f":"'Sample Information'!$H$7","v":0},null,{"$error":"#N/A"}]
[{"$f":"'Sample Information'!A458","v":457},{"$f":"'Sample Information'!B458","v":0},"0-RNA",{"$f":"'Sample Information'!D458","v":0},{"$f":"IF(VLOOKUP($C458, 'Nanodrop Data Raw'!$C:$L, 10, FALSE)<>\"\", VLOOKUP($C458, 'Nanodrop Data Raw'!$C:$L, 10, FALSE), VLOOKUP($C458, 'Nanodrop Data Raw'!$C:$L, 2, FALSE))","v":{"$error":"#N/A"}},null,null,{"$error":"#N/A"},{"$f":"VLOOKUP($C458, 'Nanodrop Data Raw'!$C:$L, 3, FALSE)","v":{"$error":"#N/A"}},{"$f":"VLOOKUP($C458, 'Nanodrop Data Raw'!$C:$L, 4, FALSE)","v":{"$error":"#N/A"}},null,null,null,null,{"$f":"'Sample Information'!$H$6","v":0},{"$f":"'Sample Information'!$H$5","v":0},null,null,{"$f":"'Sample Information'!$H$7","v":0},null,{"$error":"#N/A"}]
[{"$f":"'Sample Information'!A459","v":458},{"$f":"'Sample Information'!B459","v":0},"0-RNA",{"$f":"'Sample Information'!D459","v":0},{"$f":"IF(VLOOKUP($C459, 'Nanodrop Data Raw'!$C:$L, 10, FALSE)<>\"\", VLOOKUP($C459, 'Nanodrop Data Raw'!$C:$L, 10, FALSE), VLOOKUP($C459, 'Nanodrop Data Raw'!$C:$L, 2, FALSE))","v":{"$error":"#N/A"}},null,null,{"$error":"#N/A"},{"$f":"VLOOKUP($C459, 'Nanodrop Data Raw'!$C:$L, 3, FALSE)","v":{"$error":"#N/A"}},{"$f":"VLOOKUP($C459, 'Nanodrop Data Raw'!$C:$L, 4, FALSE)","v":{"$error":"#N/A"}},null,null,null,null,{"$f":"'Sample Information'!$H$6","v":0},{"$f":"'Sample Information'!$H$5","v":0},null,null,{"$f":"'Sample Information'!$H$7","v":0},null,{"$error":"#N/A"}]
[{"$f":"'Sample Information'!A460","v":459},{"$f":"'Sample Information'!B460","v":0},"0-RNA",{"$f":"'Sample Information'!D460","v":0},{"$f":"IF(VLOOKUP($C460, 'Nanodrop Data Raw'!$C:$L, 10, FALSE)<>\"\", VLOOKUP($C460, 'Nanodrop Data Raw'!$C:$L, 10, FALSE), VLOOKUP($C460, 'Nanodrop Data Raw'!$C:$L, 2, FALSE))","v":{"$error":"#N/A"}},null,null,{"$error":"#N/A"},{"$f":"VLOOKUP($C460, 'Nanodrop Data Raw'!$C:$L, 3, FALSE)","v":{"$error":"#N/A"}},{"$f":"VLOOKUP($C460, 'Nanodrop Data Raw'!$C:$L, 4, FALSE)","v":{"$error":"#N/A"}},null,null,null,null,{"$f":"'Sample Information'!$H$6","v":0},{"$f":"'Sample Information'!$H$5","v":0},null,null,{"$f":"'Sample Information'!$H$7","v":0},null,{"$error":"#N/A"}]
[{"$f":"'Sample Information'!A461","v":460},{"$f":"'Sample Information'!B461","v":0},"0-RNA",{"$f":"'Sample Information'!D461","v":0},{"$f":"IF(VLOOKUP($C461, 'Nanodrop Data Raw'!$C:$L, 10, FALSE)<>\"\", VLOOKUP($C461, 'Nanodrop Data Raw'!$C:$L, 10, FALSE), VLOOKUP($C461, 'Nanodrop Data Raw'!$C:$L, 2, FALSE))","v":{"$error":"#N/A"}},null,null,{"$error":"#N/A"},{"$f":"VLOOKUP($C461, 'Nanodrop Data Raw'!$C:$L, 3, FALSE)","v":{"$error":"#N/A"}},{"$f":"VLOOKUP($C461, 'Nanodrop Data Raw'!$C:$L, 4, FALSE)","v":{"$error":"#N/A"}},null,null,null,null,{"$f":"'Sample Information'!$H$6","v":0},{"$f":"'Sample Information'!$H$5","v":0},null,null,{"$f":"'Sample Information'!$H$7","v":0},null,{"$error":"#N/A"}]
[{"$f":"'Sample Information'!A462","v":461},{"$f":"'Sample Information'!B462","v":0},"0-RNA",{"$f":"'Sample Information'!D462","v":0},{"$f":"IF(VLOOKUP($C462, 'Nanodrop Data Raw'!$C:$L, 10, FALSE)<>\"\", VLOOKUP($C462, 'Nanodrop Data Raw'!$C:$L, 10, FALSE), VLOOKUP($C462, 'Nanodrop Data Raw'!$C:$L, 2, FALSE))","v":{"$error":"#N/A"}},null,null,{"$error":"#N/A"},{"$f":"VLOOKUP($C462, 'Nanodrop Data Raw'!$C:$L, 3, FALSE)","v":{"$error":"#N/A"}},{"$f":"VLOOKUP($C462, 'Nanodrop Data Raw'!$C:$L, 4, FALSE)","v":{"$error":"#N/A"}},null,null,null,null,{"$f":"'Sample Information'!$H$6","v":0},{"$f":"'Sample Information'!$H$5","v":0},null,null,{"$f":"'Sample Information'!$H$7","v":0},null,{"$error":"#N/A"}]
[{"$f":"'Sample Information'!A463","v":462},{"$f":"'Sample Information'!B463","v":0},"0-RNA",{"$f":"'Sample Information'!D463","v":0},{"$f":"IF(VLOOKUP($C463, 'Nanodrop Data Raw'!$C:$L, 10, FALSE)<>\"\", VLOOKUP($C463, 'Nanodrop Data Raw'!$C:$L, 10, FALSE), VLOOKUP($C463, 'Nanodrop Data Raw'!$C:$L, 2, FALSE))","v":{"$error":"#N/A"}},null,null,{"$error":"#N/A"},{"$f":"VLOOKUP($C463, 'Nanodrop Data Raw'!$C:$L, 3, FALSE)","v":{"$error":"#N/A"}},{"$f":"VLOOKUP($C463, 'Nanodrop Data Raw'!$C:$L, 4, FALSE)","v":{"$error":"#N/A"}},null,null,null,null,{"$f":"'Sample Information'!$H$6","v":0},{"$f":"'Sample Information'!$H$5","v":0},null,null,{"$f":"'Sample Information'!$H$7","v":0},null,{"$error":"#N/A"}]
[{"$f":"'Sample Information'!A464","v":463},{"$f":"'Sample Information'!B464","v":0},"0-RNA",{"$f":"'Sample Information'!D464","v":0},{"$f":"IF(VLOOKUP($C464, 'Nanodrop Data Raw'!$C:$L, 10, FALSE)<>\"\", VLOOKUP($C464, 'Nanodrop Data Raw'!$C:$L, 10, FALSE), VLOOKUP($C464, 'Nanodrop Data Raw'!$C:$L, 2, FALSE))","v":{"$error":"#N/A"}},null,null,{"$error":"#N/A"},{"$f":"VLOOKUP($C464, 'Nanodrop Data Raw'!$C:$L, 3, FALSE)","v":{"$error":"#N/A"}},{"$f":"VLOOKUP($C464, 'Nanodrop Data Raw'!$C:$L, 4, FALSE)","v":{"$error":"#N/A"}},null,null,null,null,{"$f":"'Sample Information'!$H$6","v":0},{"$f":"'Sample Information'!$H$5","v":0},null,null,{"$f":"'Sample Information'!$H$7","v":0},null,{"$error":"#N/A"}]
[{"$f":"'Sample Information'!A465","v":464},{"$f":"'Sample Information'!B465","v":0},"0-RNA",{"$f":"'Sample Information'!D465","v":0},{"$f":"IF(VLOOKUP($C465, 'Nanodrop Data Raw'!$C:$L, 10, FALSE)<>\"\", VLOOKUP($C465, 'Nanodrop Data Raw'!$C:$L, 10, FALSE), VLOOKUP($C465, 'Nanodrop Data Raw'!$C:$L, 2, FALSE))","v":{"$error":"#N/A"}},null,null,{"$error":"#N/A"},{"$f":"VLOOKUP($C465, 'Nanodrop Data Raw'!$C:$L, 3, FALSE)","v":{"$error":"#N/A"}},{"$f":"VLOOKUP($C465, 'Nanodrop Data Raw'!$C:$L, 4, FALSE)","v":{"$error":"#N/A"}},null,null,null,null,{"$f":"'Sample Information'!$H$6","v":0},{"$f":"'Sample Information'!$H$5","v":0},null,null,{"$f":"'Sample Information'!$H$7","v":0},null,{"$error":"#N/A"}]
[{"$f":"'Sample Information'!A466","v":465},{"$f":"'Sample Information'!B466","v":0},"0-RNA",{"$f":"'Sample Information'!D466","v":0},{"$f":"IF(VLOOKUP($C466, 'Nanodrop Data Raw'!$C:$L, 10, FALSE)<>\"\", VLOOKUP($C466, 'Nanodrop Data Raw'!$C:$L, 10, FALSE), VLOOKUP($C466, 'Nanodrop Data Raw'!$C:$L, 2, FALSE))","v":{"$error":"#N/A"}},null,null,{"$error":"#N/A"},{"$f":"VLOOKUP($C466, 'Nanodrop Data Raw'!$C:$L, 3, FALSE)","v":{"$error":"#N/A"}},{"$f":"VLOOKUP($C466, 'Nanodrop Data Raw'!$C:$L, 4, FALSE)","v":{"$error":"#N/A"}},null,null,null,null,{"$f":"'Sample Information'!$H$6","v":0},{"$f":"'Sample Information'!$H$5","v":0},null,null,{"$f":"'Sample Information'!$H$7","v":0},null,{"$error":"#N/A"}]
[{"$f":"'Sample Information'!A467","v":466},{"$f":"'Sample Information'!B467","v":0},"0-RNA",{"$f":"'Sample Information'!D467","v":0},{"$f":"IF(VLOOKUP($C467, 'Nanodrop Data Raw'!$C:$L, 10, FALSE)<>\"\", VLOOKUP($C467, 'Nanodrop Data Raw'!$C:$L, 10, FALSE), VLOOKUP($C467, 'Nanodrop Data Raw'!$C:$L, 2, FALSE))","v":{"$error":"#N/A"}},null,null,{"$error":"#N/A"},{"$f":"VLOOKUP($C467, 'Nanodrop Data Raw'!$C:$L, 3, FALSE)","v":{"$error":"#N/A"}},{"$f":"VLOOKUP($C467, 'Nanodrop Data Raw'!$C:$L, 4, FALSE)","v":{"$error":"#N/A"}},null,null,null,null,{"$f":"'Sample Information'!$H$6","v":0},{"$f":"'Sample Information'!$H$5","v":0},null,null,{"$f":"'Sample Information'!$H$7","v":0},null,{"$error":"#N/A"}]
[{"$f":"'Sample Information'!A468","v":467},{"$f":"'Sample Information'!B468","v":0},"0-RNA",{"$f":"'Sample Information'!D468","v":0},{"$f":"IF(VLOOKUP($C468, 'Nanodrop Data Raw'!$C:$L, 10, FALSE)<>\"\", VLOOKUP($C468, 'Nanodrop Data Raw'!$C:$L, 10, FALSE), VLOOKUP($C468, 'Nanodrop Data Raw'!$C:$L, 2, FALSE))","v":{"$error":"#N/A"}},null,null,{"$error":"#N/A"},{"$f":"VLOOKUP($C468, 'Nanodrop Data Raw'!$C:$L, 3, FALSE)","v":{"$error":"#N/A"}},{"$f":"VLOOKUP($C468, 'Nanodrop Data Raw'!$C:$L, 4, FALSE)","v":{"$error":"#N/A"}},null,null,null,null,{"$f":"'Sample Information'!$H$6","v":0},{"$f":"'Sample Information'!$H$5","v":0},null,null,{"$f":"'Sample Information'!$H$7","v":0},null,{"$error":"#N/A"}]
[{"$f":"'Sample Information'!A469","v":468},{"$f":"'Sample Information'!B469","v":0},"0-RNA",{"$f":"'Sample Information'!D469","v":0},{"$f":"IF(VLOOKUP($C469, 'Nanodrop Data Raw'!$C:$L, 10, FALSE)<>\"\", VLOOKUP($C469, 'Nanodrop Data Raw'!$C:$L, 10, FALSE), VLOOKUP($C469, 'Nanodrop Data Raw'!$C:$L, 2, FALSE))","v":{"$error":"#N/A"}},null,null,{"$error":"#N/A"},{"$f":"VLOOKUP($C469, 'Nanodrop Data Raw'!$C:$L, 3, FALSE)","v":{"$error":"#N/A"}},{"$f":"VLOOKUP($C469, 'Nanodrop Data Raw'!$C:$L, 4, FALSE)","v":{"$error":"#N/A"}},null,null,null,null,{"$f":"'Sample Information'!$H$6","v":0},{"$f":"'Sample Information'!$H$5","v":0},null,null,{"$f":"'Sample Information'!$H$7","v":0},null,{"$error":"#N/A"}]
[{"$f":"'Sample Information'!A470","v":469},{"$f":"'Sample Information'!B470","v":0},"0-RNA",{"$f":"'Sample Information'!D470","v":0},{"$f":"IF(VLOOKUP($C470, 'Nanodrop Data Raw'!$C:$L, 10, FALSE)<>\"\", VLOOKUP($C470, 'Nanodrop Data Raw'!$C:$L, 10, FALSE), VLOOKUP($C470, 'Nanodrop Data Raw'!$C:$L, 2, FALSE))","v":{"$error":"#N/A"}},null,null,{"$error":"#N/A"},{"$f":"VLOOKUP($C470, 'Nanodrop Data Raw'!$C:$L, 3, FALSE)","v":{"$error":"#N/A"}},{"$f":"VLOOKUP($C470, 'Nanodrop Data Raw'!$C:$L, 4, FALSE)","v":{"$error":"#N/A"}},null,null,null,null,{"$f":"'Sample Information'!$H$6","v":0},{"$f":"'Sample Information'!$H$5","v":0},null,null,{"$f":"'Sample Information'!$H$7","v":0},null,{"$error":"#N/A"}]
[{"$f":"'Sample Information'!A471","v":470},{"$f":"'Sample Information'!B471","v":0},"0-RNA",{"$f":"'Sample Information'!D471","v":0},{"$f":"IF(VLOOKUP($C471, 'Nanodrop Data Raw'!$C:$L, 10, FALSE)<>\"\", VLOOKUP($C471, 'Nanodrop Data Raw'!$C:$L, 10, FALSE), VLOOKUP($C471, 'Nanodrop Data Raw'!$C:$L, 2, FALSE))","v":{"$error":"#N/A"}},null,null,{"$error":"#N/A"},{"$f":"VLOOKUP($C471, 'Nanodrop Data Raw'!$C:$L, 3, FALSE)","v":{"$error":"#N/A"}},{"$f":"VLOOKUP($C471, 'Nanodrop Data Raw'!$C:$L, 4, FALSE)","v":{"$error":"#N/A"}},null,null,null,null,{"$f":"'Sample Information'!$H$6","v":0},{"$f":"'Sample Information'!$H$5","v":0},null,null,{"$f":"'Sample Information'!$H$7","v":0},null,{"$error":"#N/A"}]
[{"$f":"'Sample Information'!A472","v":471},{"$f":"'Sample Information'!B472","v":0},"0-RNA",{"$f":"'Sample Information'!D472","v":0},{"$f":"IF(VLOOKUP($C472, 'Nanodrop Data Raw'!$C:$L, 10, FALSE)<>\"\", VLOOKUP($C472, 'Nanodrop Data Raw'!$C:$L, 10, FALSE), VLOOKUP($C472, 'Nanodrop Data Raw'!$C:$L, 2, FALSE))","v":{"$error":"#N/A"}},null,null,{"$error":"#N/A"},{"$f":"VLOOKUP($C472, 'Nanodrop Data Raw'!$C:$L, 3, FALSE)","v":{"$error":"#N/A"}},{"$f":"VLOOKUP($C472, 'Nanodrop Data Raw'!$C:$L, 4, FALSE)","v":{"$error":"#N/A"}},null,null,null,null,{"$f":"'Sample Information'!$H$6","v":0},{"$f":"'Sample Information'!$H$5","v":0},null,null,{"$f":"'Sample Information'!$H$7","v":0},null,{"$error":"#N/A"}]
[{"$f":"'Sample Information'!A473","v":472},{"$f":"'Sample Information'!B473","v":0},"0-RNA",{"$f":"'Sample Information'!D473","v":0},{"$f":"IF(VLOOKUP($C473, 'Nanodrop Data Raw'!$C:$L, 10, FALSE)<>\"\", VLOOKUP($C473, 'Nanodrop Data Raw'!$C:$L, 10, FALSE), VLOOKUP($C473, 'Nanodrop Data Raw'!$C:$L, 2, FALSE))","v":{"$error":"#N/A"}},null,null,{"$error":"#N/A"},{"$f":"VLOOKUP($C473, 'Nanodrop Data Raw'!$C:$L, 3, FALSE)","v":{"$error":"#N/A"}},{"$f":"VLOOKUP($C473, 'Nanodrop Data Raw'!$C:$L, 4, FALSE)","v":{"$error":"#N/A"}},null,null,null,null,{"$f":"'Sample Information'!$H$6","v":0},{"$f":"'Sample Information'!$H$5","v":0},null,null,{"$f":"'Sample Information'!$H$7","v":0},null,{"$error":"#N/A"}]
[{"$f":"'Sample Information'!A474","v":473},{"$f":"'Sample Information'!B474","v":0},"0-RNA",{"$f":"'Sample Information'!D474","v":0},{"$f":"IF(VLOOKUP($C474, 'Nanodrop Data Raw'!$C:$L, 10, FALSE)<>\"\", VLOOKUP($C474, 'Nanodrop Data Raw'!$C:$L, 10, FALSE), VLOOKUP($C474, 'Nanodrop Data Raw'!$C:$L, 2, FALSE))","v":{"$error":"#N/A"}},null,null,{"$error":"#N/A"},{"$f":"VLOOKUP($C474, 'Nanodrop Data Raw'!$C:$L, 3, FALSE)","v":{"$error":"#N/A"}},{"$f":"VLOOKUP($C474, 'Nanodrop Data Raw'!$C:$L, 4, FALSE)","v":{"$error":"#N/A"}},null,null,null,null,{"$f":"'Sample Information'!$H$6","v":0},{"$f":"'Sample Information'!$H$5","v":0},null,null,{"$f":"'Sample Information'!$H$7","v":0},null,{"$error":"#N/A"}]
[{"$f":"'Sample Information'!A475","v":474},{"$f":"'Sample Information'!B475","v":0},"0-RNA",{"$f":"'Sample Information'!D475","v":0},{"$f":"IF(VLOOKUP($C475, 'Nanodrop Data Raw'!$C:$L, 10, FALSE)<>\"\", VLOOKUP($C475, 'Nanodrop Data Raw'!$C:$L, 10, FALSE), VLOOKUP($C475, 'Nanodrop Data Raw'!$C:$L, 2, FALSE))","v":{"$error":"#N/A"}},null,null,{"$error":"#N/A"},{"$f":"VLOOKUP($C475, 'Nanodrop Data Raw'!$C:$L, 3, FALSE)","v":{"$error":"#N/A"}},{"$f":"VLOOKUP($C475, 'Nanodrop Data Raw'!$C:$L, 4, FALSE)","v":{"$error":"#N/A"}},null,null,null,null,{"$f":"'Sample Information'!$H$6","v":0},{"$f":"'Sample Information'!$H$5","v":0},null,null,{"$f":"'Sample Information'!$H$7","v":0},null,{"$error":"#N/A"}]
[{"$f":"'Sample Information'!A476","v":475},{"$f":"'Sample Information'!B476","v":0},"0-RNA",{"$f":"'Sample Information'!D476","v":0},{"$f":"IF(VLOOKUP($C476, 'Nanodrop Data Raw'!$C:$L, 10, FALSE)<>\"\", VLOOKUP($C476, 'Nanodrop Data Raw'!$C:$L, 10, FALSE), VLOOKUP($C476, 'Nanodrop Data Raw'!$C:$L, 2, FALSE))","v":{"$error":"#N/A"}},null,null,{"$error":"#N/A"},{"$f":"VLOOKUP($C476, 'Nanodrop Data Raw'!$C:$L, 3, FALSE)","v":{"$error":"#N/A"}},{"$f":"VLOOKUP($C476, 'Nanodrop Data Raw'!$C:$L, 4, FALSE)","v":{"$error":"#N/A"}},null,null,null,null,{"$f":"'Sample Information'!$H$6","v":0},{"$f":"'Sample Information'!$H$5","v":0},null,null,{"$f":"'Sample Information'!$H$7","v":0},null,{"$error":"#N/A"}]
[{"$f":"'Sample Information'!A477","v":476},{"$f":"'Sample Information'!B477","v":0},"0-RNA",{"$f":"'Sample Information'!D477","v":0},{"$f":"IF(VLOOKUP($C477, 'Nanodrop Data Raw'!$C:$L, 10, FALSE)<>\"\", VLOOKUP($C477, 'Nanodrop Data Raw'!$C:$L, 10, FALSE), VLOOKUP($C477, 'Nanodrop Data Raw'!$C:$L, 2, FALSE))","v":{"$error":"#N/A"}},null,null,{"$error":"#N/A"},{"$f":"VLOOKUP($C477, 'Nanodrop Data Raw'!$C:$L, 3, FALSE)","v":{"$error":"#N/A"}},{"$f":"VLOOKUP($C477, 'Nanodrop Data Raw'!$C:$L, 4, FALSE)","v":{"$error":"#N/A"}},null,null,null,null,{"$f":"'Sample Information'!$H$6","v":0},{"$f":"'Sample Information'!$H$5","v":0},null,null,{"$f":"'Sample Information'!$H$7","v":0},null,{"$error":"#N/A"}]
[{"$f":"'Sample Information'!A478","v":477},{"$f":"'Sample Information'!B478","v":0},"0-RNA",{"$f":"'Sample Information'!D478","v":0},{"$f":"IF(VLOOKUP($C478, 'Nanodrop Data Raw'!$C:$L, 10, FALSE)<>\"\", VLOOKUP($C478, 'Nanodrop Data Raw'!$C:$L, 10, FALSE), VLOOKUP($C478, 'Nanodrop Data Raw'!$C:$L, 2, FALSE))","v":{"$error":"#N/A"}},null,null,{"$error":"#N/A"},{"$f":"VLOOKUP($C478, 'Nanodrop Data Raw'!$C:$L, 3, FALSE)","v":{"$error":"#N/A"}},{"$f":"VLOOKUP($C478, 'Nanodrop Data Raw'!$C:$L, 4, FALSE)","v":{"$error":"#N/A"}},null,null,null,null,{"$f":"'Sample Information'!$H$6","v":0},{"$f":"'Sample Information'!$H$5","v":0},null,null,{"$f":"'Sample Information'!$H$7","v":0},null,{"$error":"#N/A"}]
[{"$f":"'Sample Information'!A479","v":478},{"$f":"'Sample Information'!B479","v":0},"0-RNA",{"$f":"'Sample Information'!D479","v":0},{"$f":"IF(VLOOKUP($C479, 'Nanodrop Data Raw'!$C:$L, 10, FALSE)<>\"\", VLOOKUP($C479, 'Nanodrop Data Raw'!$C:$L, 10, FALSE), VLOOKUP($C479, 'Nanodrop Data Raw'!$C:$L, 2, FALSE))","v":{"$error":"#N/A"}},null,null,{"$error":"#N/A"},{"$f":"VLOOKUP($C479, 'Nanodrop Data Raw'!$C:$L, 3, FALSE)","v":{"$error":"#N/A"}},{"$f":"VLOOKUP($C479, 'Nanodrop Data Raw'!$C:$L, 4, FALSE)","v":{"$error":"#N/A"}},null,null,null,null,{"$f":"'Sample Information'!$H$6","v":0},{"$f":"'Sample Information'!$H$5","v":0},null,null,{"$f":"'Sample Information'!$H$7","v":0},null,{"$error":"#N/A"}]
[{"$f":"'Sample Information'!A480","v":479},{"$f":"'Sample Information'!B480","v":0},"0-RNA",{"$f":"'Sample Information'!D480","v":0},{"$f":"IF(VLOOKUP($C480, 'Nanodrop Data Raw'!$C:$L, 10, FALSE)<>\"\", VLOOKUP($C480, 'Nanodrop Data Raw'!$C:$L, 10, FALSE), VLOOKUP($C480, 'Nanodrop Data Raw'!$C:$L, 2, FALSE))","v":{"$error":"#N/A"}},null,null,{"$error":"#N/A"},{"$f":"VLOOKUP($C480, 'Nanodrop Data Raw'!$C:$L, 3, FALSE)","v":{"$error":"#N/A"}},{"$f":"VLOOKUP($C480, 'Nanodrop Data Raw'!$C:$L, 4, FALSE)","v":{"$error":"#N/A"}},null,null,null,null,{"$f":"'Sample Information'!$H$6","v":0},{"$f":"'Sample Information'!$H$5","v":0},null,null,{"$f":"'Sample Information'!$H$7","v":0},null,{"$error":"#N/A"}]
[{"$f":"'Sample Information'!A481","v":480},{"$f":"'Sample Information'!B481","v":0},"0-RNA",{"$f":"'Sample Information'!D481","v":0},{"$f":"IF(VLOOKUP($C481, 'Nanodrop Data Raw'!$C:$L, 10, FALSE)<>\"\", VLOOKUP($C481, 'Nanodrop Data Raw'!$C:$L, 10, FALSE), VLOOKUP($C481, 'Nanodrop Data Raw'!$C:$L, 2, FALSE))","v":{"$error":"#N/A"}},null,null,{"$error":"#N/A"},{"$f":"VLOOKUP($C481, 'Nanodrop Data Raw'!$C:$L, 3, FALSE)","v":{"$error":"#N/A"}},{"$f":"VLOOKUP($C481, 'Nanodrop Data Raw'!$C:$L, 4, FALSE)","v":{"$error":"#N/A"}},null,null,null,null,{"$f":"'Sample Information'!$H$6","v":0},{"$f":"'Sample Information'!$H$5","v":0},null,null,{"$f":"'Sample Information'!$H$7","v":0},null,{"$error":"#N/A"}]
[{"$f":"'Sample Information'!A482","v":481},{"$f":"'Sample Information'!B482","v":0},"0-RNA",{"$f":"'Sample Information'!D482","v":0},{"$f":"IF(VLOOKUP($C482, 'Nanodrop Data Raw'!$C:$L, 10, FALSE)<>\"\", VLOOKUP($C482, 'Nanodrop Data Raw'!$C:$L, 10, FALSE), VLOOKUP($C482, 'Nanodrop Data Raw'!$C:$L, 2, FALSE))","v":{"$error":"#N/A"}},null,null,{"$error":"#N/A"},{"$f":"VLOOKUP($C482, 'Nanodrop Data Raw'!$C:$L, 3, FALSE)","v":{"$error":"#N/A"}},{"$f":"VLOOKUP($C482, 'Nanodrop Data Raw'!$C:$L, 4, FALSE)","v":{"$error":"#N/A"}},null,null,null,null,{"$f":"'Sample Information'!$H$6","v":0},{"$f":"'Sample Information'!$H$5","v":0},null,null,{"$f":"'Sample Information'!$H$7","v":0},null,{"$error":"#N/A"}]
[{"$f":"'Sample Information'!A483","v":482},{"$f":"'Sample Information'!B483","v":0},"0-RNA",{"$f":"'Sample Information'!D483","v":0},{"$f":"IF(VLOOKUP($C483, 'Nanodrop Data Raw'!$C:$L, 10, FALSE)<>\"\", VLOOKUP($C483, 'Nanodrop Data Raw'!$C:$L, 10, FALSE), VLOOKUP($C483, 'Nanodrop Data Raw'!$C:$L, 2, FALSE))","v":{"$error":"#N/A"}},null,null,{"$error":"#N/A"},{"$f":"VLOOKUP($C483, 'Nanodrop Data Raw'!$C:$L, 3, FALSE)","v":{"$error":"#N/A"}},{"$f":"VLOOKUP($C483, 'Nanodrop Data Raw'!$C:$L, 4, FALSE)","v":{"$error":"#N/A"}},null,null,null,null,{"$f":"'Sample Information'!$H$6","v":0},{"$f":"'Sample Information'!$H$5","v":0},null,null,{"$f":"'Sample Information'!$H$7","v":0},null,{"$error":"#N/A"}]
[{"$f":"'Sample Information'!A484","v":483},{"$f":"'Sample Information'!B484","v":0},"0-RNA",{"$f":"'Sample Information'!D484","v":0},{"$f":"IF(VLOOKUP($C484, 'Nanodrop Data Raw'!$C:$L, 10, FALSE)<>\"\", VLOOKUP($C484, 'Nanodrop Data Raw'!$C:$L, 10, FALSE), VLOOKUP($C484, 'Nanodrop Data Raw'!$C:$L, 2, FALSE))","v":{"$error":"#N/A"}},null,null,{"$error":"#N/A"},{"$f":"VLOOKUP($C484, 'Nanodrop Data Raw'!$C:$L, 3, FALSE)","v":{"$error":"#N/A"}},{"$f":"VLOOKUP($C484, 'Nanodrop Data Raw'!$C:$L, 4, FALSE)","v":{"$error":"#N/A"}},null,null,null,null,{"$f":"'Sample Information'!$H$6","v":0},{"$f":"'Sample Information'!$H$5","v":0},null,null,{"$f":"'Sample Information'!$H$7","v":0},null,{"$error":"#N/A"}]
[{"$f":"'Sample Information'!A485","v":484},{"$f":"'Sample Information'!B485","v":0},"0-RNA",{"$f":"'Sample Information'!D485","v":0},{"$f":"IF(VLOOKUP($C485, 'Nanodrop Data Raw'!$C:$L, 10, FALSE)<>\"\", VLOOKUP($C485, 'Nanodrop Data Raw'!$C:$L, 10, FALSE), VLOOKUP($C485, 'Nanodrop Data Raw'!$C:$L, 2, FALSE))","v":{"$error":"#N/A"}},null,null,{"$error":"#N/A"},{"$f":"VLOOKUP($C485, 'Nanodrop Data Raw'!$C:$L, 3, FALSE)","v":{"$error":"#N/A"}},{"$f":"VLOOKUP($C485, 'Nanodrop Data Raw'!$C:$L, 4, FALSE)","v":{"$error":"#N/A"}},null,null,null,null,{"$f":"'Sample Information'!$H$6","v":0},{"$f":"'Sample Information'!$H$5","v":0},null,null,{"$f":"'Sample Information'!$H$7","v":0},null,{"$error":"#N/A"}]
[{"$f":"'Sample Information'!A486","v":485},{"$f":"'Sample Information'!B486","v":0},"0-RNA",{"$f":"'Sample Information'!D486","v":0},{"$f":"IF(VLOOKUP($C486, 'Nanodrop Data Raw'!$C:$L, 10, FALSE)<>\"\", VLOOKUP($C486, 'Nanodrop Data Raw'!$C:$L, 10, FALSE), VLOOKUP($C486, 'Nanodrop Data Raw'!$C:$L, 2, FALSE))","v":{"$error":"#N/A"}},null,null,{"$error":"#N/A"},{"$f":"VLOOKUP($C486, 'Nanodrop Data Raw'!$C:$L, 3, FALSE)","v":{"$error":"#N/A"}},{"$f":"VLOOKUP($C486, 'Nanodrop Data Raw'!$C:$L, 4, FALSE)","v":{"$error":"#N/A"}},null,null,null,null,{"$f":"'Sample Information'!$H$6","v":0},{"$f":"'Sample Information'!$H$5","v":0},null,null,{"$f":"'Sample Information'!$H$7","v":0},null,{"$error":"#N/A"}]
[{"$f":"'Sample Information'!A487","v":486},{"$f":"'Sample Information'!B487","v":0},"0-RNA",{"$f":"'Sample Information'!D487","v":0},{"$f":"IF(VLOOKUP($C487, 'Nanodrop Data Raw'!$C:$L, 10, FALSE)<>\"\", VLOOKUP($C487, 'Nanodrop Data Raw'!$C:$L, 10, FALSE), VLOOKUP($C487, 'Nanodrop Data Raw'!$C:$L, 2, FALSE))","v":{"$error":"#N/A"}},null,null,{"$error":"#N/A"},{"$f":"VLOOKUP($C487, 'Nanodrop Data Raw'!$C:$L, 3, FALSE)","v":{"$error":"#N/A"}},{"$f":"VLOOKUP($C487, 'Nanodrop Data Raw'!$C:$L, 4, FALSE)","v":{"$error":"#N/A"}},null,null,null,null,{"$f":"'Sample Information'!$H$6","v":0},{"$f":"'Sample Information'!$H$5","v":0},null,null,{"$f":"'Sample Information'!$H$7","v":0},null,{"$error":"#N/A"}]
[{"$f":"'Sample Information'!A488","v":487},{"$f":"'Sample Information'!B488","v":0},"0-RNA",{"$f":"'Sample Information'!D488","v":0},{"$f":"IF(VLOOKUP($C488, 'Nanodrop Data Raw'!$C:$L, 10, FALSE)<>\"\", VLOOKUP($C488, 'Nanodrop Data Raw'!$C:$L, 10, FALSE), VLOOKUP($C488, 'Nanodrop Data Raw'!$C:$L, 2, FALSE))","v":{"$error":"#N/A"}},null,null,{"$error":"#N/A"},{"$f":"VLOOKUP($C488, 'Nanodrop Data Raw'!$C:$L, 3, FALSE)","v":{"$error":"#N/A"}},{"$f":"VLOOKUP($C488, 'Nanodrop Data Raw'!$C:$L, 4, FALSE)","v":{"$error":"#N/A"}},null,null,null,null,{"$f":"'Sample Information'!$H$6","v":0},{"$f":"'Sample Information'!$H$5","v":0},null,null,{"$f":"'Sample Information'!$H$7","v":0},null,{"$error":"#N/A"}]
[{"$f":"'Sample Information'!A489","v":488},{"$f":"'Sample Information'!B489","v":0},"0-RNA",{"$f":"'Sample Information'!D489","v":0},{"$f":"IF(VLOOKUP($C489, 'Nanodrop Data Raw'!$C:$L, 10, FALSE)<>\"\", VLOOKUP($C489, 'Nanodrop Data Raw'!$C:$L, 10, FALSE), VLOOKUP($C489, 'Nanodrop Data Raw'!$C:$L, 2, FALSE))","v":{"$error":"#N/A"}},null,null,{"$error":"#N/A"},{"$f":"VLOOKUP($C489, 'Nanodrop Data Raw'!$C:$L, 3, FALSE)","v":{"$error":"#N/A"}},{"$f":"VLOOKUP($C489, 'Nanodrop Data Raw'!$C:$L, 4, FALSE)","v":{"$error":"#N/A"}},null,null,null,null,{"$f":"'Sample Information'!$H$6","v":0},{"$f":"'Sample Information'!$H$5","v":0},null,null,{"$f":"'Sample Information'!$H$7","v":0},null,{"$error":"#N/A"}]
[{"$f":"'Sample Information'!A490","v":489},{"$f":"'Sample Information'!B490","v":0},"0-RNA",{"$f":"'Sample Information'!D490","v":0},{"$f":"IF(VLOOKUP($C490, 'Nanodrop Data Raw'!$C:$L, 10, FALSE)<>\"\", VLOOKUP($C490, 'Nanodrop Data Raw'!$C:$L, 10, FALSE), VLOOKUP($C490, 'Nanodrop Data Raw'!$C:$L, 2, FALSE))","v":{"$error":"#N/A"}},null,null,{"$error":"#N/A"},{"$f":"VLOOKUP($C490, 'Nanodrop Data Raw'!$C:$L, 3, FALSE)","v":{"$error":"#N/A"}},{"$f":"VLOOKUP($C490, 'Nanodrop Data Raw'!$C:$L, 4, FALSE)","v":{"$error":"#N/A"}},null,null,null,null,{"$f":"'Sample Information'!$H$6","v":0},{"$f":"'Sample Information'!$H$5","v":0},null,null,{"$f":"'Sample Information'!$H$7","v":0},null,{"$error":"#N/A"}]
[{"$f":"'Sample Information'!A491","v":490},{"$f":"'Sample Information'!B491","v":0},"0-RNA",{"$f":"'Sample Information'!D491","v":0},{"$f":"IF(VLOOKUP($C491, 'Nanodrop Data Raw'!$C:$L, 10, FALSE)<>\"\", VLOOKUP($C491, 'Nanodrop Data Raw'!$C:$L, 10, FALSE), VLOOKUP($C491, 'Nanodrop Data Raw'!$C:$L, 2, FALSE))","v":{"$error":"#N/A"}},null,null,{"$error":"#N/A"},{"$f":"VLOOKUP($C491, 'Nanodrop Data Raw'!$C:$L, 3, FALSE)","v":{"$error":"#N/A"}},{"$f":"VLOOKUP($C491, 'Nanodrop Data Raw'!$C:$L, 4, FALSE)","v":{"$error":"#N/A"}},null,null,null,null,{"$f":"'Sample Information'!$H$6","v":0},{"$f":"'Sample Information'!$H$5","v":0},null,null,{"$f":"'Sample Information'!$H$7","v":0},null,{"$error":"#N/A"}]
[{"$f":"'Sample Information'!A492","v":491},{"$f":"'Sample Information'!B492","v":0},"0-RNA",{"$f":"'Sample Information'!D492","v":0},{"$f":"IF(VLOOKUP($C492, 'Nanodrop Data Raw'!$C:$L, 10, FALSE)<>\"\", VLOOKUP($C492, 'Nanodrop Data Raw'!$C:$L, 10, FALSE), VLOOKUP($C492, 'Nanodrop Data Raw'!$C:$L, 2, FALSE))","v":{"$error":"#N/A"}},null,null,{"$error":"#N/A"},{"$f":"VLOOKUP($C492, 'Nanodrop Data Raw'!$C:$L, 3, FALSE)","v":{"$error":"#N/A"}},{"$f":"VLOOKUP($C492, 'Nanodrop Data Raw'!$C:$L, 4, FALSE)","v":{"$error":"#N/A"}},null,null,null,null,{"$f":"'Sample Information'!$H$6","v":0},{"$f":"'Sample Information'!$H$5","v":0},null,null,{"$f":"'Sample Information'!$H$7","v":0},null,{"$error":"#N/A"}]
[{"$f":"'Sample Information'!A493","v":492},{"$f":"'Sample Information'!B493","v":0},"0-RNA",{"$f":"'Sample Information'!D493","v":0},{"$f":"IF(VLOOKUP($C493, 'Nanodrop Data Raw'!$C:$L, 10, FALSE)<>\"\", VLOOKUP($C493, 'Nanodrop Data Raw'!$C:$L, 10, FALSE), VLOOKUP($C493, 'Nanodrop Data Raw'!$C:$L, 2, FALSE))","v":{"$error":"#N/A"}},null,null,{"$error":"#N/A"},{"$f":"VLOOKUP($C493, 'Nanodrop Data Raw'!$C:$L, 3, FALSE)","v":{"$error":"#N/A"}},{"$f":"VLOOKUP($C493, 'Nanodrop Data Raw'!$C:$L, 4, FALSE)","v":{"$error":"#N/A"}},null,null,null,null,{"$f":"'Sample Information'!$H$6","v":0},{"$f":"'Sample Information'!$H$5","v":0},null,null,{"$f":"'Sample Information'!$H$7","v":0},null,{"$error":"#N/A"}]
[{"$f":"'Sample Information'!A494","v":493},{"$f":"'Sample Information'!B494","v":0},"0-RNA",{"$f":"'Sample Information'!D494","v":0},{"$f":"IF(VLOOKUP($C494, 'Nanodrop Data Raw'!$C:$L, 10, FALSE)<>\"\", VLOOKUP($C494, 'Nanodrop Data Raw'!$C:$L, 10, FALSE), VLOOKUP($C494, 'Nanodrop Data Raw'!$C:$L, 2, FALSE))","v":{"$error":"#N/A"}},null,null,{"$error":"#N/A"},{"$f":"VLOOKUP($C494, 'Nanodrop Data Raw'!$C:$L, 3, FALSE)","v":{"$error":"#N/A"}},{"$f":"VLOOKUP($C494, 'Nanodrop Data Raw'!$C:$L, 4, FALSE)","v":{"$error":"#N/A"}},null,null,null,null,{"$f":"'Sample Information'!$H$6","v":0},{"$f":"'Sample Information'!$H$5","v":0},null,null,{"$f":"'Sample Information'!$H$7","v":0},null,{"$error":"#N/A"}]
[{"$f":"'Sample Information'!A495","v":494},{"$f":"'Sample Information'!B495","v":0},"0-RNA",{"$f":"'Sample Information'!D495","v":0},{"$f":"IF(VLOOKUP($C495, 'Nanodrop Data Raw'!$C:$L, 10, FALSE)<>\"\", VLOOKUP($C495, 'Nanodrop Data Raw'!$C:$L, 10, FALSE), VLOOKUP($C495, 'Nanodrop Data Raw'!$C:$L, 2, FALSE))","v":{"$error":"#N/A"}},null,null,{"$error":"#N/A"},{"$f":"VLOOKUP($C495, 'Nanodrop Data Raw'!$C:$L, 3, FALSE)","v":{"$error":"#N/A"}},{"$f":"VLOOKUP($C495, 'Nanodrop Data Raw'!$C:$L, 4, FALSE)","v":{"$error":"#N/A"}},null,null,null,null,{"$f":"'Sample Information'!$H$6","v":0},{"$f":"'Sample Information'!$H$5","v":0},null,null,{"$f":"'Sample Information'!$H$7","v":0},null,{"$error":"#N/A"}]
[{"$f":"'Sample Information'!A496","v":495},{"$f":"'Sample Information'!B496","v":0},"0-RNA",{"$f":"'Sample Information'!D496","v":0},{"$f":"IF(VLOOKUP($C496, 'Nanodrop Data Raw'!$C:$L, 10, FALSE)<>\"\", VLOOKUP($C496, 'Nanodrop Data Raw'!$C:$L, 10, FALSE), VLOOKUP($C496, 'Nanodrop Data Raw'!$C:$L, 2, FALSE))","v":{"$error":"#N/A"}},null,null,{"$error":"#N/A"},{"$f":"VLOOKUP($C496, 'Nanodrop Data Raw'!$C:$L, 3, FALSE)","v":{"$error":"#N/A"}},{"$f":"VLOOKUP($C496, 'Nanodrop Data Raw'!$C:$L, 4, FALSE)","v":{"$error":"#N/A"}},null,null,null,null,{"$f":"'Sample Information'!$H$6","v":0},{"$f":"'Sample Information'!$H$5","v":0},null,null,{"$f":"'Sample Information'!$H$7","v":0},null,{"$error":"#N/A"}]
[{"$f":"'Sample Information'!A497","v":496},{"$f":"'Sample Information'!B497","v":0},"0-RNA",{"$f":"'Sample Information'!D497","v":0},{"$f":"IF(VLOOKUP($C497, 'Nanodrop Data Raw'!$C:$L, 10, FALSE)<>\"\", VLOOKUP($C497, 'Nanodrop Data Raw'!$C:$L, 10, FALSE), VLOOKUP($C497, 'Nanodrop Data Raw'!$C:$L, 2, FALSE))","v":{"$error":"#N/A"}},null,null,{"$error":"#N/A"},{"$f":"VLOOKUP($C497, 'Nanodrop Data Raw'!$C:$L, 3, FALSE)","v":{"$error":"#N/A"}},{"$f":"VLOOKUP($C497, 'Nanodrop Data Raw'!$C:$L, 4, FALSE)","v":{"$error":"#N/A"}},null,null,null,null,{"$f":"'Sample Information'!$H$6","v":0},{"$f":"'Sample Information'!$H$5","v":0},null,null,{"$f":"'Sample Information'!$H$7","v":0},null,{"$error":"#N/A"}]
[{"$f":"'Sample Information'!A498","v":497},{"$f":"'Sample Information'!B498","v":0},"0-RNA",{"$f":"'Sample Information'!D498","v":0},{"$f":"IF(VLOOKUP($C498, 'Nanodrop Data Raw'!$C:$L, 10, FALSE)<>\"\", VLOOKUP($C498, 'Nanodrop Data Raw'!$C:$L, 10, FALSE), VLOOKUP($C498, 'Nanodrop Data Raw'!$C:$L, 2, FALSE))","v":{"$error":"#N/A"}},null,null,{"$error":"#N/A"},{"$f":"VLOOKUP($C498, 'Nanodrop Data Raw'!$C:$L, 3, FALSE)","v":{"$error":"#N/A"}},{"$f":"VLOOKUP($C498, 'Nanodrop Data Raw'!$C:$L, 4, FALSE)","v":{"$error":"#N/A"}},null,null,null,null,{"$f":"'Sample Information'!$H$6","v":0},{"$f":"'Sample Information'!$H$5","v":0},null,null,{"$f":"'Sample Information'!$H$7","v":0},null,{"$error":"#N/A"}]
[{"$f":"'Sample Information'!A499","v":498},{"$f":"'Sample Information'!B499","v":0},"0-RNA",{"$f":"'Sample Information'!D499","v":0},{"$f":"IF(VLOOKUP($C499, 'Nanodrop Data Raw'!$C:$L, 10, FALSE)<>\"\", VLOOKUP($C499, 'Nanodrop Data Raw'!$C:$L, 10, FALSE), VLOOKUP($C499, 'Nanodrop Data Raw'!$C:$L, 2, FALSE))","v":{"$error":"#N/A"}},null,null,{"$error":"#N/A"},{"$f":"VLOOKUP($C499, 'Nanodrop Data Raw'!$C:$L, 3, FALSE)","v":{"$error":"#N/A"}},{"$f":"VLOOKUP($C499, 'Nanodrop Data Raw'!$C:$L, 4, FALSE)","v":{"$error":"#N/A"}},null,null,null,null,{"$f":"'Sample Information'!$H$6","v":0},{"$f":"'Sample Information'!$H$5","v":0},null,null,{"$f":"'Sample Information'!$H$7","v":0},null,{"$error":"#N/A"}]
[{"$f":"'Sample Information'!A500","v":499},{"$f":"'Sample Information'!B500","v":0},"0-RNA",{"$f":"'Sample Information'!D500","v":0},{"$f":"IF(VLOOKUP($C500, 'Nanodrop Data Raw'!$C:$L, 10, FALSE)<>\"\", VLOOKUP($C500, 'Nanodrop Data Raw'!$C:$L, 10, FALSE), VLOOKUP($C500, 'Nanodrop Data Raw'!$C:$L, 2, FALSE))","v":{"$error":"#N/A"}},null,null,{"$error":"#N/A"},{"$f":"VLOOKUP($C500, 'Nanodrop Data Raw'!$C:$L, 3, FALSE)","v":{"$error":"#N/A"}},{"$f":"VLOOKUP($C500, 'Nanodrop Data Raw'!$C:$L, 4, FALSE)","v":{"$error":"#N/A"}},null,null,null,null,{"$f":"'Sample Information'!$H$6","v":0},{"$f":"'Sample Information'!$H$5","v":0},null,null,{"$f":"'Sample Information'!$H$7","v":0},null,{"$error":"#N/A"}]
[{"$f":"'Sample Information'!A501","v":500},{"$f":"'Sample Information'!B501","v":0},"0-RNA",{"$f":"'Sample Information'!D501","v":0},{"$f":"IF(VLOOKUP($C501, 'Nanodrop Data Raw'!$C:$L, 10, FALSE)<>\"\", VLOOKUP($C501, 'Nanodrop Data Raw'!$C:$L, 10, FALSE), VLOOKUP($C501, 'Nanodrop Data Raw'!$C:$L, 2, FALSE))","v":{"$error":"#N/A"}},null,null,{"$error":"#N/A"},{"$f":"VLOOKUP($C501, 'Nanodrop Data Raw'!$C:$L, 3, FALSE)","v":{"$error":"#N/A"}},{"$f":"VLOOKUP($C501, 'Nanodrop Data Raw'!$C:$L, 4, FALSE)","v":{"$error":"#N/A"}},null,null,null,null,{"$f":"'Sample Information'!$H$6","v":0},{"$f":"'Sample Information'!$H$5","v":0},null,null,{"$f":"'Sample Information'!$H$7","v":0},null,{"$error":"#N/A"}]

{"sheet":"MassArray normalization","index":5,"n_rows":418,"n_cols":5,"rows_kept":418,"cut":false,"hidden":true,"merged":[]}
[null,"Sample_ID\n(Max. 10 characters)","Sample DNA_ID","*Concentration by Nanodrop (ng/ul)","Water added to 5uL of sample to make up 10ng/uL \n(for Sequenom genotyping)"]
[{"$f":"'Sample Information'!A2","v":1},{"$f":"'Sample Information'!B2","v":0},{"$f":"CONCATENATE(B2,\"-DNA\")","v":"0-DNA"},{"$f":"IF(VLOOKUP($C2, 'Nanodrop Data Raw'!$C:$L, 10, FALSE)<>\"\", VLOOKUP($C2, 'Nanodrop Data Raw'!$C:$L, 10, FALSE), VLOOKUP($C2, 'Nanodrop Data Raw'!$C:$L, 2, FALSE))","v":{"$error":"#N/A"}},{"$f":"IF((5*D2-50)/10>0,(5*D2-50)/10,\"-\")","v":{"$error":"#N/A"}}]
[{"$f":"'Sample Information'!A3","v":2},{"$f":"'Sample Information'!B3","v":0},{"$f":"CONCATENATE(B3,\"-DNA\")","v":"0-DNA"},{"$f":"IF(VLOOKUP($C3, 'Nanodrop Data Raw'!$C:$L, 10, FALSE)<>\"\", VLOOKUP($C3, 'Nanodrop Data Raw'!$C:$L, 10, FALSE), VLOOKUP($C3, 'Nanodrop Data Raw'!$C:$L, 2, FALSE))","v":{"$error":"#N/A"}},{"$f":"IF((5*D3-50)/10>0,(5*D3-50)/10,\"-\")","v":{"$error":"#N/A"}}]
[{"$f":"'Sample Information'!A4","v":3},{"$f":"'Sample Information'!B4","v":0},"0-DNA",{"$f":"IF(VLOOKUP($C4, 'Nanodrop Data Raw'!$C:$L, 10, FALSE)<>\"\", VLOOKUP($C4, 'Nanodrop Data Raw'!$C:$L, 10, FALSE), VLOOKUP($C4, 'Nanodrop Data Raw'!$C:$L, 2, FALSE))","v":{"$error":"#N/A"}},{"$error":"#N/A"}]
[{"$f":"'Sample Information'!A5","v":4},{"$f":"'Sample Information'!B5","v":0},"0-DNA",{"$f":"IF(VLOOKUP($C5, 'Nanodrop Data Raw'!$C:$L, 10, FALSE)<>\"\", VLOOKUP($C5, 'Nanodrop Data Raw'!$C:$L, 10, FALSE), VLOOKUP($C5, 'Nanodrop Data Raw'!$C:$L, 2, FALSE))","v":{"$error":"#N/A"}},{"$error":"#N/A"}]
[{"$f":"'Sample Information'!A6","v":5},{"$f":"'Sample Information'!B6","v":0},"0-DNA",{"$f":"IF(VLOOKUP($C6, 'Nanodrop Data Raw'!$C:$L, 10, FALSE)<>\"\", VLOOKUP($C6, 'Nanodrop Data Raw'!$C:$L, 10, FALSE), VLOOKUP($C6, 'Nanodrop Data Raw'!$C:$L, 2, FALSE))","v":{"$error":"#N/A"}},{"$error":"#N/A"}]
[{"$f":"'Sample Information'!A7","v":6},{"$f":"'Sample Information'!B7","v":0},"0-DNA",{"$f":"IF(VLOOKUP($C7, 'Nanodrop Data Raw'!$C:$L, 10, FALSE)<>\"\", VLOOKUP($C7, 'Nanodrop Data Raw'!$C:$L, 10, FALSE), VLOOKUP($C7, 'Nanodrop Data Raw'!$C:$L, 2, FALSE))","v":{"$error":"#N/A"}},{"$error":"#N/A"}]
[{"$f":"'Sample Information'!A8","v":7},{"$f":"'Sample Information'!B8","v":0},"0-DNA",{"$f":"IF(VLOOKUP($C8, 'Nanodrop Data Raw'!$C:$L, 10, FALSE)<>\"\", VLOOKUP($C8, 'Nanodrop Data Raw'!$C:$L, 10, FALSE), VLOOKUP($C8, 'Nanodrop Data Raw'!$C:$L, 2, FALSE))","v":{"$error":"#N/A"}},{"$error":"#N/A"}]
[{"$f":"'Sample Information'!A9","v":8},{"$f":"'Sample Information'!B9","v":0},"0-DNA",{"$f":"IF(VLOOKUP($C9, 'Nanodrop Data Raw'!$C:$L, 10, FALSE)<>\"\", VLOOKUP($C9, 'Nanodrop Data Raw'!$C:$L, 10, FALSE), VLOOKUP($C9, 'Nanodrop Data Raw'!$C:$L, 2, FALSE))","v":{"$error":"#N/A"}},{"$error":"#N/A"}]
[{"$f":"'Sample Information'!A10","v":9},{"$f":"'Sample Information'!B10","v":0},"0-DNA",{"$f":"IF(VLOOKUP($C10, 'Nanodrop Data Raw'!$C:$L, 10, FALSE)<>\"\", VLOOKUP($C10, 'Nanodrop Data Raw'!$C:$L, 10, FALSE), VLOOKUP($C10, 'Nanodrop Data Raw'!$C:$L, 2, FALSE))","v":{"$error":"#N/A"}},{"$error":"#N/A"}]
[{"$f":"'Sample Information'!A11","v":10},{"$f":"'Sample Information'!B11","v":0},"0-DNA",{"$f":"IF(VLOOKUP($C11, 'Nanodrop Data Raw'!$C:$L, 10, FALSE)<>\"\", VLOOKUP($C11, 'Nanodrop Data Raw'!$C:$L, 10, FALSE), VLOOKUP($C11, 'Nanodrop Data Raw'!$C:$L, 2, FALSE))","v":{"$error":"#N/A"}},{"$error":"#N/A"}]
[{"$f":"'Sample Information'!A12","v":11},{"$f":"'Sample Information'!B12","v":0},"0-DNA",{"$f":"IF(VLOOKUP($C12, 'Nanodrop Data Raw'!$C:$L, 10, FALSE)<>\"\", VLOOKUP($C12, 'Nanodrop Data Raw'!$C:$L, 10, FALSE), VLOOKUP($C12, 'Nanodrop Data Raw'!$C:$L, 2, FALSE))","v":{"$error":"#N/A"}},{"$error":"#N/A"}]
[{"$f":"'Sample Information'!A13","v":12},{"$f":"'Sample Information'!B13","v":0},"0-DNA",{"$f":"IF(VLOOKUP($C13, 'Nanodrop Data Raw'!$C:$L, 10, FALSE)<>\"\", VLOOKUP($C13, 'Nanodrop Data Raw'!$C:$L, 10, FALSE), VLOOKUP($C13, 'Nanodrop Data Raw'!$C:$L, 2, FALSE))","v":{"$error":"#N/A"}},{"$error":"#N/A"}]
[{"$f":"'Sample Information'!A14","v":13},{"$f":"'Sample Information'!B14","v":0},"0-DNA",{"$f":"IF(VLOOKUP($C14, 'Nanodrop Data Raw'!$C:$L, 10, FALSE)<>\"\", VLOOKUP($C14, 'Nanodrop Data Raw'!$C:$L, 10, FALSE), VLOOKUP($C14, 'Nanodrop Data Raw'!$C:$L, 2, FALSE))","v":{"$error":"#N/A"}},{"$error":"#N/A"}]
[{"$f":"'Sample Information'!A15","v":14},{"$f":"'Sample Information'!B15","v":0},"0-DNA",{"$f":"IF(VLOOKUP($C15, 'Nanodrop Data Raw'!$C:$L, 10, FALSE)<>\"\", VLOOKUP($C15, 'Nanodrop Data Raw'!$C:$L, 10, FALSE), VLOOKUP($C15, 'Nanodrop Data Raw'!$C:$L, 2, FALSE))","v":{"$error":"#N/A"}},{"$error":"#N/A"}]
[{"$f":"'Sample Information'!A16","v":15},{"$f":"'Sample Information'!B16","v":0},"0-DNA",{"$f":"IF(VLOOKUP($C16, 'Nanodrop Data Raw'!$C:$L, 10, FALSE)<>\"\", VLOOKUP($C16, 'Nanodrop Data Raw'!$C:$L, 10, FALSE), VLOOKUP($C16, 'Nanodrop Data Raw'!$C:$L, 2, FALSE))","v":{"$error":"#N/A"}},{"$error":"#N/A"}]
[{"$f":"'Sample Information'!A17","v":16},{"$f":"'Sample Information'!B17","v":0},"0-DNA",{"$f":"IF(VLOOKUP($C17, 'Nanodrop Data Raw'!$C:$L, 10, FALSE)<>\"\", VLOOKUP($C17, 'Nanodrop Data Raw'!$C:$L, 10, FALSE), VLOOKUP($C17, 'Nanodrop Data Raw'!$C:$L, 2, FALSE))","v":{"$error":"#N/A"}},{"$error":"#N/A"}]
[{"$f":"'Sample Information'!A18","v":17},{"$f":"'Sample Information'!B18","v":0},"0-DNA",{"$f":"IF(VLOOKUP($C18, 'Nanodrop Data Raw'!$C:$L, 10, FALSE)<>\"\", VLOOKUP($C18, 'Nanodrop Data Raw'!$C:$L, 10, FALSE), VLOOKUP($C18, 'Nanodrop Data Raw'!$C:$L, 2, FALSE))","v":{"$error":"#N/A"}},{"$error":"#N/A"}]
[{"$f":"'Sample Information'!A19","v":18},{"$f":"'Sample Information'!B19","v":0},"0-DNA",{"$f":"IF(VLOOKUP($C19, 'Nanodrop Data Raw'!$C:$L, 10, FALSE)<>\"\", VLOOKUP($C19, 'Nanodrop Data Raw'!$C:$L, 10, FALSE), VLOOKUP($C19, 'Nanodrop Data Raw'!$C:$L, 2, FALSE))","v":{"$error":"#N/A"}},{"$error":"#N/A"}]
[{"$f":"'Sample Information'!A20","v":19},{"$f":"'Sample Information'!B20","v":0},"0-DNA",{"$f":"IF(VLOOKUP($C20, 'Nanodrop Data Raw'!$C:$L, 10, FALSE)<>\"\", VLOOKUP($C20, 'Nanodrop Data Raw'!$C:$L, 10, FALSE), VLOOKUP($C20, 'Nanodrop Data Raw'!$C:$L, 2, FALSE))","v":{"$error":"#N/A"}},{"$error":"#N/A"}]
[{"$f":"'Sample Information'!A21","v":20},{"$f":"'Sample Information'!B21","v":0},"0-DNA",{"$f":"IF(VLOOKUP($C21, 'Nanodrop Data Raw'!$C:$L, 10, FALSE)<>\"\", VLOOKUP($C21, 'Nanodrop Data Raw'!$C:$L, 10, FALSE), VLOOKUP($C21, 'Nanodrop Data Raw'!$C:$L, 2, FALSE))","v":{"$error":"#N/A"}},{"$error":"#N/A"}]
[{"$f":"'Sample Information'!A22","v":21},{"$f":"'Sample Information'!B22","v":0},"0-DNA",{"$f":"IF(VLOOKUP($C22, 'Nanodrop Data Raw'!$C:$L, 10, FALSE)<>\"\", VLOOKUP($C22, 'Nanodrop Data Raw'!$C:$L, 10, FALSE), VLOOKUP($C22, 'Nanodrop Data Raw'!$C:$L, 2, FALSE))","v":{"$error":"#N/A"}},{"$error":"#N/A"}]
[{"$f":"'Sample Information'!A23","v":22},{"$f":"'Sample Information'!B23","v":0},"0-DNA",{"$f":"IF(VLOOKUP($C23, 'Nanodrop Data Raw'!$C:$L, 10, FALSE)<>\"\", VLOOKUP($C23, 'Nanodrop Data Raw'!$C:$L, 10, FALSE), VLOOKUP($C23, 'Nanodrop Data Raw'!$C:$L, 2, FALSE))","v":{"$error":"#N/A"}},{"$error":"#N/A"}]
[{"$f":"'Sample Information'!A24","v":23},{"$f":"'Sample Information'!B24","v":0},"0-DNA",{"$f":"IF(VLOOKUP($C24, 'Nanodrop Data Raw'!$C:$L, 10, FALSE)<>\"\", VLOOKUP($C24, 'Nanodrop Data Raw'!$C:$L, 10, FALSE), VLOOKUP($C24, 'Nanodrop Data Raw'!$C:$L, 2, FALSE))","v":{"$error":"#N/A"}},{"$error":"#N/A"}]
[{"$f":"'Sample Information'!A25","v":24},{"$f":"'Sample Information'!B25","v":0},"0-DNA",{"$f":"IF(VLOOKUP($C25, 'Nanodrop Data Raw'!$C:$L, 10, FALSE)<>\"\", VLOOKUP($C25, 'Nanodrop Data Raw'!$C:$L, 10, FALSE), VLOOKUP($C25, 'Nanodrop Data Raw'!$C:$L, 2, FALSE))","v":{"$error":"#N/A"}},{"$error":"#N/A"}]
[{"$f":"'Sample Information'!A26","v":25},{"$f":"'Sample Information'!B26","v":0},"0-DNA",{"$f":"IF(VLOOKUP($C26, 'Nanodrop Data Raw'!$C:$L, 10, FALSE)<>\"\", VLOOKUP($C26, 'Nanodrop Data Raw'!$C:$L, 10, FALSE), VLOOKUP($C26, 'Nanodrop Data Raw'!$C:$L, 2, FALSE))","v":{"$error":"#N/A"}},{"$error":"#N/A"}]
[{"$f":"'Sample Information'!A27","v":26},{"$f":"'Sample Information'!B27","v":0},"0-DNA",{"$f":"IF(VLOOKUP($C27, 'Nanodrop Data Raw'!$C:$L, 10, FALSE)<>\"\", VLOOKUP($C27, 'Nanodrop Data Raw'!$C:$L, 10, FALSE), VLOOKUP($C27, 'Nanodrop Data Raw'!$C:$L, 2, FALSE))","v":{"$error":"#N/A"}},{"$error":"#N/A"}]
[{"$f":"'Sample Information'!A28","v":27},{"$f":"'Sample Information'!B28","v":0},"0-DNA",{"$f":"IF(VLOOKUP($C28, 'Nanodrop Data Raw'!$C:$L, 10, FALSE)<>\"\", VLOOKUP($C28, 'Nanodrop Data Raw'!$C:$L, 10, FALSE), VLOOKUP($C28, 'Nanodrop Data Raw'!$C:$L, 2, FALSE))","v":{"$error":"#N/A"}},{"$error":"#N/A"}]
[{"$f":"'Sample Information'!A29","v":28},{"$f":"'Sample Information'!B29","v":0},"0-DNA",{"$f":"IF(VLOOKUP($C29, 'Nanodrop Data Raw'!$C:$L, 10, FALSE)<>\"\", VLOOKUP($C29, 'Nanodrop Data Raw'!$C:$L, 10, FALSE), VLOOKUP($C29, 'Nanodrop Data Raw'!$C:$L, 2, FALSE))","v":{"$error":"#N/A"}},{"$error":"#N/A"}]
[{"$f":"'Sample Information'!A30","v":29},{"$f":"'Sample Information'!B30","v":0},"0-DNA",{"$f":"IF(VLOOKUP($C30, 'Nanodrop Data Raw'!$C:$L, 10, FALSE)<>\"\", VLOOKUP($C30, 'Nanodrop Data Raw'!$C:$L, 10, FALSE), VLOOKUP($C30, 'Nanodrop Data Raw'!$C:$L, 2, FALSE))","v":{"$error":"#N/A"}},{"$error":"#N/A"}]
[{"$f":"'Sample Information'!A31","v":30},{"$f":"'Sample Information'!B31","v":0},"0-DNA",{"$f":"IF(VLOOKUP($C31, 'Nanodrop Data Raw'!$C:$L, 10, FALSE)<>\"\", VLOOKUP($C31, 'Nanodrop Data Raw'!$C:$L, 10, FALSE), VLOOKUP($C31, 'Nanodrop Data Raw'!$C:$L, 2, FALSE))","v":{"$error":"#N/A"}},{"$error":"#N/A"}]
[{"$f":"'Sample Information'!A32","v":31},{"$f":"'Sample Information'!B32","v":0},"0-DNA",{"$f":"IF(VLOOKUP($C32, 'Nanodrop Data Raw'!$C:$L, 10, FALSE)<>\"\", VLOOKUP($C32, 'Nanodrop Data Raw'!$C:$L, 10, FALSE), VLOOKUP($C32, 'Nanodrop Data Raw'!$C:$L, 2, FALSE))","v":{"$error":"#N/A"}},{"$error":"#N/A"}]
[{"$f":"'Sample Information'!A33","v":32},{"$f":"'Sample Information'!B33","v":0},"0-DNA",{"$f":"IF(VLOOKUP($C33, 'Nanodrop Data Raw'!$C:$L, 10, FALSE)<>\"\", VLOOKUP($C33, 'Nanodrop Data Raw'!$C:$L, 10, FALSE), VLOOKUP($C33, 'Nanodrop Data Raw'!$C:$L, 2, FALSE))","v":{"$error":"#N/A"}},{"$error":"#N/A"}]
[{"$f":"'Sample Information'!A34","v":33},{"$f":"'Sample Information'!B34","v":0},"0-DNA",{"$f":"IF(VLOOKUP($C34, 'Nanodrop Data Raw'!$C:$L, 10, FALSE)<>\"\", VLOOKUP($C34, 'Nanodrop Data Raw'!$C:$L, 10, FALSE), VLOOKUP($C34, 'Nanodrop Data Raw'!$C:$L, 2, FALSE))","v":{"$error":"#N/A"}},{"$error":"#N/A"}]
[{"$f":"'Sample Information'!A35","v":34},{"$f":"'Sample Information'!B35","v":0},"0-DNA",{"$f":"IF(VLOOKUP($C35, 'Nanodrop Data Raw'!$C:$L, 10, FALSE)<>\"\", VLOOKUP($C35, 'Nanodrop Data Raw'!$C:$L, 10, FALSE), VLOOKUP($C35, 'Nanodrop Data Raw'!$C:$L, 2, FALSE))","v":{"$error":"#N/A"}},{"$error":"#N/A"}]
[{"$f":"'Sample Information'!A36","v":35},{"$f":"'Sample Information'!B36","v":0},"0-DNA",{"$f":"IF(VLOOKUP($C36, 'Nanodrop Data Raw'!$C:$L, 10, FALSE)<>\"\", VLOOKUP($C36, 'Nanodrop Data Raw'!$C:$L, 10, FALSE), VLOOKUP($C36, 'Nanodrop Data Raw'!$C:$L, 2, FALSE))","v":{"$error":"#N/A"}},{"$error":"#N/A"}]
[{"$f":"'Sample Information'!A37","v":36},{"$f":"'Sample Information'!B37","v":0},"0-DNA",{"$f":"IF(VLOOKUP($C37, 'Nanodrop Data Raw'!$C:$L, 10, FALSE)<>\"\", VLOOKUP($C37, 'Nanodrop Data Raw'!$C:$L, 10, FALSE), VLOOKUP($C37, 'Nanodrop Data Raw'!$C:$L, 2, FALSE))","v":{"$error":"#N/A"}},{"$error":"#N/A"}]
[{"$f":"'Sample Information'!A38","v":37},{"$f":"'Sample Information'!B38","v":0},"0-DNA",{"$f":"IF(VLOOKUP($C38, 'Nanodrop Data Raw'!$C:$L, 10, FALSE)<>\"\", VLOOKUP($C38, 'Nanodrop Data Raw'!$C:$L, 10, FALSE), VLOOKUP($C38, 'Nanodrop Data Raw'!$C:$L, 2, FALSE))","v":{"$error":"#N/A"}},{"$error":"#N/A"}]
[{"$f":"'Sample Information'!A39","v":38},{"$f":"'Sample Information'!B39","v":0},"0-DNA",{"$f":"IF(VLOOKUP($C39, 'Nanodrop Data Raw'!$C:$L, 10, FALSE)<>\"\", VLOOKUP($C39, 'Nanodrop Data Raw'!$C:$L, 10, FALSE), VLOOKUP($C39, 'Nanodrop Data Raw'!$C:$L, 2, FALSE))","v":{"$error":"#N/A"}},{"$error":"#N/A"}]
[{"$f":"'Sample Information'!A40","v":39},{"$f":"'Sample Information'!B40","v":0},"0-DNA",{"$f":"IF(VLOOKUP($C40, 'Nanodrop Data Raw'!$C:$L, 10, FALSE)<>\"\", VLOOKUP($C40, 'Nanodrop Data Raw'!$C:$L, 10, FALSE), VLOOKUP($C40, 'Nanodrop Data Raw'!$C:$L, 2, FALSE))","v":{"$error":"#N/A"}},{"$error":"#N/A"}]
[{"$f":"'Sample Information'!A41","v":40},{"$f":"'Sample Information'!B41","v":0},"0-DNA",{"$f":"IF(VLOOKUP($C41, 'Nanodrop Data Raw'!$C:$L, 10, FALSE)<>\"\", VLOOKUP($C41, 'Nanodrop Data Raw'!$C:$L, 10, FALSE), VLOOKUP($C41, 'Nanodrop Data Raw'!$C:$L, 2, FALSE))","v":{"$error":"#N/A"}},{"$error":"#N/A"}]
[{"$f":"'Sample Information'!A42","v":41},{"$f":"'Sample Information'!B42","v":0},"0-DNA",{"$f":"IF(VLOOKUP($C42, 'Nanodrop Data Raw'!$C:$L, 10, FALSE)<>\"\", VLOOKUP($C42, 'Nanodrop Data Raw'!$C:$L, 10, FALSE), VLOOKUP($C42, 'Nanodrop Data Raw'!$C:$L, 2, FALSE))","v":{"$error":"#N/A"}},{"$error":"#N/A"}]
[{"$f":"'Sample Information'!A43","v":42},{"$f":"'Sample Information'!B43","v":0},"0-DNA",{"$f":"IF(VLOOKUP($C43, 'Nanodrop Data Raw'!$C:$L, 10, FALSE)<>\"\", VLOOKUP($C43, 'Nanodrop Data Raw'!$C:$L, 10, FALSE), VLOOKUP($C43, 'Nanodrop Data Raw'!$C:$L, 2, FALSE))","v":{"$error":"#N/A"}},{"$error":"#N/A"}]
[{"$f":"'Sample Information'!A44","v":43},{"$f":"'Sample Information'!B44","v":0},"0-DNA",{"$f":"IF(VLOOKUP($C44, 'Nanodrop Data Raw'!$C:$L, 10, FALSE)<>\"\", VLOOKUP($C44, 'Nanodrop Data Raw'!$C:$L, 10, FALSE), VLOOKUP($C44, 'Nanodrop Data Raw'!$C:$L, 2, FALSE))","v":{"$error":"#N/A"}},{"$error":"#N/A"}]
[{"$f":"'Sample Information'!A45","v":44},{"$f":"'Sample Information'!B45","v":0},"0-DNA",{"$f":"IF(VLOOKUP($C45, 'Nanodrop Data Raw'!$C:$L, 10, FALSE)<>\"\", VLOOKUP($C45, 'Nanodrop Data Raw'!$C:$L, 10, FALSE), VLOOKUP($C45, 'Nanodrop Data Raw'!$C:$L, 2, FALSE))","v":{"$error":"#N/A"}},{"$error":"#N/A"}]
[{"$f":"'Sample Information'!A46","v":45},{"$f":"'Sample Information'!B46","v":0},"0-DNA",{"$f":"IF(VLOOKUP($C46, 'Nanodrop Data Raw'!$C:$L, 10, FALSE)<>\"\", VLOOKUP($C46, 'Nanodrop Data Raw'!$C:$L, 10, FALSE), VLOOKUP($C46, 'Nanodrop Data Raw'!$C:$L, 2, FALSE))","v":{"$error":"#N/A"}},{"$error":"#N/A"}]
[{"$f":"'Sample Information'!A47","v":46},{"$f":"'Sample Information'!B47","v":0},"0-DNA",{"$f":"IF(VLOOKUP($C47, 'Nanodrop Data Raw'!$C:$L, 10, FALSE)<>\"\", VLOOKUP($C47, 'Nanodrop Data Raw'!$C:$L, 10, FALSE), VLOOKUP($C47, 'Nanodrop Data Raw'!$C:$L, 2, FALSE))","v":{"$error":"#N/A"}},{"$error":"#N/A"}]
[{"$f":"'Sample Information'!A48","v":47},{"$f":"'Sample Information'!B48","v":0},"0-DNA",{"$f":"IF(VLOOKUP($C48, 'Nanodrop Data Raw'!$C:$L, 10, FALSE)<>\"\", VLOOKUP($C48, 'Nanodrop Data Raw'!$C:$L, 10, FALSE), VLOOKUP($C48, 'Nanodrop Data Raw'!$C:$L, 2, FALSE))","v":{"$error":"#N/A"}},{"$error":"#N/A"}]
[{"$f":"'Sample Information'!A49","v":48},{"$f":"'Sample Information'!B49","v":0},"0-DNA",{"$f":"IF(VLOOKUP($C49, 'Nanodrop Data Raw'!$C:$L, 10, FALSE)<>\"\", VLOOKUP($C49, 'Nanodrop Data Raw'!$C:$L, 10, FALSE), VLOOKUP($C49, 'Nanodrop Data Raw'!$C:$L, 2, FALSE))","v":{"$error":"#N/A"}},{"$error":"#N/A"}]
[{"$f":"'Sample Information'!A50","v":49},{"$f":"'Sample Information'!B50","v":0},"0-DNA",{"$f":"IF(VLOOKUP($C50, 'Nanodrop Data Raw'!$C:$L, 10, FALSE)<>\"\", VLOOKUP($C50, 'Nanodrop Data Raw'!$C:$L, 10, FALSE), VLOOKUP($C50, 'Nanodrop Data Raw'!$C:$L, 2, FALSE))","v":{"$error":"#N/A"}},{"$error":"#N/A"}]
[{"$f":"'Sample Information'!A51","v":50},{"$f":"'Sample Information'!B51","v":0},"0-DNA",{"$f":"IF(VLOOKUP($C51, 'Nanodrop Data Raw'!$C:$L, 10, FALSE)<>\"\", VLOOKUP($C51, 'Nanodrop Data Raw'!$C:$L, 10, FALSE), VLOOKUP($C51, 'Nanodrop Data Raw'!$C:$L, 2, FALSE))","v":{"$error":"#N/A"}},{"$error":"#N/A"}]
[{"$f":"'Sample Information'!A52","v":51},{"$f":"'Sample Information'!B52","v":0},"0-DNA",{"$f":"IF(VLOOKUP($C52, 'Nanodrop Data Raw'!$C:$L, 10, FALSE)<>\"\", VLOOKUP($C52, 'Nanodrop Data Raw'!$C:$L, 10, FALSE), VLOOKUP($C52, 'Nanodrop Data Raw'!$C:$L, 2, FALSE))","v":{"$error":"#N/A"}},{"$error":"#N/A"}]
[{"$f":"'Sample Information'!A53","v":52},{"$f":"'Sample Information'!B53","v":0},"0-DNA",{"$f":"IF(VLOOKUP($C53, 'Nanodrop Data Raw'!$C:$L, 10, FALSE)<>\"\", VLOOKUP($C53, 'Nanodrop Data Raw'!$C:$L, 10, FALSE), VLOOKUP($C53, 'Nanodrop Data Raw'!$C:$L, 2, FALSE))","v":{"$error":"#N/A"}},{"$error":"#N/A"}]
[{"$f":"'Sample Information'!A54","v":53},{"$f":"'Sample Information'!B54","v":0},"0-DNA",{"$f":"IF(VLOOKUP($C54, 'Nanodrop Data Raw'!$C:$L, 10, FALSE)<>\"\", VLOOKUP($C54, 'Nanodrop Data Raw'!$C:$L, 10, FALSE), VLOOKUP($C54, 'Nanodrop Data Raw'!$C:$L, 2, FALSE))","v":{"$error":"#N/A"}},{"$error":"#N/A"}]
[{"$f":"'Sample Information'!A55","v":54},{"$f":"'Sample Information'!B55","v":0},"0-DNA",{"$f":"IF(VLOOKUP($C55, 'Nanodrop Data Raw'!$C:$L, 10, FALSE)<>\"\", VLOOKUP($C55, 'Nanodrop Data Raw'!$C:$L, 10, FALSE), VLOOKUP($C55, 'Nanodrop Data Raw'!$C:$L, 2, FALSE))","v":{"$error":"#N/A"}},{"$error":"#N/A"}]
[{"$f":"'Sample Information'!A56","v":55},{"$f":"'Sample Information'!B56","v":0},"0-DNA",{"$f":"IF(VLOOKUP($C56, 'Nanodrop Data Raw'!$C:$L, 10, FALSE)<>\"\", VLOOKUP($C56, 'Nanodrop Data Raw'!$C:$L, 10, FALSE), VLOOKUP($C56, 'Nanodrop Data Raw'!$C:$L, 2, FALSE))","v":{"$error":"#N/A"}},{"$error":"#N/A"}]
[{"$f":"'Sample Information'!A57","v":56},{"$f":"'Sample Information'!B57","v":0},"0-DNA",{"$f":"IF(VLOOKUP($C57, 'Nanodrop Data Raw'!$C:$L, 10, FALSE)<>\"\", VLOOKUP($C57, 'Nanodrop Data Raw'!$C:$L, 10, FALSE), VLOOKUP($C57, 'Nanodrop Data Raw'!$C:$L, 2, FALSE))","v":{"$error":"#N/A"}},{"$error":"#N/A"}]
[{"$f":"'Sample Information'!A58","v":57},{"$f":"'Sample Information'!B58","v":0},"0-DNA",{"$f":"IF(VLOOKUP($C58, 'Nanodrop Data Raw'!$C:$L, 10, FALSE)<>\"\", VLOOKUP($C58, 'Nanodrop Data Raw'!$C:$L, 10, FALSE), VLOOKUP($C58, 'Nanodrop Data Raw'!$C:$L, 2, FALSE))","v":{"$error":"#N/A"}},{"$error":"#N/A"}]
[{"$f":"'Sample Information'!A59","v":58},{"$f":"'Sample Information'!B59","v":0},"0-DNA",{"$f":"IF(VLOOKUP($C59, 'Nanodrop Data Raw'!$C:$L, 10, FALSE)<>\"\", VLOOKUP($C59, 'Nanodrop Data Raw'!$C:$L, 10, FALSE), VLOOKUP($C59, 'Nanodrop Data Raw'!$C:$L, 2, FALSE))","v":{"$error":"#N/A"}},{"$error":"#N/A"}]
[{"$f":"'Sample Information'!A60","v":59},{"$f":"'Sample Information'!B60","v":0},"0-DNA",{"$f":"IF(VLOOKUP($C60, 'Nanodrop Data Raw'!$C:$L, 10, FALSE)<>\"\", VLOOKUP($C60, 'Nanodrop Data Raw'!$C:$L, 10, FALSE), VLOOKUP($C60, 'Nanodrop Data Raw'!$C:$L, 2, FALSE))","v":{"$error":"#N/A"}},{"$error":"#N/A"}]
[{"$f":"'Sample Information'!A61","v":60},{"$f":"'Sample Information'!B61","v":0},"0-DNA",{"$f":"IF(VLOOKUP($C61, 'Nanodrop Data Raw'!$C:$L, 10, FALSE)<>\"\", VLOOKUP($C61, 'Nanodrop Data Raw'!$C:$L, 10, FALSE), VLOOKUP($C61, 'Nanodrop Data Raw'!$C:$L, 2, FALSE))","v":{"$error":"#N/A"}},{"$error":"#N/A"}]
[{"$f":"'Sample Information'!A62","v":61},{"$f":"'Sample Information'!B62","v":0},"0-DNA",{"$f":"IF(VLOOKUP($C62, 'Nanodrop Data Raw'!$C:$L, 10, FALSE)<>\"\", VLOOKUP($C62, 'Nanodrop Data Raw'!$C:$L, 10, FALSE), VLOOKUP($C62, 'Nanodrop Data Raw'!$C:$L, 2, FALSE))","v":{"$error":"#N/A"}},{"$error":"#N/A"}]
[{"$f":"'Sample Information'!A63","v":62},{"$f":"'Sample Information'!B63","v":0},"0-DNA",{"$f":"IF(VLOOKUP($C63, 'Nanodrop Data Raw'!$C:$L, 10, FALSE)<>\"\", VLOOKUP($C63, 'Nanodrop Data Raw'!$C:$L, 10, FALSE), VLOOKUP($C63, 'Nanodrop Data Raw'!$C:$L, 2, FALSE))","v":{"$error":"#N/A"}},{"$error":"#N/A"}]
[{"$f":"'Sample Information'!A64","v":63},{"$f":"'Sample Information'!B64","v":0},"0-DNA",{"$f":"IF(VLOOKUP($C64, 'Nanodrop Data Raw'!$C:$L, 10, FALSE)<>\"\", VLOOKUP($C64, 'Nanodrop Data Raw'!$C:$L, 10, FALSE), VLOOKUP($C64, 'Nanodrop Data Raw'!$C:$L, 2, FALSE))","v":{"$error":"#N/A"}},{"$error":"#N/A"}]
[{"$f":"'Sample Information'!A65","v":64},{"$f":"'Sample Information'!B65","v":0},"0-DNA",{"$f":"IF(VLOOKUP($C65, 'Nanodrop Data Raw'!$C:$L, 10, FALSE)<>\"\", VLOOKUP($C65, 'Nanodrop Data Raw'!$C:$L, 10, FALSE), VLOOKUP($C65, 'Nanodrop Data Raw'!$C:$L, 2, FALSE))","v":{"$error":"#N/A"}},{"$error":"#N/A"}]
[{"$f":"'Sample Information'!A66","v":65},{"$f":"'Sample Information'!B66","v":0},"0-DNA",{"$f":"IF(VLOOKUP($C66, 'Nanodrop Data Raw'!$C:$L, 10, FALSE)<>\"\", VLOOKUP($C66, 'Nanodrop Data Raw'!$C:$L, 10, FALSE), VLOOKUP($C66, 'Nanodrop Data Raw'!$C:$L, 2, FALSE))","v":{"$error":"#N/A"}},{"$error":"#N/A"}]
[{"$f":"'Sample Information'!A67","v":66},{"$f":"'Sample Information'!B67","v":0},{"$f":"CONCATENATE(B67,\"-DNA\")","v":"0-DNA"},{"$f":"IF(VLOOKUP($C67, 'Nanodrop Data Raw'!$C:$L, 10, FALSE)<>\"\", VLOOKUP($C67, 'Nanodrop Data Raw'!$C:$L, 10, FALSE), VLOOKUP($C67, 'Nanodrop Data Raw'!$C:$L, 2, FALSE))","v":{"$error":"#N/A"}},{"$f":"IF((5*D67-50)/10>0,(5*D67-50)/10,\"-\")","v":{"$error":"#N/A"}}]
[{"$f":"'Sample Information'!A68","v":67},{"$f":"'Sample Information'!B68","v":0},"0-DNA",{"$f":"IF(VLOOKUP($C68, 'Nanodrop Data Raw'!$C:$L, 10, FALSE)<>\"\", VLOOKUP($C68, 'Nanodrop Data Raw'!$C:$L, 10, FALSE), VLOOKUP($C68, 'Nanodrop Data Raw'!$C:$L, 2, FALSE))","v":{"$error":"#N/A"}},{"$error":"#N/A"}]
[{"$f":"'Sample Information'!A69","v":68},{"$f":"'Sample Information'!B69","v":0},"0-DNA",{"$f":"IF(VLOOKUP($C69, 'Nanodrop Data Raw'!$C:$L, 10, FALSE)<>\"\", VLOOKUP($C69, 'Nanodrop Data Raw'!$C:$L, 10, FALSE), VLOOKUP($C69, 'Nanodrop Data Raw'!$C:$L, 2, FALSE))","v":{"$error":"#N/A"}},{"$error":"#N/A"}]
[{"$f":"'Sample Information'!A70","v":69},{"$f":"'Sample Information'!B70","v":0},"0-DNA",{"$f":"IF(VLOOKUP($C70, 'Nanodrop Data Raw'!$C:$L, 10, FALSE)<>\"\", VLOOKUP($C70, 'Nanodrop Data Raw'!$C:$L, 10, FALSE), VLOOKUP($C70, 'Nanodrop Data Raw'!$C:$L, 2, FALSE))","v":{"$error":"#N/A"}},{"$error":"#N/A"}]
[{"$f":"'Sample Information'!A71","v":70},{"$f":"'Sample Information'!B71","v":0},"0-DNA",{"$f":"IF(VLOOKUP($C71, 'Nanodrop Data Raw'!$C:$L, 10, FALSE)<>\"\", VLOOKUP($C71, 'Nanodrop Data Raw'!$C:$L, 10, FALSE), VLOOKUP($C71, 'Nanodrop Data Raw'!$C:$L, 2, FALSE))","v":{"$error":"#N/A"}},{"$error":"#N/A"}]
[{"$f":"'Sample Information'!A72","v":71},{"$f":"'Sample Information'!B72","v":0},"0-DNA",{"$f":"IF(VLOOKUP($C72, 'Nanodrop Data Raw'!$C:$L, 10, FALSE)<>\"\", VLOOKUP($C72, 'Nanodrop Data Raw'!$C:$L, 10, FALSE), VLOOKUP($C72, 'Nanodrop Data Raw'!$C:$L, 2, FALSE))","v":{"$error":"#N/A"}},{"$error":"#N/A"}]
[{"$f":"'Sample Information'!A73","v":72},{"$f":"'Sample Information'!B73","v":0},"0-DNA",{"$f":"IF(VLOOKUP($C73, 'Nanodrop Data Raw'!$C:$L, 10, FALSE)<>\"\", VLOOKUP($C73, 'Nanodrop Data Raw'!$C:$L, 10, FALSE), VLOOKUP($C73, 'Nanodrop Data Raw'!$C:$L, 2, FALSE))","v":{"$error":"#N/A"}},{"$error":"#N/A"}]
[{"$f":"'Sample Information'!A74","v":73},{"$f":"'Sample Information'!B74","v":0},"0-DNA",{"$f":"IF(VLOOKUP($C74, 'Nanodrop Data Raw'!$C:$L, 10, FALSE)<>\"\", VLOOKUP($C74, 'Nanodrop Data Raw'!$C:$L, 10, FALSE), VLOOKUP($C74, 'Nanodrop Data Raw'!$C:$L, 2, FALSE))","v":{"$error":"#N/A"}},{"$error":"#N/A"}]
[{"$f":"'Sample Information'!A75","v":74},{"$f":"'Sample Information'!B75","v":0},"0-DNA",{"$f":"IF(VLOOKUP($C75, 'Nanodrop Data Raw'!$C:$L, 10, FALSE)<>\"\", VLOOKUP($C75, 'Nanodrop Data Raw'!$C:$L, 10, FALSE), VLOOKUP($C75, 'Nanodrop Data Raw'!$C:$L, 2, FALSE))","v":{"$error":"#N/A"}},{"$error":"#N/A"}]
[{"$f":"'Sample Information'!A76","v":75},{"$f":"'Sample Information'!B76","v":0},"0-DNA",{"$f":"IF(VLOOKUP($C76, 'Nanodrop Data Raw'!$C:$L, 10, FALSE)<>\"\", VLOOKUP($C76, 'Nanodrop Data Raw'!$C:$L, 10, FALSE), VLOOKUP($C76, 'Nanodrop Data Raw'!$C:$L, 2, FALSE))","v":{"$error":"#N/A"}},{"$error":"#N/A"}]
[{"$f":"'Sample Information'!A77","v":76},{"$f":"'Sample Information'!B77","v":0},"0-DNA",{"$f":"IF(VLOOKUP($C77, 'Nanodrop Data Raw'!$C:$L, 10, FALSE)<>\"\", VLOOKUP($C77, 'Nanodrop Data Raw'!$C:$L, 10, FALSE), VLOOKUP($C77, 'Nanodrop Data Raw'!$C:$L, 2, FALSE))","v":{"$error":"#N/A"}},{"$error":"#N/A"}]
[{"$f":"'Sample Information'!A78","v":77},{"$f":"'Sample Information'!B78","v":0},"0-DNA",{"$f":"IF(VLOOKUP($C78, 'Nanodrop Data Raw'!$C:$L, 10, FALSE)<>\"\", VLOOKUP($C78, 'Nanodrop Data Raw'!$C:$L, 10, FALSE), VLOOKUP($C78, 'Nanodrop Data Raw'!$C:$L, 2, FALSE))","v":{"$error":"#N/A"}},{"$error":"#N/A"}]
[{"$f":"'Sample Information'!A79","v":78},{"$f":"'Sample Information'!B79","v":0},"0-DNA",{"$f":"IF(VLOOKUP($C79, 'Nanodrop Data Raw'!$C:$L, 10, FALSE)<>\"\", VLOOKUP($C79, 'Nanodrop Data Raw'!$C:$L, 10, FALSE), VLOOKUP($C79, 'Nanodrop Data Raw'!$C:$L, 2, FALSE))","v":{"$error":"#N/A"}},{"$error":"#N/A"}]
[{"$f":"'Sample Information'!A80","v":79},{"$f":"'Sample Information'!B80","v":0},"0-DNA",{"$f":"IF(VLOOKUP($C80, 'Nanodrop Data Raw'!$C:$L, 10, FALSE)<>\"\", VLOOKUP($C80, 'Nanodrop Data Raw'!$C:$L, 10, FALSE), VLOOKUP($C80, 'Nanodrop Data Raw'!$C:$L, 2, FALSE))","v":{"$error":"#N/A"}},{"$error":"#N/A"}]
[{"$f":"'Sample Information'!A81","v":80},{"$f":"'Sample Information'!B81","v":0},"0-DNA",{"$f":"IF(VLOOKUP($C81, 'Nanodrop Data Raw'!$C:$L, 10, FALSE)<>\"\", VLOOKUP($C81, 'Nanodrop Data Raw'!$C:$L, 10, FALSE), VLOOKUP($C81, 'Nanodrop Data Raw'!$C:$L, 2, FALSE))","v":{"$error":"#N/A"}},{"$error":"#N/A"}]
[{"$f":"'Sample Information'!A82","v":81},{"$f":"'Sample Information'!B82","v":0},"0-DNA",{"$f":"IF(VLOOKUP($C82, 'Nanodrop Data Raw'!$C:$L, 10, FALSE)<>\"\", VLOOKUP($C82, 'Nanodrop Data Raw'!$C:$L, 10, FALSE), VLOOKUP($C82, 'Nanodrop Data Raw'!$C:$L, 2, FALSE))","v":{"$error":"#N/A"}},{"$error":"#N/A"}]
[{"$f":"'Sample Information'!A83","v":82},{"$f":"'Sample Information'!B83","v":0},"0-DNA",{"$f":"IF(VLOOKUP($C83, 'Nanodrop Data Raw'!$C:$L, 10, FALSE)<>\"\", VLOOKUP($C83, 'Nanodrop Data Raw'!$C:$L, 10, FALSE), VLOOKUP($C83, 'Nanodrop Data Raw'!$C:$L, 2, FALSE))","v":{"$error":"#N/A"}},{"$error":"#N/A"}]
[{"$f":"'Sample Information'!A84","v":83},{"$f":"'Sample Information'!B84","v":0},"0-DNA",{"$f":"IF(VLOOKUP($C84, 'Nanodrop Data Raw'!$C:$L, 10, FALSE)<>\"\", VLOOKUP($C84, 'Nanodrop Data Raw'!$C:$L, 10, FALSE), VLOOKUP($C84, 'Nanodrop Data Raw'!$C:$L, 2, FALSE))","v":{"$error":"#N/A"}},{"$error":"#N/A"}]
[{"$f":"'Sample Information'!A85","v":84},{"$f":"'Sample Information'!B85","v":0},"0-DNA",{"$f":"IF(VLOOKUP($C85, 'Nanodrop Data Raw'!$C:$L, 10, FALSE)<>\"\", VLOOKUP($C85, 'Nanodrop Data Raw'!$C:$L, 10, FALSE), VLOOKUP($C85, 'Nanodrop Data Raw'!$C:$L, 2, FALSE))","v":{"$error":"#N/A"}},{"$error":"#N/A"}]
[{"$f":"'Sample Information'!A86","v":85},{"$f":"'Sample Information'!B86","v":0},"0-DNA",{"$f":"IF(VLOOKUP($C86, 'Nanodrop Data Raw'!$C:$L, 10, FALSE)<>\"\", VLOOKUP($C86, 'Nanodrop Data Raw'!$C:$L, 10, FALSE), VLOOKUP($C86, 'Nanodrop Data Raw'!$C:$L, 2, FALSE))","v":{"$error":"#N/A"}},{"$error":"#N/A"}]
[{"$f":"'Sample Information'!A87","v":86},{"$f":"'Sample Information'!B87","v":0},"0-DNA",{"$f":"IF(VLOOKUP($C87, 'Nanodrop Data Raw'!$C:$L, 10, FALSE)<>\"\", VLOOKUP($C87, 'Nanodrop Data Raw'!$C:$L, 10, FALSE), VLOOKUP($C87, 'Nanodrop Data Raw'!$C:$L, 2, FALSE))","v":{"$error":"#N/A"}},{"$error":"#N/A"}]
[{"$f":"'Sample Information'!A88","v":87},{"$f":"'Sample Information'!B88","v":0},"0-DNA",{"$f":"IF(VLOOKUP($C88, 'Nanodrop Data Raw'!$C:$L, 10, FALSE)<>\"\", VLOOKUP($C88, 'Nanodrop Data Raw'!$C:$L, 10, FALSE), VLOOKUP($C88, 'Nanodrop Data Raw'!$C:$L, 2, FALSE))","v":{"$error":"#N/A"}},{"$error":"#N/A"}]
[{"$f":"'Sample Information'!A89","v":88},{"$f":"'Sample Information'!B89","v":0},"0-DNA",{"$f":"IF(VLOOKUP($C89, 'Nanodrop Data Raw'!$C:$L, 10, FALSE)<>\"\", VLOOKUP($C89, 'Nanodrop Data Raw'!$C:$L, 10, FALSE), VLOOKUP($C89, 'Nanodrop Data Raw'!$C:$L, 2, FALSE))","v":{"$error":"#N/A"}},{"$error":"#N/A"}]
[{"$f":"'Sample Information'!A90","v":89},{"$f":"'Sample Information'!B90","v":0},"0-DNA",{"$f":"IF(VLOOKUP($C90, 'Nanodrop Data Raw'!$C:$L, 10, FALSE)<>\"\", VLOOKUP($C90, 'Nanodrop Data Raw'!$C:$L, 10, FALSE), VLOOKUP($C90, 'Nanodrop Data Raw'!$C:$L, 2, FALSE))","v":{"$error":"#N/A"}},{"$error":"#N/A"}]
[{"$f":"'Sample Information'!A91","v":90},{"$f":"'Sample Information'!B91","v":0},"0-DNA",{"$f":"IF(VLOOKUP($C91, 'Nanodrop Data Raw'!$C:$L, 10, FALSE)<>\"\", VLOOKUP($C91, 'Nanodrop Data Raw'!$C:$L, 10, FALSE), VLOOKUP($C91, 'Nanodrop Data Raw'!$C:$L, 2, FALSE))","v":{"$error":"#N/A"}},{"$error":"#N/A"}]
[{"$f":"'Sample Information'!A92","v":91},{"$f":"'Sample Information'!B92","v":0},"0-DNA",{"$f":"IF(VLOOKUP($C92, 'Nanodrop Data Raw'!$C:$L, 10, FALSE)<>\"\", VLOOKUP($C92, 'Nanodrop Data Raw'!$C:$L, 10, FALSE), VLOOKUP($C92, 'Nanodrop Data Raw'!$C:$L, 2, FALSE))","v":{"$error":"#N/A"}},{"$error":"#N/A"}]
[{"$f":"'Sample Information'!A93","v":92},{"$f":"'Sample Information'!B93","v":0},"0-DNA",{"$f":"IF(VLOOKUP($C93, 'Nanodrop Data Raw'!$C:$L, 10, FALSE)<>\"\", VLOOKUP($C93, 'Nanodrop Data Raw'!$C:$L, 10, FALSE), VLOOKUP($C93, 'Nanodrop Data Raw'!$C:$L, 2, FALSE))","v":{"$error":"#N/A"}},{"$error":"#N/A"}]
[{"$f":"'Sample Information'!A94","v":93},{"$f":"'Sample Information'!B94","v":0},"0-DNA",{"$f":"IF(VLOOKUP($C94, 'Nanodrop Data Raw'!$C:$L, 10, FALSE)<>\"\", VLOOKUP($C94, 'Nanodrop Data Raw'!$C:$L, 10, FALSE), VLOOKUP($C94, 'Nanodrop Data Raw'!$C:$L, 2, FALSE))","v":{"$error":"#N/A"}},{"$error":"#N/A"}]
[{"$f":"'Sample Information'!A95","v":94},{"$f":"'Sample Information'!B95","v":0},"0-DNA",{"$f":"IF(VLOOKUP($C95, 'Nanodrop Data Raw'!$C:$L, 10, FALSE)<>\"\", VLOOKUP($C95, 'Nanodrop Data Raw'!$C:$L, 10, FALSE), VLOOKUP($C95, 'Nanodrop Data Raw'!$C:$L, 2, FALSE))","v":{"$error":"#N/A"}},{"$error":"#N/A"}]
[{"$f":"'Sample Information'!A96","v":95},{"$f":"'Sample Information'!B96","v":0},"0-DNA",{"$f":"IF(VLOOKUP($C96, 'Nanodrop Data Raw'!$C:$L, 10, FALSE)<>\"\", VLOOKUP($C96, 'Nanodrop Data Raw'!$C:$L, 10, FALSE), VLOOKUP($C96, 'Nanodrop Data Raw'!$C:$L, 2, FALSE))","v":{"$error":"#N/A"}},{"$error":"#N/A"}]
[{"$f":"'Sample Information'!A97","v":96},{"$f":"'Sample Information'!B97","v":0},"0-DNA",{"$f":"IF(VLOOKUP($C97, 'Nanodrop Data Raw'!$C:$L, 10, FALSE)<>\"\", VLOOKUP($C97, 'Nanodrop Data Raw'!$C:$L, 10, FALSE), VLOOKUP($C97, 'Nanodrop Data Raw'!$C:$L, 2, FALSE))","v":{"$error":"#N/A"}},{"$error":"#N/A"}]
[{"$f":"'Sample Information'!A98","v":97},{"$f":"'Sample Information'!B98","v":0},"0-DNA",{"$f":"IF(VLOOKUP($C98, 'Nanodrop Data Raw'!$C:$L, 10, FALSE)<>\"\", VLOOKUP($C98, 'Nanodrop Data Raw'!$C:$L, 10, FALSE), VLOOKUP($C98, 'Nanodrop Data Raw'!$C:$L, 2, FALSE))","v":{"$error":"#N/A"}},{"$error":"#N/A"}]
[{"$f":"'Sample Information'!A99","v":98},{"$f":"'Sample Information'!B99","v":0},"0-DNA",{"$f":"IF(VLOOKUP($C99, 'Nanodrop Data Raw'!$C:$L, 10, FALSE)<>\"\", VLOOKUP($C99, 'Nanodrop Data Raw'!$C:$L, 10, FALSE), VLOOKUP($C99, 'Nanodrop Data Raw'!$C:$L, 2, FALSE))","v":{"$error":"#N/A"}},{"$error":"#N/A"}]
[{"$f":"'Sample Information'!A100","v":99},{"$f":"'Sample Information'!B100","v":0},"0-DNA",{"$f":"IF(VLOOKUP($C100, 'Nanodrop Data Raw'!$C:$L, 10, FALSE)<>\"\", VLOOKUP($C100, 'Nanodrop Data Raw'!$C:$L, 10, FALSE), VLOOKUP($C100, 'Nanodrop Data Raw'!$C:$L, 2, FALSE))","v":{"$error":"#N/A"}},{"$error":"#N/A"}]
[{"$f":"'Sample Information'!A101","v":100},{"$f":"'Sample Information'!B101","v":0},"0-DNA",{"$f":"IF(VLOOKUP($C101, 'Nanodrop Data Raw'!$C:$L, 10, FALSE)<>\"\", VLOOKUP($C101, 'Nanodrop Data Raw'!$C:$L, 10, FALSE), VLOOKUP($C101, 'Nanodrop Data Raw'!$C:$L, 2, FALSE))","v":{"$error":"#N/A"}},{"$error":"#N/A"}]
[{"$f":"'Sample Information'!A102","v":101},{"$f":"'Sample Information'!B102","v":0},"0-DNA",{"$f":"IF(VLOOKUP($C102, 'Nanodrop Data Raw'!$C:$L, 10, FALSE)<>\"\", VLOOKUP($C102, 'Nanodrop Data Raw'!$C:$L, 10, FALSE), VLOOKUP($C102, 'Nanodrop Data Raw'!$C:$L, 2, FALSE))","v":{"$error":"#N/A"}},{"$error":"#N/A"}]
[{"$f":"'Sample Information'!A103","v":102},{"$f":"'Sample Information'!B103","v":0},"0-DNA",{"$f":"IF(VLOOKUP($C103, 'Nanodrop Data Raw'!$C:$L, 10, FALSE)<>\"\", VLOOKUP($C103, 'Nanodrop Data Raw'!$C:$L, 10, FALSE), VLOOKUP($C103, 'Nanodrop Data Raw'!$C:$L, 2, FALSE))","v":{"$error":"#N/A"}},{"$error":"#N/A"}]
[{"$f":"'Sample Information'!A104","v":103},{"$f":"'Sample Information'!B104","v":0},"0-DNA",{"$f":"IF(VLOOKUP($C104, 'Nanodrop Data Raw'!$C:$L, 10, FALSE)<>\"\", VLOOKUP($C104, 'Nanodrop Data Raw'!$C:$L, 10, FALSE), VLOOKUP($C104, 'Nanodrop Data Raw'!$C:$L, 2, FALSE))","v":{"$error":"#N/A"}},{"$error":"#N/A"}]
[{"$f":"'Sample Information'!A105","v":104},{"$f":"'Sample Information'!B105","v":0},"0-DNA",{"$f":"IF(VLOOKUP($C105, 'Nanodrop Data Raw'!$C:$L, 10, FALSE)<>\"\", VLOOKUP($C105, 'Nanodrop Data Raw'!$C:$L, 10, FALSE), VLOOKUP($C105, 'Nanodrop Data Raw'!$C:$L, 2, FALSE))","v":{"$error":"#N/A"}},{"$error":"#N/A"}]
[{"$f":"'Sample Information'!A106","v":105},{"$f":"'Sample Information'!B106","v":0},"0-DNA",{"$f":"IF(VLOOKUP($C106, 'Nanodrop Data Raw'!$C:$L, 10, FALSE)<>\"\", VLOOKUP($C106, 'Nanodrop Data Raw'!$C:$L, 10, FALSE), VLOOKUP($C106, 'Nanodrop Data Raw'!$C:$L, 2, FALSE))","v":{"$error":"#N/A"}},{"$error":"#N/A"}]
[{"$f":"'Sample Information'!A107","v":106},{"$f":"'Sample Information'!B107","v":0},"0-DNA",{"$f":"IF(VLOOKUP($C107, 'Nanodrop Data Raw'!$C:$L, 10, FALSE)<>\"\", VLOOKUP($C107, 'Nanodrop Data Raw'!$C:$L, 10, FALSE), VLOOKUP($C107, 'Nanodrop Data Raw'!$C:$L, 2, FALSE))","v":{"$error":"#N/A"}},{"$error":"#N/A"}]
[{"$f":"'Sample Information'!A108","v":107},{"$f":"'Sample Information'!B108","v":0},"0-DNA",{"$f":"IF(VLOOKUP($C108, 'Nanodrop Data Raw'!$C:$L, 10, FALSE)<>\"\", VLOOKUP($C108, 'Nanodrop Data Raw'!$C:$L, 10, FALSE), VLOOKUP($C108, 'Nanodrop Data Raw'!$C:$L, 2, FALSE))","v":{"$error":"#N/A"}},{"$error":"#N/A"}]
[{"$f":"'Sample Information'!A109","v":108},{"$f":"'Sample Information'!B109","v":0},"0-DNA",{"$f":"IF(VLOOKUP($C109, 'Nanodrop Data Raw'!$C:$L, 10, FALSE)<>\"\", VLOOKUP($C109, 'Nanodrop Data Raw'!$C:$L, 10, FALSE), VLOOKUP($C109, 'Nanodrop Data Raw'!$C:$L, 2, FALSE))","v":{"$error":"#N/A"}},{"$error":"#N/A"}]
[{"$f":"'Sample Information'!A110","v":109},{"$f":"'Sample Information'!B110","v":0},"0-DNA",{"$f":"IF(VLOOKUP($C110, 'Nanodrop Data Raw'!$C:$L, 10, FALSE)<>\"\", VLOOKUP($C110, 'Nanodrop Data Raw'!$C:$L, 10, FALSE), VLOOKUP($C110, 'Nanodrop Data Raw'!$C:$L, 2, FALSE))","v":{"$error":"#N/A"}},{"$error":"#N/A"}]
[{"$f":"'Sample Information'!A111","v":110},{"$f":"'Sample Information'!B111","v":0},"0-DNA",{"$f":"IF(VLOOKUP($C111, 'Nanodrop Data Raw'!$C:$L, 10, FALSE)<>\"\", VLOOKUP($C111, 'Nanodrop Data Raw'!$C:$L, 10, FALSE), VLOOKUP($C111, 'Nanodrop Data Raw'!$C:$L, 2, FALSE))","v":{"$error":"#N/A"}},{"$error":"#N/A"}]
[{"$f":"'Sample Information'!A112","v":111},{"$f":"'Sample Information'!B112","v":0},"0-DNA",{"$f":"IF(VLOOKUP($C112, 'Nanodrop Data Raw'!$C:$L, 10, FALSE)<>\"\", VLOOKUP($C112, 'Nanodrop Data Raw'!$C:$L, 10, FALSE), VLOOKUP($C112, 'Nanodrop Data Raw'!$C:$L, 2, FALSE))","v":{"$error":"#N/A"}},{"$error":"#N/A"}]
[{"$f":"'Sample Information'!A113","v":112},{"$f":"'Sample Information'!B113","v":0},"0-DNA",{"$f":"IF(VLOOKUP($C113, 'Nanodrop Data Raw'!$C:$L, 10, FALSE)<>\"\", VLOOKUP($C113, 'Nanodrop Data Raw'!$C:$L, 10, FALSE), VLOOKUP($C113, 'Nanodrop Data Raw'!$C:$L, 2, FALSE))","v":{"$error":"#N/A"}},{"$error":"#N/A"}]
[{"$f":"'Sample Information'!A114","v":113},{"$f":"'Sample Information'!B114","v":0},"0-DNA",{"$f":"IF(VLOOKUP($C114, 'Nanodrop Data Raw'!$C:$L, 10, FALSE)<>\"\", VLOOKUP($C114, 'Nanodrop Data Raw'!$C:$L, 10, FALSE), VLOOKUP($C114, 'Nanodrop Data Raw'!$C:$L, 2, FALSE))","v":{"$error":"#N/A"}},{"$error":"#N/A"}]
[{"$f":"'Sample Information'!A115","v":114},{"$f":"'Sample Information'!B115","v":0},"0-DNA",{"$f":"IF(VLOOKUP($C115, 'Nanodrop Data Raw'!$C:$L, 10, FALSE)<>\"\", VLOOKUP($C115, 'Nanodrop Data Raw'!$C:$L, 10, FALSE), VLOOKUP($C115, 'Nanodrop Data Raw'!$C:$L, 2, FALSE))","v":{"$error":"#N/A"}},{"$error":"#N/A"}]
[{"$f":"'Sample Information'!A116","v":115},{"$f":"'Sample Information'!B116","v":0},"0-DNA",{"$f":"IF(VLOOKUP($C116, 'Nanodrop Data Raw'!$C:$L, 10, FALSE)<>\"\", VLOOKUP($C116, 'Nanodrop Data Raw'!$C:$L, 10, FALSE), VLOOKUP($C116, 'Nanodrop Data Raw'!$C:$L, 2, FALSE))","v":{"$error":"#N/A"}},{"$error":"#N/A"}]
[{"$f":"'Sample Information'!A117","v":116},{"$f":"'Sample Information'!B117","v":0},"0-DNA",{"$f":"IF(VLOOKUP($C117, 'Nanodrop Data Raw'!$C:$L, 10, FALSE)<>\"\", VLOOKUP($C117, 'Nanodrop Data Raw'!$C:$L, 10, FALSE), VLOOKUP($C117, 'Nanodrop Data Raw'!$C:$L, 2, FALSE))","v":{"$error":"#N/A"}},{"$error":"#N/A"}]
[{"$f":"'Sample Information'!A118","v":117},{"$f":"'Sample Information'!B118","v":0},"0-DNA",{"$f":"IF(VLOOKUP($C118, 'Nanodrop Data Raw'!$C:$L, 10, FALSE)<>\"\", VLOOKUP($C118, 'Nanodrop Data Raw'!$C:$L, 10, FALSE), VLOOKUP($C118, 'Nanodrop Data Raw'!$C:$L, 2, FALSE))","v":{"$error":"#N/A"}},{"$error":"#N/A"}]
[{"$f":"'Sample Information'!A119","v":118},{"$f":"'Sample Information'!B119","v":0},"0-DNA",{"$f":"IF(VLOOKUP($C119, 'Nanodrop Data Raw'!$C:$L, 10, FALSE)<>\"\", VLOOKUP($C119, 'Nanodrop Data Raw'!$C:$L, 10, FALSE), VLOOKUP($C119, 'Nanodrop Data Raw'!$C:$L, 2, FALSE))","v":{"$error":"#N/A"}},{"$error":"#N/A"}]
[{"$f":"'Sample Information'!A120","v":119},{"$f":"'Sample Information'!B120","v":0},"0-DNA",{"$f":"IF(VLOOKUP($C120, 'Nanodrop Data Raw'!$C:$L, 10, FALSE)<>\"\", VLOOKUP($C120, 'Nanodrop Data Raw'!$C:$L, 10, FALSE), VLOOKUP($C120, 'Nanodrop Data Raw'!$C:$L, 2, FALSE))","v":{"$error":"#N/A"}},{"$error":"#N/A"}]
[{"$f":"'Sample Information'!A121","v":120},{"$f":"'Sample Information'!B121","v":0},"0-DNA",{"$f":"IF(VLOOKUP($C121, 'Nanodrop Data Raw'!$C:$L, 10, FALSE)<>\"\", VLOOKUP($C121, 'Nanodrop Data Raw'!$C:$L, 10, FALSE), VLOOKUP($C121, 'Nanodrop Data Raw'!$C:$L, 2, FALSE))","v":{"$error":"#N/A"}},{"$error":"#N/A"}]
[{"$f":"'Sample Information'!A122","v":121},{"$f":"'Sample Information'!B122","v":0},"0-DNA",{"$f":"IF(VLOOKUP($C122, 'Nanodrop Data Raw'!$C:$L, 10, FALSE)<>\"\", VLOOKUP($C122, 'Nanodrop Data Raw'!$C:$L, 10, FALSE), VLOOKUP($C122, 'Nanodrop Data Raw'!$C:$L, 2, FALSE))","v":{"$error":"#N/A"}},{"$error":"#N/A"}]
[{"$f":"'Sample Information'!A123","v":122},{"$f":"'Sample Information'!B123","v":0},"0-DNA",{"$f":"IF(VLOOKUP($C123, 'Nanodrop Data Raw'!$C:$L, 10, FALSE)<>\"\", VLOOKUP($C123, 'Nanodrop Data Raw'!$C:$L, 10, FALSE), VLOOKUP($C123, 'Nanodrop Data Raw'!$C:$L, 2, FALSE))","v":{"$error":"#N/A"}},{"$error":"#N/A"}]
[{"$f":"'Sample Information'!A124","v":123},{"$f":"'Sample Information'!B124","v":0},"0-DNA",{"$f":"IF(VLOOKUP($C124, 'Nanodrop Data Raw'!$C:$L, 10, FALSE)<>\"\", VLOOKUP($C124, 'Nanodrop Data Raw'!$C:$L, 10, FALSE), VLOOKUP($C124, 'Nanodrop Data Raw'!$C:$L, 2, FALSE))","v":{"$error":"#N/A"}},{"$error":"#N/A"}]
[{"$f":"'Sample Information'!A125","v":124},{"$f":"'Sample Information'!B125","v":0},"0-DNA",{"$f":"IF(VLOOKUP($C125, 'Nanodrop Data Raw'!$C:$L, 10, FALSE)<>\"\", VLOOKUP($C125, 'Nanodrop Data Raw'!$C:$L, 10, FALSE), VLOOKUP($C125, 'Nanodrop Data Raw'!$C:$L, 2, FALSE))","v":{"$error":"#N/A"}},{"$error":"#N/A"}]
[{"$f":"'Sample Information'!A126","v":125},{"$f":"'Sample Information'!B126","v":0},"0-DNA",{"$f":"IF(VLOOKUP($C126, 'Nanodrop Data Raw'!$C:$L, 10, FALSE)<>\"\", VLOOKUP($C126, 'Nanodrop Data Raw'!$C:$L, 10, FALSE), VLOOKUP($C126, 'Nanodrop Data Raw'!$C:$L, 2, FALSE))","v":{"$error":"#N/A"}},{"$error":"#N/A"}]
[{"$f":"'Sample Information'!A127","v":126},{"$f":"'Sample Information'!B127","v":0},"0-DNA",{"$f":"IF(VLOOKUP($C127, 'Nanodrop Data Raw'!$C:$L, 10, FALSE)<>\"\", VLOOKUP($C127, 'Nanodrop Data Raw'!$C:$L, 10, FALSE), VLOOKUP($C127, 'Nanodrop Data Raw'!$C:$L, 2, FALSE))","v":{"$error":"#N/A"}},{"$error":"#N/A"}]
[{"$f":"'Sample Information'!A128","v":127},{"$f":"'Sample Information'!B128","v":0},"0-DNA",{"$f":"IF(VLOOKUP($C128, 'Nanodrop Data Raw'!$C:$L, 10, FALSE)<>\"\", VLOOKUP($C128, 'Nanodrop Data Raw'!$C:$L, 10, FALSE), VLOOKUP($C128, 'Nanodrop Data Raw'!$C:$L, 2, FALSE))","v":{"$error":"#N/A"}},{"$error":"#N/A"}]
[{"$f":"'Sample Information'!A129","v":128},{"$f":"'Sample Information'!B129","v":0},"0-DNA",{"$f":"IF(VLOOKUP($C129, 'Nanodrop Data Raw'!$C:$L, 10, FALSE)<>\"\", VLOOKUP($C129, 'Nanodrop Data Raw'!$C:$L, 10, FALSE), VLOOKUP($C129, 'Nanodrop Data Raw'!$C:$L, 2, FALSE))","v":{"$error":"#N/A"}},{"$error":"#N/A"}]
[{"$f":"'Sample Information'!A130","v":129},{"$f":"'Sample Information'!B130","v":0},"0-DNA",{"$f":"IF(VLOOKUP($C130, 'Nanodrop Data Raw'!$C:$L, 10, FALSE)<>\"\", VLOOKUP($C130, 'Nanodrop Data Raw'!$C:$L, 10, FALSE), VLOOKUP($C130, 'Nanodrop Data Raw'!$C:$L, 2, FALSE))","v":{"$error":"#N/A"}},{"$error":"#N/A"}]
[{"$f":"'Sample Information'!A131","v":130},{"$f":"'Sample Information'!B131","v":0},{"$f":"CONCATENATE(B131,\"-DNA\")","v":"0-DNA"},{"$f":"IF(VLOOKUP($C131, 'Nanodrop Data Raw'!$C:$L, 10, FALSE)<>\"\", VLOOKUP($C131, 'Nanodrop Data Raw'!$C:$L, 10, FALSE), VLOOKUP($C131, 'Nanodrop Data Raw'!$C:$L, 2, FALSE))","v":{"$error":"#N/A"}},{"$f":"IF((5*D131-50)/10>0,(5*D131-50)/10,\"-\")","v":{"$error":"#N/A"}}]
[{"$f":"'Sample Information'!A132","v":131},{"$f":"'Sample Information'!B132","v":0},"0-DNA",{"$f":"IF(VLOOKUP($C132, 'Nanodrop Data Raw'!$C:$L, 10, FALSE)<>\"\", VLOOKUP($C132, 'Nanodrop Data Raw'!$C:$L, 10, FALSE), VLOOKUP($C132, 'Nanodrop Data Raw'!$C:$L, 2, FALSE))","v":{"$error":"#N/A"}},{"$error":"#N/A"}]
[{"$f":"'Sample Information'!A133","v":132},{"$f":"'Sample Information'!B133","v":0},"0-DNA",{"$f":"IF(VLOOKUP($C133, 'Nanodrop Data Raw'!$C:$L, 10, FALSE)<>\"\", VLOOKUP($C133, 'Nanodrop Data Raw'!$C:$L, 10, FALSE), VLOOKUP($C133, 'Nanodrop Data Raw'!$C:$L, 2, FALSE))","v":{"$error":"#N/A"}},{"$error":"#N/A"}]
[{"$f":"'Sample Information'!A134","v":133},{"$f":"'Sample Information'!B134","v":0},"0-DNA",{"$f":"IF(VLOOKUP($C134, 'Nanodrop Data Raw'!$C:$L, 10, FALSE)<>\"\", VLOOKUP($C134, 'Nanodrop Data Raw'!$C:$L, 10, FALSE), VLOOKUP($C134, 'Nanodrop Data Raw'!$C:$L, 2, FALSE))","v":{"$error":"#N/A"}},{"$error":"#N/A"}]
[{"$f":"'Sample Information'!A135","v":134},{"$f":"'Sample Information'!B135","v":0},"0-DNA",{"$f":"IF(VLOOKUP($C135, 'Nanodrop Data Raw'!$C:$L, 10, FALSE)<>\"\", VLOOKUP($C135, 'Nanodrop Data Raw'!$C:$L, 10, FALSE), VLOOKUP($C135, 'Nanodrop Data Raw'!$C:$L, 2, FALSE))","v":{"$error":"#N/A"}},{"$error":"#N/A"}]
[{"$f":"'Sample Information'!A136","v":135},{"$f":"'Sample Information'!B136","v":0},"0-DNA",{"$f":"IF(VLOOKUP($C136, 'Nanodrop Data Raw'!$C:$L, 10, FALSE)<>\"\", VLOOKUP($C136, 'Nanodrop Data Raw'!$C:$L, 10, FALSE), VLOOKUP($C136, 'Nanodrop Data Raw'!$C:$L, 2, FALSE))","v":{"$error":"#N/A"}},{"$error":"#N/A"}]
[{"$f":"'Sample Information'!A137","v":136},{"$f":"'Sample Information'!B137","v":0},"0-DNA",{"$f":"IF(VLOOKUP($C137, 'Nanodrop Data Raw'!$C:$L, 10, FALSE)<>\"\", VLOOKUP($C137, 'Nanodrop Data Raw'!$C:$L, 10, FALSE), VLOOKUP($C137, 'Nanodrop Data Raw'!$C:$L, 2, FALSE))","v":{"$error":"#N/A"}},{"$error":"#N/A"}]
[{"$f":"'Sample Information'!A138","v":137},{"$f":"'Sample Information'!B138","v":0},"0-DNA",{"$f":"IF(VLOOKUP($C138, 'Nanodrop Data Raw'!$C:$L, 10, FALSE)<>\"\", VLOOKUP($C138, 'Nanodrop Data Raw'!$C:$L, 10, FALSE), VLOOKUP($C138, 'Nanodrop Data Raw'!$C:$L, 2, FALSE))","v":{"$error":"#N/A"}},{"$error":"#N/A"}]
[{"$f":"'Sample Information'!A139","v":138},{"$f":"'Sample Information'!B139","v":0},"0-DNA",{"$f":"IF(VLOOKUP($C139, 'Nanodrop Data Raw'!$C:$L, 10, FALSE)<>\"\", VLOOKUP($C139, 'Nanodrop Data Raw'!$C:$L, 10, FALSE), VLOOKUP($C139, 'Nanodrop Data Raw'!$C:$L, 2, FALSE))","v":{"$error":"#N/A"}},{"$error":"#N/A"}]
[{"$f":"'Sample Information'!A140","v":139},{"$f":"'Sample Information'!B140","v":0},"0-DNA",{"$f":"IF(VLOOKUP($C140, 'Nanodrop Data Raw'!$C:$L, 10, FALSE)<>\"\", VLOOKUP($C140, 'Nanodrop Data Raw'!$C:$L, 10, FALSE), VLOOKUP($C140, 'Nanodrop Data Raw'!$C:$L, 2, FALSE))","v":{"$error":"#N/A"}},{"$error":"#N/A"}]
[{"$f":"'Sample Information'!A141","v":140},{"$f":"'Sample Information'!B141","v":0},"0-DNA",{"$f":"IF(VLOOKUP($C141, 'Nanodrop Data Raw'!$C:$L, 10, FALSE)<>\"\", VLOOKUP($C141, 'Nanodrop Data Raw'!$C:$L, 10, FALSE), VLOOKUP($C141, 'Nanodrop Data Raw'!$C:$L, 2, FALSE))","v":{"$error":"#N/A"}},{"$error":"#N/A"}]
[{"$f":"'Sample Information'!A142","v":141},{"$f":"'Sample Information'!B142","v":0},"0-DNA",{"$f":"IF(VLOOKUP($C142, 'Nanodrop Data Raw'!$C:$L, 10, FALSE)<>\"\", VLOOKUP($C142, 'Nanodrop Data Raw'!$C:$L, 10, FALSE), VLOOKUP($C142, 'Nanodrop Data Raw'!$C:$L, 2, FALSE))","v":{"$error":"#N/A"}},{"$error":"#N/A"}]
[{"$f":"'Sample Information'!A143","v":142},{"$f":"'Sample Information'!B143","v":0},"0-DNA",{"$f":"IF(VLOOKUP($C143, 'Nanodrop Data Raw'!$C:$L, 10, FALSE)<>\"\", VLOOKUP($C143, 'Nanodrop Data Raw'!$C:$L, 10, FALSE), VLOOKUP($C143, 'Nanodrop Data Raw'!$C:$L, 2, FALSE))","v":{"$error":"#N/A"}},{"$error":"#N/A"}]
[{"$f":"'Sample Information'!A144","v":143},{"$f":"'Sample Information'!B144","v":0},"0-DNA",{"$f":"IF(VLOOKUP($C144, 'Nanodrop Data Raw'!$C:$L, 10, FALSE)<>\"\", VLOOKUP($C144, 'Nanodrop Data Raw'!$C:$L, 10, FALSE), VLOOKUP($C144, 'Nanodrop Data Raw'!$C:$L, 2, FALSE))","v":{"$error":"#N/A"}},{"$error":"#N/A"}]
[{"$f":"'Sample Information'!A145","v":144},{"$f":"'Sample Information'!B145","v":0},"0-DNA",{"$f":"IF(VLOOKUP($C145, 'Nanodrop Data Raw'!$C:$L, 10, FALSE)<>\"\", VLOOKUP($C145, 'Nanodrop Data Raw'!$C:$L, 10, FALSE), VLOOKUP($C145, 'Nanodrop Data Raw'!$C:$L, 2, FALSE))","v":{"$error":"#N/A"}},{"$error":"#N/A"}]
[{"$f":"'Sample Information'!A146","v":145},{"$f":"'Sample Information'!B146","v":0},"0-DNA",{"$f":"IF(VLOOKUP($C146, 'Nanodrop Data Raw'!$C:$L, 10, FALSE)<>\"\", VLOOKUP($C146, 'Nanodrop Data Raw'!$C:$L, 10, FALSE), VLOOKUP($C146, 'Nanodrop Data Raw'!$C:$L, 2, FALSE))","v":{"$error":"#N/A"}},{"$error":"#N/A"}]
[{"$f":"'Sample Information'!A147","v":146},{"$f":"'Sample Information'!B147","v":0},"0-DNA",{"$f":"IF(VLOOKUP($C147, 'Nanodrop Data Raw'!$C:$L, 10, FALSE)<>\"\", VLOOKUP($C147, 'Nanodrop Data Raw'!$C:$L, 10, FALSE), VLOOKUP($C147, 'Nanodrop Data Raw'!$C:$L, 2, FALSE))","v":{"$error":"#N/A"}},{"$error":"#N/A"}]
[{"$f":"'Sample Information'!A148","v":147},{"$f":"'Sample Information'!B148","v":0},"0-DNA",{"$f":"IF(VLOOKUP($C148, 'Nanodrop Data Raw'!$C:$L, 10, FALSE)<>\"\", VLOOKUP($C148, 'Nanodrop Data Raw'!$C:$L, 10, FALSE), VLOOKUP($C148, 'Nanodrop Data Raw'!$C:$L, 2, FALSE))","v":{"$error":"#N/A"}},{"$error":"#N/A"}]
[{"$f":"'Sample Information'!A149","v":148},{"$f":"'Sample Information'!B149","v":0},"0-DNA",{"$f":"IF(VLOOKUP($C149, 'Nanodrop Data Raw'!$C:$L, 10, FALSE)<>\"\", VLOOKUP($C149, 'Nanodrop Data Raw'!$C:$L, 10, FALSE), VLOOKUP($C149, 'Nanodrop Data Raw'!$C:$L, 2, FALSE))","v":{"$error":"#N/A"}},{"$error":"#N/A"}]
[{"$f":"'Sample Information'!A150","v":149},{"$f":"'Sample Information'!B150","v":0},"0-DNA",{"$f":"IF(VLOOKUP($C150, 'Nanodrop Data Raw'!$C:$L, 10, FALSE)<>\"\", VLOOKUP($C150, 'Nanodrop Data Raw'!$C:$L, 10, FALSE), VLOOKUP($C150, 'Nanodrop Data Raw'!$C:$L, 2, FALSE))","v":{"$error":"#N/A"}},{"$error":"#N/A"}]
[{"$f":"'Sample Information'!A151","v":150},{"$f":"'Sample Information'!B151","v":0},"0-DNA",{"$f":"IF(VLOOKUP($C151, 'Nanodrop Data Raw'!$C:$L, 10, FALSE)<>\"\", VLOOKUP($C151, 'Nanodrop Data Raw'!$C:$L, 10, FALSE), VLOOKUP($C151, 'Nanodrop Data Raw'!$C:$L, 2, FALSE))","v":{"$error":"#N/A"}},{"$error":"#N/A"}]
[{"$f":"'Sample Information'!A152","v":151},{"$f":"'Sample Information'!B152","v":0},"0-DNA",{"$f":"IF(VLOOKUP($C152, 'Nanodrop Data Raw'!$C:$L, 10, FALSE)<>\"\", VLOOKUP($C152, 'Nanodrop Data Raw'!$C:$L, 10, FALSE), VLOOKUP($C152, 'Nanodrop Data Raw'!$C:$L, 2, FALSE))","v":{"$error":"#N/A"}},{"$error":"#N/A"}]
[{"$f":"'Sample Information'!A153","v":152},{"$f":"'Sample Information'!B153","v":0},"0-DNA",{"$f":"IF(VLOOKUP($C153, 'Nanodrop Data Raw'!$C:$L, 10, FALSE)<>\"\", VLOOKUP($C153, 'Nanodrop Data Raw'!$C:$L, 10, FALSE), VLOOKUP($C153, 'Nanodrop Data Raw'!$C:$L, 2, FALSE))","v":{"$error":"#N/A"}},{"$error":"#N/A"}]
[{"$f":"'Sample Information'!A154","v":153},{"$f":"'Sample Information'!B154","v":0},"0-DNA",{"$f":"IF(VLOOKUP($C154, 'Nanodrop Data Raw'!$C:$L, 10, FALSE)<>\"\", VLOOKUP($C154, 'Nanodrop Data Raw'!$C:$L, 10, FALSE), VLOOKUP($C154, 'Nanodrop Data Raw'!$C:$L, 2, FALSE))","v":{"$error":"#N/A"}},{"$error":"#N/A"}]
[{"$f":"'Sample Information'!A155","v":154},{"$f":"'Sample Information'!B155","v":0},"0-DNA",{"$f":"IF(VLOOKUP($C155, 'Nanodrop Data Raw'!$C:$L, 10, FALSE)<>\"\", VLOOKUP($C155, 'Nanodrop Data Raw'!$C:$L, 10, FALSE), VLOOKUP($C155, 'Nanodrop Data Raw'!$C:$L, 2, FALSE))","v":{"$error":"#N/A"}},{"$error":"#N/A"}]
[{"$f":"'Sample Information'!A156","v":155},{"$f":"'Sample Information'!B156","v":0},"0-DNA",{"$f":"IF(VLOOKUP($C156, 'Nanodrop Data Raw'!$C:$L, 10, FALSE)<>\"\", VLOOKUP($C156, 'Nanodrop Data Raw'!$C:$L, 10, FALSE), VLOOKUP($C156, 'Nanodrop Data Raw'!$C:$L, 2, FALSE))","v":{"$error":"#N/A"}},{"$error":"#N/A"}]
[{"$f":"'Sample Information'!A157","v":156},{"$f":"'Sample Information'!B157","v":0},"0-DNA",{"$f":"IF(VLOOKUP($C157, 'Nanodrop Data Raw'!$C:$L, 10, FALSE)<>\"\", VLOOKUP($C157, 'Nanodrop Data Raw'!$C:$L, 10, FALSE), VLOOKUP($C157, 'Nanodrop Data Raw'!$C:$L, 2, FALSE))","v":{"$error":"#N/A"}},{"$error":"#N/A"}]
[{"$f":"'Sample Information'!A158","v":157},{"$f":"'Sample Information'!B158","v":0},"0-DNA",{"$f":"IF(VLOOKUP($C158, 'Nanodrop Data Raw'!$C:$L, 10, FALSE)<>\"\", VLOOKUP($C158, 'Nanodrop Data Raw'!$C:$L, 10, FALSE), VLOOKUP($C158, 'Nanodrop Data Raw'!$C:$L, 2, FALSE))","v":{"$error":"#N/A"}},{"$error":"#N/A"}]
[{"$f":"'Sample Information'!A159","v":158},{"$f":"'Sample Information'!B159","v":0},"0-DNA",{"$f":"IF(VLOOKUP($C159, 'Nanodrop Data Raw'!$C:$L, 10, FALSE)<>\"\", VLOOKUP($C159, 'Nanodrop Data Raw'!$C:$L, 10, FALSE), VLOOKUP($C159, 'Nanodrop Data Raw'!$C:$L, 2, FALSE))","v":{"$error":"#N/A"}},{"$error":"#N/A"}]
[{"$f":"'Sample Information'!A160","v":159},{"$f":"'Sample Information'!B160","v":0},"0-DNA",{"$f":"IF(VLOOKUP($C160, 'Nanodrop Data Raw'!$C:$L, 10, FALSE)<>\"\", VLOOKUP($C160, 'Nanodrop Data Raw'!$C:$L, 10, FALSE), VLOOKUP($C160, 'Nanodrop Data Raw'!$C:$L, 2, FALSE))","v":{"$error":"#N/A"}},{"$error":"#N/A"}]
[{"$f":"'Sample Information'!A161","v":160},{"$f":"'Sample Information'!B161","v":0},"0-DNA",{"$f":"IF(VLOOKUP($C161, 'Nanodrop Data Raw'!$C:$L, 10, FALSE)<>\"\", VLOOKUP($C161, 'Nanodrop Data Raw'!$C:$L, 10, FALSE), VLOOKUP($C161, 'Nanodrop Data Raw'!$C:$L, 2, FALSE))","v":{"$error":"#N/A"}},{"$error":"#N/A"}]
[{"$f":"'Sample Information'!A162","v":161},{"$f":"'Sample Information'!B162","v":0},"0-DNA",{"$f":"IF(VLOOKUP($C162, 'Nanodrop Data Raw'!$C:$L, 10, FALSE)<>\"\", VLOOKUP($C162, 'Nanodrop Data Raw'!$C:$L, 10, FALSE), VLOOKUP($C162, 'Nanodrop Data Raw'!$C:$L, 2, FALSE))","v":{"$error":"#N/A"}},{"$error":"#N/A"}]
[{"$f":"'Sample Information'!A163","v":162},{"$f":"'Sample Information'!B163","v":0},"0-DNA",{"$f":"IF(VLOOKUP($C163, 'Nanodrop Data Raw'!$C:$L, 10, FALSE)<>\"\", VLOOKUP($C163, 'Nanodrop Data Raw'!$C:$L, 10, FALSE), VLOOKUP($C163, 'Nanodrop Data Raw'!$C:$L, 2, FALSE))","v":{"$error":"#N/A"}},{"$error":"#N/A"}]
[{"$f":"'Sample Information'!A164","v":163},{"$f":"'Sample Information'!B164","v":0},"0-DNA",{"$f":"IF(VLOOKUP($C164, 'Nanodrop Data Raw'!$C:$L, 10, FALSE)<>\"\", VLOOKUP($C164, 'Nanodrop Data Raw'!$C:$L, 10, FALSE), VLOOKUP($C164, 'Nanodrop Data Raw'!$C:$L, 2, FALSE))","v":{"$error":"#N/A"}},{"$error":"#N/A"}]
[{"$f":"'Sample Information'!A165","v":164},{"$f":"'Sample Information'!B165","v":0},"0-DNA",{"$f":"IF(VLOOKUP($C165, 'Nanodrop Data Raw'!$C:$L, 10, FALSE)<>\"\", VLOOKUP($C165, 'Nanodrop Data Raw'!$C:$L, 10, FALSE), VLOOKUP($C165, 'Nanodrop Data Raw'!$C:$L, 2, FALSE))","v":{"$error":"#N/A"}},{"$error":"#N/A"}]
[{"$f":"'Sample Information'!A166","v":165},{"$f":"'Sample Information'!B166","v":0},"0-DNA",{"$f":"IF(VLOOKUP($C166, 'Nanodrop Data Raw'!$C:$L, 10, FALSE)<>\"\", VLOOKUP($C166, 'Nanodrop Data Raw'!$C:$L, 10, FALSE), VLOOKUP($C166, 'Nanodrop Data Raw'!$C:$L, 2, FALSE))","v":{"$error":"#N/A"}},{"$error":"#N/A"}]
[{"$f":"'Sample Information'!A167","v":166},{"$f":"'Sample Information'!B167","v":0},"0-DNA",{"$f":"IF(VLOOKUP($C167, 'Nanodrop Data Raw'!$C:$L, 10, FALSE)<>\"\", VLOOKUP($C167, 'Nanodrop Data Raw'!$C:$L, 10, FALSE), VLOOKUP($C167, 'Nanodrop Data Raw'!$C:$L, 2, FALSE))","v":{"$error":"#N/A"}},{"$error":"#N/A"}]
[{"$f":"'Sample Information'!A168","v":167},{"$f":"'Sample Information'!B168","v":0},"0-DNA",{"$f":"IF(VLOOKUP($C168, 'Nanodrop Data Raw'!$C:$L, 10, FALSE)<>\"\", VLOOKUP($C168, 'Nanodrop Data Raw'!$C:$L, 10, FALSE), VLOOKUP($C168, 'Nanodrop Data Raw'!$C:$L, 2, FALSE))","v":{"$error":"#N/A"}},{"$error":"#N/A"}]
[{"$f":"'Sample Information'!A169","v":168},{"$f":"'Sample Information'!B169","v":0},"0-DNA",{"$f":"IF(VLOOKUP($C169, 'Nanodrop Data Raw'!$C:$L, 10, FALSE)<>\"\", VLOOKUP($C169, 'Nanodrop Data Raw'!$C:$L, 10, FALSE), VLOOKUP($C169, 'Nanodrop Data Raw'!$C:$L, 2, FALSE))","v":{"$error":"#N/A"}},{"$error":"#N/A"}]
[{"$f":"'Sample Information'!A170","v":169},{"$f":"'Sample Information'!B170","v":0},"0-DNA",{"$f":"IF(VLOOKUP($C170, 'Nanodrop Data Raw'!$C:$L, 10, FALSE)<>\"\", VLOOKUP($C170, 'Nanodrop Data Raw'!$C:$L, 10, FALSE), VLOOKUP($C170, 'Nanodrop Data Raw'!$C:$L, 2, FALSE))","v":{"$error":"#N/A"}},{"$error":"#N/A"}]
[{"$f":"'Sample Information'!A171","v":170},{"$f":"'Sample Information'!B171","v":0},"0-DNA",{"$f":"IF(VLOOKUP($C171, 'Nanodrop Data Raw'!$C:$L, 10, FALSE)<>\"\", VLOOKUP($C171, 'Nanodrop Data Raw'!$C:$L, 10, FALSE), VLOOKUP($C171, 'Nanodrop Data Raw'!$C:$L, 2, FALSE))","v":{"$error":"#N/A"}},{"$error":"#N/A"}]
[{"$f":"'Sample Information'!A172","v":171},{"$f":"'Sample Information'!B172","v":0},"0-DNA",{"$f":"IF(VLOOKUP($C172, 'Nanodrop Data Raw'!$C:$L, 10, FALSE)<>\"\", VLOOKUP($C172, 'Nanodrop Data Raw'!$C:$L, 10, FALSE), VLOOKUP($C172, 'Nanodrop Data Raw'!$C:$L, 2, FALSE))","v":{"$error":"#N/A"}},{"$error":"#N/A"}]
[{"$f":"'Sample Information'!A173","v":172},{"$f":"'Sample Information'!B173","v":0},"0-DNA",{"$f":"IF(VLOOKUP($C173, 'Nanodrop Data Raw'!$C:$L, 10, FALSE)<>\"\", VLOOKUP($C173, 'Nanodrop Data Raw'!$C:$L, 10, FALSE), VLOOKUP($C173, 'Nanodrop Data Raw'!$C:$L, 2, FALSE))","v":{"$error":"#N/A"}},{"$error":"#N/A"}]
[{"$f":"'Sample Information'!A174","v":173},{"$f":"'Sample Information'!B174","v":0},"0-DNA",{"$f":"IF(VLOOKUP($C174, 'Nanodrop Data Raw'!$C:$L, 10, FALSE)<>\"\", VLOOKUP($C174, 'Nanodrop Data Raw'!$C:$L, 10, FALSE), VLOOKUP($C174, 'Nanodrop Data Raw'!$C:$L, 2, FALSE))","v":{"$error":"#N/A"}},{"$error":"#N/A"}]
[{"$f":"'Sample Information'!A175","v":174},{"$f":"'Sample Information'!B175","v":0},"0-DNA",{"$f":"IF(VLOOKUP($C175, 'Nanodrop Data Raw'!$C:$L, 10, FALSE)<>\"\", VLOOKUP($C175, 'Nanodrop Data Raw'!$C:$L, 10, FALSE), VLOOKUP($C175, 'Nanodrop Data Raw'!$C:$L, 2, FALSE))","v":{"$error":"#N/A"}},{"$error":"#N/A"}]
[{"$f":"'Sample Information'!A176","v":175},{"$f":"'Sample Information'!B176","v":0},"0-DNA",{"$f":"IF(VLOOKUP($C176, 'Nanodrop Data Raw'!$C:$L, 10, FALSE)<>\"\", VLOOKUP($C176, 'Nanodrop Data Raw'!$C:$L, 10, FALSE), VLOOKUP($C176, 'Nanodrop Data Raw'!$C:$L, 2, FALSE))","v":{"$error":"#N/A"}},{"$error":"#N/A"}]
[{"$f":"'Sample Information'!A177","v":176},{"$f":"'Sample Information'!B177","v":0},"0-DNA",{"$f":"IF(VLOOKUP($C177, 'Nanodrop Data Raw'!$C:$L, 10, FALSE)<>\"\", VLOOKUP($C177, 'Nanodrop Data Raw'!$C:$L, 10, FALSE), VLOOKUP($C177, 'Nanodrop Data Raw'!$C:$L, 2, FALSE))","v":{"$error":"#N/A"}},{"$error":"#N/A"}]
[{"$f":"'Sample Information'!A178","v":177},{"$f":"'Sample Information'!B178","v":0},"0-DNA",{"$f":"IF(VLOOKUP($C178, 'Nanodrop Data Raw'!$C:$L, 10, FALSE)<>\"\", VLOOKUP($C178, 'Nanodrop Data Raw'!$C:$L, 10, FALSE), VLOOKUP($C178, 'Nanodrop Data Raw'!$C:$L, 2, FALSE))","v":{"$error":"#N/A"}},{"$error":"#N/A"}]
[{"$f":"'Sample Information'!A179","v":178},{"$f":"'Sample Information'!B179","v":0},"0-DNA",{"$f":"IF(VLOOKUP($C179, 'Nanodrop Data Raw'!$C:$L, 10, FALSE)<>\"\", VLOOKUP($C179, 'Nanodrop Data Raw'!$C:$L, 10, FALSE), VLOOKUP($C179, 'Nanodrop Data Raw'!$C:$L, 2, FALSE))","v":{"$error":"#N/A"}},{"$error":"#N/A"}]
[{"$f":"'Sample Information'!A180","v":179},{"$f":"'Sample Information'!B180","v":0},"0-DNA",{"$f":"IF(VLOOKUP($C180, 'Nanodrop Data Raw'!$C:$L, 10, FALSE)<>\"\", VLOOKUP($C180, 'Nanodrop Data Raw'!$C:$L, 10, FALSE), VLOOKUP($C180, 'Nanodrop Data Raw'!$C:$L, 2, FALSE))","v":{"$error":"#N/A"}},{"$error":"#N/A"}]
[{"$f":"'Sample Information'!A181","v":180},{"$f":"'Sample Information'!B181","v":0},"0-DNA",{"$f":"IF(VLOOKUP($C181, 'Nanodrop Data Raw'!$C:$L, 10, FALSE)<>\"\", VLOOKUP($C181, 'Nanodrop Data Raw'!$C:$L, 10, FALSE), VLOOKUP($C181, 'Nanodrop Data Raw'!$C:$L, 2, FALSE))","v":{"$error":"#N/A"}},{"$error":"#N/A"}]
[{"$f":"'Sample Information'!A182","v":181},{"$f":"'Sample Information'!B182","v":0},"0-DNA",{"$f":"IF(VLOOKUP($C182, 'Nanodrop Data Raw'!$C:$L, 10, FALSE)<>\"\", VLOOKUP($C182, 'Nanodrop Data Raw'!$C:$L, 10, FALSE), VLOOKUP($C182, 'Nanodrop Data Raw'!$C:$L, 2, FALSE))","v":{"$error":"#N/A"}},{"$error":"#N/A"}]
[{"$f":"'Sample Information'!A183","v":182},{"$f":"'Sample Information'!B183","v":0},"0-DNA",{"$f":"IF(VLOOKUP($C183, 'Nanodrop Data Raw'!$C:$L, 10, FALSE)<>\"\", VLOOKUP($C183, 'Nanodrop Data Raw'!$C:$L, 10, FALSE), VLOOKUP($C183, 'Nanodrop Data Raw'!$C:$L, 2, FALSE))","v":{"$error":"#N/A"}},{"$error":"#N/A"}]
[{"$f":"'Sample Information'!A184","v":183},{"$f":"'Sample Information'!B184","v":0},"0-DNA",{"$f":"IF(VLOOKUP($C184, 'Nanodrop Data Raw'!$C:$L, 10, FALSE)<>\"\", VLOOKUP($C184, 'Nanodrop Data Raw'!$C:$L, 10, FALSE), VLOOKUP($C184, 'Nanodrop Data Raw'!$C:$L, 2, FALSE))","v":{"$error":"#N/A"}},{"$error":"#N/A"}]
[{"$f":"'Sample Information'!A185","v":184},{"$f":"'Sample Information'!B185","v":0},"0-DNA",{"$f":"IF(VLOOKUP($C185, 'Nanodrop Data Raw'!$C:$L, 10, FALSE)<>\"\", VLOOKUP($C185, 'Nanodrop Data Raw'!$C:$L, 10, FALSE), VLOOKUP($C185, 'Nanodrop Data Raw'!$C:$L, 2, FALSE))","v":{"$error":"#N/A"}},{"$error":"#N/A"}]
[{"$f":"'Sample Information'!A186","v":185},{"$f":"'Sample Information'!B186","v":0},"0-DNA",{"$f":"IF(VLOOKUP($C186, 'Nanodrop Data Raw'!$C:$L, 10, FALSE)<>\"\", VLOOKUP($C186, 'Nanodrop Data Raw'!$C:$L, 10, FALSE), VLOOKUP($C186, 'Nanodrop Data Raw'!$C:$L, 2, FALSE))","v":{"$error":"#N/A"}},{"$error":"#N/A"}]
[{"$f":"'Sample Information'!A187","v":186},{"$f":"'Sample Information'!B187","v":0},"0-DNA",{"$f":"IF(VLOOKUP($C187, 'Nanodrop Data Raw'!$C:$L, 10, FALSE)<>\"\", VLOOKUP($C187, 'Nanodrop Data Raw'!$C:$L, 10, FALSE), VLOOKUP($C187, 'Nanodrop Data Raw'!$C:$L, 2, FALSE))","v":{"$error":"#N/A"}},{"$error":"#N/A"}]
[{"$f":"'Sample Information'!A188","v":187},{"$f":"'Sample Information'!B188","v":0},"0-DNA",{"$f":"IF(VLOOKUP($C188, 'Nanodrop Data Raw'!$C:$L, 10, FALSE)<>\"\", VLOOKUP($C188, 'Nanodrop Data Raw'!$C:$L, 10, FALSE), VLOOKUP($C188, 'Nanodrop Data Raw'!$C:$L, 2, FALSE))","v":{"$error":"#N/A"}},{"$error":"#N/A"}]
[{"$f":"'Sample Information'!A189","v":188},{"$f":"'Sample Information'!B189","v":0},"0-DNA",{"$f":"IF(VLOOKUP($C189, 'Nanodrop Data Raw'!$C:$L, 10, FALSE)<>\"\", VLOOKUP($C189, 'Nanodrop Data Raw'!$C:$L, 10, FALSE), VLOOKUP($C189, 'Nanodrop Data Raw'!$C:$L, 2, FALSE))","v":{"$error":"#N/A"}},{"$error":"#N/A"}]
[{"$f":"'Sample Information'!A190","v":189},{"$f":"'Sample Information'!B190","v":0},"0-DNA",{"$f":"IF(VLOOKUP($C190, 'Nanodrop Data Raw'!$C:$L, 10, FALSE)<>\"\", VLOOKUP($C190, 'Nanodrop Data Raw'!$C:$L, 10, FALSE), VLOOKUP($C190, 'Nanodrop Data Raw'!$C:$L, 2, FALSE))","v":{"$error":"#N/A"}},{"$error":"#N/A"}]
[{"$f":"'Sample Information'!A191","v":190},{"$f":"'Sample Information'!B191","v":0},"0-DNA",{"$f":"IF(VLOOKUP($C191, 'Nanodrop Data Raw'!$C:$L, 10, FALSE)<>\"\", VLOOKUP($C191, 'Nanodrop Data Raw'!$C:$L, 10, FALSE), VLOOKUP($C191, 'Nanodrop Data Raw'!$C:$L, 2, FALSE))","v":{"$error":"#N/A"}},{"$error":"#N/A"}]
[{"$f":"'Sample Information'!A192","v":191},{"$f":"'Sample Information'!B192","v":0},"0-DNA",{"$f":"IF(VLOOKUP($C192, 'Nanodrop Data Raw'!$C:$L, 10, FALSE)<>\"\", VLOOKUP($C192, 'Nanodrop Data Raw'!$C:$L, 10, FALSE), VLOOKUP($C192, 'Nanodrop Data Raw'!$C:$L, 2, FALSE))","v":{"$error":"#N/A"}},{"$error":"#N/A"}]
[{"$f":"'Sample Information'!A193","v":192},{"$f":"'Sample Information'!B193","v":0},"0-DNA",{"$f":"IF(VLOOKUP($C193, 'Nanodrop Data Raw'!$C:$L, 10, FALSE)<>\"\", VLOOKUP($C193, 'Nanodrop Data Raw'!$C:$L, 10, FALSE), VLOOKUP($C193, 'Nanodrop Data Raw'!$C:$L, 2, FALSE))","v":{"$error":"#N/A"}},{"$error":"#N/A"}]
[{"$f":"'Sample Information'!A194","v":193},{"$f":"'Sample Information'!B194","v":0},"0-DNA",{"$f":"IF(VLOOKUP($C194, 'Nanodrop Data Raw'!$C:$L, 10, FALSE)<>\"\", VLOOKUP($C194, 'Nanodrop Data Raw'!$C:$L, 10, FALSE), VLOOKUP($C194, 'Nanodrop Data Raw'!$C:$L, 2, FALSE))","v":{"$error":"#N/A"}},{"$error":"#N/A"}]
[{"$f":"'Sample Information'!A195","v":194},{"$f":"'Sample Information'!B195","v":0},{"$f":"CONCATENATE(B195,\"-DNA\")","v":"0-DNA"},{"$f":"IF(VLOOKUP($C195, 'Nanodrop Data Raw'!$C:$L, 10, FALSE)<>\"\", VLOOKUP($C195, 'Nanodrop Data Raw'!$C:$L, 10, FALSE), VLOOKUP($C195, 'Nanodrop Data Raw'!$C:$L, 2, FALSE))","v":{"$error":"#N/A"}},{"$f":"IF((5*D195-50)/10>0,(5*D195-50)/10,\"-\")","v":{"$error":"#N/A"}}]
[{"$f":"'Sample Information'!A196","v":195},{"$f":"'Sample Information'!B196","v":0},"0-DNA",{"$f":"IF(VLOOKUP($C196, 'Nanodrop Data Raw'!$C:$L, 10, FALSE)<>\"\", VLOOKUP($C196, 'Nanodrop Data Raw'!$C:$L, 10, FALSE), VLOOKUP($C196, 'Nanodrop Data Raw'!$C:$L, 2, FALSE))","v":{"$error":"#N/A"}},{"$error":"#N/A"}]
[{"$f":"'Sample Information'!A197","v":196},{"$f":"'Sample Information'!B197","v":0},"0-DNA",{"$f":"IF(VLOOKUP($C197, 'Nanodrop Data Raw'!$C:$L, 10, FALSE)<>\"\", VLOOKUP($C197, 'Nanodrop Data Raw'!$C:$L, 10, FALSE), VLOOKUP($C197, 'Nanodrop Data Raw'!$C:$L, 2, FALSE))","v":{"$error":"#N/A"}},{"$error":"#N/A"}]
[{"$f":"'Sample Information'!A198","v":197},{"$f":"'Sample Information'!B198","v":0},"0-DNA",{"$f":"IF(VLOOKUP($C198, 'Nanodrop Data Raw'!$C:$L, 10, FALSE)<>\"\", VLOOKUP($C198, 'Nanodrop Data Raw'!$C:$L, 10, FALSE), VLOOKUP($C198, 'Nanodrop Data Raw'!$C:$L, 2, FALSE))","v":{"$error":"#N/A"}},{"$error":"#N/A"}]
[{"$f":"'Sample Information'!A199","v":198},{"$f":"'Sample Information'!B199","v":0},"0-DNA",{"$f":"IF(VLOOKUP($C199, 'Nanodrop Data Raw'!$C:$L, 10, FALSE)<>\"\", VLOOKUP($C199, 'Nanodrop Data Raw'!$C:$L, 10, FALSE), VLOOKUP($C199, 'Nanodrop Data Raw'!$C:$L, 2, FALSE))","v":{"$error":"#N/A"}},{"$error":"#N/A"}]
[{"$f":"'Sample Information'!A200","v":199},{"$f":"'Sample Information'!B200","v":0},"0-DNA",{"$f":"IF(VLOOKUP($C200, 'Nanodrop Data Raw'!$C:$L, 10, FALSE)<>\"\", VLOOKUP($C200, 'Nanodrop Data Raw'!$C:$L, 10, FALSE), VLOOKUP($C200, 'Nanodrop Data Raw'!$C:$L, 2, FALSE))","v":{"$error":"#N/A"}},{"$error":"#N/A"}]
[{"$f":"'Sample Information'!A201","v":200},{"$f":"'Sample Information'!B201","v":0},"0-DNA",{"$f":"IF(VLOOKUP($C201, 'Nanodrop Data Raw'!$C:$L, 10, FALSE)<>\"\", VLOOKUP($C201, 'Nanodrop Data Raw'!$C:$L, 10, FALSE), VLOOKUP($C201, 'Nanodrop Data Raw'!$C:$L, 2, FALSE))","v":{"$error":"#N/A"}},{"$error":"#N/A"}]
[{"$f":"'Sample Information'!A202","v":201},{"$f":"'Sample Information'!B202","v":0},"0-DNA",{"$f":"IF(VLOOKUP($C202, 'Nanodrop Data Raw'!$C:$L, 10, FALSE)<>\"\", VLOOKUP($C202, 'Nanodrop Data Raw'!$C:$L, 10, FALSE), VLOOKUP($C202, 'Nanodrop Data Raw'!$C:$L, 2, FALSE))","v":{"$error":"#N/A"}},{"$error":"#N/A"}]
[{"$f":"'Sample Information'!A203","v":202},{"$f":"'Sample Information'!B203","v":0},"0-DNA",{"$f":"IF(VLOOKUP($C203, 'Nanodrop Data Raw'!$C:$L, 10, FALSE)<>\"\", VLOOKUP($C203, 'Nanodrop Data Raw'!$C:$L, 10, FALSE), VLOOKUP($C203, 'Nanodrop Data Raw'!$C:$L, 2, FALSE))","v":{"$error":"#N/A"}},{"$error":"#N/A"}]
[{"$f":"'Sample Information'!A204","v":203},{"$f":"'Sample Information'!B204","v":0},"0-DNA",{"$f":"IF(VLOOKUP($C204, 'Nanodrop Data Raw'!$C:$L, 10, FALSE)<>\"\", VLOOKUP($C204, 'Nanodrop Data Raw'!$C:$L, 10, FALSE), VLOOKUP($C204, 'Nanodrop Data Raw'!$C:$L, 2, FALSE))","v":{"$error":"#N/A"}},{"$error":"#N/A"}]
[{"$f":"'Sample Information'!A205","v":204},{"$f":"'Sample Information'!B205","v":0},"0-DNA",{"$f":"IF(VLOOKUP($C205, 'Nanodrop Data Raw'!$C:$L, 10, FALSE)<>\"\", VLOOKUP($C205, 'Nanodrop Data Raw'!$C:$L, 10, FALSE), VLOOKUP($C205, 'Nanodrop Data Raw'!$C:$L, 2, FALSE))","v":{"$error":"#N/A"}},{"$error":"#N/A"}]
[{"$f":"'Sample Information'!A206","v":205},{"$f":"'Sample Information'!B206","v":0},"0-DNA",{"$f":"IF(VLOOKUP($C206, 'Nanodrop Data Raw'!$C:$L, 10, FALSE)<>\"\", VLOOKUP($C206, 'Nanodrop Data Raw'!$C:$L, 10, FALSE), VLOOKUP($C206, 'Nanodrop Data Raw'!$C:$L, 2, FALSE))","v":{"$error":"#N/A"}},{"$error":"#N/A"}]
[{"$f":"'Sample Information'!A207","v":206},{"$f":"'Sample Information'!B207","v":0},"0-DNA",{"$f":"IF(VLOOKUP($C207, 'Nanodrop Data Raw'!$C:$L, 10, FALSE)<>\"\", VLOOKUP($C207, 'Nanodrop Data Raw'!$C:$L, 10, FALSE), VLOOKUP($C207, 'Nanodrop Data Raw'!$C:$L, 2, FALSE))","v":{"$error":"#N/A"}},{"$error":"#N/A"}]
[{"$f":"'Sample Information'!A208","v":207},{"$f":"'Sample Information'!B208","v":0},"0-DNA",{"$f":"IF(VLOOKUP($C208, 'Nanodrop Data Raw'!$C:$L, 10, FALSE)<>\"\", VLOOKUP($C208, 'Nanodrop Data Raw'!$C:$L, 10, FALSE), VLOOKUP($C208, 'Nanodrop Data Raw'!$C:$L, 2, FALSE))","v":{"$error":"#N/A"}},{"$error":"#N/A"}]
[{"$f":"'Sample Information'!A209","v":208},{"$f":"'Sample Information'!B209","v":0},"0-DNA",{"$f":"IF(VLOOKUP($C209, 'Nanodrop Data Raw'!$C:$L, 10, FALSE)<>\"\", VLOOKUP($C209, 'Nanodrop Data Raw'!$C:$L, 10, FALSE), VLOOKUP($C209, 'Nanodrop Data Raw'!$C:$L, 2, FALSE))","v":{"$error":"#N/A"}},{"$error":"#N/A"}]
[{"$f":"'Sample Information'!A210","v":209},{"$f":"'Sample Information'!B210","v":0},"0-DNA",{"$f":"IF(VLOOKUP($C210, 'Nanodrop Data Raw'!$C:$L, 10, FALSE)<>\"\", VLOOKUP($C210, 'Nanodrop Data Raw'!$C:$L, 10, FALSE), VLOOKUP($C210, 'Nanodrop Data Raw'!$C:$L, 2, FALSE))","v":{"$error":"#N/A"}},{"$error":"#N/A"}]
[{"$f":"'Sample Information'!A211","v":210},{"$f":"'Sample Information'!B211","v":0},"0-DNA",{"$f":"IF(VLOOKUP($C211, 'Nanodrop Data Raw'!$C:$L, 10, FALSE)<>\"\", VLOOKUP($C211, 'Nanodrop Data Raw'!$C:$L, 10, FALSE), VLOOKUP($C211, 'Nanodrop Data Raw'!$C:$L, 2, FALSE))","v":{"$error":"#N/A"}},{"$error":"#N/A"}]
[{"$f":"'Sample Information'!A212","v":211},{"$f":"'Sample Information'!B212","v":0},"0-DNA",{"$f":"IF(VLOOKUP($C212, 'Nanodrop Data Raw'!$C:$L, 10, FALSE)<>\"\", VLOOKUP($C212, 'Nanodrop Data Raw'!$C:$L, 10, FALSE), VLOOKUP($C212, 'Nanodrop Data Raw'!$C:$L, 2, FALSE))","v":{"$error":"#N/A"}},{"$error":"#N/A"}]
[{"$f":"'Sample Information'!A213","v":212},{"$f":"'Sample Information'!B213","v":0},"0-DNA",{"$f":"IF(VLOOKUP($C213, 'Nanodrop Data Raw'!$C:$L, 10, FALSE)<>\"\", VLOOKUP($C213, 'Nanodrop Data Raw'!$C:$L, 10, FALSE), VLOOKUP($C213, 'Nanodrop Data Raw'!$C:$L, 2, FALSE))","v":{"$error":"#N/A"}},{"$error":"#N/A"}]
[{"$f":"'Sample Information'!A214","v":213},{"$f":"'Sample Information'!B214","v":0},"0-DNA",{"$f":"IF(VLOOKUP($C214, 'Nanodrop Data Raw'!$C:$L, 10, FALSE)<>\"\", VLOOKUP($C214, 'Nanodrop Data Raw'!$C:$L, 10, FALSE), VLOOKUP($C214, 'Nanodrop Data Raw'!$C:$L, 2, FALSE))","v":{"$error":"#N/A"}},{"$error":"#N/A"}]
[{"$f":"'Sample Information'!A215","v":214},{"$f":"'Sample Information'!B215","v":0},"0-DNA",{"$f":"IF(VLOOKUP($C215, 'Nanodrop Data Raw'!$C:$L, 10, FALSE)<>\"\", VLOOKUP($C215, 'Nanodrop Data Raw'!$C:$L, 10, FALSE), VLOOKUP($C215, 'Nanodrop Data Raw'!$C:$L, 2, FALSE))","v":{"$error":"#N/A"}},{"$error":"#N/A"}]
[{"$f":"'Sample Information'!A216","v":215},{"$f":"'Sample Information'!B216","v":0},"0-DNA",{"$f":"IF(VLOOKUP($C216, 'Nanodrop Data Raw'!$C:$L, 10, FALSE)<>\"\", VLOOKUP($C216, 'Nanodrop Data Raw'!$C:$L, 10, FALSE), VLOOKUP($C216, 'Nanodrop Data Raw'!$C:$L, 2, FALSE))","v":{"$error":"#N/A"}},{"$error":"#N/A"}]
[{"$f":"'Sample Information'!A217","v":216},{"$f":"'Sample Information'!B217","v":0},"0-DNA",{"$f":"IF(VLOOKUP($C217, 'Nanodrop Data Raw'!$C:$L, 10, FALSE)<>\"\", VLOOKUP($C217, 'Nanodrop Data Raw'!$C:$L, 10, FALSE), VLOOKUP($C217, 'Nanodrop Data Raw'!$C:$L, 2, FALSE))","v":{"$error":"#N/A"}},{"$error":"#N/A"}]
[{"$f":"'Sample Information'!A218","v":217},{"$f":"'Sample Information'!B218","v":0},"0-DNA",{"$f":"IF(VLOOKUP($C218, 'Nanodrop Data Raw'!$C:$L, 10, FALSE)<>\"\", VLOOKUP($C218, 'Nanodrop Data Raw'!$C:$L, 10, FALSE), VLOOKUP($C218, 'Nanodrop Data Raw'!$C:$L, 2, FALSE))","v":{"$error":"#N/A"}},{"$error":"#N/A"}]
[{"$f":"'Sample Information'!A219","v":218},{"$f":"'Sample Information'!B219","v":0},"0-DNA",{"$f":"IF(VLOOKUP($C219, 'Nanodrop Data Raw'!$C:$L, 10, FALSE)<>\"\", VLOOKUP($C219, 'Nanodrop Data Raw'!$C:$L, 10, FALSE), VLOOKUP($C219, 'Nanodrop Data Raw'!$C:$L, 2, FALSE))","v":{"$error":"#N/A"}},{"$error":"#N/A"}]
[{"$f":"'Sample Information'!A220","v":219},{"$f":"'Sample Information'!B220","v":0},"0-DNA",{"$f":"IF(VLOOKUP($C220, 'Nanodrop Data Raw'!$C:$L, 10, FALSE)<>\"\", VLOOKUP($C220, 'Nanodrop Data Raw'!$C:$L, 10, FALSE), VLOOKUP($C220, 'Nanodrop Data Raw'!$C:$L, 2, FALSE))","v":{"$error":"#N/A"}},{"$error":"#N/A"}]
[{"$f":"'Sample Information'!A221","v":220},{"$f":"'Sample Information'!B221","v":0},"0-DNA",{"$f":"IF(VLOOKUP($C221, 'Nanodrop Data Raw'!$C:$L, 10, FALSE)<>\"\", VLOOKUP($C221, 'Nanodrop Data Raw'!$C:$L, 10, FALSE), VLOOKUP($C221, 'Nanodrop Data Raw'!$C:$L, 2, FALSE))","v":{"$error":"#N/A"}},{"$error":"#N/A"}]
[{"$f":"'Sample Information'!A222","v":221},{"$f":"'Sample Information'!B222","v":0},"0-DNA",{"$f":"IF(VLOOKUP($C222, 'Nanodrop Data Raw'!$C:$L, 10, FALSE)<>\"\", VLOOKUP($C222, 'Nanodrop Data Raw'!$C:$L, 10, FALSE), VLOOKUP($C222, 'Nanodrop Data Raw'!$C:$L, 2, FALSE))","v":{"$error":"#N/A"}},{"$error":"#N/A"}]
[{"$f":"'Sample Information'!A223","v":222},{"$f":"'Sample Information'!B223","v":0},"0-DNA",{"$f":"IF(VLOOKUP($C223, 'Nanodrop Data Raw'!$C:$L, 10, FALSE)<>\"\", VLOOKUP($C223, 'Nanodrop Data Raw'!$C:$L, 10, FALSE), VLOOKUP($C223, 'Nanodrop Data Raw'!$C:$L, 2, FALSE))","v":{"$error":"#N/A"}},{"$error":"#N/A"}]
[{"$f":"'Sample Information'!A224","v":223},{"$f":"'Sample Information'!B224","v":0},"0-DNA",{"$f":"IF(VLOOKUP($C224, 'Nanodrop Data Raw'!$C:$L, 10, FALSE)<>\"\", VLOOKUP($C224, 'Nanodrop Data Raw'!$C:$L, 10, FALSE), VLOOKUP($C224, 'Nanodrop Data Raw'!$C:$L, 2, FALSE))","v":{"$error":"#N/A"}},{"$error":"#N/A"}]
[{"$f":"'Sample Information'!A225","v":224},{"$f":"'Sample Information'!B225","v":0},"0-DNA",{"$f":"IF(VLOOKUP($C225, 'Nanodrop Data Raw'!$C:$L, 10, FALSE)<>\"\", VLOOKUP($C225, 'Nanodrop Data Raw'!$C:$L, 10, FALSE), VLOOKUP($C225, 'Nanodrop Data Raw'!$C:$L, 2, FALSE))","v":{"$error":"#N/A"}},{"$error":"#N/A"}]
[{"$f":"'Sample Information'!A226","v":225},{"$f":"'Sample Information'!B226","v":0},"0-DNA",{"$f":"IF(VLOOKUP($C226, 'Nanodrop Data Raw'!$C:$L, 10, FALSE)<>\"\", VLOOKUP($C226, 'Nanodrop Data Raw'!$C:$L, 10, FALSE), VLOOKUP($C226, 'Nanodrop Data Raw'!$C:$L, 2, FALSE))","v":{"$error":"#N/A"}},{"$error":"#N/A"}]
[{"$f":"'Sample Information'!A227","v":226},{"$f":"'Sample Information'!B227","v":0},"0-DNA",{"$f":"IF(VLOOKUP($C227, 'Nanodrop Data Raw'!$C:$L, 10, FALSE)<>\"\", VLOOKUP($C227, 'Nanodrop Data Raw'!$C:$L, 10, FALSE), VLOOKUP($C227, 'Nanodrop Data Raw'!$C:$L, 2, FALSE))","v":{"$error":"#N/A"}},{"$error":"#N/A"}]
[{"$f":"'Sample Information'!A228","v":227},{"$f":"'Sample Information'!B228","v":0},"0-DNA",{"$f":"IF(VLOOKUP($C228, 'Nanodrop Data Raw'!$C:$L, 10, FALSE)<>\"\", VLOOKUP($C228, 'Nanodrop Data Raw'!$C:$L, 10, FALSE), VLOOKUP($C228, 'Nanodrop Data Raw'!$C:$L, 2, FALSE))","v":{"$error":"#N/A"}},{"$error":"#N/A"}]
[{"$f":"'Sample Information'!A229","v":228},{"$f":"'Sample Information'!B229","v":0},"0-DNA",{"$f":"IF(VLOOKUP($C229, 'Nanodrop Data Raw'!$C:$L, 10, FALSE)<>\"\", VLOOKUP($C229, 'Nanodrop Data Raw'!$C:$L, 10, FALSE), VLOOKUP($C229, 'Nanodrop Data Raw'!$C:$L, 2, FALSE))","v":{"$error":"#N/A"}},{"$error":"#N/A"}]
[{"$f":"'Sample Information'!A230","v":229},{"$f":"'Sample Information'!B230","v":0},"0-DNA",{"$f":"IF(VLOOKUP($C230, 'Nanodrop Data Raw'!$C:$L, 10, FALSE)<>\"\", VLOOKUP($C230, 'Nanodrop Data Raw'!$C:$L, 10, FALSE), VLOOKUP($C230, 'Nanodrop Data Raw'!$C:$L, 2, FALSE))","v":{"$error":"#N/A"}},{"$error":"#N/A"}]
[{"$f":"'Sample Information'!A231","v":230},{"$f":"'Sample Information'!B231","v":0},"0-DNA",{"$f":"IF(VLOOKUP($C231, 'Nanodrop Data Raw'!$C:$L, 10, FALSE)<>\"\", VLOOKUP($C231, 'Nanodrop Data Raw'!$C:$L, 10, FALSE), VLOOKUP($C231, 'Nanodrop Data Raw'!$C:$L, 2, FALSE))","v":{"$error":"#N/A"}},{"$error":"#N/A"}]
[{"$f":"'Sample Information'!A232","v":231},{"$f":"'Sample Information'!B232","v":0},"0-DNA",{"$f":"IF(VLOOKUP($C232, 'Nanodrop Data Raw'!$C:$L, 10, FALSE)<>\"\", VLOOKUP($C232, 'Nanodrop Data Raw'!$C:$L, 10, FALSE), VLOOKUP($C232, 'Nanodrop Data Raw'!$C:$L, 2, FALSE))","v":{"$error":"#N/A"}},{"$error":"#N/A"}]
[{"$f":"'Sample Information'!A233","v":232},{"$f":"'Sample Information'!B233","v":0},"0-DNA",{"$f":"IF(VLOOKUP($C233, 'Nanodrop Data Raw'!$C:$L, 10, FALSE)<>\"\", VLOOKUP($C233, 'Nanodrop Data Raw'!$C:$L, 10, FALSE), VLOOKUP($C233, 'Nanodrop Data Raw'!$C:$L, 2, FALSE))","v":{"$error":"#N/A"}},{"$error":"#N/A"}]
[{"$f":"'Sample Information'!A234","v":233},{"$f":"'Sample Information'!B234","v":0},"0-DNA",{"$f":"IF(VLOOKUP($C234, 'Nanodrop Data Raw'!$C:$L, 10, FALSE)<>\"\", VLOOKUP($C234, 'Nanodrop Data Raw'!$C:$L, 10, FALSE), VLOOKUP($C234, 'Nanodrop Data Raw'!$C:$L, 2, FALSE))","v":{"$error":"#N/A"}},{"$error":"#N/A"}]
[{"$f":"'Sample Information'!A235","v":234},{"$f":"'Sample Information'!B235","v":0},"0-DNA",{"$f":"IF(VLOOKUP($C235, 'Nanodrop Data Raw'!$C:$L, 10, FALSE)<>\"\", VLOOKUP($C235, 'Nanodrop Data Raw'!$C:$L, 10, FALSE), VLOOKUP($C235, 'Nanodrop Data Raw'!$C:$L, 2, FALSE))","v":{"$error":"#N/A"}},{"$error":"#N/A"}]
[{"$f":"'Sample Information'!A236","v":235},{"$f":"'Sample Information'!B236","v":0},"0-DNA",{"$f":"IF(VLOOKUP($C236, 'Nanodrop Data Raw'!$C:$L, 10, FALSE)<>\"\", VLOOKUP($C236, 'Nanodrop Data Raw'!$C:$L, 10, FALSE), VLOOKUP($C236, 'Nanodrop Data Raw'!$C:$L, 2, FALSE))","v":{"$error":"#N/A"}},{"$error":"#N/A"}]
[{"$f":"'Sample Information'!A237","v":236},{"$f":"'Sample Information'!B237","v":0},"0-DNA",{"$f":"IF(VLOOKUP($C237, 'Nanodrop Data Raw'!$C:$L, 10, FALSE)<>\"\", VLOOKUP($C237, 'Nanodrop Data Raw'!$C:$L, 10, FALSE), VLOOKUP($C237, 'Nanodrop Data Raw'!$C:$L, 2, FALSE))","v":{"$error":"#N/A"}},{"$error":"#N/A"}]
[{"$f":"'Sample Information'!A238","v":237},{"$f":"'Sample Information'!B238","v":0},"0-DNA",{"$f":"IF(VLOOKUP($C238, 'Nanodrop Data Raw'!$C:$L, 10, FALSE)<>\"\", VLOOKUP($C238, 'Nanodrop Data Raw'!$C:$L, 10, FALSE), VLOOKUP($C238, 'Nanodrop Data Raw'!$C:$L, 2, FALSE))","v":{"$error":"#N/A"}},{"$error":"#N/A"}]
[{"$f":"'Sample Information'!A239","v":238},{"$f":"'Sample Information'!B239","v":0},"0-DNA",{"$f":"IF(VLOOKUP($C239, 'Nanodrop Data Raw'!$C:$L, 10, FALSE)<>\"\", VLOOKUP($C239, 'Nanodrop Data Raw'!$C:$L, 10, FALSE), VLOOKUP($C239, 'Nanodrop Data Raw'!$C:$L, 2, FALSE))","v":{"$error":"#N/A"}},{"$error":"#N/A"}]
[{"$f":"'Sample Information'!A240","v":239},{"$f":"'Sample Information'!B240","v":0},"0-DNA",{"$f":"IF(VLOOKUP($C240, 'Nanodrop Data Raw'!$C:$L, 10, FALSE)<>\"\", VLOOKUP($C240, 'Nanodrop Data Raw'!$C:$L, 10, FALSE), VLOOKUP($C240, 'Nanodrop Data Raw'!$C:$L, 2, FALSE))","v":{"$error":"#N/A"}},{"$error":"#N/A"}]
[{"$f":"'Sample Information'!A241","v":240},{"$f":"'Sample Information'!B241","v":0},"0-DNA",{"$f":"IF(VLOOKUP($C241, 'Nanodrop Data Raw'!$C:$L, 10, FALSE)<>\"\", VLOOKUP($C241, 'Nanodrop Data Raw'!$C:$L, 10, FALSE), VLOOKUP($C241, 'Nanodrop Data Raw'!$C:$L, 2, FALSE))","v":{"$error":"#N/A"}},{"$error":"#N/A"}]
[{"$f":"'Sample Information'!A242","v":241},{"$f":"'Sample Information'!B242","v":0},"0-DNA",{"$f":"IF(VLOOKUP($C242, 'Nanodrop Data Raw'!$C:$L, 10, FALSE)<>\"\", VLOOKUP($C242, 'Nanodrop Data Raw'!$C:$L, 10, FALSE), VLOOKUP($C242, 'Nanodrop Data Raw'!$C:$L, 2, FALSE))","v":{"$error":"#N/A"}},{"$error":"#N/A"}]
[{"$f":"'Sample Information'!A243","v":242},{"$f":"'Sample Information'!B243","v":0},"0-DNA",{"$f":"IF(VLOOKUP($C243, 'Nanodrop Data Raw'!$C:$L, 10, FALSE)<>\"\", VLOOKUP($C243, 'Nanodrop Data Raw'!$C:$L, 10, FALSE), VLOOKUP($C243, 'Nanodrop Data Raw'!$C:$L, 2, FALSE))","v":{"$error":"#N/A"}},{"$error":"#N/A"}]
[{"$f":"'Sample Information'!A244","v":243},{"$f":"'Sample Information'!B244","v":0},"0-DNA",{"$f":"IF(VLOOKUP($C244, 'Nanodrop Data Raw'!$C:$L, 10, FALSE)<>\"\", VLOOKUP($C244, 'Nanodrop Data Raw'!$C:$L, 10, FALSE), VLOOKUP($C244, 'Nanodrop Data Raw'!$C:$L, 2, FALSE))","v":{"$error":"#N/A"}},{"$error":"#N/A"}]
[{"$f":"'Sample Information'!A245","v":244},{"$f":"'Sample Information'!B245","v":0},"0-DNA",{"$f":"IF(VLOOKUP($C245, 'Nanodrop Data Raw'!$C:$L, 10, FALSE)<>\"\", VLOOKUP($C245, 'Nanodrop Data Raw'!$C:$L, 10, FALSE), VLOOKUP($C245, 'Nanodrop Data Raw'!$C:$L, 2, FALSE))","v":{"$error":"#N/A"}},{"$error":"#N/A"}]
[{"$f":"'Sample Information'!A246","v":245},{"$f":"'Sample Information'!B246","v":0},"0-DNA",{"$f":"IF(VLOOKUP($C246, 'Nanodrop Data Raw'!$C:$L, 10, FALSE)<>\"\", VLOOKUP($C246, 'Nanodrop Data Raw'!$C:$L, 10, FALSE), VLOOKUP($C246, 'Nanodrop Data Raw'!$C:$L, 2, FALSE))","v":{"$error":"#N/A"}},{"$error":"#N/A"}]
[{"$f":"'Sample Information'!A247","v":246},{"$f":"'Sample Information'!B247","v":0},"0-DNA",{"$f":"IF(VLOOKUP($C247, 'Nanodrop Data Raw'!$C:$L, 10, FALSE)<>\"\", VLOOKUP($C247, 'Nanodrop Data Raw'!$C:$L, 10, FALSE), VLOOKUP($C247, 'Nanodrop Data Raw'!$C:$L, 2, FALSE))","v":{"$error":"#N/A"}},{"$error":"#N/A"}]
[{"$f":"'Sample Information'!A248","v":247},{"$f":"'Sample Information'!B248","v":0},"0-DNA",{"$f":"IF(VLOOKUP($C248, 'Nanodrop Data Raw'!$C:$L, 10, FALSE)<>\"\", VLOOKUP($C248, 'Nanodrop Data Raw'!$C:$L, 10, FALSE), VLOOKUP($C248, 'Nanodrop Data Raw'!$C:$L, 2, FALSE))","v":{"$error":"#N/A"}},{"$error":"#N/A"}]
[{"$f":"'Sample Information'!A249","v":248},{"$f":"'Sample Information'!B249","v":0},"0-DNA",{"$f":"IF(VLOOKUP($C249, 'Nanodrop Data Raw'!$C:$L, 10, FALSE)<>\"\", VLOOKUP($C249, 'Nanodrop Data Raw'!$C:$L, 10, FALSE), VLOOKUP($C249, 'Nanodrop Data Raw'!$C:$L, 2, FALSE))","v":{"$error":"#N/A"}},{"$error":"#N/A"}]
[{"$f":"'Sample Information'!A250","v":249},{"$f":"'Sample Information'!B250","v":0},"0-DNA",{"$f":"IF(VLOOKUP($C250, 'Nanodrop Data Raw'!$C:$L, 10, FALSE)<>\"\", VLOOKUP($C250, 'Nanodrop Data Raw'!$C:$L, 10, FALSE), VLOOKUP($C250, 'Nanodrop Data Raw'!$C:$L, 2, FALSE))","v":{"$error":"#N/A"}},{"$error":"#N/A"}]
[{"$f":"'Sample Information'!A251","v":250},{"$f":"'Sample Information'!B251","v":0},"0-DNA",{"$f":"IF(VLOOKUP($C251, 'Nanodrop Data Raw'!$C:$L, 10, FALSE)<>\"\", VLOOKUP($C251, 'Nanodrop Data Raw'!$C:$L, 10, FALSE), VLOOKUP($C251, 'Nanodrop Data Raw'!$C:$L, 2, FALSE))","v":{"$error":"#N/A"}},{"$error":"#N/A"}]
[{"$f":"'Sample Information'!A252","v":251},{"$f":"'Sample Information'!B252","v":0},"0-DNA",{"$f":"IF(VLOOKUP($C252, 'Nanodrop Data Raw'!$C:$L, 10, FALSE)<>\"\", VLOOKUP($C252, 'Nanodrop Data Raw'!$C:$L, 10, FALSE), VLOOKUP($C252, 'Nanodrop Data Raw'!$C:$L, 2, FALSE))","v":{"$error":"#N/A"}},{"$error":"#N/A"}]
[{"$f":"'Sample Information'!A253","v":252},{"$f":"'Sample Information'!B253","v":0},"0-DNA",{"$f":"IF(VLOOKUP($C253, 'Nanodrop Data Raw'!$C:$L, 10, FALSE)<>\"\", VLOOKUP($C253, 'Nanodrop Data Raw'!$C:$L, 10, FALSE), VLOOKUP($C253, 'Nanodrop Data Raw'!$C:$L, 2, FALSE))","v":{"$error":"#N/A"}},{"$error":"#N/A"}]
[{"$f":"'Sample Information'!A254","v":253},{"$f":"'Sample Information'!B254","v":0},"0-DNA",{"$f":"IF(VLOOKUP($C254, 'Nanodrop Data Raw'!$C:$L, 10, FALSE)<>\"\", VLOOKUP($C254, 'Nanodrop Data Raw'!$C:$L, 10, FALSE), VLOOKUP($C254, 'Nanodrop Data Raw'!$C:$L, 2, FALSE))","v":{"$error":"#N/A"}},{"$error":"#N/A"}]
[{"$f":"'Sample Information'!A255","v":254},{"$f":"'Sample Information'!B255","v":0},"0-DNA",{"$f":"IF(VLOOKUP($C255, 'Nanodrop Data Raw'!$C:$L, 10, FALSE)<>\"\", VLOOKUP($C255, 'Nanodrop Data Raw'!$C:$L, 10, FALSE), VLOOKUP($C255, 'Nanodrop Data Raw'!$C:$L, 2, FALSE))","v":{"$error":"#N/A"}},{"$error":"#N/A"}]
[{"$f":"'Sample Information'!A256","v":255},{"$f":"'Sample Information'!B256","v":0},"0-DNA",{"$f":"IF(VLOOKUP($C256, 'Nanodrop Data Raw'!$C:$L, 10, FALSE)<>\"\", VLOOKUP($C256, 'Nanodrop Data Raw'!$C:$L, 10, FALSE), VLOOKUP($C256, 'Nanodrop Data Raw'!$C:$L, 2, FALSE))","v":{"$error":"#N/A"}},{"$error":"#N/A"}]
[{"$f":"'Sample Information'!A257","v":256},{"$f":"'Sample Information'!B257","v":0},"0-DNA",{"$f":"IF(VLOOKUP($C257, 'Nanodrop Data Raw'!$C:$L, 10, FALSE)<>\"\", VLOOKUP($C257, 'Nanodrop Data Raw'!$C:$L, 10, FALSE), VLOOKUP($C257, 'Nanodrop Data Raw'!$C:$L, 2, FALSE))","v":{"$error":"#N/A"}},{"$error":"#N/A"}]
[{"$f":"'Sample Information'!A258","v":257},{"$f":"'Sample Information'!B258","v":0},"0-DNA",{"$f":"IF(VLOOKUP($C258, 'Nanodrop Data Raw'!$C:$L, 10, FALSE)<>\"\", VLOOKUP($C258, 'Nanodrop Data Raw'!$C:$L, 10, FALSE), VLOOKUP($C258, 'Nanodrop Data Raw'!$C:$L, 2, FALSE))","v":{"$error":"#N/A"}},{"$error":"#N/A"}]
[{"$f":"'Sample Information'!A259","v":258},{"$f":"'Sample Information'!B259","v":0},{"$f":"CONCATENATE(B259,\"-DNA\")","v":"0-DNA"},{"$f":"IF(VLOOKUP($C259, 'Nanodrop Data Raw'!$C:$L, 10, FALSE)<>\"\", VLOOKUP($C259, 'Nanodrop Data Raw'!$C:$L, 10, FALSE), VLOOKUP($C259, 'Nanodrop Data Raw'!$C:$L, 2, FALSE))","v":{"$error":"#N/A"}},{"$f":"IF((5*D259-50)/10>0,(5*D259-50)/10,\"-\")","v":{"$error":"#N/A"}}]
[{"$f":"'Sample Information'!A260","v":259},{"$f":"'Sample Information'!B260","v":0},"0-DNA",{"$f":"IF(VLOOKUP($C260, 'Nanodrop Data Raw'!$C:$L, 10, FALSE)<>\"\", VLOOKUP($C260, 'Nanodrop Data Raw'!$C:$L, 10, FALSE), VLOOKUP($C260, 'Nanodrop Data Raw'!$C:$L, 2, FALSE))","v":{"$error":"#N/A"}},{"$error":"#N/A"}]
[{"$f":"'Sample Information'!A261","v":260},{"$f":"'Sample Information'!B261","v":0},"0-DNA",{"$f":"IF(VLOOKUP($C261, 'Nanodrop Data Raw'!$C:$L, 10, FALSE)<>\"\", VLOOKUP($C261, 'Nanodrop Data Raw'!$C:$L, 10, FALSE), VLOOKUP($C261, 'Nanodrop Data Raw'!$C:$L, 2, FALSE))","v":{"$error":"#N/A"}},{"$error":"#N/A"}]
[{"$f":"'Sample Information'!A262","v":261},{"$f":"'Sample Information'!B262","v":0},"0-DNA",{"$f":"IF(VLOOKUP($C262, 'Nanodrop Data Raw'!$C:$L, 10, FALSE)<>\"\", VLOOKUP($C262, 'Nanodrop Data Raw'!$C:$L, 10, FALSE), VLOOKUP($C262, 'Nanodrop Data Raw'!$C:$L, 2, FALSE))","v":{"$error":"#N/A"}},{"$error":"#N/A"}]
[{"$f":"'Sample Information'!A263","v":262},{"$f":"'Sample Information'!B263","v":0},"0-DNA",{"$f":"IF(VLOOKUP($C263, 'Nanodrop Data Raw'!$C:$L, 10, FALSE)<>\"\", VLOOKUP($C263, 'Nanodrop Data Raw'!$C:$L, 10, FALSE), VLOOKUP($C263, 'Nanodrop Data Raw'!$C:$L, 2, FALSE))","v":{"$error":"#N/A"}},{"$error":"#N/A"}]
[{"$f":"'Sample Information'!A264","v":263},{"$f":"'Sample Information'!B264","v":0},"0-DNA",{"$f":"IF(VLOOKUP($C264, 'Nanodrop Data Raw'!$C:$L, 10, FALSE)<>\"\", VLOOKUP($C264, 'Nanodrop Data Raw'!$C:$L, 10, FALSE), VLOOKUP($C264, 'Nanodrop Data Raw'!$C:$L, 2, FALSE))","v":{"$error":"#N/A"}},{"$error":"#N/A"}]
[{"$f":"'Sample Information'!A265","v":264},{"$f":"'Sample Information'!B265","v":0},"0-DNA",{"$f":"IF(VLOOKUP($C265, 'Nanodrop Data Raw'!$C:$L, 10, FALSE)<>\"\", VLOOKUP($C265, 'Nanodrop Data Raw'!$C:$L, 10, FALSE), VLOOKUP($C265, 'Nanodrop Data Raw'!$C:$L, 2, FALSE))","v":{"$error":"#N/A"}},{"$error":"#N/A"}]
[{"$f":"'Sample Information'!A266","v":265},{"$f":"'Sample Information'!B266","v":0},"0-DNA",{"$f":"IF(VLOOKUP($C266, 'Nanodrop Data Raw'!$C:$L, 10, FALSE)<>\"\", VLOOKUP($C266, 'Nanodrop Data Raw'!$C:$L, 10, FALSE), VLOOKUP($C266, 'Nanodrop Data Raw'!$C:$L, 2, FALSE))","v":{"$error":"#N/A"}},{"$error":"#N/A"}]
[{"$f":"'Sample Information'!A267","v":266},{"$f":"'Sample Information'!B267","v":0},"0-DNA",{"$f":"IF(VLOOKUP($C267, 'Nanodrop Data Raw'!$C:$L, 10, FALSE)<>\"\", VLOOKUP($C267, 'Nanodrop Data Raw'!$C:$L, 10, FALSE), VLOOKUP($C267, 'Nanodrop Data Raw'!$C:$L, 2, FALSE))","v":{"$error":"#N/A"}},{"$error":"#N/A"}]
[{"$f":"'Sample Information'!A268","v":267},{"$f":"'Sample Information'!B268","v":0},"0-DNA",{"$f":"IF(VLOOKUP($C268, 'Nanodrop Data Raw'!$C:$L, 10, FALSE)<>\"\", VLOOKUP($C268, 'Nanodrop Data Raw'!$C:$L, 10, FALSE), VLOOKUP($C268, 'Nanodrop Data Raw'!$C:$L, 2, FALSE))","v":{"$error":"#N/A"}},{"$error":"#N/A"}]
[{"$f":"'Sample Information'!A269","v":268},{"$f":"'Sample Information'!B269","v":0},"0-DNA",{"$f":"IF(VLOOKUP($C269, 'Nanodrop Data Raw'!$C:$L, 10, FALSE)<>\"\", VLOOKUP($C269, 'Nanodrop Data Raw'!$C:$L, 10, FALSE), VLOOKUP($C269, 'Nanodrop Data Raw'!$C:$L, 2, FALSE))","v":{"$error":"#N/A"}},{"$error":"#N/A"}]
[{"$f":"'Sample Information'!A270","v":269},{"$f":"'Sample Information'!B270","v":0},"0-DNA",{"$f":"IF(VLOOKUP($C270, 'Nanodrop Data Raw'!$C:$L, 10, FALSE)<>\"\", VLOOKUP($C270, 'Nanodrop Data Raw'!$C:$L, 10, FALSE), VLOOKUP($C270, 'Nanodrop Data Raw'!$C:$L, 2, FALSE))","v":{"$error":"#N/A"}},{"$error":"#N/A"}]
[{"$f":"'Sample Information'!A271","v":270},{"$f":"'Sample Information'!B271","v":0},"0-DNA",{"$f":"IF(VLOOKUP($C271, 'Nanodrop Data Raw'!$C:$L, 10, FALSE)<>\"\", VLOOKUP($C271, 'Nanodrop Data Raw'!$C:$L, 10, FALSE), VLOOKUP($C271, 'Nanodrop Data Raw'!$C:$L, 2, FALSE))","v":{"$error":"#N/A"}},{"$error":"#N/A"}]
[{"$f":"'Sample Information'!A272","v":271},{"$f":"'Sample Information'!B272","v":0},"0-DNA",{"$f":"IF(VLOOKUP($C272, 'Nanodrop Data Raw'!$C:$L, 10, FALSE)<>\"\", VLOOKUP($C272, 'Nanodrop Data Raw'!$C:$L, 10, FALSE), VLOOKUP($C272, 'Nanodrop Data Raw'!$C:$L, 2, FALSE))","v":{"$error":"#N/A"}},{"$error":"#N/A"}]
[{"$f":"'Sample Information'!A273","v":272},{"$f":"'Sample Information'!B273","v":0},"0-DNA",{"$f":"IF(VLOOKUP($C273, 'Nanodrop Data Raw'!$C:$L, 10, FALSE)<>\"\", VLOOKUP($C273, 'Nanodrop Data Raw'!$C:$L, 10, FALSE), VLOOKUP($C273, 'Nanodrop Data Raw'!$C:$L, 2, FALSE))","v":{"$error":"#N/A"}},{"$error":"#N/A"}]
[{"$f":"'Sample Information'!A274","v":273},{"$f":"'Sample Information'!B274","v":0},"0-DNA",{"$f":"IF(VLOOKUP($C274, 'Nanodrop Data Raw'!$C:$L, 10, FALSE)<>\"\", VLOOKUP($C274, 'Nanodrop Data Raw'!$C:$L, 10, FALSE), VLOOKUP($C274, 'Nanodrop Data Raw'!$C:$L, 2, FALSE))","v":{"$error":"#N/A"}},{"$error":"#N/A"}]
[{"$f":"'Sample Information'!A275","v":274},{"$f":"'Sample Information'!B275","v":0},"0-DNA",{"$f":"IF(VLOOKUP($C275, 'Nanodrop Data Raw'!$C:$L, 10, FALSE)<>\"\", VLOOKUP($C275, 'Nanodrop Data Raw'!$C:$L, 10, FALSE), VLOOKUP($C275, 'Nanodrop Data Raw'!$C:$L, 2, FALSE))","v":{"$error":"#N/A"}},{"$error":"#N/A"}]
[{"$f":"'Sample Information'!A276","v":275},{"$f":"'Sample Information'!B276","v":0},"0-DNA",{"$f":"IF(VLOOKUP($C276, 'Nanodrop Data Raw'!$C:$L, 10, FALSE)<>\"\", VLOOKUP($C276, 'Nanodrop Data Raw'!$C:$L, 10, FALSE), VLOOKUP($C276, 'Nanodrop Data Raw'!$C:$L, 2, FALSE))","v":{"$error":"#N/A"}},{"$error":"#N/A"}]
[{"$f":"'Sample Information'!A277","v":276},{"$f":"'Sample Information'!B277","v":0},"0-DNA",{"$f":"IF(VLOOKUP($C277, 'Nanodrop Data Raw'!$C:$L, 10, FALSE)<>\"\", VLOOKUP($C277, 'Nanodrop Data Raw'!$C:$L, 10, FALSE), VLOOKUP($C277, 'Nanodrop Data Raw'!$C:$L, 2, FALSE))","v":{"$error":"#N/A"}},{"$error":"#N/A"}]
[{"$f":"'Sample Information'!A278","v":277},{"$f":"'Sample Information'!B278","v":0},"0-DNA",{"$f":"IF(VLOOKUP($C278, 'Nanodrop Data Raw'!$C:$L, 10, FALSE)<>\"\", VLOOKUP($C278, 'Nanodrop Data Raw'!$C:$L, 10, FALSE), VLOOKUP($C278, 'Nanodrop Data Raw'!$C:$L, 2, FALSE))","v":{"$error":"#N/A"}},{"$error":"#N/A"}]
[{"$f":"'Sample Information'!A279","v":278},{"$f":"'Sample Information'!B279","v":0},"0-DNA",{"$f":"IF(VLOOKUP($C279, 'Nanodrop Data Raw'!$C:$L, 10, FALSE)<>\"\", VLOOKUP($C279, 'Nanodrop Data Raw'!$C:$L, 10, FALSE), VLOOKUP($C279, 'Nanodrop Data Raw'!$C:$L, 2, FALSE))","v":{"$error":"#N/A"}},{"$error":"#N/A"}]
[{"$f":"'Sample Information'!A280","v":279},{"$f":"'Sample Information'!B280","v":0},"0-DNA",{"$f":"IF(VLOOKUP($C280, 'Nanodrop Data Raw'!$C:$L, 10, FALSE)<>\"\", VLOOKUP($C280, 'Nanodrop Data Raw'!$C:$L, 10, FALSE), VLOOKUP($C280, 'Nanodrop Data Raw'!$C:$L, 2, FALSE))","v":{"$error":"#N/A"}},{"$error":"#N/A"}]
[{"$f":"'Sample Information'!A281","v":280},{"$f":"'Sample Information'!B281","v":0},"0-DNA",{"$f":"IF(VLOOKUP($C281, 'Nanodrop Data Raw'!$C:$L, 10, FALSE)<>\"\", VLOOKUP($C281, 'Nanodrop Data Raw'!$C:$L, 10, FALSE), VLOOKUP($C281, 'Nanodrop Data Raw'!$C:$L, 2, FALSE))","v":{"$error":"#N/A"}},{"$error":"#N/A"}]
[{"$f":"'Sample Information'!A282","v":281},{"$f":"'Sample Information'!B282","v":0},"0-DNA",{"$f":"IF(VLOOKUP($C282, 'Nanodrop Data Raw'!$C:$L, 10, FALSE)<>\"\", VLOOKUP($C282, 'Nanodrop Data Raw'!$C:$L, 10, FALSE), VLOOKUP($C282, 'Nanodrop Data Raw'!$C:$L, 2, FALSE))","v":{"$error":"#N/A"}},{"$error":"#N/A"}]
[{"$f":"'Sample Information'!A283","v":282},{"$f":"'Sample Information'!B283","v":0},"0-DNA",{"$f":"IF(VLOOKUP($C283, 'Nanodrop Data Raw'!$C:$L, 10, FALSE)<>\"\", VLOOKUP($C283, 'Nanodrop Data Raw'!$C:$L, 10, FALSE), VLOOKUP($C283, 'Nanodrop Data Raw'!$C:$L, 2, FALSE))","v":{"$error":"#N/A"}},{"$error":"#N/A"}]
[{"$f":"'Sample Information'!A284","v":283},{"$f":"'Sample Information'!B284","v":0},"0-DNA",{"$f":"IF(VLOOKUP($C284, 'Nanodrop Data Raw'!$C:$L, 10, FALSE)<>\"\", VLOOKUP($C284, 'Nanodrop Data Raw'!$C:$L, 10, FALSE), VLOOKUP($C284, 'Nanodrop Data Raw'!$C:$L, 2, FALSE))","v":{"$error":"#N/A"}},{"$error":"#N/A"}]
[{"$f":"'Sample Information'!A285","v":284},{"$f":"'Sample Information'!B285","v":0},"0-DNA",{"$f":"IF(VLOOKUP($C285, 'Nanodrop Data Raw'!$C:$L, 10, FALSE)<>\"\", VLOOKUP($C285, 'Nanodrop Data Raw'!$C:$L, 10, FALSE), VLOOKUP($C285, 'Nanodrop Data Raw'!$C:$L, 2, FALSE))","v":{"$error":"#N/A"}},{"$error":"#N/A"}]
[{"$f":"'Sample Information'!A286","v":285},{"$f":"'Sample Information'!B286","v":0},"0-DNA",{"$f":"IF(VLOOKUP($C286, 'Nanodrop Data Raw'!$C:$L, 10, FALSE)<>\"\", VLOOKUP($C286, 'Nanodrop Data Raw'!$C:$L, 10, FALSE), VLOOKUP($C286, 'Nanodrop Data Raw'!$C:$L, 2, FALSE))","v":{"$error":"#N/A"}},{"$error":"#N/A"}]
[{"$f":"'Sample Information'!A287","v":286},{"$f":"'Sample Information'!B287","v":0},"0-DNA",{"$f":"IF(VLOOKUP($C287, 'Nanodrop Data Raw'!$C:$L, 10, FALSE)<>\"\", VLOOKUP($C287, 'Nanodrop Data Raw'!$C:$L, 10, FALSE), VLOOKUP($C287, 'Nanodrop Data Raw'!$C:$L, 2, FALSE))","v":{"$error":"#N/A"}},{"$error":"#N/A"}]
[{"$f":"'Sample Information'!A288","v":287},{"$f":"'Sample Information'!B288","v":0},"0-DNA",{"$f":"IF(VLOOKUP($C288, 'Nanodrop Data Raw'!$C:$L, 10, FALSE)<>\"\", VLOOKUP($C288, 'Nanodrop Data Raw'!$C:$L, 10, FALSE), VLOOKUP($C288, 'Nanodrop Data Raw'!$C:$L, 2, FALSE))","v":{"$error":"#N/A"}},{"$error":"#N/A"}]
[{"$f":"'Sample Information'!A289","v":288},{"$f":"'Sample Information'!B289","v":0},"0-DNA",{"$f":"IF(VLOOKUP($C289, 'Nanodrop Data Raw'!$C:$L, 10, FALSE)<>\"\", VLOOKUP($C289, 'Nanodrop Data Raw'!$C:$L, 10, FALSE), VLOOKUP($C289, 'Nanodrop Data Raw'!$C:$L, 2, FALSE))","v":{"$error":"#N/A"}},{"$error":"#N/A"}]
[{"$f":"'Sample Information'!A290","v":289},{"$f":"'Sample Information'!B290","v":0},"0-DNA",{"$f":"IF(VLOOKUP($C290, 'Nanodrop Data Raw'!$C:$L, 10, FALSE)<>\"\", VLOOKUP($C290, 'Nanodrop Data Raw'!$C:$L, 10, FALSE), VLOOKUP($C290, 'Nanodrop Data Raw'!$C:$L, 2, FALSE))","v":{"$error":"#N/A"}},{"$error":"#N/A"}]
[{"$f":"'Sample Information'!A291","v":290},{"$f":"'Sample Information'!B291","v":0},"0-DNA",{"$f":"IF(VLOOKUP($C291, 'Nanodrop Data Raw'!$C:$L, 10, FALSE)<>\"\", VLOOKUP($C291, 'Nanodrop Data Raw'!$C:$L, 10, FALSE), VLOOKUP($C291, 'Nanodrop Data Raw'!$C:$L, 2, FALSE))","v":{"$error":"#N/A"}},{"$error":"#N/A"}]
[{"$f":"'Sample Information'!A292","v":291},{"$f":"'Sample Information'!B292","v":0},"0-DNA",{"$f":"IF(VLOOKUP($C292, 'Nanodrop Data Raw'!$C:$L, 10, FALSE)<>\"\", VLOOKUP($C292, 'Nanodrop Data Raw'!$C:$L, 10, FALSE), VLOOKUP($C292, 'Nanodrop Data Raw'!$C:$L, 2, FALSE))","v":{"$error":"#N/A"}},{"$error":"#N/A"}]
[{"$f":"'Sample Information'!A293","v":292},{"$f":"'Sample Information'!B293","v":0},"0-DNA",{"$f":"IF(VLOOKUP($C293, 'Nanodrop Data Raw'!$C:$L, 10, FALSE)<>\"\", VLOOKUP($C293, 'Nanodrop Data Raw'!$C:$L, 10, FALSE), VLOOKUP($C293, 'Nanodrop Data Raw'!$C:$L, 2, FALSE))","v":{"$error":"#N/A"}},{"$error":"#N/A"}]
[{"$f":"'Sample Information'!A294","v":293},{"$f":"'Sample Information'!B294","v":0},"0-DNA",{"$f":"IF(VLOOKUP($C294, 'Nanodrop Data Raw'!$C:$L, 10, FALSE)<>\"\", VLOOKUP($C294, 'Nanodrop Data Raw'!$C:$L, 10, FALSE), VLOOKUP($C294, 'Nanodrop Data Raw'!$C:$L, 2, FALSE))","v":{"$error":"#N/A"}},{"$error":"#N/A"}]
[{"$f":"'Sample Information'!A295","v":294},{"$f":"'Sample Information'!B295","v":0},"0-DNA",{"$f":"IF(VLOOKUP($C295, 'Nanodrop Data Raw'!$C:$L, 10, FALSE)<>\"\", VLOOKUP($C295, 'Nanodrop Data Raw'!$C:$L, 10, FALSE), VLOOKUP($C295, 'Nanodrop Data Raw'!$C:$L, 2, FALSE))","v":{"$error":"#N/A"}},{"$error":"#N/A"}]
[{"$f":"'Sample Information'!A296","v":295},{"$f":"'Sample Information'!B296","v":0},"0-DNA",{"$f":"IF(VLOOKUP($C296, 'Nanodrop Data Raw'!$C:$L, 10, FALSE)<>\"\", VLOOKUP($C296, 'Nanodrop Data Raw'!$C:$L, 10, FALSE), VLOOKUP($C296, 'Nanodrop Data Raw'!$C:$L, 2, FALSE))","v":{"$error":"#N/A"}},{"$error":"#N/A"}]
[{"$f":"'Sample Information'!A297","v":296},{"$f":"'Sample Information'!B297","v":0},"0-DNA",{"$f":"IF(VLOOKUP($C297, 'Nanodrop Data Raw'!$C:$L, 10, FALSE)<>\"\", VLOOKUP($C297, 'Nanodrop Data Raw'!$C:$L, 10, FALSE), VLOOKUP($C297, 'Nanodrop Data Raw'!$C:$L, 2, FALSE))","v":{"$error":"#N/A"}},{"$error":"#N/A"}]
[{"$f":"'Sample Information'!A298","v":297},{"$f":"'Sample Information'!B298","v":0},"0-DNA",{"$f":"IF(VLOOKUP($C298, 'Nanodrop Data Raw'!$C:$L, 10, FALSE)<>\"\", VLOOKUP($C298, 'Nanodrop Data Raw'!$C:$L, 10, FALSE), VLOOKUP($C298, 'Nanodrop Data Raw'!$C:$L, 2, FALSE))","v":{"$error":"#N/A"}},{"$error":"#N/A"}]
[{"$f":"'Sample Information'!A299","v":298},{"$f":"'Sample Information'!B299","v":0},"0-DNA",{"$f":"IF(VLOOKUP($C299, 'Nanodrop Data Raw'!$C:$L, 10, FALSE)<>\"\", VLOOKUP($C299, 'Nanodrop Data Raw'!$C:$L, 10, FALSE), VLOOKUP($C299, 'Nanodrop Data Raw'!$C:$L, 2, FALSE))","v":{"$error":"#N/A"}},{"$error":"#N/A"}]
[{"$f":"'Sample Information'!A300","v":299},{"$f":"'Sample Information'!B300","v":0},"0-DNA",{"$f":"IF(VLOOKUP($C300, 'Nanodrop Data Raw'!$C:$L, 10, FALSE)<>\"\", VLOOKUP($C300, 'Nanodrop Data Raw'!$C:$L, 10, FALSE), VLOOKUP($C300, 'Nanodrop Data Raw'!$C:$L, 2, FALSE))","v":{"$error":"#N/A"}},{"$error":"#N/A"}]
[{"$f":"'Sample Information'!A301","v":300},{"$f":"'Sample Information'!B301","v":0},"0-DNA",{"$f":"IF(VLOOKUP($C301, 'Nanodrop Data Raw'!$C:$L, 10, FALSE)<>\"\", VLOOKUP($C301, 'Nanodrop Data Raw'!$C:$L, 10, FALSE), VLOOKUP($C301, 'Nanodrop Data Raw'!$C:$L, 2, FALSE))","v":{"$error":"#N/A"}},{"$error":"#N/A"}]
[{"$f":"'Sample Information'!A302","v":301},{"$f":"'Sample Information'!B302","v":0},"0-DNA",{"$f":"IF(VLOOKUP($C302, 'Nanodrop Data Raw'!$C:$L, 10, FALSE)<>\"\", VLOOKUP($C302, 'Nanodrop Data Raw'!$C:$L, 10, FALSE), VLOOKUP($C302, 'Nanodrop Data Raw'!$C:$L, 2, FALSE))","v":{"$error":"#N/A"}},{"$error":"#N/A"}]
[{"$f":"'Sample Information'!A303","v":302},{"$f":"'Sample Information'!B303","v":0},"0-DNA",{"$f":"IF(VLOOKUP($C303, 'Nanodrop Data Raw'!$C:$L, 10, FALSE)<>\"\", VLOOKUP($C303, 'Nanodrop Data Raw'!$C:$L, 10, FALSE), VLOOKUP($C303, 'Nanodrop Data Raw'!$C:$L, 2, FALSE))","v":{"$error":"#N/A"}},{"$error":"#N/A"}]
[{"$f":"'Sample Information'!A304","v":303},{"$f":"'Sample Information'!B304","v":0},"0-DNA",{"$f":"IF(VLOOKUP($C304, 'Nanodrop Data Raw'!$C:$L, 10, FALSE)<>\"\", VLOOKUP($C304, 'Nanodrop Data Raw'!$C:$L, 10, FALSE), VLOOKUP($C304, 'Nanodrop Data Raw'!$C:$L, 2, FALSE))","v":{"$error":"#N/A"}},{"$error":"#N/A"}]
[{"$f":"'Sample Information'!A305","v":304},{"$f":"'Sample Information'!B305","v":0},"0-DNA",{"$f":"IF(VLOOKUP($C305, 'Nanodrop Data Raw'!$C:$L, 10, FALSE)<>\"\", VLOOKUP($C305, 'Nanodrop Data Raw'!$C:$L, 10, FALSE), VLOOKUP($C305, 'Nanodrop Data Raw'!$C:$L, 2, FALSE))","v":{"$error":"#N/A"}},{"$error":"#N/A"}]
[{"$f":"'Sample Information'!A306","v":305},{"$f":"'Sample Information'!B306","v":0},"0-DNA",{"$f":"IF(VLOOKUP($C306, 'Nanodrop Data Raw'!$C:$L, 10, FALSE)<>\"\", VLOOKUP($C306, 'Nanodrop Data Raw'!$C:$L, 10, FALSE), VLOOKUP($C306, 'Nanodrop Data Raw'!$C:$L, 2, FALSE))","v":{"$error":"#N/A"}},{"$error":"#N/A"}]
[{"$f":"'Sample Information'!A307","v":306},{"$f":"'Sample Information'!B307","v":0},"0-DNA",{"$f":"IF(VLOOKUP($C307, 'Nanodrop Data Raw'!$C:$L, 10, FALSE)<>\"\", VLOOKUP($C307, 'Nanodrop Data Raw'!$C:$L, 10, FALSE), VLOOKUP($C307, 'Nanodrop Data Raw'!$C:$L, 2, FALSE))","v":{"$error":"#N/A"}},{"$error":"#N/A"}]
[{"$f":"'Sample Information'!A308","v":307},{"$f":"'Sample Information'!B308","v":0},"0-DNA",{"$f":"IF(VLOOKUP($C308, 'Nanodrop Data Raw'!$C:$L, 10, FALSE)<>\"\", VLOOKUP($C308, 'Nanodrop Data Raw'!$C:$L, 10, FALSE), VLOOKUP($C308, 'Nanodrop Data Raw'!$C:$L, 2, FALSE))","v":{"$error":"#N/A"}},{"$error":"#N/A"}]
[{"$f":"'Sample Information'!A309","v":308},{"$f":"'Sample Information'!B309","v":0},"0-DNA",{"$f":"IF(VLOOKUP($C309, 'Nanodrop Data Raw'!$C:$L, 10, FALSE)<>\"\", VLOOKUP($C309, 'Nanodrop Data Raw'!$C:$L, 10, FALSE), VLOOKUP($C309, 'Nanodrop Data Raw'!$C:$L, 2, FALSE))","v":{"$error":"#N/A"}},{"$error":"#N/A"}]
[{"$f":"'Sample Information'!A310","v":309},{"$f":"'Sample Information'!B310","v":0},"0-DNA",{"$f":"IF(VLOOKUP($C310, 'Nanodrop Data Raw'!$C:$L, 10, FALSE)<>\"\", VLOOKUP($C310, 'Nanodrop Data Raw'!$C:$L, 10, FALSE), VLOOKUP($C310, 'Nanodrop Data Raw'!$C:$L, 2, FALSE))","v":{"$error":"#N/A"}},{"$error":"#N/A"}]
[{"$f":"'Sample Information'!A311","v":310},{"$f":"'Sample Information'!B311","v":0},"0-DNA",{"$f":"IF(VLOOKUP($C311, 'Nanodrop Data Raw'!$C:$L, 10, FALSE)<>\"\", VLOOKUP($C311, 'Nanodrop Data Raw'!$C:$L, 10, FALSE), VLOOKUP($C311, 'Nanodrop Data Raw'!$C:$L, 2, FALSE))","v":{"$error":"#N/A"}},{"$error":"#N/A"}]
[{"$f":"'Sample Information'!A312","v":311},{"$f":"'Sample Information'!B312","v":0},"0-DNA",{"$f":"IF(VLOOKUP($C312, 'Nanodrop Data Raw'!$C:$L, 10, FALSE)<>\"\", VLOOKUP($C312, 'Nanodrop Data Raw'!$C:$L, 10, FALSE), VLOOKUP($C312, 'Nanodrop Data Raw'!$C:$L, 2, FALSE))","v":{"$error":"#N/A"}},{"$error":"#N/A"}]
[{"$f":"'Sample Information'!A313","v":312},{"$f":"'Sample Information'!B313","v":0},"0-DNA",{"$f":"IF(VLOOKUP($C313, 'Nanodrop Data Raw'!$C:$L, 10, FALSE)<>\"\", VLOOKUP($C313, 'Nanodrop Data Raw'!$C:$L, 10, FALSE), VLOOKUP($C313, 'Nanodrop Data Raw'!$C:$L, 2, FALSE))","v":{"$error":"#N/A"}},{"$error":"#N/A"}]
[{"$f":"'Sample Information'!A314","v":313},{"$f":"'Sample Information'!B314","v":0},"0-DNA",{"$f":"IF(VLOOKUP($C314, 'Nanodrop Data Raw'!$C:$L, 10, FALSE)<>\"\", VLOOKUP($C314, 'Nanodrop Data Raw'!$C:$L, 10, FALSE), VLOOKUP($C314, 'Nanodrop Data Raw'!$C:$L, 2, FALSE))","v":{"$error":"#N/A"}},{"$error":"#N/A"}]
[{"$f":"'Sample Information'!A315","v":314},{"$f":"'Sample Information'!B315","v":0},"0-DNA",{"$f":"IF(VLOOKUP($C315, 'Nanodrop Data Raw'!$C:$L, 10, FALSE)<>\"\", VLOOKUP($C315, 'Nanodrop Data Raw'!$C:$L, 10, FALSE), VLOOKUP($C315, 'Nanodrop Data Raw'!$C:$L, 2, FALSE))","v":{"$error":"#N/A"}},{"$error":"#N/A"}]
[{"$f":"'Sample Information'!A316","v":315},{"$f":"'Sample Information'!B316","v":0},"0-DNA",{"$f":"IF(VLOOKUP($C316, 'Nanodrop Data Raw'!$C:$L, 10, FALSE)<>\"\", VLOOKUP($C316, 'Nanodrop Data Raw'!$C:$L, 10, FALSE), VLOOKUP($C316, 'Nanodrop Data Raw'!$C:$L, 2, FALSE))","v":{"$error":"#N/A"}},{"$error":"#N/A"}]
[{"$f":"'Sample Information'!A317","v":316},{"$f":"'Sample Information'!B317","v":0},"0-DNA",{"$f":"IF(VLOOKUP($C317, 'Nanodrop Data Raw'!$C:$L, 10, FALSE)<>\"\", VLOOKUP($C317, 'Nanodrop Data Raw'!$C:$L, 10, FALSE), VLOOKUP($C317, 'Nanodrop Data Raw'!$C:$L, 2, FALSE))","v":{"$error":"#N/A"}},{"$error":"#N/A"}]
[{"$f":"'Sample Information'!A318","v":317},{"$f":"'Sample Information'!B318","v":0},"0-DNA",{"$f":"IF(VLOOKUP($C318, 'Nanodrop Data Raw'!$C:$L, 10, FALSE)<>\"\", VLOOKUP($C318, 'Nanodrop Data Raw'!$C:$L, 10, FALSE), VLOOKUP($C318, 'Nanodrop Data Raw'!$C:$L, 2, FALSE))","v":{"$error":"#N/A"}},{"$error":"#N/A"}]
[{"$f":"'Sample Information'!A319","v":318},{"$f":"'Sample Information'!B319","v":0},"0-DNA",{"$f":"IF(VLOOKUP($C319, 'Nanodrop Data Raw'!$C:$L, 10, FALSE)<>\"\", VLOOKUP($C319, 'Nanodrop Data Raw'!$C:$L, 10, FALSE), VLOOKUP($C319, 'Nanodrop Data Raw'!$C:$L, 2, FALSE))","v":{"$error":"#N/A"}},{"$error":"#N/A"}]
[{"$f":"'Sample Information'!A320","v":319},{"$f":"'Sample Information'!B320","v":0},"0-DNA",{"$f":"IF(VLOOKUP($C320, 'Nanodrop Data Raw'!$C:$L, 10, FALSE)<>\"\", VLOOKUP($C320, 'Nanodrop Data Raw'!$C:$L, 10, FALSE), VLOOKUP($C320, 'Nanodrop Data Raw'!$C:$L, 2, FALSE))","v":{"$error":"#N/A"}},{"$error":"#N/A"}]
[{"$f":"'Sample Information'!A321","v":320},{"$f":"'Sample Information'!B321","v":0},"0-DNA",{"$f":"IF(VLOOKUP($C321, 'Nanodrop Data Raw'!$C:$L, 10, FALSE)<>\"\", VLOOKUP($C321, 'Nanodrop Data Raw'!$C:$L, 10, FALSE), VLOOKUP($C321, 'Nanodrop Data Raw'!$C:$L, 2, FALSE))","v":{"$error":"#N/A"}},{"$error":"#N/A"}]
[{"$f":"'Sample Information'!A322","v":321},{"$f":"'Sample Information'!B322","v":0},"0-DNA",{"$f":"IF(VLOOKUP($C322, 'Nanodrop Data Raw'!$C:$L, 10, FALSE)<>\"\", VLOOKUP($C322, 'Nanodrop Data Raw'!$C:$L, 10, FALSE), VLOOKUP($C322, 'Nanodrop Data Raw'!$C:$L, 2, FALSE))","v":{"$error":"#N/A"}},{"$error":"#N/A"}]
[{"$f":"'Sample Information'!A323","v":322},{"$f":"'Sample Information'!B323","v":0},{"$f":"CONCATENATE(B323,\"-DNA\")","v":"0-DNA"},{"$f":"IF(VLOOKUP($C323, 'Nanodrop Data Raw'!$C:$L, 10, FALSE)<>\"\", VLOOKUP($C323, 'Nanodrop Data Raw'!$C:$L, 10, FALSE), VLOOKUP($C323, 'Nanodrop Data Raw'!$C:$L, 2, FALSE))","v":{"$error":"#N/A"}},{"$f":"IF((5*D323-50)/10>0,(5*D323-50)/10,\"-\")","v":{"$error":"#N/A"}}]
[{"$f":"'Sample Information'!A324","v":323},{"$f":"'Sample Information'!B324","v":0},"0-DNA",{"$f":"IF(VLOOKUP($C324, 'Nanodrop Data Raw'!$C:$L, 10, FALSE)<>\"\", VLOOKUP($C324, 'Nanodrop Data Raw'!$C:$L, 10, FALSE), VLOOKUP($C324, 'Nanodrop Data Raw'!$C:$L, 2, FALSE))","v":{"$error":"#N/A"}},{"$error":"#N/A"}]
[{"$f":"'Sample Information'!A325","v":324},{"$f":"'Sample Information'!B325","v":0},"0-DNA",{"$f":"IF(VLOOKUP($C325, 'Nanodrop Data Raw'!$C:$L, 10, FALSE)<>\"\", VLOOKUP($C325, 'Nanodrop Data Raw'!$C:$L, 10, FALSE), VLOOKUP($C325, 'Nanodrop Data Raw'!$C:$L, 2, FALSE))","v":{"$error":"#N/A"}},{"$error":"#N/A"}]
[{"$f":"'Sample Information'!A326","v":325},{"$f":"'Sample Information'!B326","v":0},"0-DNA",{"$f":"IF(VLOOKUP($C326, 'Nanodrop Data Raw'!$C:$L, 10, FALSE)<>\"\", VLOOKUP($C326, 'Nanodrop Data Raw'!$C:$L, 10, FALSE), VLOOKUP($C326, 'Nanodrop Data Raw'!$C:$L, 2, FALSE))","v":{"$error":"#N/A"}},{"$error":"#N/A"}]
[{"$f":"'Sample Information'!A327","v":326},{"$f":"'Sample Information'!B327","v":0},"0-DNA",{"$f":"IF(VLOOKUP($C327, 'Nanodrop Data Raw'!$C:$L, 10, FALSE)<>\"\", VLOOKUP($C327, 'Nanodrop Data Raw'!$C:$L, 10, FALSE), VLOOKUP($C327, 'Nanodrop Data Raw'!$C:$L, 2, FALSE))","v":{"$error":"#N/A"}},{"$error":"#N/A"}]
[{"$f":"'Sample Information'!A328","v":327},{"$f":"'Sample Information'!B328","v":0},"0-DNA",{"$f":"IF(VLOOKUP($C328, 'Nanodrop Data Raw'!$C:$L, 10, FALSE)<>\"\", VLOOKUP($C328, 'Nanodrop Data Raw'!$C:$L, 10, FALSE), VLOOKUP($C328, 'Nanodrop Data Raw'!$C:$L, 2, FALSE))","v":{"$error":"#N/A"}},{"$error":"#N/A"}]
[{"$f":"'Sample Information'!A329","v":328},{"$f":"'Sample Information'!B329","v":0},"0-DNA",{"$f":"IF(VLOOKUP($C329, 'Nanodrop Data Raw'!$C:$L, 10, FALSE)<>\"\", VLOOKUP($C329, 'Nanodrop Data Raw'!$C:$L, 10, FALSE), VLOOKUP($C329, 'Nanodrop Data Raw'!$C:$L, 2, FALSE))","v":{"$error":"#N/A"}},{"$error":"#N/A"}]
[{"$f":"'Sample Information'!A330","v":329},{"$f":"'Sample Information'!B330","v":0},"0-DNA",{"$f":"IF(VLOOKUP($C330, 'Nanodrop Data Raw'!$C:$L, 10, FALSE)<>\"\", VLOOKUP($C330, 'Nanodrop Data Raw'!$C:$L, 10, FALSE), VLOOKUP($C330, 'Nanodrop Data Raw'!$C:$L, 2, FALSE))","v":{"$error":"#N/A"}},{"$error":"#N/A"}]
[{"$f":"'Sample Information'!A331","v":330},{"$f":"'Sample Information'!B331","v":0},"0-DNA",{"$f":"IF(VLOOKUP($C331, 'Nanodrop Data Raw'!$C:$L, 10, FALSE)<>\"\", VLOOKUP($C331, 'Nanodrop Data Raw'!$C:$L, 10, FALSE), VLOOKUP($C331, 'Nanodrop Data Raw'!$C:$L, 2, FALSE))","v":{"$error":"#N/A"}},{"$error":"#N/A"}]
[{"$f":"'Sample Information'!A332","v":331},{"$f":"'Sample Information'!B332","v":0},"0-DNA",{"$f":"IF(VLOOKUP($C332, 'Nanodrop Data Raw'!$C:$L, 10, FALSE)<>\"\", VLOOKUP($C332, 'Nanodrop Data Raw'!$C:$L, 10, FALSE), VLOOKUP($C332, 'Nanodrop Data Raw'!$C:$L, 2, FALSE))","v":{"$error":"#N/A"}},{"$error":"#N/A"}]
[{"$f":"'Sample Information'!A333","v":332},{"$f":"'Sample Information'!B333","v":0},"0-DNA",{"$f":"IF(VLOOKUP($C333, 'Nanodrop Data Raw'!$C:$L, 10, FALSE)<>\"\", VLOOKUP($C333, 'Nanodrop Data Raw'!$C:$L, 10, FALSE), VLOOKUP($C333, 'Nanodrop Data Raw'!$C:$L, 2, FALSE))","v":{"$error":"#N/A"}},{"$error":"#N/A"}]
[{"$f":"'Sample Information'!A334","v":333},{"$f":"'Sample Information'!B334","v":0},"0-DNA",{"$f":"IF(VLOOKUP($C334, 'Nanodrop Data Raw'!$C:$L, 10, FALSE)<>\"\", VLOOKUP($C334, 'Nanodrop Data Raw'!$C:$L, 10, FALSE), VLOOKUP($C334, 'Nanodrop Data Raw'!$C:$L, 2, FALSE))","v":{"$error":"#N/A"}},{"$error":"#N/A"}]
[{"$f":"'Sample Information'!A335","v":334},{"$f":"'Sample Information'!B335","v":0},"0-DNA",{"$f":"IF(VLOOKUP($C335, 'Nanodrop Data Raw'!$C:$L, 10, FALSE)<>\"\", VLOOKUP($C335, 'Nanodrop Data Raw'!$C:$L, 10, FALSE), VLOOKUP($C335, 'Nanodrop Data Raw'!$C:$L, 2, FALSE))","v":{"$error":"#N/A"}},{"$error":"#N/A"}]
[{"$f":"'Sample Information'!A336","v":335},{"$f":"'Sample Information'!B336","v":0},"0-DNA",{"$f":"IF(VLOOKUP($C336, 'Nanodrop Data Raw'!$C:$L, 10, FALSE)<>\"\", VLOOKUP($C336, 'Nanodrop Data Raw'!$C:$L, 10, FALSE), VLOOKUP($C336, 'Nanodrop Data Raw'!$C:$L, 2, FALSE))","v":{"$error":"#N/A"}},{"$error":"#N/A"}]
[{"$f":"'Sample Information'!A337","v":336},{"$f":"'Sample Information'!B337","v":0},"0-DNA",{"$f":"IF(VLOOKUP($C337, 'Nanodrop Data Raw'!$C:$L, 10, FALSE)<>\"\", VLOOKUP($C337, 'Nanodrop Data Raw'!$C:$L, 10, FALSE), VLOOKUP($C337, 'Nanodrop Data Raw'!$C:$L, 2, FALSE))","v":{"$error":"#N/A"}},{"$error":"#N/A"}]
[{"$f":"'Sample Information'!A338","v":337},{"$f":"'Sample Information'!B338","v":0},"0-DNA",{"$f":"IF(VLOOKUP($C338, 'Nanodrop Data Raw'!$C:$L, 10, FALSE)<>\"\", VLOOKUP($C338, 'Nanodrop Data Raw'!$C:$L, 10, FALSE), VLOOKUP($C338, 'Nanodrop Data Raw'!$C:$L, 2, FALSE))","v":{"$error":"#N/A"}},{"$error":"#N/A"}]
[{"$f":"'Sample Information'!A339","v":338},{"$f":"'Sample Information'!B339","v":0},"0-DNA",{"$f":"IF(VLOOKUP($C339, 'Nanodrop Data Raw'!$C:$L, 10, FALSE)<>\"\", VLOOKUP($C339, 'Nanodrop Data Raw'!$C:$L, 10, FALSE), VLOOKUP($C339, 'Nanodrop Data Raw'!$C:$L, 2, FALSE))","v":{"$error":"#N/A"}},{"$error":"#N/A"}]
[{"$f":"'Sample Information'!A340","v":339},{"$f":"'Sample Information'!B340","v":0},"0-DNA",{"$f":"IF(VLOOKUP($C340, 'Nanodrop Data Raw'!$C:$L, 10, FALSE)<>\"\", VLOOKUP($C340, 'Nanodrop Data Raw'!$C:$L, 10, FALSE), VLOOKUP($C340, 'Nanodrop Data Raw'!$C:$L, 2, FALSE))","v":{"$error":"#N/A"}},{"$error":"#N/A"}]
[{"$f":"'Sample Information'!A341","v":340},{"$f":"'Sample Information'!B341","v":0},"0-DNA",{"$f":"IF(VLOOKUP($C341, 'Nanodrop Data Raw'!$C:$L, 10, FALSE)<>\"\", VLOOKUP($C341, 'Nanodrop Data Raw'!$C:$L, 10, FALSE), VLOOKUP($C341, 'Nanodrop Data Raw'!$C:$L, 2, FALSE))","v":{"$error":"#N/A"}},{"$error":"#N/A"}]
[{"$f":"'Sample Information'!A342","v":341},{"$f":"'Sample Information'!B342","v":0},"0-DNA",{"$f":"IF(VLOOKUP($C342, 'Nanodrop Data Raw'!$C:$L, 10, FALSE)<>\"\", VLOOKUP($C342, 'Nanodrop Data Raw'!$C:$L, 10, FALSE), VLOOKUP($C342, 'Nanodrop Data Raw'!$C:$L, 2, FALSE))","v":{"$error":"#N/A"}},{"$error":"#N/A"}]
[{"$f":"'Sample Information'!A343","v":342},{"$f":"'Sample Information'!B343","v":0},"0-DNA",{"$f":"IF(VLOOKUP($C343, 'Nanodrop Data Raw'!$C:$L, 10, FALSE)<>\"\", VLOOKUP($C343, 'Nanodrop Data Raw'!$C:$L, 10, FALSE), VLOOKUP($C343, 'Nanodrop Data Raw'!$C:$L, 2, FALSE))","v":{"$error":"#N/A"}},{"$error":"#N/A"}]
[{"$f":"'Sample Information'!A344","v":343},{"$f":"'Sample Information'!B344","v":0},"0-DNA",{"$f":"IF(VLOOKUP($C344, 'Nanodrop Data Raw'!$C:$L, 10, FALSE)<>\"\", VLOOKUP($C344, 'Nanodrop Data Raw'!$C:$L, 10, FALSE), VLOOKUP($C344, 'Nanodrop Data Raw'!$C:$L, 2, FALSE))","v":{"$error":"#N/A"}},{"$error":"#N/A"}]
[{"$f":"'Sample Information'!A345","v":344},{"$f":"'Sample Information'!B345","v":0},"0-DNA",{"$f":"IF(VLOOKUP($C345, 'Nanodrop Data Raw'!$C:$L, 10, FALSE)<>\"\", VLOOKUP($C345, 'Nanodrop Data Raw'!$C:$L, 10, FALSE), VLOOKUP($C345, 'Nanodrop Data Raw'!$C:$L, 2, FALSE))","v":{"$error":"#N/A"}},{"$error":"#N/A"}]
[{"$f":"'Sample Information'!A346","v":345},{"$f":"'Sample Information'!B346","v":0},"0-DNA",{"$f":"IF(VLOOKUP($C346, 'Nanodrop Data Raw'!$C:$L, 10, FALSE)<>\"\", VLOOKUP($C346, 'Nanodrop Data Raw'!$C:$L, 10, FALSE), VLOOKUP($C346, 'Nanodrop Data Raw'!$C:$L, 2, FALSE))","v":{"$error":"#N/A"}},{"$error":"#N/A"}]
[{"$f":"'Sample Information'!A347","v":346},{"$f":"'Sample Information'!B347","v":0},"0-DNA",{"$f":"IF(VLOOKUP($C347, 'Nanodrop Data Raw'!$C:$L, 10, FALSE)<>\"\", VLOOKUP($C347, 'Nanodrop Data Raw'!$C:$L, 10, FALSE), VLOOKUP($C347, 'Nanodrop Data Raw'!$C:$L, 2, FALSE))","v":{"$error":"#N/A"}},{"$error":"#N/A"}]
[{"$f":"'Sample Information'!A348","v":347},{"$f":"'Sample Information'!B348","v":0},"0-DNA",{"$f":"IF(VLOOKUP($C348, 'Nanodrop Data Raw'!$C:$L, 10, FALSE)<>\"\", VLOOKUP($C348, 'Nanodrop Data Raw'!$C:$L, 10, FALSE), VLOOKUP($C348, 'Nanodrop Data Raw'!$C:$L, 2, FALSE))","v":{"$error":"#N/A"}},{"$error":"#N/A"}]
[{"$f":"'Sample Information'!A349","v":348},{"$f":"'Sample Information'!B349","v":0},"0-DNA",{"$f":"IF(VLOOKUP($C349, 'Nanodrop Data Raw'!$C:$L, 10, FALSE)<>\"\", VLOOKUP($C349, 'Nanodrop Data Raw'!$C:$L, 10, FALSE), VLOOKUP($C349, 'Nanodrop Data Raw'!$C:$L, 2, FALSE))","v":{"$error":"#N/A"}},{"$error":"#N/A"}]
[{"$f":"'Sample Information'!A350","v":349},{"$f":"'Sample Information'!B350","v":0},"0-DNA",{"$f":"IF(VLOOKUP($C350, 'Nanodrop Data Raw'!$C:$L, 10, FALSE)<>\"\", VLOOKUP($C350, 'Nanodrop Data Raw'!$C:$L, 10, FALSE), VLOOKUP($C350, 'Nanodrop Data Raw'!$C:$L, 2, FALSE))","v":{"$error":"#N/A"}},{"$error":"#N/A"}]
[{"$f":"'Sample Information'!A351","v":350},{"$f":"'Sample Information'!B351","v":0},"0-DNA",{"$f":"IF(VLOOKUP($C351, 'Nanodrop Data Raw'!$C:$L, 10, FALSE)<>\"\", VLOOKUP($C351, 'Nanodrop Data Raw'!$C:$L, 10, FALSE), VLOOKUP($C351, 'Nanodrop Data Raw'!$C:$L, 2, FALSE))","v":{"$error":"#N/A"}},{"$error":"#N/A"}]
[{"$f":"'Sample Information'!A352","v":351},{"$f":"'Sample Information'!B352","v":0},"0-DNA",{"$f":"IF(VLOOKUP($C352, 'Nanodrop Data Raw'!$C:$L, 10, FALSE)<>\"\", VLOOKUP($C352, 'Nanodrop Data Raw'!$C:$L, 10, FALSE), VLOOKUP($C352, 'Nanodrop Data Raw'!$C:$L, 2, FALSE))","v":{"$error":"#N/A"}},{"$error":"#N/A"}]
[{"$f":"'Sample Information'!A353","v":352},{"$f":"'Sample Information'!B353","v":0},"0-DNA",{"$f":"IF(VLOOKUP($C353, 'Nanodrop Data Raw'!$C:$L, 10, FALSE)<>\"\", VLOOKUP($C353, 'Nanodrop Data Raw'!$C:$L, 10, FALSE), VLOOKUP($C353, 'Nanodrop Data Raw'!$C:$L, 2, FALSE))","v":{"$error":"#N/A"}},{"$error":"#N/A"}]
[{"$f":"'Sample Information'!A354","v":353},{"$f":"'Sample Information'!B354","v":0},"0-DNA",{"$f":"IF(VLOOKUP($C354, 'Nanodrop Data Raw'!$C:$L, 10, FALSE)<>\"\", VLOOKUP($C354, 'Nanodrop Data Raw'!$C:$L, 10, FALSE), VLOOKUP($C354, 'Nanodrop Data Raw'!$C:$L, 2, FALSE))","v":{"$error":"#N/A"}},{"$error":"#N/A"}]
[{"$f":"'Sample Information'!A355","v":354},{"$f":"'Sample Information'!B355","v":0},"0-DNA",{"$f":"IF(VLOOKUP($C355, 'Nanodrop Data Raw'!$C:$L, 10, FALSE)<>\"\", VLOOKUP($C355, 'Nanodrop Data Raw'!$C:$L, 10, FALSE), VLOOKUP($C355, 'Nanodrop Data Raw'!$C:$L, 2, FALSE))","v":{"$error":"#N/A"}},{"$error":"#N/A"}]
[{"$f":"'Sample Information'!A356","v":355},{"$f":"'Sample Information'!B356","v":0},"0-DNA",{"$f":"IF(VLOOKUP($C356, 'Nanodrop Data Raw'!$C:$L, 10, FALSE)<>\"\", VLOOKUP($C356, 'Nanodrop Data Raw'!$C:$L, 10, FALSE), VLOOKUP($C356, 'Nanodrop Data Raw'!$C:$L, 2, FALSE))","v":{"$error":"#N/A"}},{"$error":"#N/A"}]
[{"$f":"'Sample Information'!A357","v":356},{"$f":"'Sample Information'!B357","v":0},"0-DNA",{"$f":"IF(VLOOKUP($C357, 'Nanodrop Data Raw'!$C:$L, 10, FALSE)<>\"\", VLOOKUP($C357, 'Nanodrop Data Raw'!$C:$L, 10, FALSE), VLOOKUP($C357, 'Nanodrop Data Raw'!$C:$L, 2, FALSE))","v":{"$error":"#N/A"}},{"$error":"#N/A"}]
[{"$f":"'Sample Information'!A358","v":357},{"$f":"'Sample Information'!B358","v":0},"0-DNA",{"$f":"IF(VLOOKUP($C358, 'Nanodrop Data Raw'!$C:$L, 10, FALSE)<>\"\", VLOOKUP($C358, 'Nanodrop Data Raw'!$C:$L, 10, FALSE), VLOOKUP($C358, 'Nanodrop Data Raw'!$C:$L, 2, FALSE))","v":{"$error":"#N/A"}},{"$error":"#N/A"}]
[{"$f":"'Sample Information'!A359","v":358},{"$f":"'Sample Information'!B359","v":0},"0-DNA",{"$f":"IF(VLOOKUP($C359, 'Nanodrop Data Raw'!$C:$L, 10, FALSE)<>\"\", VLOOKUP($C359, 'Nanodrop Data Raw'!$C:$L, 10, FALSE), VLOOKUP($C359, 'Nanodrop Data Raw'!$C:$L, 2, FALSE))","v":{"$error":"#N/A"}},{"$error":"#N/A"}]
[{"$f":"'Sample Information'!A360","v":359},{"$f":"'Sample Information'!B360","v":0},"0-DNA",{"$f":"IF(VLOOKUP($C360, 'Nanodrop Data Raw'!$C:$L, 10, FALSE)<>\"\", VLOOKUP($C360, 'Nanodrop Data Raw'!$C:$L, 10, FALSE), VLOOKUP($C360, 'Nanodrop Data Raw'!$C:$L, 2, FALSE))","v":{"$error":"#N/A"}},{"$error":"#N/A"}]
[{"$f":"'Sample Information'!A361","v":360},{"$f":"'Sample Information'!B361","v":0},"0-DNA",{"$f":"IF(VLOOKUP($C361, 'Nanodrop Data Raw'!$C:$L, 10, FALSE)<>\"\", VLOOKUP($C361, 'Nanodrop Data Raw'!$C:$L, 10, FALSE), VLOOKUP($C361, 'Nanodrop Data Raw'!$C:$L, 2, FALSE))","v":{"$error":"#N/A"}},{"$error":"#N/A"}]
[{"$f":"'Sample Information'!A362","v":361},{"$f":"'Sample Information'!B362","v":0},"0-DNA",{"$f":"IF(VLOOKUP($C362, 'Nanodrop Data Raw'!$C:$L, 10, FALSE)<>\"\", VLOOKUP($C362, 'Nanodrop Data Raw'!$C:$L, 10, FALSE), VLOOKUP($C362, 'Nanodrop Data Raw'!$C:$L, 2, FALSE))","v":{"$error":"#N/A"}},{"$error":"#N/A"}]
[{"$f":"'Sample Information'!A363","v":362},{"$f":"'Sample Information'!B363","v":0},"0-DNA",{"$f":"IF(VLOOKUP($C363, 'Nanodrop Data Raw'!$C:$L, 10, FALSE)<>\"\", VLOOKUP($C363, 'Nanodrop Data Raw'!$C:$L, 10, FALSE), VLOOKUP($C363, 'Nanodrop Data Raw'!$C:$L, 2, FALSE))","v":{"$error":"#N/A"}},{"$error":"#N/A"}]
[{"$f":"'Sample Information'!A364","v":363},{"$f":"'Sample Information'!B364","v":0},"0-DNA",{"$f":"IF(VLOOKUP($C364, 'Nanodrop Data Raw'!$C:$L, 10, FALSE)<>\"\", VLOOKUP($C364, 'Nanodrop Data Raw'!$C:$L, 10, FALSE), VLOOKUP($C364, 'Nanodrop Data Raw'!$C:$L, 2, FALSE))","v":{"$error":"#N/A"}},{"$error":"#N/A"}]
[{"$f":"'Sample Information'!A365","v":364},{"$f":"'Sample Information'!B365","v":0},"0-DNA",{"$f":"IF(VLOOKUP($C365, 'Nanodrop Data Raw'!$C:$L, 10, FALSE)<>\"\", VLOOKUP($C365, 'Nanodrop Data Raw'!$C:$L, 10, FALSE), VLOOKUP($C365, 'Nanodrop Data Raw'!$C:$L, 2, FALSE))","v":{"$error":"#N/A"}},{"$error":"#N/A"}]
[{"$f":"'Sample Information'!A366","v":365},{"$f":"'Sample Information'!B366","v":0},"0-DNA",{"$f":"IF(VLOOKUP($C366, 'Nanodrop Data Raw'!$C:$L, 10, FALSE)<>\"\", VLOOKUP($C366, 'Nanodrop Data Raw'!$C:$L, 10, FALSE), VLOOKUP($C366, 'Nanodrop Data Raw'!$C:$L, 2, FALSE))","v":{"$error":"#N/A"}},{"$error":"#N/A"}]
[{"$f":"'Sample Information'!A367","v":366},{"$f":"'Sample Information'!B367","v":0},"0-DNA",{"$f":"IF(VLOOKUP($C367, 'Nanodrop Data Raw'!$C:$L, 10, FALSE)<>\"\", VLOOKUP($C367, 'Nanodrop Data Raw'!$C:$L, 10, FALSE), VLOOKUP($C367, 'Nanodrop Data Raw'!$C:$L, 2, FALSE))","v":{"$error":"#N/A"}},{"$error":"#N/A"}]
[{"$f":"'Sample Information'!A368","v":367},{"$f":"'Sample Information'!B368","v":0},"0-DNA",{"$f":"IF(VLOOKUP($C368, 'Nanodrop Data Raw'!$C:$L, 10, FALSE)<>\"\", VLOOKUP($C368, 'Nanodrop Data Raw'!$C:$L, 10, FALSE), VLOOKUP($C368, 'Nanodrop Data Raw'!$C:$L, 2, FALSE))","v":{"$error":"#N/A"}},{"$error":"#N/A"}]
[{"$f":"'Sample Information'!A369","v":368},{"$f":"'Sample Information'!B369","v":0},"0-DNA",{"$f":"IF(VLOOKUP($C369, 'Nanodrop Data Raw'!$C:$L, 10, FALSE)<>\"\", VLOOKUP($C369, 'Nanodrop Data Raw'!$C:$L, 10, FALSE), VLOOKUP($C369, 'Nanodrop Data Raw'!$C:$L, 2, FALSE))","v":{"$error":"#N/A"}},{"$error":"#N/A"}]
[{"$f":"'Sample Information'!A370","v":369},{"$f":"'Sample Information'!B370","v":0},"0-DNA",{"$f":"IF(VLOOKUP($C370, 'Nanodrop Data Raw'!$C:$L, 10, FALSE)<>\"\", VLOOKUP($C370, 'Nanodrop Data Raw'!$C:$L, 10, FALSE), VLOOKUP($C370, 'Nanodrop Data Raw'!$C:$L, 2, FALSE))","v":{"$error":"#N/A"}},{"$error":"#N/A"}]
[{"$f":"'Sample Information'!A371","v":370},{"$f":"'Sample Information'!B371","v":0},"0-DNA",{"$f":"IF(VLOOKUP($C371, 'Nanodrop Data Raw'!$C:$L, 10, FALSE)<>\"\", VLOOKUP($C371, 'Nanodrop Data Raw'!$C:$L, 10, FALSE), VLOOKUP($C371, 'Nanodrop Data Raw'!$C:$L, 2, FALSE))","v":{"$error":"#N/A"}},{"$error":"#N/A"}]
[{"$f":"'Sample Information'!A372","v":371},{"$f":"'Sample Information'!B372","v":0},"0-DNA",{"$f":"IF(VLOOKUP($C372, 'Nanodrop Data Raw'!$C:$L, 10, FALSE)<>\"\", VLOOKUP($C372, 'Nanodrop Data Raw'!$C:$L, 10, FALSE), VLOOKUP($C372, 'Nanodrop Data Raw'!$C:$L, 2, FALSE))","v":{"$error":"#N/A"}},{"$error":"#N/A"}]
[{"$f":"'Sample Information'!A373","v":372},{"$f":"'Sample Information'!B373","v":0},"0-DNA",{"$f":"IF(VLOOKUP($C373, 'Nanodrop Data Raw'!$C:$L, 10, FALSE)<>\"\", VLOOKUP($C373, 'Nanodrop Data Raw'!$C:$L, 10, FALSE), VLOOKUP($C373, 'Nanodrop Data Raw'!$C:$L, 2, FALSE))","v":{"$error":"#N/A"}},{"$error":"#N/A"}]
[{"$f":"'Sample Information'!A374","v":373},{"$f":"'Sample Information'!B374","v":0},"0-DNA",{"$f":"IF(VLOOKUP($C374, 'Nanodrop Data Raw'!$C:$L, 10, FALSE)<>\"\", VLOOKUP($C374, 'Nanodrop Data Raw'!$C:$L, 10, FALSE), VLOOKUP($C374, 'Nanodrop Data Raw'!$C:$L, 2, FALSE))","v":{"$error":"#N/A"}},{"$error":"#N/A"}]
[{"$f":"'Sample Information'!A375","v":374},{"$f":"'Sample Information'!B375","v":0},"0-DNA",{"$f":"IF(VLOOKUP($C375, 'Nanodrop Data Raw'!$C:$L, 10, FALSE)<>\"\", VLOOKUP($C375, 'Nanodrop Data Raw'!$C:$L, 10, FALSE), VLOOKUP($C375, 'Nanodrop Data Raw'!$C:$L, 2, FALSE))","v":{"$error":"#N/A"}},{"$error":"#N/A"}]
[{"$f":"'Sample Information'!A376","v":375},{"$f":"'Sample Information'!B376","v":0},"0-DNA",{"$f":"IF(VLOOKUP($C376, 'Nanodrop Data Raw'!$C:$L, 10, FALSE)<>\"\", VLOOKUP($C376, 'Nanodrop Data Raw'!$C:$L, 10, FALSE), VLOOKUP($C376, 'Nanodrop Data Raw'!$C:$L, 2, FALSE))","v":{"$error":"#N/A"}},{"$error":"#N/A"}]
[{"$f":"'Sample Information'!A377","v":376},{"$f":"'Sample Information'!B377","v":0},"0-DNA",{"$f":"IF(VLOOKUP($C377, 'Nanodrop Data Raw'!$C:$L, 10, FALSE)<>\"\", VLOOKUP($C377, 'Nanodrop Data Raw'!$C:$L, 10, FALSE), VLOOKUP($C377, 'Nanodrop Data Raw'!$C:$L, 2, FALSE))","v":{"$error":"#N/A"}},{"$error":"#N/A"}]
[{"$f":"'Sample Information'!A378","v":377},{"$f":"'Sample Information'!B378","v":0},"0-DNA",{"$f":"IF(VLOOKUP($C378, 'Nanodrop Data Raw'!$C:$L, 10, FALSE)<>\"\", VLOOKUP($C378, 'Nanodrop Data Raw'!$C:$L, 10, FALSE), VLOOKUP($C378, 'Nanodrop Data Raw'!$C:$L, 2, FALSE))","v":{"$error":"#N/A"}},{"$error":"#N/A"}]
[{"$f":"'Sample Information'!A379","v":378},{"$f":"'Sample Information'!B379","v":0},"0-DNA",{"$f":"IF(VLOOKUP($C379, 'Nanodrop Data Raw'!$C:$L, 10, FALSE)<>\"\", VLOOKUP($C379, 'Nanodrop Data Raw'!$C:$L, 10, FALSE), VLOOKUP($C379, 'Nanodrop Data Raw'!$C:$L, 2, FALSE))","v":{"$error":"#N/A"}},{"$error":"#N/A"}]
[{"$f":"'Sample Information'!A380","v":379},{"$f":"'Sample Information'!B380","v":0},"0-DNA",{"$f":"IF(VLOOKUP($C380, 'Nanodrop Data Raw'!$C:$L, 10, FALSE)<>\"\", VLOOKUP($C380, 'Nanodrop Data Raw'!$C:$L, 10, FALSE), VLOOKUP($C380, 'Nanodrop Data Raw'!$C:$L, 2, FALSE))","v":{"$error":"#N/A"}},{"$error":"#N/A"}]
[{"$f":"'Sample Information'!A381","v":380},{"$f":"'Sample Information'!B381","v":0},"0-DNA",{"$f":"IF(VLOOKUP($C381, 'Nanodrop Data Raw'!$C:$L, 10, FALSE)<>\"\", VLOOKUP($C381, 'Nanodrop Data Raw'!$C:$L, 10, FALSE), VLOOKUP($C381, 'Nanodrop Data Raw'!$C:$L, 2, FALSE))","v":{"$error":"#N/A"}},{"$error":"#N/A"}]
[{"$f":"'Sample Information'!A382","v":381},{"$f":"'Sample Information'!B382","v":0},"0-DNA",{"$f":"IF(VLOOKUP($C382, 'Nanodrop Data Raw'!$C:$L, 10, FALSE)<>\"\", VLOOKUP($C382, 'Nanodrop Data Raw'!$C:$L, 10, FALSE), VLOOKUP($C382, 'Nanodrop Data Raw'!$C:$L, 2, FALSE))","v":{"$error":"#N/A"}},{"$error":"#N/A"}]
[{"$f":"'Sample Information'!A383","v":382},{"$f":"'Sample Information'!B383","v":0},"0-DNA",{"$f":"IF(VLOOKUP($C383, 'Nanodrop Data Raw'!$C:$L, 10, FALSE)<>\"\", VLOOKUP($C383, 'Nanodrop Data Raw'!$C:$L, 10, FALSE), VLOOKUP($C383, 'Nanodrop Data Raw'!$C:$L, 2, FALSE))","v":{"$error":"#N/A"}},{"$error":"#N/A"}]
[{"$f":"'Sample Information'!A384","v":383},{"$f":"'Sample Information'!B384","v":0},"0-DNA",{"$f":"IF(VLOOKUP($C384, 'Nanodrop Data Raw'!$C:$L, 10, FALSE)<>\"\", VLOOKUP($C384, 'Nanodrop Data Raw'!$C:$L, 10, FALSE), VLOOKUP($C384, 'Nanodrop Data Raw'!$C:$L, 2, FALSE))","v":{"$error":"#N/A"}},{"$error":"#N/A"}]
[{"$f":"'Sample Information'!A385","v":384},{"$f":"'Sample Information'!B385","v":0},"0-DNA",{"$f":"IF(VLOOKUP($C385, 'Nanodrop Data Raw'!$C:$L, 10, FALSE)<>\"\", VLOOKUP($C385, 'Nanodrop Data Raw'!$C:$L, 10, FALSE), VLOOKUP($C385, 'Nanodrop Data Raw'!$C:$L, 2, FALSE))","v":{"$error":"#N/A"}},{"$error":"#N/A"}]
[{"$f":"'Sample Information'!A386","v":385},{"$f":"'Sample Information'!B386","v":0},"0-DNA",{"$f":"IF(VLOOKUP($C386, 'Nanodrop Data Raw'!$C:$L, 10, FALSE)<>\"\", VLOOKUP($C386, 'Nanodrop Data Raw'!$C:$L, 10, FALSE), VLOOKUP($C386, 'Nanodrop Data Raw'!$C:$L, 2, FALSE))","v":{"$error":"#N/A"}},{"$error":"#N/A"}]
[{"$f":"'Sample Information'!A387","v":386},{"$f":"'Sample Information'!B387","v":0},{"$f":"CONCATENATE(B387,\"-DNA\")","v":"0-DNA"},{"$f":"IF(VLOOKUP($C387, 'Nanodrop Data Raw'!$C:$L, 10, FALSE)<>\"\", VLOOKUP($C387, 'Nanodrop Data Raw'!$C:$L, 10, FALSE), VLOOKUP($C387, 'Nanodrop Data Raw'!$C:$L, 2, FALSE))","v":{"$error":"#N/A"}},{"$f":"IF((5*D387-50)/10>0,(5*D387-50)/10,\"-\")","v":{"$error":"#N/A"}}]
[{"$f":"'Sample Information'!A388","v":387},{"$f":"'Sample Information'!B388","v":0},"0-DNA",{"$f":"IF(VLOOKUP($C388, 'Nanodrop Data Raw'!$C:$L, 10, FALSE)<>\"\", VLOOKUP($C388, 'Nanodrop Data Raw'!$C:$L, 10, FALSE), VLOOKUP($C388, 'Nanodrop Data Raw'!$C:$L, 2, FALSE))","v":{"$error":"#N/A"}},{"$error":"#N/A"}]
[{"$f":"'Sample Information'!A389","v":388},{"$f":"'Sample Information'!B389","v":0},"0-DNA",{"$f":"IF(VLOOKUP($C389, 'Nanodrop Data Raw'!$C:$L, 10, FALSE)<>\"\", VLOOKUP($C389, 'Nanodrop Data Raw'!$C:$L, 10, FALSE), VLOOKUP($C389, 'Nanodrop Data Raw'!$C:$L, 2, FALSE))","v":{"$error":"#N/A"}},{"$error":"#N/A"}]
[{"$f":"'Sample Information'!A390","v":389},{"$f":"'Sample Information'!B390","v":0},"0-DNA",{"$f":"IF(VLOOKUP($C390, 'Nanodrop Data Raw'!$C:$L, 10, FALSE)<>\"\", VLOOKUP($C390, 'Nanodrop Data Raw'!$C:$L, 10, FALSE), VLOOKUP($C390, 'Nanodrop Data Raw'!$C:$L, 2, FALSE))","v":{"$error":"#N/A"}},{"$error":"#N/A"}]
[{"$f":"'Sample Information'!A391","v":390},{"$f":"'Sample Information'!B391","v":0},"0-DNA",{"$f":"IF(VLOOKUP($C391, 'Nanodrop Data Raw'!$C:$L, 10, FALSE)<>\"\", VLOOKUP($C391, 'Nanodrop Data Raw'!$C:$L, 10, FALSE), VLOOKUP($C391, 'Nanodrop Data Raw'!$C:$L, 2, FALSE))","v":{"$error":"#N/A"}},{"$error":"#N/A"}]
[{"$f":"'Sample Information'!A392","v":391},{"$f":"'Sample Information'!B392","v":0},"0-DNA",{"$f":"IF(VLOOKUP($C392, 'Nanodrop Data Raw'!$C:$L, 10, FALSE)<>\"\", VLOOKUP($C392, 'Nanodrop Data Raw'!$C:$L, 10, FALSE), VLOOKUP($C392, 'Nanodrop Data Raw'!$C:$L, 2, FALSE))","v":{"$error":"#N/A"}},{"$error":"#N/A"}]
[{"$f":"'Sample Information'!A393","v":392},{"$f":"'Sample Information'!B393","v":0},"0-DNA",{"$f":"IF(VLOOKUP($C393, 'Nanodrop Data Raw'!$C:$L, 10, FALSE)<>\"\", VLOOKUP($C393, 'Nanodrop Data Raw'!$C:$L, 10, FALSE), VLOOKUP($C393, 'Nanodrop Data Raw'!$C:$L, 2, FALSE))","v":{"$error":"#N/A"}},{"$error":"#N/A"}]
[{"$f":"'Sample Information'!A394","v":393},{"$f":"'Sample Information'!B394","v":0},"0-DNA",{"$f":"IF(VLOOKUP($C394, 'Nanodrop Data Raw'!$C:$L, 10, FALSE)<>\"\", VLOOKUP($C394, 'Nanodrop Data Raw'!$C:$L, 10, FALSE), VLOOKUP($C394, 'Nanodrop Data Raw'!$C:$L, 2, FALSE))","v":{"$error":"#N/A"}},{"$error":"#N/A"}]
[{"$f":"'Sample Information'!A395","v":394},{"$f":"'Sample Information'!B395","v":0},"0-DNA",{"$f":"IF(VLOOKUP($C395, 'Nanodrop Data Raw'!$C:$L, 10, FALSE)<>\"\", VLOOKUP($C395, 'Nanodrop Data Raw'!$C:$L, 10, FALSE), VLOOKUP($C395, 'Nanodrop Data Raw'!$C:$L, 2, FALSE))","v":{"$error":"#N/A"}},{"$error":"#N/A"}]
[{"$f":"'Sample Information'!A396","v":395},{"$f":"'Sample Information'!B396","v":0},"0-DNA",{"$f":"IF(VLOOKUP($C396, 'Nanodrop Data Raw'!$C:$L, 10, FALSE)<>\"\", VLOOKUP($C396, 'Nanodrop Data Raw'!$C:$L, 10, FALSE), VLOOKUP($C396, 'Nanodrop Data Raw'!$C:$L, 2, FALSE))","v":{"$error":"#N/A"}},{"$error":"#N/A"}]
[{"$f":"'Sample Information'!A397","v":396},{"$f":"'Sample Information'!B397","v":0},"0-DNA",{"$f":"IF(VLOOKUP($C397, 'Nanodrop Data Raw'!$C:$L, 10, FALSE)<>\"\", VLOOKUP($C397, 'Nanodrop Data Raw'!$C:$L, 10, FALSE), VLOOKUP($C397, 'Nanodrop Data Raw'!$C:$L, 2, FALSE))","v":{"$error":"#N/A"}},{"$error":"#N/A"}]
[{"$f":"'Sample Information'!A398","v":397},{"$f":"'Sample Information'!B398","v":0},"0-DNA",{"$f":"IF(VLOOKUP($C398, 'Nanodrop Data Raw'!$C:$L, 10, FALSE)<>\"\", VLOOKUP($C398, 'Nanodrop Data Raw'!$C:$L, 10, FALSE), VLOOKUP($C398, 'Nanodrop Data Raw'!$C:$L, 2, FALSE))","v":{"$error":"#N/A"}},{"$error":"#N/A"}]
[{"$f":"'Sample Information'!A399","v":398},{"$f":"'Sample Information'!B399","v":0},"0-DNA",{"$f":"IF(VLOOKUP($C399, 'Nanodrop Data Raw'!$C:$L, 10, FALSE)<>\"\", VLOOKUP($C399, 'Nanodrop Data Raw'!$C:$L, 10, FALSE), VLOOKUP($C399, 'Nanodrop Data Raw'!$C:$L, 2, FALSE))","v":{"$error":"#N/A"}},{"$error":"#N/A"}]
[{"$f":"'Sample Information'!A400","v":399},{"$f":"'Sample Information'!B400","v":0},"0-DNA",{"$f":"IF(VLOOKUP($C400, 'Nanodrop Data Raw'!$C:$L, 10, FALSE)<>\"\", VLOOKUP($C400, 'Nanodrop Data Raw'!$C:$L, 10, FALSE), VLOOKUP($C400, 'Nanodrop Data Raw'!$C:$L, 2, FALSE))","v":{"$error":"#N/A"}},{"$error":"#N/A"}]
[{"$f":"'Sample Information'!A401","v":400},{"$f":"'Sample Information'!B401","v":0},"0-DNA",{"$f":"IF(VLOOKUP($C401, 'Nanodrop Data Raw'!$C:$L, 10, FALSE)<>\"\", VLOOKUP($C401, 'Nanodrop Data Raw'!$C:$L, 10, FALSE), VLOOKUP($C401, 'Nanodrop Data Raw'!$C:$L, 2, FALSE))","v":{"$error":"#N/A"}},{"$error":"#N/A"}]
[{"$f":"'Sample Information'!#REF!","v":{"$error":"#REF!"}},{"$f":"'Sample Information'!#REF!","v":{"$error":"#REF!"}},{"$error":"#REF!"},{"$f":"IF(VLOOKUP($C402, 'Nanodrop Data Raw'!$C:$L, 10, FALSE)<>\"\", VLOOKUP($C402, 'Nanodrop Data Raw'!$C:$L, 10, FALSE), VLOOKUP($C402, 'Nanodrop Data Raw'!$C:$L, 2, FALSE))","v":{"$error":"#REF!"}},{"$error":"#REF!"}]
[{"$f":"'Sample Information'!#REF!","v":{"$error":"#REF!"}},{"$f":"'Sample Information'!#REF!","v":{"$error":"#REF!"}},{"$error":"#REF!"},{"$f":"IF(VLOOKUP($C403, 'Nanodrop Data Raw'!$C:$L, 10, FALSE)<>\"\", VLOOKUP($C403, 'Nanodrop Data Raw'!$C:$L, 10, FALSE), VLOOKUP($C403, 'Nanodrop Data Raw'!$C:$L, 2, FALSE))","v":{"$error":"#REF!"}},{"$error":"#REF!"}]
[{"$f":"'Sample Information'!#REF!","v":{"$error":"#REF!"}},{"$f":"'Sample Information'!#REF!","v":{"$error":"#REF!"}},{"$error":"#REF!"},{"$f":"IF(VLOOKUP($C404, 'Nanodrop Data Raw'!$C:$L, 10, FALSE)<>\"\", VLOOKUP($C404, 'Nanodrop Data Raw'!$C:$L, 10, FALSE), VLOOKUP($C404, 'Nanodrop Data Raw'!$C:$L, 2, FALSE))","v":{"$error":"#REF!"}},{"$error":"#REF!"}]
[{"$f":"'Sample Information'!#REF!","v":{"$error":"#REF!"}},{"$f":"'Sample Information'!#REF!","v":{"$error":"#REF!"}},{"$error":"#REF!"},{"$f":"IF(VLOOKUP($C405, 'Nanodrop Data Raw'!$C:$L, 10, FALSE)<>\"\", VLOOKUP($C405, 'Nanodrop Data Raw'!$C:$L, 10, FALSE), VLOOKUP($C405, 'Nanodrop Data Raw'!$C:$L, 2, FALSE))","v":{"$error":"#REF!"}},{"$error":"#REF!"}]
[{"$f":"'Sample Information'!#REF!","v":{"$error":"#REF!"}},{"$f":"'Sample Information'!#REF!","v":{"$error":"#REF!"}},{"$error":"#REF!"},{"$f":"IF(VLOOKUP($C406, 'Nanodrop Data Raw'!$C:$L, 10, FALSE)<>\"\", VLOOKUP($C406, 'Nanodrop Data Raw'!$C:$L, 10, FALSE), VLOOKUP($C406, 'Nanodrop Data Raw'!$C:$L, 2, FALSE))","v":{"$error":"#REF!"}},{"$error":"#REF!"}]
[{"$f":"'Sample Information'!#REF!","v":{"$error":"#REF!"}},{"$f":"'Sample Information'!#REF!","v":{"$error":"#REF!"}},{"$error":"#REF!"},{"$f":"IF(VLOOKUP($C407, 'Nanodrop Data Raw'!$C:$L, 10, FALSE)<>\"\", VLOOKUP($C407, 'Nanodrop Data Raw'!$C:$L, 10, FALSE), VLOOKUP($C407, 'Nanodrop Data Raw'!$C:$L, 2, FALSE))","v":{"$error":"#REF!"}},{"$error":"#REF!"}]
[{"$f":"'Sample Information'!#REF!","v":{"$error":"#REF!"}},{"$f":"'Sample Information'!#REF!","v":{"$error":"#REF!"}},{"$error":"#REF!"},{"$f":"IF(VLOOKUP($C408, 'Nanodrop Data Raw'!$C:$L, 10, FALSE)<>\"\", VLOOKUP($C408, 'Nanodrop Data Raw'!$C:$L, 10, FALSE), VLOOKUP($C408, 'Nanodrop Data Raw'!$C:$L, 2, FALSE))","v":{"$error":"#REF!"}},{"$error":"#REF!"}]
[{"$f":"'Sample Information'!#REF!","v":{"$error":"#REF!"}},{"$f":"'Sample Information'!#REF!","v":{"$error":"#REF!"}},{"$error":"#REF!"},{"$f":"IF(VLOOKUP($C409, 'Nanodrop Data Raw'!$C:$L, 10, FALSE)<>\"\", VLOOKUP($C409, 'Nanodrop Data Raw'!$C:$L, 10, FALSE), VLOOKUP($C409, 'Nanodrop Data Raw'!$C:$L, 2, FALSE))","v":{"$error":"#REF!"}},{"$error":"#REF!"}]
[{"$f":"'Sample Information'!#REF!","v":{"$error":"#REF!"}},{"$f":"'Sample Information'!#REF!","v":{"$error":"#REF!"}},{"$error":"#REF!"},{"$f":"IF(VLOOKUP($C410, 'Nanodrop Data Raw'!$C:$L, 10, FALSE)<>\"\", VLOOKUP($C410, 'Nanodrop Data Raw'!$C:$L, 10, FALSE), VLOOKUP($C410, 'Nanodrop Data Raw'!$C:$L, 2, FALSE))","v":{"$error":"#REF!"}},{"$error":"#REF!"}]
[{"$f":"'Sample Information'!#REF!","v":{"$error":"#REF!"}},{"$f":"'Sample Information'!#REF!","v":{"$error":"#REF!"}},{"$error":"#REF!"},{"$f":"IF(VLOOKUP($C411, 'Nanodrop Data Raw'!$C:$L, 10, FALSE)<>\"\", VLOOKUP($C411, 'Nanodrop Data Raw'!$C:$L, 10, FALSE), VLOOKUP($C411, 'Nanodrop Data Raw'!$C:$L, 2, FALSE))","v":{"$error":"#REF!"}},{"$error":"#REF!"}]
[{"$f":"'Sample Information'!#REF!","v":{"$error":"#REF!"}},{"$f":"'Sample Information'!#REF!","v":{"$error":"#REF!"}},{"$error":"#REF!"},{"$f":"IF(VLOOKUP($C412, 'Nanodrop Data Raw'!$C:$L, 10, FALSE)<>\"\", VLOOKUP($C412, 'Nanodrop Data Raw'!$C:$L, 10, FALSE), VLOOKUP($C412, 'Nanodrop Data Raw'!$C:$L, 2, FALSE))","v":{"$error":"#REF!"}},{"$error":"#REF!"}]
[{"$f":"'Sample Information'!#REF!","v":{"$error":"#REF!"}},{"$f":"'Sample Information'!#REF!","v":{"$error":"#REF!"}},{"$error":"#REF!"},{"$f":"IF(VLOOKUP($C413, 'Nanodrop Data Raw'!$C:$L, 10, FALSE)<>\"\", VLOOKUP($C413, 'Nanodrop Data Raw'!$C:$L, 10, FALSE), VLOOKUP($C413, 'Nanodrop Data Raw'!$C:$L, 2, FALSE))","v":{"$error":"#REF!"}},{"$error":"#REF!"}]
[{"$f":"'Sample Information'!#REF!","v":{"$error":"#REF!"}},{"$f":"'Sample Information'!#REF!","v":{"$error":"#REF!"}},{"$error":"#REF!"},{"$f":"IF(VLOOKUP($C414, 'Nanodrop Data Raw'!$C:$L, 10, FALSE)<>\"\", VLOOKUP($C414, 'Nanodrop Data Raw'!$C:$L, 10, FALSE), VLOOKUP($C414, 'Nanodrop Data Raw'!$C:$L, 2, FALSE))","v":{"$error":"#REF!"}},{"$error":"#REF!"}]
[{"$f":"'Sample Information'!#REF!","v":{"$error":"#REF!"}},{"$f":"'Sample Information'!#REF!","v":{"$error":"#REF!"}},{"$error":"#REF!"},{"$f":"IF(VLOOKUP($C415, 'Nanodrop Data Raw'!$C:$L, 10, FALSE)<>\"\", VLOOKUP($C415, 'Nanodrop Data Raw'!$C:$L, 10, FALSE), VLOOKUP($C415, 'Nanodrop Data Raw'!$C:$L, 2, FALSE))","v":{"$error":"#REF!"}},{"$error":"#REF!"}]
[{"$f":"'Sample Information'!#REF!","v":{"$error":"#REF!"}},{"$f":"'Sample Information'!#REF!","v":{"$error":"#REF!"}},{"$error":"#REF!"},{"$f":"IF(VLOOKUP($C416, 'Nanodrop Data Raw'!$C:$L, 10, FALSE)<>\"\", VLOOKUP($C416, 'Nanodrop Data Raw'!$C:$L, 10, FALSE), VLOOKUP($C416, 'Nanodrop Data Raw'!$C:$L, 2, FALSE))","v":{"$error":"#REF!"}},{"$error":"#REF!"}]
[{"$f":"'Sample Information'!#REF!","v":{"$error":"#REF!"}},{"$f":"'Sample Information'!#REF!","v":{"$error":"#REF!"}},{"$error":"#REF!"},{"$f":"IF(VLOOKUP($C417, 'Nanodrop Data Raw'!$C:$L, 10, FALSE)<>\"\", VLOOKUP($C417, 'Nanodrop Data Raw'!$C:$L, 10, FALSE), VLOOKUP($C417, 'Nanodrop Data Raw'!$C:$L, 2, FALSE))","v":{"$error":"#REF!"}},{"$error":"#REF!"}]
[{"$f":"'Sample Information'!#REF!","v":{"$error":"#REF!"}},{"$f":"'Sample Information'!#REF!","v":{"$error":"#REF!"}},{"$error":"#REF!"},{"$f":"IF(VLOOKUP($C418, 'Nanodrop Data Raw'!$C:$L, 10, FALSE)<>\"\", VLOOKUP($C418, 'Nanodrop Data Raw'!$C:$L, 10, FALSE), VLOOKUP($C418, 'Nanodrop Data Raw'!$C:$L, 2, FALSE))","v":{"$error":"#REF!"}},{"$error":"#REF!"}]

{"sheet":"Sample_Type","index":6,"n_rows":10,"n_cols":1,"rows_kept":10,"cut":false,"hidden":true,"merged":[]}
["Bacteria culture"]
["Buccal Swab"]
["Buffy Coat"]
["Frozen Tissue"]
["OCT section"]
["Saliva"]
["Serum"]
["Stool"]
["Plasma"]
["Whole Blood"]

{"sheet":"Extraction Protocol","index":7,"n_rows":9,"n_cols":1,"rows_kept":9,"cut":false,"hidden":true,"merged":[]}
["DSP Circulating DNA Kit, circDNA_4000_DSP"]
["DSP DNA Midi Kit, Blood_1000_V7_DSP "]
["DSP DNA Midi Kit, Blood_400_V6_DSP "]
["DSP DNA Mini Kit, DNA_BC_200_V7_DSP"]
["DSP DNA Mini Kit, DNA_Blood_200_V7_DSP"]
["QIAamp DNA Mini Kit"]
["Rneasy Mini Kit"]
["Virus Pathogen Midi Kit, Complex_400_V4_DSP_Default_IC"]
["AllPrep DNA/RNA/miRNA Universal Kit"]

{"sheet":"Gel Photo","index":8,"n_rows":621,"n_cols":26,"rows_kept":621,"cut":false,"hidden":true,"merged":[]}
[]
[null,null,null,null,null,null,null,null,null,null,null,"Gel 1",null,null,null,null,null,null,null,null,null,"Dilution Plate 1"]
[null,null,null,null,null,null,null,null,null,null,null,"Lane","Well","Sample no.","Sample_ID","Reference_ID","DNA conc. (ng/ul)","Amount loaded (ng)","Water(ul)","Sample(ul)",null,"Well","Sample no.","Water(ul)","Sample(ul)","Reference ID"]
[null,null,null,null,null,null,null,null,null,null,null,"M",null,null,"Fermentas FastRuler High Range DNA Ladder","-","-",20,null,null,null,"A01",{"$f":"VLOOKUP($V4, $M$3:$T$55, 2, FALSE)","v":1},{"$f":"VLOOKUP($V4, $M$3:$T$55, 7, FALSE)","v":{"$error":"#N/A"}},{"$f":"VLOOKUP($V4, $M$3:$T$55, 8, FALSE)","v":{"$error":"#N/A"}},{"$f":"VLOOKUP($V4, $M$3:$T$55, 4, FALSE)","v":0}]
[null,null,null,null,null,null,null,null,null,null,null,1,"A01",{"$f":"'DNA Processing Record'!A2","v":1},{"$f":"'DNA Processing Record'!C2","v":"0-DNA"},{"$f":"'DNA Processing Record'!Q2","v":0},{"$f":"'DNA Processing Record'!E2","v":{"$error":"#N/A"}},{"$f":"(Q5*T5/(S5+T5))*20","v":{"$error":"#N/A"}},{"$f":"ROUND(Q5*T5/50*20-T5,0)","v":{"$error":"#N/A"}},{"$f":"ROUNDUP(50/Q5,0)","v":{"$error":"#N/A"}},null,"A02",3,{"$error":"#N/A"},{"$error":"#N/A"},0]
[null,null,null,null,null,null,null,null,null,null,null,2,"B01",{"$f":"'DNA Processing Record'!A3","v":2},{"$f":"'DNA Processing Record'!C3","v":"0-DNA"},{"$f":"'DNA Processing Record'!Q3","v":0},{"$f":"'DNA Processing Record'!E3","v":{"$error":"#N/A"}},{"$f":"(Q6*T6/(S6+T6))*20","v":{"$error":"#N/A"}},{"$f":"ROUND(Q6*T6/50*20-T6,0)","v":{"$error":"#N/A"}},{"$f":"ROUNDUP(50/Q6,0)","v":{"$error":"#N/A"}},null,"A03",5,{"$error":"#N/A"},{"$error":"#N/A"},0]
[null,null,null,null,null,null,null,null,null,null,null,3,"A02",{"$f":"'DNA Processing Record'!A4","v":3},{"$f":"'DNA Processing Record'!C4","v":"0-DNA"},{"$f":"'DNA Processing Record'!Q4","v":0},{"$f":"'DNA Processing Record'!E4","v":{"$error":"#N/A"}},{"$error":"#N/A"},{"$error":"#N/A"},{"$error":"#N/A"},null,"A04",7,{"$error":"#N/A"},{"$error":"#N/A"},0]
[null,null,null,null,null,null,null,null,null,null,null,4,"B02",{"$f":"'DNA Processing Record'!A5","v":4},{"$f":"'DNA Processing Record'!C5","v":"0-DNA"},{"$f":"'DNA Processing Record'!Q5","v":0},{"$f":"'DNA Processing Record'!E5","v":{"$error":"#N/A"}},{"$error":"#N/A"},{"$error":"#N/A"},{"$error":"#N/A"},null,"A05",9,{"$error":"#N/A"},{"$error":"#N/A"},0]
[null,null,null,null,null,null,null,null,null,null,null,5,"A03",{"$f":"'DNA Processing Record'!A6","v":5},{"$f":"'DNA Processing Record'!C6","v":"0-DNA"},{"$f":"'DNA Processing Record'!Q6","v":0},{"$f":"'DNA Processing Record'!E6","v":{"$error":"#N/A"}},{"$error":"#N/A"},{"$error":"#N/A"},{"$error":"#N/A"},null,"A06",11,{"$error":"#N/A"},{"$error":"#N/A"},0]
[null,null,null,null,null,null,null,null,null,null,null,6,"B03",{"$f":"'DNA Processing Record'!A7","v":6},{"$f":"'DNA Processing Record'!C7","v":"0-DNA"},{"$f":"'DNA Processing Record'!Q7","v":0},{"$f":"'DNA Processing Record'!E7","v":{"$error":"#N/A"}},{"$error":"#N/A"},{"$error":"#N/A"},{"$error":"#N/A"},null,"B01",2,{"$error":"#N/A"},{"$error":"#N/A"},0]
[null,null,null,null,null,null,null,null,null,null,null,7,"A04",{"$f":"'DNA Processing Record'!A8","v":7},{"$f":"'DNA Processing Record'!C8","v":"0-DNA"},{"$f":"'DNA Processing Record'!Q8","v":0},{"$f":"'DNA Processing Record'!E8","v":{"$error":"#N/A"}},{"$error":"#N/A"},{"$error":"#N/A"},{"$error":"#N/A"},null,"B02",4,{"$error":"#N/A"},{"$error":"#N/A"},0]
[null,null,null,null,null,null,null,null,null,null,null,8,"B04",{"$f":"'DNA Processing Record'!A9","v":8},{"$f":"'DNA Processing Record'!C9","v":"0-DNA"},{"$f":"'DNA Processing Record'!Q9","v":0},{"$f":"'DNA Processing Record'!E9","v":{"$error":"#N/A"}},{"$error":"#N/A"},{"$error":"#N/A"},{"$error":"#N/A"},null,"B03",6,{"$error":"#N/A"},{"$error":"#N/A"},0]
[null,null,null,null,null,null,null,null,null,null,null,9,"A05",{"$f":"'DNA Processing Record'!A10","v":9},{"$f":"'DNA Processing Record'!C10","v":"0-DNA"},{"$f":"'DNA Processing Record'!Q10","v":0},{"$f":"'DNA Processing Record'!E10","v":{"$error":"#N/A"}},{"$error":"#N/A"},{"$error":"#N/A"},{"$error":"#N/A"},null,"B04",8,{"$error":"#N/A"},{"$error":"#N/A"},0]
[null,null,null,null,null,null,null,null,null,null,null,10,"B05",{"$f":"'DNA Processing Record'!A11","v":10},{"$f":"'DNA Processing Record'!C11","v":"0-DNA"},{"$f":"'DNA Processing Record'!Q11","v":0},{"$f":"'DNA Processing Record'!E11","v":{"$error":"#N/A"}},{"$error":"#N/A"},{"$error":"#N/A"},{"$error":"#N/A"},null,"B05",10,{"$error":"#N/A"},{"$error":"#N/A"},0]
[null,null,null,null,null,null,null,null,null,null,null,11,"A06",{"$f":"'DNA Processing Record'!A12","v":11},{"$f":"'DNA Processing Record'!C12","v":"0-DNA"},{"$f":"'DNA Processing Record'!Q12","v":0},{"$f":"'DNA Processing Record'!E12","v":{"$error":"#N/A"}},{"$error":"#N/A"},{"$error":"#N/A"},{"$error":"#N/A"},null,"B06",12,{"$error":"#N/A"},{"$error":"#N/A"},0]
[null,null,null,null,null,null,null,null,null,null,null,12,"B06",{"$f":"'DNA Processing Record'!A13","v":12},{"$f":"'DNA Processing Record'!C13","v":"0-DNA"},{"$f":"'DNA Processing Record'!Q13","v":0},{"$f":"'DNA Processing Record'!E13","v":{"$error":"#N/A"}},{"$error":"#N/A"},{"$error":"#N/A"},{"$error":"#N/A"},null,"C01",13,{"$error":"#N/A"},{"$error":"#N/A"},0]
[null,null,null,null,null,null,null,null,null,null,null,13,"C01",{"$f":"'DNA Processing Record'!A14","v":13},{"$f":"'DNA Processing Record'!C14","v":"0-DNA"},{"$f":"'DNA Processing Record'!Q14","v":0},{"$f":"'DNA Processing Record'!E14","v":{"$error":"#N/A"}},{"$error":"#N/A"},{"$error":"#N/A"},{"$error":"#N/A"},null,"C02",15,{"$error":"#N/A"},{"$error":"#N/A"},0]
[null,null,null,null,null,null,null,null,null,null,null,14,"D01",{"$f":"'DNA Processing Record'!A15","v":14},{"$f":"'DNA Processing Record'!C15","v":"0-DNA"},{"$f":"'DNA Processing Record'!Q15","v":0},{"$f":"'DNA Processing Record'!E15","v":{"$error":"#N/A"}},{"$error":"#N/A"},{"$error":"#N/A"},{"$error":"#N/A"},null,"C03",17,{"$error":"#N/A"},{"$error":"#N/A"},0]
[null,null,null,null,null,null,null,null,null,null,null,15,"C02",{"$f":"'DNA Processing Record'!A16","v":15},{"$f":"'DNA Processing Record'!C16","v":"0-DNA"},{"$f":"'DNA Processing Record'!Q16","v":0},{"$f":"'DNA Processing Record'!E16","v":{"$error":"#N/A"}},{"$error":"#N/A"},{"$error":"#N/A"},{"$error":"#N/A"},null,"C04",19,{"$error":"#N/A"},{"$error":"#N/A"},0]
[null,null,null,null,null,null,null,null,null,null,null,16,"D02",{"$f":"'DNA Processing Record'!A17","v":16},{"$f":"'DNA Processing Record'!C17","v":"0-DNA"},{"$f":"'DNA Processing Record'!Q17","v":0},{"$f":"'DNA Processing Record'!E17","v":{"$error":"#N/A"}},{"$error":"#N/A"},{"$error":"#N/A"},{"$error":"#N/A"},null,"C05",21,{"$error":"#N/A"},{"$error":"#N/A"},0]
[null,null,null,null,null,null,null,null,null,null,null,17,"C03",{"$f":"'DNA Processing Record'!A18","v":17},{"$f":"'DNA Processing Record'!C18","v":"0-DNA"},{"$f":"'DNA Processing Record'!Q18","v":0},{"$f":"'DNA Processing Record'!E18","v":{"$error":"#N/A"}},{"$error":"#N/A"},{"$error":"#N/A"},{"$error":"#N/A"},null,"C06",23,{"$error":"#N/A"},{"$error":"#N/A"},0]
[null,null,null,null,null,null,null,null,null,null,null,18,"D03",{"$f":"'DNA Processing Record'!A19","v":18},{"$f":"'DNA Processing Record'!C19","v":"0-DNA"},{"$f":"'DNA Processing Record'!Q19","v":0},{"$f":"'DNA Processing Record'!E19","v":{"$error":"#N/A"}},{"$error":"#N/A"},{"$error":"#N/A"},{"$error":"#N/A"},null,"D01",14,{"$error":"#N/A"},{"$error":"#N/A"},0]
[null,null,null,null,null,null,null,null,null,null,null,19,"C04",{"$f":"'DNA Processing Record'!A20","v":19},{"$f":"'DNA Processing Record'!C20","v":"0-DNA"},{"$f":"'DNA Processing Record'!Q20","v":0},{"$f":"'DNA Processing Record'!E20","v":{"$error":"#N/A"}},{"$error":"#N/A"},{"$error":"#N/A"},{"$error":"#N/A"},null,"D02",16,{"$error":"#N/A"},{"$error":"#N/A"},0]
[null,null,null,null,null,null,null,null,null,null,null,20,"D04",{"$f":"'DNA Processing Record'!A21","v":20},{"$f":"'DNA Processing Record'!C21","v":"0-DNA"},{"$f":"'DNA Processing Record'!Q21","v":0},{"$f":"'DNA Processing Record'!E21","v":{"$error":"#N/A"}},{"$error":"#N/A"},{"$error":"#N/A"},{"$error":"#N/A"},null,"D03",18,{"$error":"#N/A"},{"$error":"#N/A"},0]
[null,null,null,null,null,null,null,null,null,null,null,21,"C05",{"$f":"'DNA Processing Record'!A22","v":21},{"$f":"'DNA Processing Record'!C22","v":"0-DNA"},{"$f":"'DNA Processing Record'!Q22","v":0},{"$f":"'DNA Processing Record'!E22","v":{"$error":"#N/A"}},{"$error":"#N/A"},{"$error":"#N/A"},{"$error":"#N/A"},null,"D04",20,{"$error":"#N/A"},{"$error":"#N/A"},0]
[null,null,null,null,null,null,null,null,null,null,null,22,"D05",{"$f":"'DNA Processing Record'!A23","v":22},{"$f":"'DNA Processing Record'!C23","v":"0-DNA"},{"$f":"'DNA Processing Record'!Q23","v":0},{"$f":"'DNA Processing Record'!E23","v":{"$error":"#N/A"}},{"$error":"#N/A"},{"$error":"#N/A"},{"$error":"#N/A"},null,"D05",22,{"$error":"#N/A"},{"$error":"#N/A"},0]
[null,null,null,null,null,null,null,null,null,null,null,23,"C06",{"$f":"'DNA Processing Record'!A24","v":23},{"$f":"'DNA Processing Record'!C24","v":"0-DNA"},{"$f":"'DNA Processing Record'!Q24","v":0},{"$f":"'DNA Processing Record'!E24","v":{"$error":"#N/A"}},{"$error":"#N/A"},{"$error":"#N/A"},{"$error":"#N/A"},null,"D06",24,{"$error":"#N/A"},{"$error":"#N/A"},0]
[null,null,null,null,null,null,null,null,null,null,null,24,"D06",{"$f":"'DNA Processing Record'!A25","v":24},{"$f":"'DNA Processing Record'!C25","v":"0-DNA"},{"$f":"'DNA Processing Record'!Q25","v":0},{"$f":"'DNA Processing Record'!E25","v":{"$error":"#N/A"}},{"$error":"#N/A"},{"$error":"#N/A"},{"$error":"#N/A"},null,"E01",25,{"$error":"#N/A"},{"$error":"#N/A"},0]
[null,null,null,null,null,null,null,null,null,null,null,"M",null,null,"Fermentas FastRuler High Range DNA Ladder","-",null,20,null,null,null,"E02",27,{"$error":"#N/A"},{"$error":"#N/A"},0]
[null,null,null,null,null,null,null,null,null,null,null,"M",null,null,"Fermentas FastRuler High Range DNA Ladder","-",null,20,null,null,null,"E03",29,{"$error":"#N/A"},{"$error":"#N/A"},0]
[null,null,null,null,null,null,null,null,null,null,null,25,"E01",{"$f":"'DNA Processing Record'!A26","v":25},{"$f":"'DNA Processing Record'!C26","v":"0-DNA"},{"$f":"'DNA Processing Record'!Q26","v":0},{"$f":"'DNA Processing Record'!J26","v":{"$error":"#N/A"}},{"$f":"(Q31*T31/(S31+T31))*20","v":{"$error":"#N/A"}},{"$f":"ROUND(Q31*T31/50*20-T31,0)","v":{"$error":"#N/A"}},{"$f":"ROUNDUP(50/Q31,0)","v":{"$error":"#N/A"}},null,"E04",31,{"$error":"#N/A"},{"$error":"#N/A"},0]
[null,null,null,null,null,null,null,null,null,null,null,26,"F01",{"$f":"'DNA Processing Record'!A27","v":26},{"$f":"'DNA Processing Record'!C27","v":"0-DNA"},{"$f":"'DNA Processing Record'!Q27","v":0},{"$f":"'DNA Processing Record'!J27","v":{"$error":"#N/A"}},{"$f":"(Q32*T32/(S32+T32))*20","v":{"$error":"#N/A"}},{"$f":"ROUND(Q32*T32/50*20-T32,0)","v":{"$error":"#N/A"}},{"$f":"ROUNDUP(50/Q32,0)","v":{"$error":"#N/A"}},null,"E05",33,{"$error":"#N/A"},{"$error":"#N/A"},0]
[null,null,null,null,null,null,null,null,null,null,null,27,"E02",{"$f":"'DNA Processing Record'!A28","v":27},{"$f":"'DNA Processing Record'!C28","v":"0-DNA"},{"$f":"'DNA Processing Record'!Q28","v":0},{"$f":"'DNA Processing Record'!J28","v":{"$error":"#N/A"}},{"$error":"#N/A"},{"$error":"#N/A"},{"$error":"#N/A"},null,"E06",35,{"$error":"#N/A"},{"$error":"#N/A"},0]
[null,null,null,null,null,null,null,null,null,null,null,28,"F02",{"$f":"'DNA Processing Record'!A29","v":28},{"$f":"'DNA Processing Record'!C29","v":"0-DNA"},{"$f":"'DNA Processing Record'!Q29","v":0},{"$f":"'DNA Processing Record'!J29","v":{"$error":"#N/A"}},{"$error":"#N/A"},{"$error":"#N/A"},{"$error":"#N/A"},null,"F01",26,{"$error":"#N/A"},{"$error":"#N/A"},0]
[null,null,null,null,null,null,null,null,null,null,null,29,"E03",{"$f":"'DNA Processing Record'!A30","v":29},{"$f":"'DNA Processing Record'!C30","v":"0-DNA"},{"$f":"'DNA Processing Record'!Q30","v":0},{"$f":"'DNA Processing Record'!J30","v":{"$error":"#N/A"}},{"$error":"#N/A"},{"$error":"#N/A"},{"$error":"#N/A"},null,"F02",28,{"$error":"#N/A"},{"$error":"#N/A"},0]
[null,null,null,null,null,null,null,null,null,null,null,30,"F03",{"$f":"'DNA Processing Record'!A31","v":30},{"$f":"'DNA Processing Record'!C31","v":"0-DNA"},{"$f":"'DNA Processing Record'!Q31","v":0},{"$f":"'DNA Processing Record'!J31","v":{"$error":"#N/A"}},{"$error":"#N/A"},{"$error":"#N/A"},{"$error":"#N/A"},null,"F03",30,{"$error":"#N/A"},{"$error":"#N/A"},0]
[null,null,null,null,null,null,null,null,null,null,null,31,"E04",{"$f":"'DNA Processing Record'!A32","v":31},{"$f":"'DNA Processing Record'!C32","v":"0-DNA"},{"$f":"'DNA Processing Record'!Q32","v":0},{"$f":"'DNA Processing Record'!J32","v":{"$error":"#N/A"}},{"$error":"#N/A"},{"$error":"#N/A"},{"$error":"#N/A"},null,"F04",32,{"$error":"#N/A"},{"$error":"#N/A"},0]
[null,null,null,null,null,null,null,null,null,null,null,32,"F04",{"$f":"'DNA Processing Record'!A33","v":32},{"$f":"'DNA Processing Record'!C33","v":"0-DNA"},{"$f":"'DNA Processing Record'!Q33","v":0},{"$f":"'DNA Processing Record'!J33","v":{"$error":"#N/A"}},{"$error":"#N/A"},{"$error":"#N/A"},{"$error":"#N/A"},null,"F05",34,{"$error":"#N/A"},{"$error":"#N/A"},0]
[null,null,null,null,null,null,null,null,null,null,null,33,"E05",{"$f":"'DNA Processing Record'!A34","v":33},{"$f":"'DNA Processing Record'!C34","v":"0-DNA"},{"$f":"'DNA Processing Record'!Q34","v":0},{"$f":"'DNA Processing Record'!J34","v":{"$error":"#N/A"}},{"$error":"#N/A"},{"$error":"#N/A"},{"$error":"#N/A"},null,"F06",36,{"$error":"#N/A"},{"$error":"#N/A"},0]
[null,null,null,null,null,null,null,null,null,null,null,34,"F05",{"$f":"'DNA Processing Record'!A35","v":34},{"$f":"'DNA Processing Record'!C35","v":"0-DNA"},{"$f":"'DNA Processing Record'!Q35","v":0},{"$f":"'DNA Processing Record'!J35","v":{"$error":"#N/A"}},{"$error":"#N/A"},{"$error":"#N/A"},{"$error":"#N/A"},null,"G01",37,{"$error":"#N/A"},{"$error":"#N/A"},0]
[null,null,null,null,null,null,null,null,null,null,null,35,"E06",{"$f":"'DNA Processing Record'!A36","v":35},{"$f":"'DNA Processing Record'!C36","v":"0-DNA"},{"$f":"'DNA Processing Record'!Q36","v":0},{"$f":"'DNA Processing Record'!J36","v":{"$error":"#N/A"}},{"$error":"#N/A"},{"$error":"#N/A"},{"$error":"#N/A"},null,"G02",39,{"$error":"#N/A"},{"$error":"#N/A"},0]
[null,null,null,null,null,null,null,null,null,null,null,36,"F06",{"$f":"'DNA Processing Record'!A37","v":36},{"$f":"'DNA Processing Record'!C37","v":"0-DNA"},{"$f":"'DNA Processing Record'!Q37","v":0},{"$f":"'DNA Processing Record'!J37","v":{"$error":"#N/A"}},{"$error":"#N/A"},{"$error":"#N/A"},{"$error":"#N/A"},null,"G03",41,{"$error":"#N/A"},{"$error":"#N/A"},0]
[null,null,null,null,null,null,null,null,null,null,null,37,"G01",{"$f":"'DNA Processing Record'!A38","v":37},{"$f":"'DNA Processing Record'!C38","v":"0-DNA"},{"$f":"'DNA Processing Record'!Q38","v":0},{"$f":"'DNA Processing Record'!J38","v":{"$error":"#N/A"}},{"$error":"#N/A"},{"$error":"#N/A"},{"$error":"#N/A"},null,"G04",43,{"$error":"#N/A"},{"$error":"#N/A"},0]
[null,null,null,null,null,null,null,null,null,null,null,38,"H01",{"$f":"'DNA Processing Record'!A39","v":38},{"$f":"'DNA Processing Record'!C39","v":"0-DNA"},{"$f":"'DNA Processing Record'!Q39","v":0},{"$f":"'DNA Processing Record'!J39","v":{"$error":"#N/A"}},{"$error":"#N/A"},{"$error":"#N/A"},{"$error":"#N/A"},null,"G05",45,{"$error":"#N/A"},{"$error":"#N/A"},0]
[null,null,null,null,null,null,null,null,null,null,null,39,"G02",{"$f":"'DNA Processing Record'!A40","v":39},{"$f":"'DNA Processing Record'!C40","v":"0-DNA"},{"$f":"'DNA Processing Record'!Q40","v":0},{"$f":"'DNA Processing Record'!J40","v":{"$error":"#N/A"}},{"$error":"#N/A"},{"$error":"#N/A"},{"$error":"#N/A"},null,"G06",47,{"$error":"#N/A"},{"$error":"#N/A"},0]
[null,null,null,null,null,null,null,null,null,null,null,40,"H02",{"$f":"'DNA Processing Record'!A41","v":40},{"$f":"'DNA Processing Record'!C41","v":"0-DNA"},{"$f":"'DNA Processing Record'!Q41","v":0},{"$f":"'DNA Processing Record'!J41","v":{"$error":"#N/A"}},{"$error":"#N/A"},{"$error":"#N/A"},{"$error":"#N/A"},null,"H01",38,{"$error":"#N/A"},{"$error":"#N/A"},0]
[null,null,null,null,null,null,null,null,null,null,null,41,"G03",{"$f":"'DNA Processing Record'!A42","v":41},{"$f":"'DNA Processing Record'!C42","v":"0-DNA"},{"$f":"'DNA Processing Record'!Q42","v":0},{"$f":"'DNA Processing Record'!J42","v":{"$error":"#N/A"}},{"$error":"#N/A"},{"$error":"#N/A"},{"$error":"#N/A"},null,"H02",40,{"$error":"#N/A"},{"$error":"#N/A"},0]
[null,null,null,null,null,null,null,null,null,null,null,42,"H03",{"$f":"'DNA Processing Record'!A43","v":42},{"$f":"'DNA Processing Record'!C43","v":"0-DNA"},{"$f":"'DNA Processing Record'!Q43","v":0},{"$f":"'DNA Processing Record'!J43","v":{"$error":"#N/A"}},{"$error":"#N/A"},{"$error":"#N/A"},{"$error":"#N/A"},null,"H03",42,{"$error":"#N/A"},{"$error":"#N/A"},0]
[null,null,null,null,null,null,null,null,null,null,null,43,"G04",{"$f":"'DNA Processing Record'!A44","v":43},{"$f":"'DNA Processing Record'!C44","v":"0-DNA"},{"$f":"'DNA Processing Record'!Q44","v":0},{"$f":"'DNA Processing Record'!J44","v":{"$error":"#N/A"}},{"$error":"#N/A"},{"$error":"#N/A"},{"$error":"#N/A"},null,"H04",44,{"$error":"#N/A"},{"$error":"#N/A"},0]
[null,null,null,null,null,null,null,null,null,null,null,44,"H04",{"$f":"'DNA Processing Record'!A45","v":44},{"$f":"'DNA Processing Record'!C45","v":"0-DNA"},{"$f":"'DNA Processing Record'!Q45","v":0},{"$f":"'DNA Processing Record'!J45","v":{"$error":"#N/A"}},{"$error":"#N/A"},{"$error":"#N/A"},{"$error":"#N/A"},null,"H05",46,{"$error":"#N/A"},{"$error":"#N/A"},0]
[null,null,null,null,null,null,null,null,null,null,null,45,"G05",{"$f":"'DNA Processing Record'!A46","v":45},{"$f":"'DNA Processing Record'!C46","v":"0-DNA"},{"$f":"'DNA Processing Record'!Q46","v":0},{"$f":"'DNA Processing Record'!J46","v":{"$error":"#N/A"}},{"$error":"#N/A"},{"$error":"#N/A"},{"$error":"#N/A"},null,"H06",48,{"$error":"#N/A"},{"$error":"#N/A"},0]
[null,null,null,null,null,null,null,null,null,null,null,46,"H05",{"$f":"'DNA Processing Record'!A47","v":46},{"$f":"'DNA Processing Record'!C47","v":"0-DNA"},{"$f":"'DNA Processing Record'!Q47","v":0},{"$f":"'DNA Processing Record'!J47","v":{"$error":"#N/A"}},{"$error":"#N/A"},{"$error":"#N/A"},{"$error":"#N/A"}]
[null,null,null,null,null,null,null,null,null,null,null,47,"G06",{"$f":"'DNA Processing Record'!A48","v":47},{"$f":"'DNA Processing Record'!C48","v":"0-DNA"},{"$f":"'DNA Processing Record'!Q48","v":0},{"$f":"'DNA Processing Record'!J48","v":{"$error":"#N/A"}},{"$error":"#N/A"},{"$error":"#N/A"},{"$error":"#N/A"}]
[null,null,null,null,null,null,null,null,null,null,null,48,"H06",{"$f":"'DNA Processing Record'!A49","v":48},{"$f":"'DNA Processing Record'!C49","v":"0-DNA"},{"$f":"'DNA Processing Record'!Q49","v":0},{"$f":"'DNA Processing Record'!J49","v":{"$error":"#N/A"}},{"$error":"#N/A"},{"$error":"#N/A"},{"$error":"#N/A"}]
[null,null,null,null,null,null,null,null,null,null,null,"M",null,null,"Fermentas FastRuler High Range DNA Ladder","-","-",20]
[]
[]
[null,null,null,null,null,null,null,null,null,null,null,"Gel 2",null,null,null,null,null,null,null,null,null,"Dilution Plate 2"]
[null,null,null,null,null,null,null,null,null,null,null,"Lane","Well","Sample no.","Sample_ID","Reference_ID","DNA conc. (ng/ul)","Amount loaded (ng)","Water(ul)","Sample(ul)",null,"Well","Sample no.","Water(ul)","Sample(ul)","Reference ID"]
[null,null,null,null,null,null,null,null,null,null,null,"M",null,null,"Fermentas FastRuler High Range DNA Ladder","-","-",20,null,null,null,"A01",49,{"$f":"VLOOKUP($V60, $M$59:$T$111, 7, FALSE)","v":{"$error":"#N/A"}},{"$f":"VLOOKUP($V60, $M$59:$T$111, 8, FALSE)","v":{"$error":"#N/A"}},{"$f":"VLOOKUP($V60, $M$59:$T$111, 4, FALSE)","v":0}]
[null,null,null,null,null,null,null,null,null,null,null,1,"A01",{"$f":"'DNA Processing Record'!A50","v":49},{"$f":"'DNA Processing Record'!C50","v":"0-DNA"},{"$f":"'DNA Processing Record'!Q50","v":0},{"$f":"'DNA Processing Record'!E50","v":{"$error":"#N/A"}},{"$f":"(Q61*T61/(S61+T61))*20","v":{"$error":"#N/A"}},{"$f":"ROUND(Q61*T61/50*20-T61,0)","v":{"$error":"#N/A"}},{"$f":"ROUNDUP(50/Q61,0)","v":{"$error":"#N/A"}},null,"A02",51,{"$error":"#N/A"},{"$error":"#N/A"},0]
[null,null,null,null,null,null,null,null,null,null,null,2,"B01",{"$f":"'DNA Processing Record'!A51","v":50},{"$f":"'DNA Processing Record'!C51","v":"0-DNA"},{"$f":"'DNA Processing Record'!Q51","v":0},{"$f":"'DNA Processing Record'!E51","v":{"$error":"#N/A"}},{"$f":"(Q62*T62/(S62+T62))*20","v":{"$error":"#N/A"}},{"$f":"ROUND(Q62*T62/50*20-T62,0)","v":{"$error":"#N/A"}},{"$f":"ROUNDUP(50/Q62,0)","v":{"$error":"#N/A"}},null,"A03",53,{"$error":"#N/A"},{"$error":"#N/A"},0]
[null,null,null,null,null,null,null,null,null,null,null,3,"A02",{"$f":"'DNA Processing Record'!A52","v":51},{"$f":"'DNA Processing Record'!C52","v":"0-DNA"},{"$f":"'DNA Processing Record'!Q52","v":0},{"$f":"'DNA Processing Record'!E52","v":{"$error":"#N/A"}},{"$error":"#N/A"},{"$error":"#N/A"},{"$error":"#N/A"},null,"A04",55,{"$error":"#N/A"},{"$error":"#N/A"},0]
[null,null,null,null,null,null,null,null,null,null,null,4,"B02",{"$f":"'DNA Processing Record'!A53","v":52},{"$f":"'DNA Processing Record'!C53","v":"0-DNA"},{"$f":"'DNA Processing Record'!Q53","v":0},{"$f":"'DNA Processing Record'!E53","v":{"$error":"#N/A"}},{"$error":"#N/A"},{"$error":"#N/A"},{"$error":"#N/A"},null,"A05",57,{"$error":"#N/A"},{"$error":"#N/A"},0]
[null,null,null,null,null,null,null,null,null,null,null,5,"A03",{"$f":"'DNA Processing Record'!A54","v":53},{"$f":"'DNA Processing Record'!C54","v":"0-DNA"},{"$f":"'DNA Processing Record'!Q54","v":0},{"$f":"'DNA Processing Record'!E54","v":{"$error":"#N/A"}},{"$error":"#N/A"},{"$error":"#N/A"},{"$error":"#N/A"},null,"A06",59,{"$error":"#N/A"},{"$error":"#N/A"},0]
[null,null,null,null,null,null,null,null,null,null,null,6,"B03",{"$f":"'DNA Processing Record'!A55","v":54},{"$f":"'DNA Processing Record'!C55","v":"0-DNA"},{"$f":"'DNA Processing Record'!Q55","v":0},{"$f":"'DNA Processing Record'!E55","v":{"$error":"#N/A"}},{"$error":"#N/A"},{"$error":"#N/A"},{"$error":"#N/A"},null,"B01",50,{"$error":"#N/A"},{"$error":"#N/A"},0]
[null,null,null,null,null,null,null,null,null,null,null,7,"A04",{"$f":"'DNA Processing Record'!A56","v":55},{"$f":"'DNA Processing Record'!C56","v":"0-DNA"},{"$f":"'DNA Processing Record'!Q56","v":0},{"$f":"'DNA Processing Record'!E56","v":{"$error":"#N/A"}},{"$error":"#N/A"},{"$error":"#N/A"},{"$error":"#N/A"},null,"B02",52,{"$error":"#N/A"},{"$error":"#N/A"},0]
[null,null,null,null,null,null,null,null,null,null,null,8,"B04",{"$f":"'DNA Processing Record'!A57","v":56},{"$f":"'DNA Processing Record'!C57","v":"0-DNA"},{"$f":"'DNA Processing Record'!Q57","v":0},{"$f":"'DNA Processing Record'!E57","v":{"$error":"#N/A"}},{"$error":"#N/A"},{"$error":"#N/A"},{"$error":"#N/A"},null,"B03",54,{"$error":"#N/A"},{"$error":"#N/A"},0]
[null,null,null,null,null,null,null,null,null,null,null,9,"A05",{"$f":"'DNA Processing Record'!A58","v":57},{"$f":"'DNA Processing Record'!C58","v":"0-DNA"},{"$f":"'DNA Processing Record'!Q58","v":0},{"$f":"'DNA Processing Record'!E58","v":{"$error":"#N/A"}},{"$error":"#N/A"},{"$error":"#N/A"},{"$error":"#N/A"},null,"B04",56,{"$error":"#N/A"},{"$error":"#N/A"},0]
[null,null,null,null,null,null,null,null,null,null,null,10,"B05",{"$f":"'DNA Processing Record'!A59","v":58},{"$f":"'DNA Processing Record'!C59","v":"0-DNA"},{"$f":"'DNA Processing Record'!Q59","v":0},{"$f":"'DNA Processing Record'!E59","v":{"$error":"#N/A"}},{"$error":"#N/A"},{"$error":"#N/A"},{"$error":"#N/A"},null,"B05",58,{"$error":"#N/A"},{"$error":"#N/A"},0]
[null,null,null,null,null,null,null,null,null,null,null,11,"A06",{"$f":"'DNA Processing Record'!A60","v":59},{"$f":"'DNA Processing Record'!C60","v":"0-DNA"},{"$f":"'DNA Processing Record'!Q60","v":0},{"$f":"'DNA Processing Record'!E60","v":{"$error":"#N/A"}},{"$error":"#N/A"},{"$error":"#N/A"},{"$error":"#N/A"},null,"B06",60,{"$error":"#N/A"},{"$error":"#N/A"},0]
[null,null,null,null,null,null,null,null,null,null,null,12,"B06",{"$f":"'DNA Processing Record'!A61","v":60},{"$f":"'DNA Processing Record'!C61","v":"0-DNA"},{"$f":"'DNA Processing Record'!Q61","v":0},{"$f":"'DNA Processing Record'!E61","v":{"$error":"#N/A"}},{"$error":"#N/A"},{"$error":"#N/A"},{"$error":"#N/A"},null,"C01",61,{"$error":"#N/A"},{"$error":"#N/A"},0]
[null,null,null,null,null,null,null,null,null,null,null,13,"C01",{"$f":"'DNA Processing Record'!A62","v":61},{"$f":"'DNA Processing Record'!C62","v":"0-DNA"},{"$f":"'DNA Processing Record'!Q62","v":0},{"$f":"'DNA Processing Record'!E62","v":{"$error":"#N/A"}},{"$error":"#N/A"},{"$error":"#N/A"},{"$error":"#N/A"},null,"C02",63,{"$error":"#N/A"},{"$error":"#N/A"},0]
[null,null,null,null,null,null,null,null,null,null,null,14,"D01",{"$f":"'DNA Processing Record'!A63","v":62},{"$f":"'DNA Processing Record'!C63","v":"0-DNA"},{"$f":"'DNA Processing Record'!Q63","v":0},{"$f":"'DNA Processing Record'!E63","v":{"$error":"#N/A"}},{"$error":"#N/A"},{"$error":"#N/A"},{"$error":"#N/A"},null,"C03",65,{"$error":"#N/A"},{"$error":"#N/A"},0]
[null,null,null,null,null,null,null,null,null,null,null,15,"C02",{"$f":"'DNA Processing Record'!A64","v":63},{"$f":"'DNA Processing Record'!C64","v":"0-DNA"},{"$f":"'DNA Processing Record'!Q64","v":0},{"$f":"'DNA Processing Record'!E64","v":{"$error":"#N/A"}},{"$error":"#N/A"},{"$error":"#N/A"},{"$error":"#N/A"},null,"C04",67,{"$error":"#N/A"},{"$error":"#N/A"},0]
[null,null,null,null,null,null,null,null,null,null,null,16,"D02",{"$f":"'DNA Processing Record'!A65","v":64},{"$f":"'DNA Processing Record'!C65","v":"0-DNA"},{"$f":"'DNA Processing Record'!Q65","v":0},{"$f":"'DNA Processing Record'!E65","v":{"$error":"#N/A"}},{"$error":"#N/A"},{"$error":"#N/A"},{"$error":"#N/A"},null,"C05",69,{"$error":"#N/A"},{"$error":"#N/A"},0]
[null,null,null,null,null,null,null,null,null,null,null,17,"C03",{"$f":"'DNA Processing Record'!A66","v":65},{"$f":"'DNA Processing Record'!C66","v":"0-DNA"},{"$f":"'DNA Processing Record'!Q66","v":0},{"$f":"'DNA Processing Record'!E66","v":{"$error":"#N/A"}},{"$error":"#N/A"},{"$error":"#N/A"},{"$error":"#N/A"},null,"C06",71,{"$error":"#N/A"},{"$error":"#N/A"},0]
[null,null,null,null,null,null,null,null,null,null,null,18,"D03",{"$f":"'DNA Processing Record'!A67","v":66},{"$f":"'DNA Processing Record'!C67","v":"0-DNA"},{"$f":"'DNA Processing Record'!Q67","v":0},{"$f":"'DNA Processing Record'!E67","v":{"$error":"#N/A"}},{"$error":"#N/A"},{"$error":"#N/A"},{"$error":"#N/A"},null,"D01",62,{"$error":"#N/A"},{"$error":"#N/A"},0]
[null,null,null,null,null,null,null,null,null,null,null,19,"C04",{"$f":"'DNA Processing Record'!A68","v":67},{"$f":"'DNA Processing Record'!C68","v":"0-DNA"},{"$f":"'DNA Processing Record'!Q68","v":0},{"$f":"'DNA Processing Record'!E68","v":{"$error":"#N/A"}},{"$error":"#N/A"},{"$error":"#N/A"},{"$error":"#N/A"},null,"D02",64,{"$error":"#N/A"},{"$error":"#N/A"},0]
[null,null,null,null,null,null,null,null,null,null,null,20,"D04",{"$f":"'DNA Processing Record'!A69","v":68},{"$f":"'DNA Processing Record'!C69","v":"0-DNA"},{"$f":"'DNA Processing Record'!Q69","v":0},{"$f":"'DNA Processing Record'!E69","v":{"$error":"#N/A"}},{"$error":"#N/A"},{"$error":"#N/A"},{"$error":"#N/A"},null,"D03",66,{"$error":"#N/A"},{"$error":"#N/A"},0]
[null,null,null,null,null,null,null,null,null,null,null,21,"C05",{"$f":"'DNA Processing Record'!A70","v":69},{"$f":"'DNA Processing Record'!C70","v":"0-DNA"},{"$f":"'DNA Processing Record'!Q70","v":0},{"$f":"'DNA Processing Record'!E70","v":{"$error":"#N/A"}},{"$error":"#N/A"},{"$error":"#N/A"},{"$error":"#N/A"},null,"D04",68,{"$error":"#N/A"},{"$error":"#N/A"},0]
[null,null,null,null,null,null,null,null,null,null,null,22,"D05",{"$f":"'DNA Processing Record'!A71","v":70},{"$f":"'DNA Processing Record'!C71","v":"0-DNA"},{"$f":"'DNA Processing Record'!Q71","v":0},{"$f":"'DNA Processing Record'!E71","v":{"$error":"#N/A"}},{"$error":"#N/A"},{"$error":"#N/A"},{"$error":"#N/A"},null,"D05",70,{"$error":"#N/A"},{"$error":"#N/A"},0]
[null,null,null,null,null,null,null,null,null,null,null,23,"C06",{"$f":"'DNA Processing Record'!A72","v":71},{"$f":"'DNA Processing Record'!C72","v":"0-DNA"},{"$f":"'DNA Processing Record'!Q72","v":0},{"$f":"'DNA Processing Record'!E72","v":{"$error":"#N/A"}},{"$error":"#N/A"},{"$error":"#N/A"},{"$error":"#N/A"},null,"D06",72,{"$error":"#N/A"},{"$error":"#N/A"},0]
[null,null,null,null,null,null,null,null,null,null,null,24,"D06",{"$f":"'DNA Processing Record'!A73","v":72},{"$f":"'DNA Processing Record'!C73","v":"0-DNA"},{"$f":"'DNA Processing Record'!Q73","v":0},{"$f":"'DNA Processing Record'!E73","v":{"$error":"#N/A"}},{"$error":"#N/A"},{"$error":"#N/A"},{"$error":"#N/A"},null,"E01",73,{"$error":"#N/A"},{"$error":"#N/A"},0]
[null,null,null,null,null,null,null,null,null,null,null,"M",null,null,"Fermentas FastRuler High Range DNA Ladder","-",{"$f":"'DNA Processing Record'!E74","v":{"$error":"#N/A"}},20,null,null,null,"E02",75,{"$error":"#N/A"},{"$error":"#N/A"},0]
[null,null,null,null,null,null,null,null,null,null,null,"M",null,null,"Fermentas FastRuler High Range DNA Ladder","-",{"$f":"'DNA Processing Record'!E75","v":{"$error":"#N/A"}},20,null,null,null,"E03",77,{"$error":"#N/A"},{"$error":"#N/A"},0]
[null,null,null,null,null,null,null,null,null,null,null,25,"E01",{"$f":"'DNA Processing Record'!A74","v":73},{"$f":"'DNA Processing Record'!C74","v":"0-DNA"},{"$f":"'DNA Processing Record'!Q74","v":0},{"$f":"'DNA Processing Record'!E76","v":{"$error":"#N/A"}},{"$f":"(Q87*T87/(S87+T87))*20","v":{"$error":"#N/A"}},{"$f":"ROUND(Q87*T87/50*20-T87,0)","v":{"$error":"#N/A"}},{"$f":"ROUNDUP(50/Q87,0)","v":{"$error":"#N/A"}},null,"E04",79,{"$error":"#N/A"},{"$error":"#N/A"},0]
[null,null,null,null,null,null,null,null,null,null,null,26,"F01",{"$f":"'DNA Processing Record'!A75","v":74},{"$f":"'DNA Processing Record'!C75","v":"0-DNA"},{"$f":"'DNA Processing Record'!Q75","v":0},{"$f":"'DNA Processing Record'!E77","v":{"$error":"#N/A"}},{"$f":"(Q88*T88/(S88+T88))*20","v":{"$error":"#N/A"}},{"$f":"ROUND(Q88*T88/50*20-T88,0)","v":{"$error":"#N/A"}},{"$f":"ROUNDUP(50/Q88,0)","v":{"$error":"#N/A"}},null,"E05",81,{"$error":"#N/A"},{"$error":"#N/A"},0]
[null,null,null,null,null,null,null,null,null,null,null,27,"E02",{"$f":"'DNA Processing Record'!A76","v":75},{"$f":"'DNA Processing Record'!C76","v":"0-DNA"},{"$f":"'DNA Processing Record'!Q76","v":0},{"$f":"'DNA Processing Record'!E78","v":{"$error":"#N/A"}},{"$error":"#N/A"},{"$error":"#N/A"},{"$error":"#N/A"},null,"E06",83,{"$error":"#N/A"},{"$error":"#N/A"},0]
[null,null,null,null,null,null,null,null,null,null,null,28,"F02",{"$f":"'DNA Processing Record'!A77","v":76},{"$f":"'DNA Processing Record'!C77","v":"0-DNA"},{"$f":"'DNA Processing Record'!Q77","v":0},{"$f":"'DNA Processing Record'!E79","v":{"$error":"#N/A"}},{"$error":"#N/A"},{"$error":"#N/A"},{"$error":"#N/A"},null,"F01",74,{"$error":"#N/A"},{"$error":"#N/A"},0]
[null,null,null,null,null,null,null,null,null,null,null,29,"E03",{"$f":"'DNA Processing Record'!A78","v":77},{"$f":"'DNA Processing Record'!C78","v":"0-DNA"},{"$f":"'DNA Processing Record'!Q78","v":0},{"$f":"'DNA Processing Record'!E80","v":{"$error":"#N/A"}},{"$error":"#N/A"},{"$error":"#N/A"},{"$error":"#N/A"},null,"F02",76,{"$error":"#N/A"},{"$error":"#N/A"},0]
[null,null,null,null,null,null,null,null,null,null,null,30,"F03",{"$f":"'DNA Processing Record'!A79","v":78},{"$f":"'DNA Processing Record'!C79","v":"0-DNA"},{"$f":"'DNA Processing Record'!Q79","v":0},{"$f":"'DNA Processing Record'!E81","v":{"$error":"#N/A"}},{"$error":"#N/A"},{"$error":"#N/A"},{"$error":"#N/A"},null,"F03",78,{"$error":"#N/A"},{"$error":"#N/A"},0]
[null,null,null,null,null,null,null,null,null,null,null,31,"E04",{"$f":"'DNA Processing Record'!A80","v":79},{"$f":"'DNA Processing Record'!C80","v":"0-DNA"},{"$f":"'DNA Processing Record'!Q80","v":0},{"$f":"'DNA Processing Record'!E82","v":{"$error":"#N/A"}},{"$error":"#N/A"},{"$error":"#N/A"},{"$error":"#N/A"},null,"F04",80,{"$error":"#N/A"},{"$error":"#N/A"},0]
[null,null,null,null,null,null,null,null,null,null,null,32,"F04",{"$f":"'DNA Processing Record'!A81","v":80},{"$f":"'DNA Processing Record'!C81","v":"0-DNA"},{"$f":"'DNA Processing Record'!Q81","v":0},{"$f":"'DNA Processing Record'!E83","v":{"$error":"#N/A"}},{"$error":"#N/A"},{"$error":"#N/A"},{"$error":"#N/A"},null,"F05",82,{"$error":"#N/A"},{"$error":"#N/A"},0]
[null,null,null,null,null,null,null,null,null,null,null,33,"E05",{"$f":"'DNA Processing Record'!A82","v":81},{"$f":"'DNA Processing Record'!C82","v":"0-DNA"},{"$f":"'DNA Processing Record'!Q82","v":0},{"$f":"'DNA Processing Record'!E84","v":{"$error":"#N/A"}},{"$error":"#N/A"},{"$error":"#N/A"},{"$error":"#N/A"},null,"F06",84,{"$error":"#N/A"},{"$error":"#N/A"},0]
[null,null,null,null,null,null,null,null,null,null,null,34,"F05",{"$f":"'DNA Processing Record'!A83","v":82},{"$f":"'DNA Processing Record'!C83","v":"0-DNA"},{"$f":"'DNA Processing Record'!Q83","v":0},{"$f":"'DNA Processing Record'!E85","v":{"$error":"#N/A"}},{"$error":"#N/A"},{"$error":"#N/A"},{"$error":"#N/A"},null,"G01",85,{"$error":"#N/A"},{"$error":"#N/A"},0]
[null,null,null,null,null,null,null,null,null,null,null,35,"E06",{"$f":"'DNA Processing Record'!A84","v":83},{"$f":"'DNA Processing Record'!C84","v":"0-DNA"},{"$f":"'DNA Processing Record'!Q84","v":0},{"$f":"'DNA Processing Record'!E86","v":{"$error":"#N/A"}},{"$error":"#N/A"},{"$error":"#N/A"},{"$error":"#N/A"},null,"G02",87,{"$error":"#N/A"},{"$error":"#N/A"},0]
[null,null,null,null,null,null,null,null,null,null,null,36,"F06",{"$f":"'DNA Processing Record'!A85","v":84},{"$f":"'DNA Processing Record'!C85","v":"0-DNA"},{"$f":"'DNA Processing Record'!Q85","v":0},{"$f":"'DNA Processing Record'!E87","v":{"$error":"#N/A"}},{"$error":"#N/A"},{"$error":"#N/A"},{"$error":"#N/A"},null,"G03",89,{"$error":"#N/A"},{"$error":"#N/A"},0]
[null,null,null,null,null,null,null,null,null,null,null,37,"G01",{"$f":"'DNA Processing Record'!A86","v":85},{"$f":"'DNA Processing Record'!C86","v":"0-DNA"},{"$f":"'DNA Processing Record'!Q86","v":0},{"$f":"'DNA Processing Record'!E88","v":{"$error":"#N/A"}},{"$error":"#N/A"},{"$error":"#N/A"},{"$error":"#N/A"},null,"G04",91,{"$error":"#N/A"},{"$error":"#N/A"},0]
[null,null,null,null,null,null,null,null,null,null,null,38,"H01",{"$f":"'DNA Processing Record'!A87","v":86},{"$f":"'DNA Processing Record'!C87","v":"0-DNA"},{"$f":"'DNA Processing Record'!Q87","v":0},{"$f":"'DNA Processing Record'!E89","v":{"$error":"#N/A"}},{"$error":"#N/A"},{"$error":"#N/A"},{"$error":"#N/A"},null,"G05",93,{"$error":"#N/A"},{"$error":"#N/A"},0]
[null,null,null,null,null,null,null,null,null,null,null,39,"G02",{"$f":"'DNA Processing Record'!A88","v":87},{"$f":"'DNA Processing Record'!C88","v":"0-DNA"},{"$f":"'DNA Processing Record'!Q88","v":0},{"$f":"'DNA Processing Record'!E90","v":{"$error":"#N/A"}},{"$error":"#N/A"},{"$error":"#N/A"},{"$error":"#N/A"},null,"G06",95,{"$error":"#N/A"},{"$error":"#N/A"},0]
[null,null,null,null,null,null,null,null,null,null,null,40,"H02",{"$f":"'DNA Processing Record'!A89","v":88},{"$f":"'DNA Processing Record'!C89","v":"0-DNA"},{"$f":"'DNA Processing Record'!Q89","v":0},{"$f":"'DNA Processing Record'!E91","v":{"$error":"#N/A"}},{"$error":"#N/A"},{"$error":"#N/A"},{"$error":"#N/A"},null,"H01",86,{"$error":"#N/A"},{"$error":"#N/A"},0]
[null,null,null,null,null,null,null,null,null,null,null,41,"G03",{"$f":"'DNA Processing Record'!A90","v":89},{"$f":"'DNA Processing Record'!C90","v":"0-DNA"},{"$f":"'DNA Processing Record'!Q90","v":0},{"$f":"'DNA Processing Record'!E92","v":{"$error":"#N/A"}},{"$error":"#N/A"},{"$error":"#N/A"},{"$error":"#N/A"},null,"H02",88,{"$error":"#N/A"},{"$error":"#N/A"},0]
[null,null,null,null,null,null,null,null,null,null,null,42,"H03",{"$f":"'DNA Processing Record'!A91","v":90},{"$f":"'DNA Processing Record'!C91","v":"0-DNA"},{"$f":"'DNA Processing Record'!Q91","v":0},{"$f":"'DNA Processing Record'!E93","v":{"$error":"#N/A"}},{"$error":"#N/A"},{"$error":"#N/A"},{"$error":"#N/A"},null,"H03",90,{"$error":"#N/A"},{"$error":"#N/A"},0]
[null,null,null,null,null,null,null,null,null,null,null,43,"G04",{"$f":"'DNA Processing Record'!A92","v":91},{"$f":"'DNA Processing Record'!C92","v":"0-DNA"},{"$f":"'DNA Processing Record'!Q92","v":0},{"$f":"'DNA Processing Record'!E94","v":{"$error":"#N/A"}},{"$error":"#N/A"},{"$error":"#N/A"},{"$error":"#N/A"},null,"H04",92,{"$error":"#N/A"},{"$error":"#N/A"},0]
[null,null,null,null,null,null,null,null,null,null,null,44,"H04",{"$f":"'DNA Processing Record'!A93","v":92},{"$f":"'DNA Processing Record'!C93","v":"0-DNA"},{"$f":"'DNA Processing Record'!Q93","v":0},{"$f":"'DNA Processing Record'!E95","v":{"$error":"#N/A"}},{"$error":"#N/A"},{"$error":"#N/A"},{"$error":"#N/A"},null,"H05",94,{"$error":"#N/A"},{"$error":"#N/A"},0]
[null,null,null,null,null,null,null,null,null,null,null,45,"G05",{"$f":"'DNA Processing Record'!A94","v":93},{"$f":"'DNA Processing Record'!C94","v":"0-DNA"},{"$f":"'DNA Processing Record'!Q94","v":0},{"$f":"'DNA Processing Record'!E96","v":{"$error":"#N/A"}},{"$error":"#N/A"},{"$error":"#N/A"},{"$error":"#N/A"},null,"H06",96,{"$error":"#N/A"},{"$error":"#N/A"},0]
[null,null,null,null,null,null,null,null,null,null,null,46,"H05",{"$f":"'DNA Processing Record'!A95","v":94},{"$f":"'DNA Processing Record'!C95","v":"0-DNA"},{"$f":"'DNA Processing Record'!Q95","v":0},{"$f":"'DNA Processing Record'!E97","v":{"$error":"#N/A"}},{"$error":"#N/A"},{"$error":"#N/A"},{"$error":"#N/A"}]
[null,null,null,null,null,null,null,null,null,null,null,47,"G06",{"$f":"'DNA Processing Record'!A96","v":95},{"$f":"'DNA Processing Record'!C96","v":"0-DNA"},{"$f":"'DNA Processing Record'!Q96","v":0},{"$f":"'DNA Processing Record'!E98","v":{"$error":"#N/A"}},{"$error":"#N/A"},{"$error":"#N/A"},{"$error":"#N/A"}]
[null,null,null,null,null,null,null,null,null,null,null,48,"H06",{"$f":"'DNA Processing Record'!A97","v":96},{"$f":"'DNA Processing Record'!C97","v":"0-DNA"},{"$f":"'DNA Processing Record'!Q97","v":0},{"$f":"'DNA Processing Record'!E99","v":{"$error":"#N/A"}},{"$error":"#N/A"},{"$error":"#N/A"},{"$error":"#N/A"}]
[null,null,null,null,null,null,null,null,null,null,null,"M",null,null,"Fermentas FastRuler High Range DNA Ladder","-",{"$f":"'DNA Processing Record'!E100","v":{"$error":"#N/A"}},20]
[]
[]
[null,null,null,null,null,null,null,null,null,null,null,"Gel 3",null,null,null,null,null,null,null,null,null,"Dilution Plate 3"]
[null,null,null,null,null,null,null,null,null,null,null,"Lane","Well","Sample no.","Sample_ID","Reference_ID","DNA conc. (ng/ul)","Amount loaded (ng)","Water(ul)","Sample(ul)",null,"Well","Sample no.","Water(ul)","Sample(ul)","Reference ID"]
[null,null,null,null,null,null,null,null,null,null,null,"M",null,null,"Fermentas FastRuler High Range DNA Ladder","-","-",20,null,null,null,"A01",97,{"$f":"VLOOKUP($V116, $M$115:$T$167, 7, FALSE)","v":{"$error":"#N/A"}},{"$f":"VLOOKUP($V116, $M$115:$T$167, 8, FALSE)","v":{"$error":"#N/A"}},{"$f":"VLOOKUP($V116, $M$115:$T$167, 4, FALSE)","v":0}]
[null,null,null,null,null,null,null,null,null,null,null,1,"A01",{"$f":"'DNA Processing Record'!A98","v":97},{"$f":"'DNA Processing Record'!C98","v":"0-DNA"},{"$f":"'DNA Processing Record'!Q98","v":0},{"$f":"'DNA Processing Record'!E98","v":{"$error":"#N/A"}},{"$f":"(Q117*T117/(S117+T117))*20","v":{"$error":"#N/A"}},{"$f":"ROUND(Q117*T117/50*20-T117,0)","v":{"$error":"#N/A"}},{"$f":"ROUNDUP(50/Q117,0)","v":{"$error":"#N/A"}},null,"A02",99,{"$error":"#N/A"},{"$error":"#N/A"},0]
[null,null,null,null,null,null,null,null,null,null,null,2,"B01",{"$f":"'DNA Processing Record'!A99","v":98},{"$f":"'DNA Processing Record'!C99","v":"0-DNA"},{"$f":"'DNA Processing Record'!Q99","v":0},{"$f":"'DNA Processing Record'!E99","v":{"$error":"#N/A"}},{"$f":"(Q118*T118/(S118+T118))*20","v":{"$error":"#N/A"}},{"$f":"ROUND(Q118*T118/50*20-T118,0)","v":{"$error":"#N/A"}},{"$f":"ROUNDUP(50/Q118,0)","v":{"$error":"#N/A"}},null,"A03",101,{"$error":"#N/A"},{"$error":"#N/A"},0]
[null,null,null,null,null,null,null,null,null,null,null,3,"A02",{"$f":"'DNA Processing Record'!A100","v":99},{"$f":"'DNA Processing Record'!C100","v":"0-DNA"},{"$f":"'DNA Processing Record'!Q100","v":0},{"$f":"'DNA Processing Record'!E100","v":{"$error":"#N/A"}},{"$error":"#N/A"},{"$error":"#N/A"},{"$error":"#N/A"},null,"A04",103,{"$error":"#N/A"},{"$error":"#N/A"},0]
[null,null,null,null,null,null,null,null,null,null,null,4,"B02",{"$f":"'DNA Processing Record'!A101","v":100},{"$f":"'DNA Processing Record'!C101","v":"0-DNA"},{"$f":"'DNA Processing Record'!Q101","v":0},{"$f":"'DNA Processing Record'!E101","v":{"$error":"#N/A"}},{"$error":"#N/A"},{"$error":"#N/A"},{"$error":"#N/A"},null,"A05",105,{"$error":"#N/A"},{"$error":"#N/A"},0]
[null,null,null,null,null,null,null,null,null,null,null,5,"A03",{"$f":"'DNA Processing Record'!A102","v":101},{"$f":"'DNA Processing Record'!C102","v":"0-DNA"},{"$f":"'DNA Processing Record'!Q102","v":0},{"$f":"'DNA Processing Record'!E102","v":{"$error":"#N/A"}},{"$error":"#N/A"},{"$error":"#N/A"},{"$error":"#N/A"},null,"A06",107,{"$error":"#N/A"},{"$error":"#N/A"},0]
[null,null,null,null,null,null,null,null,null,null,null,6,"B03",{"$f":"'DNA Processing Record'!A103","v":102},{"$f":"'DNA Processing Record'!C103","v":"0-DNA"},{"$f":"'DNA Processing Record'!Q103","v":0},{"$f":"'DNA Processing Record'!E103","v":{"$error":"#N/A"}},{"$error":"#N/A"},{"$error":"#N/A"},{"$error":"#N/A"},null,"B01",98,{"$error":"#N/A"},{"$error":"#N/A"},0]
[null,null,null,null,null,null,null,null,null,null,null,7,"A04",{"$f":"'DNA Processing Record'!A104","v":103},{"$f":"'DNA Processing Record'!C104","v":"0-DNA"},{"$f":"'DNA Processing Record'!Q104","v":0},{"$f":"'DNA Processing Record'!E104","v":{"$error":"#N/A"}},{"$error":"#N/A"},{"$error":"#N/A"},{"$error":"#N/A"},null,"B02",100,{"$error":"#N/A"},{"$error":"#N/A"},0]
[null,null,null,null,null,null,null,null,null,null,null,8,"B04",{"$f":"'DNA Processing Record'!A105","v":104},{"$f":"'DNA Processing Record'!C105","v":"0-DNA"},{"$f":"'DNA Processing Record'!Q105","v":0},{"$f":"'DNA Processing Record'!E105","v":{"$error":"#N/A"}},{"$error":"#N/A"},{"$error":"#N/A"},{"$error":"#N/A"},null,"B03",102,{"$error":"#N/A"},{"$error":"#N/A"},0]
[null,null,null,null,null,null,null,null,null,null,null,9,"A05",{"$f":"'DNA Processing Record'!A106","v":105},{"$f":"'DNA Processing Record'!C106","v":"0-DNA"},{"$f":"'DNA Processing Record'!Q106","v":0},{"$f":"'DNA Processing Record'!E106","v":{"$error":"#N/A"}},{"$error":"#N/A"},{"$error":"#N/A"},{"$error":"#N/A"},null,"B04",104,{"$error":"#N/A"},{"$error":"#N/A"},0]
[null,null,null,null,null,null,null,null,null,null,null,10,"B05",{"$f":"'DNA Processing Record'!A107","v":106},{"$f":"'DNA Processing Record'!C107","v":"0-DNA"},{"$f":"'DNA Processing Record'!Q107","v":0},{"$f":"'DNA Processing Record'!E107","v":{"$error":"#N/A"}},{"$error":"#N/A"},{"$error":"#N/A"},{"$error":"#N/A"},null,"B05",106,{"$error":"#N/A"},{"$error":"#N/A"},0]
[null,null,null,null,null,null,null,null,null,null,null,11,"A06",{"$f":"'DNA Processing Record'!A108","v":107},{"$f":"'DNA Processing Record'!C108","v":"0-DNA"},{"$f":"'DNA Processing Record'!Q108","v":0},{"$f":"'DNA Processing Record'!E108","v":{"$error":"#N/A"}},{"$error":"#N/A"},{"$error":"#N/A"},{"$error":"#N/A"},null,"B06",108,{"$error":"#N/A"},{"$error":"#N/A"},0]
[null,null,null,null,null,null,null,null,null,null,null,12,"B06",{"$f":"'DNA Processing Record'!A109","v":108},{"$f":"'DNA Processing Record'!C109","v":"0-DNA"},{"$f":"'DNA Processing Record'!Q109","v":0},{"$f":"'DNA Processing Record'!E109","v":{"$error":"#N/A"}},{"$error":"#N/A"},{"$error":"#N/A"},{"$error":"#N/A"},null,"C01",109,{"$error":"#N/A"},{"$error":"#N/A"},0]
[null,null,null,null,null,null,null,null,null,null,null,13,"C01",{"$f":"'DNA Processing Record'!A110","v":109},{"$f":"'DNA Processing Record'!C110","v":"0-DNA"},{"$f":"'DNA Processing Record'!Q110","v":0},{"$f":"'DNA Processing Record'!E110","v":{"$error":"#N/A"}},{"$error":"#N/A"},{"$error":"#N/A"},{"$error":"#N/A"},null,"C02",111,{"$error":"#N/A"},{"$error":"#N/A"},0]
[null,null,null,null,null,null,null,null,null,null,null,14,"D01",{"$f":"'DNA Processing Record'!A111","v":110},{"$f":"'DNA Processing Record'!C111","v":"0-DNA"},{"$f":"'DNA Processing Record'!Q111","v":0},{"$f":"'DNA Processing Record'!E111","v":{"$error":"#N/A"}},{"$error":"#N/A"},{"$error":"#N/A"},{"$error":"#N/A"},null,"C03",113,{"$error":"#N/A"},{"$error":"#N/A"},0]
[null,null,null,null,null,null,null,null,null,null,null,15,"C02",{"$f":"'DNA Processing Record'!A112","v":111},{"$f":"'DNA Processing Record'!C112","v":"0-DNA"},{"$f":"'DNA Processing Record'!Q112","v":0},{"$f":"'DNA Processing Record'!E112","v":{"$error":"#N/A"}},{"$error":"#N/A"},{"$error":"#N/A"},{"$error":"#N/A"},null,"C04",115,{"$error":"#N/A"},{"$error":"#N/A"},0]
[null,null,null,null,null,null,null,null,null,null,null,16,"D02",{"$f":"'DNA Processing Record'!A113","v":112},{"$f":"'DNA Processing Record'!C113","v":"0-DNA"},{"$f":"'DNA Processing Record'!Q113","v":0},{"$f":"'DNA Processing Record'!E113","v":{"$error":"#N/A"}},{"$error":"#N/A"},{"$error":"#N/A"},{"$error":"#N/A"},null,"C05",117,{"$error":"#N/A"},{"$error":"#N/A"},0]
[null,null,null,null,null,null,null,null,null,null,null,17,"C03",{"$f":"'DNA Processing Record'!A114","v":113},{"$f":"'DNA Processing Record'!C114","v":"0-DNA"},{"$f":"'DNA Processing Record'!Q114","v":0},{"$f":"'DNA Processing Record'!E114","v":{"$error":"#N/A"}},{"$error":"#N/A"},{"$error":"#N/A"},{"$error":"#N/A"},null,"C06",119,{"$error":"#N/A"},{"$error":"#N/A"},0]
[null,null,null,null,null,null,null,null,null,null,null,18,"D03",{"$f":"'DNA Processing Record'!A115","v":114},{"$f":"'DNA Processing Record'!C115","v":"0-DNA"},{"$f":"'DNA Processing Record'!Q115","v":0},{"$f":"'DNA Processing Record'!E115","v":{"$error":"#N/A"}},{"$error":"#N/A"},{"$error":"#N/A"},{"$error":"#N/A"},null,"D01",110,{"$error":"#N/A"},{"$error":"#N/A"},0]
[null,null,null,null,null,null,null,null,null,null,null,19,"C04",{"$f":"'DNA Processing Record'!A116","v":115},{"$f":"'DNA Processing Record'!C116","v":"0-DNA"},{"$f":"'DNA Processing Record'!Q116","v":0},{"$f":"'DNA Processing Record'!E116","v":{"$error":"#N/A"}},{"$error":"#N/A"},{"$error":"#N/A"},{"$error":"#N/A"},null,"D02",112,{"$error":"#N/A"},{"$error":"#N/A"},0]
[null,null,null,null,null,null,null,null,null,null,null,20,"D04",{"$f":"'DNA Processing Record'!A117","v":116},{"$f":"'DNA Processing Record'!C117","v":"0-DNA"},{"$f":"'DNA Processing Record'!Q117","v":0},{"$f":"'DNA Processing Record'!E117","v":{"$error":"#N/A"}},{"$error":"#N/A"},{"$error":"#N/A"},{"$error":"#N/A"},null,"D03",114,{"$error":"#N/A"},{"$error":"#N/A"},0]
[null,null,null,null,null,null,null,null,null,null,null,21,"C05",{"$f":"'DNA Processing Record'!A118","v":117},{"$f":"'DNA Processing Record'!C118","v":"0-DNA"},{"$f":"'DNA Processing Record'!Q118","v":0},{"$f":"'DNA Processing Record'!E118","v":{"$error":"#N/A"}},{"$error":"#N/A"},{"$error":"#N/A"},{"$error":"#N/A"},null,"D04",116,{"$error":"#N/A"},{"$error":"#N/A"},0]
[null,null,null,null,null,null,null,null,null,null,null,22,"D05",{"$f":"'DNA Processing Record'!A119","v":118},{"$f":"'DNA Processing Record'!C119","v":"0-DNA"},{"$f":"'DNA Processing Record'!Q119","v":0},{"$f":"'DNA Processing Record'!E119","v":{"$error":"#N/A"}},{"$error":"#N/A"},{"$error":"#N/A"},{"$error":"#N/A"},null,"D05",118,{"$error":"#N/A"},{"$error":"#N/A"},0]
[null,null,null,null,null,null,null,null,null,null,null,23,"C06",{"$f":"'DNA Processing Record'!A120","v":119},{"$f":"'DNA Processing Record'!C120","v":"0-DNA"},{"$f":"'DNA Processing Record'!Q120","v":0},{"$f":"'DNA Processing Record'!E120","v":{"$error":"#N/A"}},{"$error":"#N/A"},{"$error":"#N/A"},{"$error":"#N/A"},null,"D06",120,{"$error":"#N/A"},{"$error":"#N/A"},0]
[null,null,null,null,null,null,null,null,null,null,null,24,"D06",{"$f":"'DNA Processing Record'!A121","v":120},{"$f":"'DNA Processing Record'!C121","v":"0-DNA"},{"$f":"'DNA Processing Record'!Q121","v":0},{"$f":"'DNA Processing Record'!E121","v":{"$error":"#N/A"}},{"$error":"#N/A"},{"$error":"#N/A"},{"$error":"#N/A"},null,"E01",121,{"$error":"#N/A"},{"$error":"#N/A"},0]
[null,null,null,null,null,null,null,null,null,null,null,"M",null,null,"Fermentas FastRuler High Range DNA Ladder","-",{"$f":"'DNA Processing Record'!E122","v":{"$error":"#N/A"}},20,null,null,null,"E02",123,{"$error":"#N/A"},{"$error":"#N/A"},0]
[null,null,null,null,null,null,null,null,null,null,null,"M",null,null,"Fermentas FastRuler High Range DNA Ladder","-",{"$f":"'DNA Processing Record'!E123","v":{"$error":"#N/A"}},20,null,null,null,"E03",125,{"$error":"#N/A"},{"$error":"#N/A"},0]
[null,null,null,null,null,null,null,null,null,null,null,25,"E01",{"$f":"'DNA Processing Record'!A122","v":121},{"$f":"'DNA Processing Record'!C122","v":"0-DNA"},{"$f":"'DNA Processing Record'!Q122","v":0},{"$f":"'DNA Processing Record'!E124","v":{"$error":"#N/A"}},{"$f":"(Q143*T143/(S143+T143))*20","v":{"$error":"#N/A"}},{"$f":"ROUND(Q143*T143/50*20-T143,0)","v":{"$error":"#N/A"}},{"$f":"ROUNDUP(50/Q143,0)","v":{"$error":"#N/A"}},null,"E04",127,{"$error":"#N/A"},{"$error":"#N/A"},0]
[null,null,null,null,null,null,null,null,null,null,null,26,"F01",{"$f":"'DNA Processing Record'!A123","v":122},{"$f":"'DNA Processing Record'!C123","v":"0-DNA"},{"$f":"'DNA Processing Record'!Q123","v":0},{"$f":"'DNA Processing Record'!E125","v":{"$error":"#N/A"}},{"$f":"(Q144*T144/(S144+T144))*20","v":{"$error":"#N/A"}},{"$f":"ROUND(Q144*T144/50*20-T144,0)","v":{"$error":"#N/A"}},{"$f":"ROUNDUP(50/Q144,0)","v":{"$error":"#N/A"}},null,"E05",129,{"$error":"#N/A"},{"$error":"#N/A"},0]
[null,null,null,null,null,null,null,null,null,null,null,27,"E02",{"$f":"'DNA Processing Record'!A124","v":123},{"$f":"'DNA Processing Record'!C124","v":"0-DNA"},{"$f":"'DNA Processing Record'!Q124","v":0},{"$f":"'DNA Processing Record'!E126","v":{"$error":"#N/A"}},{"$error":"#N/A"},{"$error":"#N/A"},{"$error":"#N/A"},null,"E06",131,{"$error":"#N/A"},{"$error":"#N/A"},0]
[null,null,null,null,null,null,null,null,null,null,null,28,"F02",{"$f":"'DNA Processing Record'!A125","v":124},{"$f":"'DNA Processing Record'!C125","v":"0-DNA"},{"$f":"'DNA Processing Record'!Q125","v":0},{"$f":"'DNA Processing Record'!E127","v":{"$error":"#N/A"}},{"$error":"#N/A"},{"$error":"#N/A"},{"$error":"#N/A"},null,"F01",122,{"$error":"#N/A"},{"$error":"#N/A"},0]
[null,null,null,null,null,null,null,null,null,null,null,29,"E03",{"$f":"'DNA Processing Record'!A126","v":125},{"$f":"'DNA Processing Record'!C126","v":"0-DNA"},{"$f":"'DNA Processing Record'!Q126","v":0},{"$f":"'DNA Processing Record'!E128","v":{"$error":"#N/A"}},{"$error":"#N/A"},{"$error":"#N/A"},{"$error":"#N/A"},null,"F02",124,{"$error":"#N/A"},{"$error":"#N/A"},0]
[null,null,null,null,null,null,null,null,null,null,null,30,"F03",{"$f":"'DNA Processing Record'!A127","v":126},{"$f":"'DNA Processing Record'!C127","v":"0-DNA"},{"$f":"'DNA Processing Record'!Q127","v":0},{"$f":"'DNA Processing Record'!E129","v":{"$error":"#N/A"}},{"$error":"#N/A"},{"$error":"#N/A"},{"$error":"#N/A"},null,"F03",126,{"$error":"#N/A"},{"$error":"#N/A"},0]
[null,null,null,null,null,null,null,null,null,null,null,31,"E04",{"$f":"'DNA Processing Record'!A128","v":127},{"$f":"'DNA Processing Record'!C128","v":"0-DNA"},{"$f":"'DNA Processing Record'!Q128","v":0},{"$f":"'DNA Processing Record'!E130","v":{"$error":"#N/A"}},{"$error":"#N/A"},{"$error":"#N/A"},{"$error":"#N/A"},null,"F04",128,{"$error":"#N/A"},{"$error":"#N/A"},0]
[null,null,null,null,null,null,null,null,null,null,null,32,"F04",{"$f":"'DNA Processing Record'!A129","v":128},{"$f":"'DNA Processing Record'!C129","v":"0-DNA"},{"$f":"'DNA Processing Record'!Q129","v":0},{"$f":"'DNA Processing Record'!E131","v":{"$error":"#N/A"}},{"$error":"#N/A"},{"$error":"#N/A"},{"$error":"#N/A"},null,"F05",130,{"$error":"#N/A"},{"$error":"#N/A"},0]
[null,null,null,null,null,null,null,null,null,null,null,33,"E05",{"$f":"'DNA Processing Record'!A130","v":129},{"$f":"'DNA Processing Record'!C130","v":"0-DNA"},{"$f":"'DNA Processing Record'!Q130","v":0},{"$f":"'DNA Processing Record'!E132","v":{"$error":"#N/A"}},{"$error":"#N/A"},{"$error":"#N/A"},{"$error":"#N/A"},null,"F06",132,{"$error":"#N/A"},{"$error":"#N/A"},0]
[null,null,null,null,null,null,null,null,null,null,null,34,"F05",{"$f":"'DNA Processing Record'!A131","v":130},{"$f":"'DNA Processing Record'!C131","v":"0-DNA"},{"$f":"'DNA Processing Record'!Q131","v":0},{"$f":"'DNA Processing Record'!E133","v":{"$error":"#N/A"}},{"$error":"#N/A"},{"$error":"#N/A"},{"$error":"#N/A"},null,"G01",133,{"$error":"#N/A"},{"$error":"#N/A"},0]
[null,null,null,null,null,null,null,null,null,null,null,35,"E06",{"$f":"'DNA Processing Record'!A132","v":131},{"$f":"'DNA Processing Record'!C132","v":"0-DNA"},{"$f":"'DNA Processing Record'!Q132","v":0},{"$f":"'DNA Processing Record'!E134","v":{"$error":"#N/A"}},{"$error":"#N/A"},{"$error":"#N/A"},{"$error":"#N/A"},null,"G02",135,{"$error":"#N/A"},{"$error":"#N/A"},0]
[null,null,null,null,null,null,null,null,null,null,null,36,"F06",{"$f":"'DNA Processing Record'!A133","v":132},{"$f":"'DNA Processing Record'!C133","v":"0-DNA"},{"$f":"'DNA Processing Record'!Q133","v":0},{"$f":"'DNA Processing Record'!E135","v":{"$error":"#N/A"}},{"$error":"#N/A"},{"$error":"#N/A"},{"$error":"#N/A"},null,"G03",137,{"$error":"#N/A"},{"$error":"#N/A"},0]
[null,null,null,null,null,null,null,null,null,null,null,37,"G01",{"$f":"'DNA Processing Record'!A134","v":133},{"$f":"'DNA Processing Record'!C134","v":"0-DNA"},{"$f":"'DNA Processing Record'!Q134","v":0},{"$f":"'DNA Processing Record'!E136","v":{"$error":"#N/A"}},{"$error":"#N/A"},{"$error":"#N/A"},{"$error":"#N/A"},null,"G04",139,{"$error":"#N/A"},{"$error":"#N/A"},0]
[null,null,null,null,null,null,null,null,null,null,null,38,"H01",{"$f":"'DNA Processing Record'!A135","v":134},{"$f":"'DNA Processing Record'!C135","v":"0-DNA"},{"$f":"'DNA Processing Record'!Q135","v":0},{"$f":"'DNA Processing Record'!E137","v":{"$error":"#N/A"}},{"$error":"#N/A"},{"$error":"#N/A"},{"$error":"#N/A"},null,"G05",141,{"$error":"#N/A"},{"$error":"#N/A"},0]
[null,null,null,null,null,null,null,null,null,null,null,39,"G02",{"$f":"'DNA Processing Record'!A136","v":135},{"$f":"'DNA Processing Record'!C136","v":"0-DNA"},{"$f":"'DNA Processing Record'!Q136","v":0},{"$f":"'DNA Processing Record'!E138","v":{"$error":"#N/A"}},{"$error":"#N/A"},{"$error":"#N/A"},{"$error":"#N/A"},null,"G06",143,{"$error":"#N/A"},{"$error":"#N/A"},0]
[null,null,null,null,null,null,null,null,null,null,null,40,"H02",{"$f":"'DNA Processing Record'!A137","v":136},{"$f":"'DNA Processing Record'!C137","v":"0-DNA"},{"$f":"'DNA Processing Record'!Q137","v":0},{"$f":"'DNA Processing Record'!E139","v":{"$error":"#N/A"}},{"$error":"#N/A"},{"$error":"#N/A"},{"$error":"#N/A"},null,"H01",134,{"$error":"#N/A"},{"$error":"#N/A"},0]
[null,null,null,null,null,null,null,null,null,null,null,41,"G03",{"$f":"'DNA Processing Record'!A138","v":137},{"$f":"'DNA Processing Record'!C138","v":"0-DNA"},{"$f":"'DNA Processing Record'!Q138","v":0},{"$f":"'DNA Processing Record'!E140","v":{"$error":"#N/A"}},{"$error":"#N/A"},{"$error":"#N/A"},{"$error":"#N/A"},null,"H02",136,{"$error":"#N/A"},{"$error":"#N/A"},0]
[null,null,null,null,null,null,null,null,null,null,null,42,"H03",{"$f":"'DNA Processing Record'!A139","v":138},{"$f":"'DNA Processing Record'!C139","v":"0-DNA"},{"$f":"'DNA Processing Record'!Q139","v":0},{"$f":"'DNA Processing Record'!E141","v":{"$error":"#N/A"}},{"$error":"#N/A"},{"$error":"#N/A"},{"$error":"#N/A"},null,"H03",138,{"$error":"#N/A"},{"$error":"#N/A"},0]
[null,null,null,null,null,null,null,null,null,null,null,43,"G04",{"$f":"'DNA Processing Record'!A140","v":139},{"$f":"'DNA Processing Record'!C140","v":"0-DNA"},{"$f":"'DNA Processing Record'!Q140","v":0},{"$f":"'DNA Processing Record'!E142","v":{"$error":"#N/A"}},{"$error":"#N/A"},{"$error":"#N/A"},{"$error":"#N/A"},null,"H04",140,{"$error":"#N/A"},{"$error":"#N/A"},0]
[null,null,null,null,null,null,null,null,null,null,null,44,"H04",{"$f":"'DNA Processing Record'!A141","v":140},{"$f":"'DNA Processing Record'!C141","v":"0-DNA"},{"$f":"'DNA Processing Record'!Q141","v":0},{"$f":"'DNA Processing Record'!E143","v":{"$error":"#N/A"}},{"$error":"#N/A"},{"$error":"#N/A"},{"$error":"#N/A"},null,"H05",142,{"$error":"#N/A"},{"$error":"#N/A"},0]
[null,null,null,null,null,null,null,null,null,null,null,45,"G05",{"$f":"'DNA Processing Record'!A142","v":141},{"$f":"'DNA Processing Record'!C142","v":"0-DNA"},{"$f":"'DNA Processing Record'!Q142","v":0},{"$f":"'DNA Processing Record'!E144","v":{"$error":"#N/A"}},{"$error":"#N/A"},{"$error":"#N/A"},{"$error":"#N/A"},null,"H06",144,{"$error":"#N/A"},{"$error":"#N/A"},0]
[null,null,null,null,null,null,null,null,null,null,null,46,"H05",{"$f":"'DNA Processing Record'!A143","v":142},{"$f":"'DNA Processing Record'!C143","v":"0-DNA"},{"$f":"'DNA Processing Record'!Q143","v":0},{"$f":"'DNA Processing Record'!E145","v":{"$error":"#N/A"}},{"$error":"#N/A"},{"$error":"#N/A"},{"$error":"#N/A"}]
[null,null,null,null,null,null,null,null,null,null,null,47,"G06",{"$f":"'DNA Processing Record'!A144","v":143},{"$f":"'DNA Processing Record'!C144","v":"0-DNA"},{"$f":"'DNA Processing Record'!Q144","v":0},{"$f":"'DNA Processing Record'!E146","v":{"$error":"#N/A"}},{"$error":"#N/A"},{"$error":"#N/A"},{"$error":"#N/A"}]
[null,null,null,null,null,null,null,null,null,null,null,48,"H06",{"$f":"'DNA Processing Record'!A145","v":144},{"$f":"'DNA Processing Record'!C145","v":"0-DNA"},{"$f":"'DNA Processing Record'!Q145","v":0},{"$f":"'DNA Processing Record'!E147","v":{"$error":"#N/A"}},{"$error":"#N/A"},{"$error":"#N/A"},{"$error":"#N/A"}]
[null,null,null,null,null,null,null,null,null,null,null,"M",null,null,"Fermentas FastRuler High Range DNA Ladder","-",{"$f":"'DNA Processing Record'!E148","v":{"$error":"#N/A"}},20,{"$f":"IF(Q167<35, 20-T167,#REF!* 20-1)","v":{"$error":"#N/A"}},{"$f":"IF(Q167<35, ROUND(45/Q167, 0), 1)","v":{"$error":"#N/A"}}]
[]
[]
[null,null,null,null,null,null,null,null,null,null,null,"Gel 4",null,null,null,null,null,null,null,null,null,"Dilution Plate 4"]
[null,null,null,null,null,null,null,null,null,null,null,"Lane","Well","Sample no.","Sample_ID","Reference_ID","DNA conc. (ng/ul)","Amount loaded (ng)","Water(ul)","Sample(ul)",null,"Well","Sample no.","Water(ul)","Sample(ul)","Reference ID"]
[null,null,null,null,null,null,null,null,null,null,null,"M",null,null,"Fermentas FastRuler High Range DNA Ladder","-","-",20,null,null,null,"A01",145,{"$f":"VLOOKUP($V172, $M$171:$T$223, 7, FALSE)","v":{"$error":"#N/A"}},{"$f":"VLOOKUP($V172, $M$171:$T$223, 8, FALSE)","v":{"$error":"#N/A"}},{"$f":"VLOOKUP($V172, $M$171:$T$223, 4, FALSE)","v":0}]
[null,null,null,null,null,null,null,null,null,null,null,1,"A01",{"$f":"'DNA Processing Record'!A146","v":145},{"$f":"'DNA Processing Record'!C146","v":"0-DNA"},{"$f":"'DNA Processing Record'!Q146","v":0},{"$f":"'DNA Processing Record'!E146","v":{"$error":"#N/A"}},{"$f":"(Q173*T173/(S173+T173))*20","v":{"$error":"#N/A"}},{"$f":"ROUND(Q173*T173/50*20-T173,0)","v":{"$error":"#N/A"}},{"$f":"ROUNDUP(50/Q173,0)","v":{"$error":"#N/A"}},null,"A02",147,{"$error":"#N/A"},{"$error":"#N/A"},0]
[null,null,null,null,null,null,null,null,null,null,null,2,"B01",{"$f":"'DNA Processing Record'!A147","v":146},{"$f":"'DNA Processing Record'!C147","v":"0-DNA"},{"$f":"'DNA Processing Record'!Q147","v":0},{"$f":"'DNA Processing Record'!E147","v":{"$error":"#N/A"}},{"$f":"(Q174*T174/(S174+T174))*20","v":{"$error":"#N/A"}},{"$f":"ROUND(Q174*T174/50*20-T174,0)","v":{"$error":"#N/A"}},{"$f":"ROUNDUP(50/Q174,0)","v":{"$error":"#N/A"}},null,"A03",149,{"$error":"#N/A"},{"$error":"#N/A"},0]
[null,null,null,null,null,null,null,null,null,null,null,3,"A02",{"$f":"'DNA Processing Record'!A148","v":147},{"$f":"'DNA Processing Record'!C148","v":"0-DNA"},{"$f":"'DNA Processing Record'!Q148","v":0},{"$f":"'DNA Processing Record'!E148","v":{"$error":"#N/A"}},{"$error":"#N/A"},{"$error":"#N/A"},{"$error":"#N/A"},null,"A04",151,{"$error":"#N/A"},{"$error":"#N/A"},0]
[null,null,null,null,null,null,null,null,null,null,null,4,"B02",{"$f":"'DNA Processing Record'!A149","v":148},{"$f":"'DNA Processing Record'!C149","v":"0-DNA"},{"$f":"'DNA Processing Record'!Q149","v":0},{"$f":"'DNA Processing Record'!E149","v":{"$error":"#N/A"}},{"$error":"#N/A"},{"$error":"#N/A"},{"$error":"#N/A"},null,"A05",153,{"$error":"#N/A"},{"$error":"#N/A"},0]
[null,null,null,null,null,null,null,null,null,null,null,5,"A03",{"$f":"'DNA Processing Record'!A150","v":149},{"$f":"'DNA Processing Record'!C150","v":"0-DNA"},{"$f":"'DNA Processing Record'!Q150","v":0},{"$f":"'DNA Processing Record'!E150","v":{"$error":"#N/A"}},{"$error":"#N/A"},{"$error":"#N/A"},{"$error":"#N/A"},null,"A06",155,{"$error":"#N/A"},{"$error":"#N/A"},0]
[null,null,null,null,null,null,null,null,null,null,null,6,"B03",{"$f":"'DNA Processing Record'!A151","v":150},{"$f":"'DNA Processing Record'!C151","v":"0-DNA"},{"$f":"'DNA Processing Record'!Q151","v":0},{"$f":"'DNA Processing Record'!E151","v":{"$error":"#N/A"}},{"$error":"#N/A"},{"$error":"#N/A"},{"$error":"#N/A"},null,"B01",146,{"$error":"#N/A"},{"$error":"#N/A"},0]
[null,null,null,null,null,null,null,null,null,null,null,7,"A04",{"$f":"'DNA Processing Record'!A152","v":151},{"$f":"'DNA Processing Record'!C152","v":"0-DNA"},{"$f":"'DNA Processing Record'!Q152","v":0},{"$f":"'DNA Processing Record'!E152","v":{"$error":"#N/A"}},{"$error":"#N/A"},{"$error":"#N/A"},{"$error":"#N/A"},null,"B02",148,{"$error":"#N/A"},{"$error":"#N/A"},0]
[null,null,null,null,null,null,null,null,null,null,null,8,"B04",{"$f":"'DNA Processing Record'!A153","v":152},{"$f":"'DNA Processing Record'!C153","v":"0-DNA"},{"$f":"'DNA Processing Record'!Q153","v":0},{"$f":"'DNA Processing Record'!E153","v":{"$error":"#N/A"}},{"$error":"#N/A"},{"$error":"#N/A"},{"$error":"#N/A"},null,"B03",150,{"$error":"#N/A"},{"$error":"#N/A"},0]
[null,null,null,null,null,null,null,null,null,null,null,9,"A05",{"$f":"'DNA Processing Record'!A154","v":153},{"$f":"'DNA Processing Record'!C154","v":"0-DNA"},{"$f":"'DNA Processing Record'!Q154","v":0},{"$f":"'DNA Processing Record'!E154","v":{"$error":"#N/A"}},{"$error":"#N/A"},{"$error":"#N/A"},{"$error":"#N/A"},null,"B04",152,{"$error":"#N/A"},{"$error":"#N/A"},0]
[null,null,null,null,null,null,null,null,null,null,null,10,"B05",{"$f":"'DNA Processing Record'!A155","v":154},{"$f":"'DNA Processing Record'!C155","v":"0-DNA"},{"$f":"'DNA Processing Record'!Q155","v":0},{"$f":"'DNA Processing Record'!E155","v":{"$error":"#N/A"}},{"$error":"#N/A"},{"$error":"#N/A"},{"$error":"#N/A"},null,"B05",154,{"$error":"#N/A"},{"$error":"#N/A"},0]
[null,null,null,null,null,null,null,null,null,null,null,11,"A06",{"$f":"'DNA Processing Record'!A156","v":155},{"$f":"'DNA Processing Record'!C156","v":"0-DNA"},{"$f":"'DNA Processing Record'!Q156","v":0},{"$f":"'DNA Processing Record'!E156","v":{"$error":"#N/A"}},{"$error":"#N/A"},{"$error":"#N/A"},{"$error":"#N/A"},null,"B06",156,{"$error":"#N/A"},{"$error":"#N/A"},0]
[null,null,null,null,null,null,null,null,null,null,null,12,"B06",{"$f":"'DNA Processing Record'!A157","v":156},{"$f":"'DNA Processing Record'!C157","v":"0-DNA"},{"$f":"'DNA Processing Record'!Q157","v":0},{"$f":"'DNA Processing Record'!E157","v":{"$error":"#N/A"}},{"$error":"#N/A"},{"$error":"#N/A"},{"$error":"#N/A"},null,"C01",157,{"$error":"#N/A"},{"$error":"#N/A"},0]
[null,null,null,null,null,null,null,null,null,null,null,13,"C01",{"$f":"'DNA Processing Record'!A158","v":157},{"$f":"'DNA Processing Record'!C158","v":"0-DNA"},{"$f":"'DNA Processing Record'!Q158","v":0},{"$f":"'DNA Processing Record'!E158","v":{"$error":"#N/A"}},{"$error":"#N/A"},{"$error":"#N/A"},{"$error":"#N/A"},null,"C02",159,{"$error":"#N/A"},{"$error":"#N/A"},0]
[null,null,null,null,null,null,null,null,null,null,null,14,"D01",{"$f":"'DNA Processing Record'!A159","v":158},{"$f":"'DNA Processing Record'!C159","v":"0-DNA"},{"$f":"'DNA Processing Record'!Q159","v":0},{"$f":"'DNA Processing Record'!E159","v":{"$error":"#N/A"}},{"$error":"#N/A"},{"$error":"#N/A"},{"$error":"#N/A"},null,"C03",161,{"$error":"#N/A"},{"$error":"#N/A"},0]
[null,null,null,null,null,null,null,null,null,null,null,15,"C02",{"$f":"'DNA Processing Record'!A160","v":159},{"$f":"'DNA Processing Record'!C160","v":"0-DNA"},{"$f":"'DNA Processing Record'!Q160","v":0},{"$f":"'DNA Processing Record'!E160","v":{"$error":"#N/A"}},{"$error":"#N/A"},{"$error":"#N/A"},{"$error":"#N/A"},null,"C04",163,{"$error":"#N/A"},{"$error":"#N/A"},0]
[null,null,null,null,null,null,null,null,null,null,null,16,"D02",{"$f":"'DNA Processing Record'!A161","v":160},{"$f":"'DNA Processing Record'!C161","v":"0-DNA"},{"$f":"'DNA Processing Record'!Q161","v":0},{"$f":"'DNA Processing Record'!E161","v":{"$error":"#N/A"}},{"$error":"#N/A"},{"$error":"#N/A"},{"$error":"#N/A"},null,"C05",165,{"$error":"#N/A"},{"$error":"#N/A"},0]
[null,null,null,null,null,null,null,null,null,null,null,17,"C03",{"$f":"'DNA Processing Record'!A162","v":161},{"$f":"'DNA Processing Record'!C162","v":"0-DNA"},{"$f":"'DNA Processing Record'!Q162","v":0},{"$f":"'DNA Processing Record'!E162","v":{"$error":"#N/A"}},{"$error":"#N/A"},{"$error":"#N/A"},{"$error":"#N/A"},null,"C06",167,{"$error":"#N/A"},{"$error":"#N/A"},0]
[null,null,null,null,null,null,null,null,null,null,null,18,"D03",{"$f":"'DNA Processing Record'!A163","v":162},{"$f":"'DNA Processing Record'!C163","v":"0-DNA"},{"$f":"'DNA Processing Record'!Q163","v":0},{"$f":"'DNA Processing Record'!E163","v":{"$error":"#N/A"}},{"$error":"#N/A"},{"$error":"#N/A"},{"$error":"#N/A"},null,"D01",158,{"$error":"#N/A"},{"$error":"#N/A"},0]
[null,null,null,null,null,null,null,null,null,null,null,19,"C04",{"$f":"'DNA Processing Record'!A164","v":163},{"$f":"'DNA Processing Record'!C164","v":"0-DNA"},{"$f":"'DNA Processing Record'!Q164","v":0},{"$f":"'DNA Processing Record'!E164","v":{"$error":"#N/A"}},{"$error":"#N/A"},{"$error":"#N/A"},{"$error":"#N/A"},null,"D02",160,{"$error":"#N/A"},{"$error":"#N/A"},0]
[null,null,null,null,null,null,null,null,null,null,null,20,"D04",{"$f":"'DNA Processing Record'!A165","v":164},{"$f":"'DNA Processing Record'!C165","v":"0-DNA"},{"$f":"'DNA Processing Record'!Q165","v":0},{"$f":"'DNA Processing Record'!E165","v":{"$error":"#N/A"}},{"$error":"#N/A"},{"$error":"#N/A"},{"$error":"#N/A"},null,"D03",162,{"$error":"#N/A"},{"$error":"#N/A"},0]
[null,null,null,null,null,null,null,null,null,null,null,21,"C05",{"$f":"'DNA Processing Record'!A166","v":165},{"$f":"'DNA Processing Record'!C166","v":"0-DNA"},{"$f":"'DNA Processing Record'!Q166","v":0},{"$f":"'DNA Processing Record'!E166","v":{"$error":"#N/A"}},{"$error":"#N/A"},{"$error":"#N/A"},{"$error":"#N/A"},null,"D04",164,{"$error":"#N/A"},{"$error":"#N/A"},0]
[null,null,null,null,null,null,null,null,null,null,null,22,"D05",{"$f":"'DNA Processing Record'!A167","v":166},{"$f":"'DNA Processing Record'!C167","v":"0-DNA"},{"$f":"'DNA Processing Record'!Q167","v":0},{"$f":"'DNA Processing Record'!E167","v":{"$error":"#N/A"}},{"$error":"#N/A"},{"$error":"#N/A"},{"$error":"#N/A"},null,"D05",166,{"$error":"#N/A"},{"$error":"#N/A"},0]
[null,null,null,null,null,null,null,null,null,null,null,23,"C06",{"$f":"'DNA Processing Record'!A168","v":167},{"$f":"'DNA Processing Record'!C168","v":"0-DNA"},{"$f":"'DNA Processing Record'!Q168","v":0},{"$f":"'DNA Processing Record'!E168","v":{"$error":"#N/A"}},{"$error":"#N/A"},{"$error":"#N/A"},{"$error":"#N/A"},null,"D06",168,{"$error":"#N/A"},{"$error":"#N/A"},0]
[null,null,null,null,null,null,null,null,null,null,null,24,"D06",{"$f":"'DNA Processing Record'!A169","v":168},{"$f":"'DNA Processing Record'!C169","v":"0-DNA"},{"$f":"'DNA Processing Record'!Q169","v":0},{"$f":"'DNA Processing Record'!E169","v":{"$error":"#N/A"}},{"$error":"#N/A"},{"$error":"#N/A"},{"$error":"#N/A"},null,"E01",169,{"$error":"#N/A"},{"$error":"#N/A"},0]
[null,null,null,null,null,null,null,null,null,null,null,"M",null,null,"Fermentas FastRuler High Range DNA Ladder","-",{"$f":"'DNA Processing Record'!E170","v":{"$error":"#N/A"}},20,null,null,null,"E02",171,{"$error":"#N/A"},{"$error":"#N/A"},0]
[null,null,null,null,null,null,null,null,null,null,null,"M",null,null,"Fermentas FastRuler High Range DNA Ladder","-",{"$f":"'DNA Processing Record'!E171","v":{"$error":"#N/A"}},20,null,null,null,"E03",173,{"$error":"#N/A"},{"$error":"#N/A"},0]
[null,null,null,null,null,null,null,null,null,null,null,25,"E01",{"$f":"'DNA Processing Record'!A170","v":169},{"$f":"'DNA Processing Record'!C170","v":"0-DNA"},{"$f":"'DNA Processing Record'!Q170","v":0},{"$f":"'DNA Processing Record'!E172","v":{"$error":"#N/A"}},{"$f":"(Q199*T199/(S199+T199))*20","v":{"$error":"#N/A"}},{"$f":"ROUND(Q199*T199/50*20-T199,0)","v":{"$error":"#N/A"}},{"$f":"ROUNDUP(50/Q199,0)","v":{"$error":"#N/A"}},null,"E04",175,{"$error":"#N/A"},{"$error":"#N/A"},0]
[null,null,null,null,null,null,null,null,null,null,null,26,"F01",{"$f":"'DNA Processing Record'!A171","v":170},{"$f":"'DNA Processing Record'!C171","v":"0-DNA"},{"$f":"'DNA Processing Record'!Q171","v":0},{"$f":"'DNA Processing Record'!E173","v":{"$error":"#N/A"}},{"$f":"(Q200*T200/(S200+T200))*20","v":{"$error":"#N/A"}},{"$f":"ROUND(Q200*T200/50*20-T200,0)","v":{"$error":"#N/A"}},{"$f":"ROUNDUP(50/Q200,0)","v":{"$error":"#N/A"}},null,"E05",177,{"$error":"#N/A"},{"$error":"#N/A"},0]
[null,null,null,null,null,null,null,null,null,null,null,27,"E02",{"$f":"'DNA Processing Record'!A172","v":171},{"$f":"'DNA Processing Record'!C172","v":"0-DNA"},{"$f":"'DNA Processing Record'!Q172","v":0},{"$f":"'DNA Processing Record'!E174","v":{"$error":"#N/A"}},{"$error":"#N/A"},{"$error":"#N/A"},{"$error":"#N/A"},null,"E06",179,{"$error":"#N/A"},{"$error":"#N/A"},0]
[null,null,null,null,null,null,null,null,null,null,null,28,"F02",{"$f":"'DNA Processing Record'!A173","v":172},{"$f":"'DNA Processing Record'!C173","v":"0-DNA"},{"$f":"'DNA Processing Record'!Q173","v":0},{"$f":"'DNA Processing Record'!E175","v":{"$error":"#N/A"}},{"$error":"#N/A"},{"$error":"#N/A"},{"$error":"#N/A"},null,"F01",170,{"$error":"#N/A"},{"$error":"#N/A"},0]
[null,null,null,null,null,null,null,null,null,null,null,29,"E03",{"$f":"'DNA Processing Record'!A174","v":173},{"$f":"'DNA Processing Record'!C174","v":"0-DNA"},{"$f":"'DNA Processing Record'!Q174","v":0},{"$f":"'DNA Processing Record'!E176","v":{"$error":"#N/A"}},{"$error":"#N/A"},{"$error":"#N/A"},{"$error":"#N/A"},null,"F02",172,{"$error":"#N/A"},{"$error":"#N/A"},0]
[null,null,null,null,null,null,null,null,null,null,null,30,"F03",{"$f":"'DNA Processing Record'!A175","v":174},{"$f":"'DNA Processing Record'!C175","v":"0-DNA"},{"$f":"'DNA Processing Record'!Q175","v":0},{"$f":"'DNA Processing Record'!E177","v":{"$error":"#N/A"}},{"$error":"#N/A"},{"$error":"#N/A"},{"$error":"#N/A"},null,"F03",174,{"$error":"#N/A"},{"$error":"#N/A"},0]
[null,null,null,null,null,null,null,null,null,null,null,31,"E04",{"$f":"'DNA Processing Record'!A176","v":175},{"$f":"'DNA Processing Record'!C176","v":"0-DNA"},{"$f":"'DNA Processing Record'!Q176","v":0},{"$f":"'DNA Processing Record'!E178","v":{"$error":"#N/A"}},{"$error":"#N/A"},{"$error":"#N/A"},{"$error":"#N/A"},null,"F04",176,{"$error":"#N/A"},{"$error":"#N/A"},0]
[null,null,null,null,null,null,null,null,null,null,null,32,"F04",{"$f":"'DNA Processing Record'!A177","v":176},{"$f":"'DNA Processing Record'!C177","v":"0-DNA"},{"$f":"'DNA Processing Record'!Q177","v":0},{"$f":"'DNA Processing Record'!E179","v":{"$error":"#N/A"}},{"$error":"#N/A"},{"$error":"#N/A"},{"$error":"#N/A"},null,"F05",178,{"$error":"#N/A"},{"$error":"#N/A"},0]
[null,null,null,null,null,null,null,null,null,null,null,33,"E05",{"$f":"'DNA Processing Record'!A178","v":177},{"$f":"'DNA Processing Record'!C178","v":"0-DNA"},{"$f":"'DNA Processing Record'!Q178","v":0},{"$f":"'DNA Processing Record'!E180","v":{"$error":"#N/A"}},{"$error":"#N/A"},{"$error":"#N/A"},{"$error":"#N/A"},null,"F06",180,{"$error":"#N/A"},{"$error":"#N/A"},0]
[null,null,null,null,null,null,null,null,null,null,null,34,"F05",{"$f":"'DNA Processing Record'!A179","v":178},{"$f":"'DNA Processing Record'!C179","v":"0-DNA"},{"$f":"'DNA Processing Record'!Q179","v":0},{"$f":"'DNA Processing Record'!E181","v":{"$error":"#N/A"}},{"$error":"#N/A"},{"$error":"#N/A"},{"$error":"#N/A"},null,"G01",181,{"$error":"#N/A"},{"$error":"#N/A"},0]
[null,null,null,null,null,null,null,null,null,null,null,35,"E06",{"$f":"'DNA Processing Record'!A180","v":179},{"$f":"'DNA Processing Record'!C180","v":"0-DNA"},{"$f":"'DNA Processing Record'!Q180","v":0},{"$f":"'DNA Processing Record'!E182","v":{"$error":"#N/A"}},{"$error":"#N/A"},{"$error":"#N/A"},{"$error":"#N/A"},null,"G02",183,{"$error":"#N/A"},{"$error":"#N/A"},0]
[null,null,null,null,null,null,null,null,null,null,null,36,"F06",{"$f":"'DNA Processing Record'!A181","v":180},{"$f":"'DNA Processing Record'!C181","v":"0-DNA"},{"$f":"'DNA Processing Record'!Q181","v":0},{"$f":"'DNA Processing Record'!E183","v":{"$error":"#N/A"}},{"$error":"#N/A"},{"$error":"#N/A"},{"$error":"#N/A"},null,"G03",185,{"$error":"#N/A"},{"$error":"#N/A"},0]
[null,null,null,null,null,null,null,null,null,null,null,37,"G01",{"$f":"'DNA Processing Record'!A182","v":181},{"$f":"'DNA Processing Record'!C182","v":"0-DNA"},{"$f":"'DNA Processing Record'!Q182","v":0},{"$f":"'DNA Processing Record'!E184","v":{"$error":"#N/A"}},{"$error":"#N/A"},{"$error":"#N/A"},{"$error":"#N/A"},null,"G04",187,{"$error":"#N/A"},{"$error":"#N/A"},0]
[null,null,null,null,null,null,null,null,null,null,null,38,"H01",{"$f":"'DNA Processing Record'!A183","v":182},{"$f":"'DNA Processing Record'!C183","v":"0-DNA"},{"$f":"'DNA Processing Record'!Q183","v":0},{"$f":"'DNA Processing Record'!E185","v":{"$error":"#N/A"}},{"$error":"#N/A"},{"$error":"#N/A"},{"$error":"#N/A"},null,"G05",189,{"$error":"#N/A"},{"$error":"#N/A"},0]
[null,null,null,null,null,null,null,null,null,null,null,39,"G02",{"$f":"'DNA Processing Record'!A184","v":183},{"$f":"'DNA Processing Record'!C184","v":"0-DNA"},{"$f":"'DNA Processing Record'!Q184","v":0},{"$f":"'DNA Processing Record'!E186","v":{"$error":"#N/A"}},{"$error":"#N/A"},{"$error":"#N/A"},{"$error":"#N/A"},null,"G06",191,{"$error":"#N/A"},{"$error":"#N/A"},0]
[null,null,null,null,null,null,null,null,null,null,null,40,"H02",{"$f":"'DNA Processing Record'!A185","v":184},{"$f":"'DNA Processing Record'!C185","v":"0-DNA"},{"$f":"'DNA Processing Record'!Q185","v":0},{"$f":"'DNA Processing Record'!E187","v":{"$error":"#N/A"}},{"$error":"#N/A"},{"$error":"#N/A"},{"$error":"#N/A"},null,"H01",182,{"$error":"#N/A"},{"$error":"#N/A"},0]
[null,null,null,null,null,null,null,null,null,null,null,41,"G03",{"$f":"'DNA Processing Record'!A186","v":185},{"$f":"'DNA Processing Record'!C186","v":"0-DNA"},{"$f":"'DNA Processing Record'!Q186","v":0},{"$f":"'DNA Processing Record'!E188","v":{"$error":"#N/A"}},{"$error":"#N/A"},{"$error":"#N/A"},{"$error":"#N/A"},null,"H02",184,{"$error":"#N/A"},{"$error":"#N/A"},0]
[null,null,null,null,null,null,null,null,null,null,null,42,"H03",{"$f":"'DNA Processing Record'!A187","v":186},{"$f":"'DNA Processing Record'!C187","v":"0-DNA"},{"$f":"'DNA Processing Record'!Q187","v":0},{"$f":"'DNA Processing Record'!E189","v":{"$error":"#N/A"}},{"$error":"#N/A"},{"$error":"#N/A"},{"$error":"#N/A"},null,"H03",186,{"$error":"#N/A"},{"$error":"#N/A"},0]
[null,null,null,null,null,null,null,null,null,null,null,43,"G04",{"$f":"'DNA Processing Record'!A188","v":187},{"$f":"'DNA Processing Record'!C188","v":"0-DNA"},{"$f":"'DNA Processing Record'!Q188","v":0},{"$f":"'DNA Processing Record'!E190","v":{"$error":"#N/A"}},{"$error":"#N/A"},{"$error":"#N/A"},{"$error":"#N/A"},null,"H04",188,{"$error":"#N/A"},{"$error":"#N/A"},0]
[null,null,null,null,null,null,null,null,null,null,null,44,"H04",{"$f":"'DNA Processing Record'!A189","v":188},{"$f":"'DNA Processing Record'!C189","v":"0-DNA"},{"$f":"'DNA Processing Record'!Q189","v":0},{"$f":"'DNA Processing Record'!E191","v":{"$error":"#N/A"}},{"$error":"#N/A"},{"$error":"#N/A"},{"$error":"#N/A"},null,"H05",190,{"$error":"#N/A"},{"$error":"#N/A"},0]
[null,null,null,null,null,null,null,null,null,null,null,45,"G05",{"$f":"'DNA Processing Record'!A190","v":189},{"$f":"'DNA Processing Record'!C190","v":"0-DNA"},{"$f":"'DNA Processing Record'!Q190","v":0},{"$f":"'DNA Processing Record'!E192","v":{"$error":"#N/A"}},{"$error":"#N/A"},{"$error":"#N/A"},{"$error":"#N/A"},null,"H06",192,{"$error":"#N/A"},{"$error":"#N/A"},0]
[null,null,null,null,null,null,null,null,null,null,null,46,"H05",{"$f":"'DNA Processing Record'!A191","v":190},{"$f":"'DNA Processing Record'!C191","v":"0-DNA"},{"$f":"'DNA Processing Record'!Q191","v":0},{"$f":"'DNA Processing Record'!E193","v":{"$error":"#N/A"}},{"$error":"#N/A"},{"$error":"#N/A"},{"$error":"#N/A"}]
[null,null,null,null,null,null,null,null,null,null,null,47,"G06",{"$f":"'DNA Processing Record'!A192","v":191},{"$f":"'DNA Processing Record'!C192","v":"0-DNA"},{"$f":"'DNA Processing Record'!Q192","v":0},{"$f":"'DNA Processing Record'!E194","v":{"$error":"#N/A"}},{"$error":"#N/A"},{"$error":"#N/A"},{"$error":"#N/A"}]
[null,null,null,null,null,null,null,null,null,null,null,48,"H06",{"$f":"'DNA Processing Record'!A193","v":192},{"$f":"'DNA Processing Record'!C193","v":"0-DNA"},{"$f":"'DNA Processing Record'!Q193","v":0},{"$f":"'DNA Processing Record'!E195","v":{"$error":"#N/A"}},{"$error":"#N/A"},{"$error":"#N/A"},{"$error":"#N/A"}]
[null,null,null,null,null,null,null,null,null,null,null,"M",null,null,"Fermentas FastRuler High Range DNA Ladder","-",{"$f":"'DNA Processing Record'!E196","v":{"$error":"#N/A"}},20,{"$f":"IF(Q223<35, 20-T223,#REF!* 20-1)","v":{"$error":"#N/A"}},{"$f":"IF(Q223<35, ROUND(45/Q223, 0), 1)","v":{"$error":"#N/A"}}]
[]
[]
[null,null,null,null,null,null,null,null,null,null,null,"Gel 5",null,null,null,null,null,null,null,null,null,"Dilution Plate 5"]
[null,null,null,null,null,null,null,null,null,null,null,"Lane","Well","Sample no.","Sample_ID","Reference_ID","DNA conc. (ng/ul)","Amount loaded (ng)","Water(ul)","Sample(ul)",null,"Well","Sample no.","Water(ul)","Sample(ul)","Reference ID"]
[null,null,null,null,null,null,null,null,null,null,null,"M",null,null,"Fermentas FastRuler High Range DNA Ladder","-","-",20,null,null,null,"A01",193,{"$f":"VLOOKUP($V228, $M$227:$T$279, 7, FALSE)","v":{"$error":"#N/A"}},{"$f":"VLOOKUP($V228, $M$227:$T$279, 8, FALSE)","v":{"$error":"#N/A"}},{"$f":"VLOOKUP($V228, $M$227:$T$279, 4, FALSE)","v":0}]
[null,null,null,null,null,null,null,null,null,null,null,1,"A01",{"$f":"'DNA Processing Record'!A194","v":193},{"$f":"'DNA Processing Record'!C194","v":"0-DNA"},{"$f":"'DNA Processing Record'!Q194","v":0},{"$f":"'DNA Processing Record'!E194","v":{"$error":"#N/A"}},{"$f":"(Q229*T229/(S229+T229))*20","v":{"$error":"#N/A"}},{"$f":"ROUND(Q229*T229/50*20-T229,0)","v":{"$error":"#N/A"}},{"$f":"ROUNDUP(50/Q229,0)","v":{"$error":"#N/A"}},null,"A02",195,{"$error":"#N/A"},{"$error":"#N/A"},0]
[null,null,null,null,null,null,null,null,null,null,null,2,"B01",{"$f":"'DNA Processing Record'!A195","v":194},{"$f":"'DNA Processing Record'!C195","v":"0-DNA"},{"$f":"'DNA Processing Record'!Q195","v":0},{"$f":"'DNA Processing Record'!E195","v":{"$error":"#N/A"}},{"$f":"(Q230*T230/(S230+T230))*20","v":{"$error":"#N/A"}},{"$f":"ROUND(Q230*T230/50*20-T230,0)","v":{"$error":"#N/A"}},{"$f":"ROUNDUP(50/Q230,0)","v":{"$error":"#N/A"}},null,"A03",197,{"$error":"#N/A"},{"$error":"#N/A"},0]
[null,null,null,null,null,null,null,null,null,null,null,3,"A02",{"$f":"'DNA Processing Record'!A196","v":195},{"$f":"'DNA Processing Record'!C196","v":"0-DNA"},{"$f":"'DNA Processing Record'!Q196","v":0},{"$f":"'DNA Processing Record'!E196","v":{"$error":"#N/A"}},{"$error":"#N/A"},{"$error":"#N/A"},{"$error":"#N/A"},null,"A04",199,{"$error":"#N/A"},{"$error":"#N/A"},0]
[null,null,null,null,null,null,null,null,null,null,null,4,"B02",{"$f":"'DNA Processing Record'!A197","v":196},{"$f":"'DNA Processing Record'!C197","v":"0-DNA"},{"$f":"'DNA Processing Record'!Q197","v":0},{"$f":"'DNA Processing Record'!E197","v":{"$error":"#N/A"}},{"$error":"#N/A"},{"$error":"#N/A"},{"$error":"#N/A"},null,"A05",201,{"$error":"#N/A"},{"$error":"#N/A"},0]
[null,null,null,null,null,null,null,null,null,null,null,5,"A03",{"$f":"'DNA Processing Record'!A198","v":197},{"$f":"'DNA Processing Record'!C198","v":"0-DNA"},{"$f":"'DNA Processing Record'!Q198","v":0},{"$f":"'DNA Processing Record'!E198","v":{"$error":"#N/A"}},{"$error":"#N/A"},{"$error":"#N/A"},{"$error":"#N/A"},null,"A06",203,{"$error":"#N/A"},{"$error":"#N/A"},0]
[null,null,null,null,null,null,null,null,null,null,null,6,"B03",{"$f":"'DNA Processing Record'!A199","v":198},{"$f":"'DNA Processing Record'!C199","v":"0-DNA"},{"$f":"'DNA Processing Record'!Q199","v":0},{"$f":"'DNA Processing Record'!E199","v":{"$error":"#N/A"}},{"$error":"#N/A"},{"$error":"#N/A"},{"$error":"#N/A"},null,"B01",194,{"$error":"#N/A"},{"$error":"#N/A"},0]
[null,null,null,null,null,null,null,null,null,null,null,7,"A04",{"$f":"'DNA Processing Record'!A200","v":199},{"$f":"'DNA Processing Record'!C200","v":"0-DNA"},{"$f":"'DNA Processing Record'!Q200","v":0},{"$f":"'DNA Processing Record'!E200","v":{"$error":"#N/A"}},{"$error":"#N/A"},{"$error":"#N/A"},{"$error":"#N/A"},null,"B02",196,{"$error":"#N/A"},{"$error":"#N/A"},0]
[null,null,null,null,null,null,null,null,null,null,null,8,"B04",{"$f":"'DNA Processing Record'!A201","v":200},{"$f":"'DNA Processing Record'!C201","v":"0-DNA"},{"$f":"'DNA Processing Record'!Q201","v":0},{"$f":"'DNA Processing Record'!E201","v":{"$error":"#N/A"}},{"$error":"#N/A"},{"$error":"#N/A"},{"$error":"#N/A"},null,"B03",198,{"$error":"#N/A"},{"$error":"#N/A"},0]
[null,null,null,null,null,null,null,null,null,null,null,9,"A05",{"$f":"'DNA Processing Record'!A202","v":201},{"$f":"'DNA Processing Record'!C202","v":"0-DNA"},{"$f":"'DNA Processing Record'!Q202","v":0},{"$f":"'DNA Processing Record'!E202","v":{"$error":"#N/A"}},{"$error":"#N/A"},{"$error":"#N/A"},{"$error":"#N/A"},null,"B04",200,{"$error":"#N/A"},{"$error":"#N/A"},0]
[null,null,null,null,null,null,null,null,null,null,null,10,"B05",{"$f":"'DNA Processing Record'!A203","v":202},{"$f":"'DNA Processing Record'!C203","v":"0-DNA"},{"$f":"'DNA Processing Record'!Q203","v":0},{"$f":"'DNA Processing Record'!E203","v":{"$error":"#N/A"}},{"$error":"#N/A"},{"$error":"#N/A"},{"$error":"#N/A"},null,"B05",202,{"$error":"#N/A"},{"$error":"#N/A"},0]
[null,null,null,null,null,null,null,null,null,null,null,11,"A06",{"$f":"'DNA Processing Record'!A204","v":203},{"$f":"'DNA Processing Record'!C204","v":"0-DNA"},{"$f":"'DNA Processing Record'!Q204","v":0},{"$f":"'DNA Processing Record'!E204","v":{"$error":"#N/A"}},{"$error":"#N/A"},{"$error":"#N/A"},{"$error":"#N/A"},null,"B06",204,{"$error":"#N/A"},{"$error":"#N/A"},0]
[null,null,null,null,null,null,null,null,null,null,null,12,"B06",{"$f":"'DNA Processing Record'!A205","v":204},{"$f":"'DNA Processing Record'!C205","v":"0-DNA"},{"$f":"'DNA Processing Record'!Q205","v":0},{"$f":"'DNA Processing Record'!E205","v":{"$error":"#N/A"}},{"$error":"#N/A"},{"$error":"#N/A"},{"$error":"#N/A"},null,"C01",205,{"$error":"#N/A"},{"$error":"#N/A"},0]
[null,null,null,null,null,null,null,null,null,null,null,13,"C01",{"$f":"'DNA Processing Record'!A206","v":205},{"$f":"'DNA Processing Record'!C206","v":"0-DNA"},{"$f":"'DNA Processing Record'!Q206","v":0},{"$f":"'DNA Processing Record'!E206","v":{"$error":"#N/A"}},{"$error":"#N/A"},{"$error":"#N/A"},{"$error":"#N/A"},null,"C02",207,{"$error":"#N/A"},{"$error":"#N/A"},0]
[null,null,null,null,null,null,null,null,null,null,null,14,"D01",{"$f":"'DNA Processing Record'!A207","v":206},{"$f":"'DNA Processing Record'!C207","v":"0-DNA"},{"$f":"'DNA Processing Record'!Q207","v":0},{"$f":"'DNA Processing Record'!E207","v":{"$error":"#N/A"}},{"$error":"#N/A"},{"$error":"#N/A"},{"$error":"#N/A"},null,"C03",209,{"$error":"#N/A"},{"$error":"#N/A"},0]
[null,null,null,null,null,null,null,null,null,null,null,15,"C02",{"$f":"'DNA Processing Record'!A208","v":207},{"$f":"'DNA Processing Record'!C208","v":"0-DNA"},{"$f":"'DNA Processing Record'!Q208","v":0},{"$f":"'DNA Processing Record'!E208","v":{"$error":"#N/A"}},{"$error":"#N/A"},{"$error":"#N/A"},{"$error":"#N/A"},null,"C04",211,{"$error":"#N/A"},{"$error":"#N/A"},0]
[null,null,null,null,null,null,null,null,null,null,null,16,"D02",{"$f":"'DNA Processing Record'!A209","v":208},{"$f":"'DNA Processing Record'!C209","v":"0-DNA"},{"$f":"'DNA Processing Record'!Q209","v":0},{"$f":"'DNA Processing Record'!E209","v":{"$error":"#N/A"}},{"$error":"#N/A"},{"$error":"#N/A"},{"$error":"#N/A"},null,"C05",213,{"$error":"#N/A"},{"$error":"#N/A"},0]
[null,null,null,null,null,null,null,null,null,null,null,17,"C03",{"$f":"'DNA Processing Record'!A210","v":209},{"$f":"'DNA Processing Record'!C210","v":"0-DNA"},{"$f":"'DNA Processing Record'!Q210","v":0},{"$f":"'DNA Processing Record'!E210","v":{"$error":"#N/A"}},{"$error":"#N/A"},{"$error":"#N/A"},{"$error":"#N/A"},null,"C06",215,{"$error":"#N/A"},{"$error":"#N/A"},0]
[null,null,null,null,null,null,null,null,null,null,null,18,"D03",{"$f":"'DNA Processing Record'!A211","v":210},{"$f":"'DNA Processing Record'!C211","v":"0-DNA"},{"$f":"'DNA Processing Record'!Q211","v":0},{"$f":"'DNA Processing Record'!E211","v":{"$error":"#N/A"}},{"$error":"#N/A"},{"$error":"#N/A"},{"$error":"#N/A"},null,"D01",206,{"$error":"#N/A"},{"$error":"#N/A"},0]
[null,null,null,null,null,null,null,null,null,null,null,19,"C04",{"$f":"'DNA Processing Record'!A212","v":211},{"$f":"'DNA Processing Record'!C212","v":"0-DNA"},{"$f":"'DNA Processing Record'!Q212","v":0},{"$f":"'DNA Processing Record'!E212","v":{"$error":"#N/A"}},{"$error":"#N/A"},{"$error":"#N/A"},{"$error":"#N/A"},null,"D02",208,{"$error":"#N/A"},{"$error":"#N/A"},0]
[null,null,null,null,null,null,null,null,null,null,null,20,"D04",{"$f":"'DNA Processing Record'!A213","v":212},{"$f":"'DNA Processing Record'!C213","v":"0-DNA"},{"$f":"'DNA Processing Record'!Q213","v":0},{"$f":"'DNA Processing Record'!E213","v":{"$error":"#N/A"}},{"$error":"#N/A"},{"$error":"#N/A"},{"$error":"#N/A"},null,"D03",210,{"$error":"#N/A"},{"$error":"#N/A"},0]
[null,null,null,null,null,null,null,null,null,null,null,21,"C05",{"$f":"'DNA Processing Record'!A214","v":213},{"$f":"'DNA Processing Record'!C214","v":"0-DNA"},{"$f":"'DNA Processing Record'!Q214","v":0},{"$f":"'DNA Processing Record'!E214","v":{"$error":"#N/A"}},{"$error":"#N/A"},{"$error":"#N/A"},{"$error":"#N/A"},null,"D04",212,{"$error":"#N/A"},{"$error":"#N/A"},0]
[null,null,null,null,null,null,null,null,null,null,null,22,"D05",{"$f":"'DNA Processing Record'!A215","v":214},{"$f":"'DNA Processing Record'!C215","v":"0-DNA"},{"$f":"'DNA Processing Record'!Q215","v":0},{"$f":"'DNA Processing Record'!E215","v":{"$error":"#N/A"}},{"$error":"#N/A"},{"$error":"#N/A"},{"$error":"#N/A"},null,"D05",214,{"$error":"#N/A"},{"$error":"#N/A"},0]
[null,null,null,null,null,null,null,null,null,null,null,23,"C06",{"$f":"'DNA Processing Record'!A216","v":215},{"$f":"'DNA Processing Record'!C216","v":"0-DNA"},{"$f":"'DNA Processing Record'!Q216","v":0},{"$f":"'DNA Processing Record'!E216","v":{"$error":"#N/A"}},{"$error":"#N/A"},{"$error":"#N/A"},{"$error":"#N/A"},null,"D06",216,{"$error":"#N/A"},{"$error":"#N/A"},0]
[null,null,null,null,null,null,null,null,null,null,null,24,"D06",{"$f":"'DNA Processing Record'!A217","v":216},{"$f":"'DNA Processing Record'!C217","v":"0-DNA"},{"$f":"'DNA Processing Record'!Q217","v":0},{"$f":"'DNA Processing Record'!E217","v":{"$error":"#N/A"}},{"$error":"#N/A"},{"$error":"#N/A"},{"$error":"#N/A"},null,"E01",217,{"$error":"#N/A"},{"$error":"#N/A"},0]
[null,null,null,null,null,null,null,null,null,null,null,"M",null,null,"Fermentas FastRuler High Range DNA Ladder","-",{"$f":"'DNA Processing Record'!E218","v":{"$error":"#N/A"}},20,null,null,null,"E02",219,{"$error":"#N/A"},{"$error":"#N/A"},0]
[null,null,null,null,null,null,null,null,null,null,null,"M",null,null,"Fermentas FastRuler High Range DNA Ladder","-",{"$f":"'DNA Processing Record'!E219","v":{"$error":"#N/A"}},20,null,null,null,"E03",221,{"$error":"#N/A"},{"$error":"#N/A"},0]
[null,null,null,null,null,null,null,null,null,null,null,25,"E01",{"$f":"'DNA Processing Record'!A218","v":217},{"$f":"'DNA Processing Record'!C218","v":"0-DNA"},{"$f":"'DNA Processing Record'!Q218","v":0},{"$f":"'DNA Processing Record'!E220","v":{"$error":"#N/A"}},{"$f":"(Q255*T255/(S255+T255))*20","v":{"$error":"#N/A"}},{"$f":"ROUND(Q255*T255/50*20-T255,0)","v":{"$error":"#N/A"}},{"$f":"ROUNDUP(50/Q255,0)","v":{"$error":"#N/A"}},null,"E04",223,{"$error":"#N/A"},{"$error":"#N/A"},0]
[null,null,null,null,null,null,null,null,null,null,null,26,"F01",{"$f":"'DNA Processing Record'!A219","v":218},{"$f":"'DNA Processing Record'!C219","v":"0-DNA"},{"$f":"'DNA Processing Record'!Q219","v":0},{"$f":"'DNA Processing Record'!E221","v":{"$error":"#N/A"}},{"$f":"(Q256*T256/(S256+T256))*20","v":{"$error":"#N/A"}},{"$f":"ROUND(Q256*T256/50*20-T256,0)","v":{"$error":"#N/A"}},{"$f":"ROUNDUP(50/Q256,0)","v":{"$error":"#N/A"}},null,"E05",225,{"$error":"#N/A"},{"$error":"#N/A"},0]
[null,null,null,null,null,null,null,null,null,null,null,27,"E02",{"$f":"'DNA Processing Record'!A220","v":219},{"$f":"'DNA Processing Record'!C220","v":"0-DNA"},{"$f":"'DNA Processing Record'!Q220","v":0},{"$f":"'DNA Processing Record'!E222","v":{"$error":"#N/A"}},{"$error":"#N/A"},{"$error":"#N/A"},{"$error":"#N/A"},null,"E06",227,{"$error":"#N/A"},{"$error":"#N/A"},0]
[null,null,null,null,null,null,null,null,null,null,null,28,"F02",{"$f":"'DNA Processing Record'!A221","v":220},{"$f":"'DNA Processing Record'!C221","v":"0-DNA"},{"$f":"'DNA Processing Record'!Q221","v":0},{"$f":"'DNA Processing Record'!E223","v":{"$error":"#N/A"}},{"$error":"#N/A"},{"$error":"#N/A"},{"$error":"#N/A"},null,"F01",218,{"$error":"#N/A"},{"$error":"#N/A"},0]
[null,null,null,null,null,null,null,null,null,null,null,29,"E03",{"$f":"'DNA Processing Record'!A222","v":221},{"$f":"'DNA Processing Record'!C222","v":"0-DNA"},{"$f":"'DNA Processing Record'!Q222","v":0},{"$f":"'DNA Processing Record'!E224","v":{"$error":"#N/A"}},{"$error":"#N/A"},{"$error":"#N/A"},{"$error":"#N/A"},null,"F02",220,{"$error":"#N/A"},{"$error":"#N/A"},0]
[null,null,null,null,null,null,null,null,null,null,null,30,"F03",{"$f":"'DNA Processing Record'!A223","v":222},{"$f":"'DNA Processing Record'!C223","v":"0-DNA"},{"$f":"'DNA Processing Record'!Q223","v":0},{"$f":"'DNA Processing Record'!E225","v":{"$error":"#N/A"}},{"$error":"#N/A"},{"$error":"#N/A"},{"$error":"#N/A"},null,"F03",222,{"$error":"#N/A"},{"$error":"#N/A"},0]
[null,null,null,null,null,null,null,null,null,null,null,31,"E04",{"$f":"'DNA Processing Record'!A224","v":223},{"$f":"'DNA Processing Record'!C224","v":"0-DNA"},{"$f":"'DNA Processing Record'!Q224","v":0},{"$f":"'DNA Processing Record'!E226","v":{"$error":"#N/A"}},{"$error":"#N/A"},{"$error":"#N/A"},{"$error":"#N/A"},null,"F04",224,{"$error":"#N/A"},{"$error":"#N/A"},0]
[null,null,null,null,null,null,null,null,null,null,null,32,"F04",{"$f":"'DNA Processing Record'!A225","v":224},{"$f":"'DNA Processing Record'!C225","v":"0-DNA"},{"$f":"'DNA Processing Record'!Q225","v":0},{"$f":"'DNA Processing Record'!E227","v":{"$error":"#N/A"}},{"$error":"#N/A"},{"$error":"#N/A"},{"$error":"#N/A"},null,"F05",226,{"$error":"#N/A"},{"$error":"#N/A"},0]
[null,null,null,null,null,null,null,null,null,null,null,33,"E05",{"$f":"'DNA Processing Record'!A226","v":225},{"$f":"'DNA Processing Record'!C226","v":"0-DNA"},{"$f":"'DNA Processing Record'!Q226","v":0},{"$f":"'DNA Processing Record'!E228","v":{"$error":"#N/A"}},{"$error":"#N/A"},{"$error":"#N/A"},{"$error":"#N/A"},null,"F06",228,{"$error":"#N/A"},{"$error":"#N/A"},0]
[null,null,null,null,null,null,null,null,null,null,null,34,"F05",{"$f":"'DNA Processing Record'!A227","v":226},{"$f":"'DNA Processing Record'!C227","v":"0-DNA"},{"$f":"'DNA Processing Record'!Q227","v":0},{"$f":"'DNA Processing Record'!E229","v":{"$error":"#N/A"}},{"$error":"#N/A"},{"$error":"#N/A"},{"$error":"#N/A"},null,"G01",229,{"$error":"#N/A"},{"$error":"#N/A"},0]
[null,null,null,null,null,null,null,null,null,null,null,35,"E06",{"$f":"'DNA Processing Record'!A228","v":227},{"$f":"'DNA Processing Record'!C228","v":"0-DNA"},{"$f":"'DNA Processing Record'!Q228","v":0},{"$f":"'DNA Processing Record'!E230","v":{"$error":"#N/A"}},{"$error":"#N/A"},{"$error":"#N/A"},{"$error":"#N/A"},null,"G02",231,{"$error":"#N/A"},{"$error":"#N/A"},0]
[null,null,null,null,null,null,null,null,null,null,null,36,"F06",{"$f":"'DNA Processing Record'!A229","v":228},{"$f":"'DNA Processing Record'!C229","v":"0-DNA"},{"$f":"'DNA Processing Record'!Q229","v":0},{"$f":"'DNA Processing Record'!E231","v":{"$error":"#N/A"}},{"$error":"#N/A"},{"$error":"#N/A"},{"$error":"#N/A"},null,"G03",233,{"$error":"#N/A"},{"$error":"#N/A"},0]
[null,null,null,null,null,null,null,null,null,null,null,37,"G01",{"$f":"'DNA Processing Record'!A230","v":229},{"$f":"'DNA Processing Record'!C230","v":"0-DNA"},{"$f":"'DNA Processing Record'!Q230","v":0},{"$f":"'DNA Processing Record'!E232","v":{"$error":"#N/A"}},{"$error":"#N/A"},{"$error":"#N/A"},{"$error":"#N/A"},null,"G04",235,{"$error":"#N/A"},{"$error":"#N/A"},0]
[null,null,null,null,null,null,null,null,null,null,null,38,"H01",{"$f":"'DNA Processing Record'!A231","v":230},{"$f":"'DNA Processing Record'!C231","v":"0-DNA"},{"$f":"'DNA Processing Record'!Q231","v":0},{"$f":"'DNA Processing Record'!E233","v":{"$error":"#N/A"}},{"$error":"#N/A"},{"$error":"#N/A"},{"$error":"#N/A"},null,"G05",237,{"$error":"#N/A"},{"$error":"#N/A"},0]
[null,null,null,null,null,null,null,null,null,null,null,39,"G02",{"$f":"'DNA Processing Record'!A232","v":231},{"$f":"'DNA Processing Record'!C232","v":"0-DNA"},{"$f":"'DNA Processing Record'!Q232","v":0},{"$f":"'DNA Processing Record'!E234","v":{"$error":"#N/A"}},{"$error":"#N/A"},{"$error":"#N/A"},{"$error":"#N/A"},null,"G06",239,{"$error":"#N/A"},{"$error":"#N/A"},0]
[null,null,null,null,null,null,null,null,null,null,null,40,"H02",{"$f":"'DNA Processing Record'!A233","v":232},{"$f":"'DNA Processing Record'!C233","v":"0-DNA"},{"$f":"'DNA Processing Record'!Q233","v":0},{"$f":"'DNA Processing Record'!E235","v":{"$error":"#N/A"}},{"$error":"#N/A"},{"$error":"#N/A"},{"$error":"#N/A"},null,"H01",230,{"$error":"#N/A"},{"$error":"#N/A"},0]
[null,null,null,null,null,null,null,null,null,null,null,41,"G03",{"$f":"'DNA Processing Record'!A234","v":233},{"$f":"'DNA Processing Record'!C234","v":"0-DNA"},{"$f":"'DNA Processing Record'!Q234","v":0},{"$f":"'DNA Processing Record'!E236","v":{"$error":"#N/A"}},{"$error":"#N/A"},{"$error":"#N/A"},{"$error":"#N/A"},null,"H02",232,{"$error":"#N/A"},{"$error":"#N/A"},0]
[null,null,null,null,null,null,null,null,null,null,null,42,"H03",{"$f":"'DNA Processing Record'!A235","v":234},{"$f":"'DNA Processing Record'!C235","v":"0-DNA"},{"$f":"'DNA Processing Record'!Q235","v":0},{"$f":"'DNA Processing Record'!E237","v":{"$error":"#N/A"}},{"$error":"#N/A"},{"$error":"#N/A"},{"$error":"#N/A"},null,"H03",234,{"$error":"#N/A"},{"$error":"#N/A"},0]
[null,null,null,null,null,null,null,null,null,null,null,43,"G04",{"$f":"'DNA Processing Record'!A236","v":235},{"$f":"'DNA Processing Record'!C236","v":"0-DNA"},{"$f":"'DNA Processing Record'!Q236","v":0},{"$f":"'DNA Processing Record'!E238","v":{"$error":"#N/A"}},{"$error":"#N/A"},{"$error":"#N/A"},{"$error":"#N/A"},null,"H04",236,{"$error":"#N/A"},{"$error":"#N/A"},0]
[null,null,null,null,null,null,null,null,null,null,null,44,"H04",{"$f":"'DNA Processing Record'!A237","v":236},{"$f":"'DNA Processing Record'!C237","v":"0-DNA"},{"$f":"'DNA Processing Record'!Q237","v":0},{"$f":"'DNA Processing Record'!E239","v":{"$error":"#N/A"}},{"$error":"#N/A"},{"$error":"#N/A"},{"$error":"#N/A"},null,"H05",238,{"$error":"#N/A"},{"$error":"#N/A"},0]
[null,null,null,null,null,null,null,null,null,null,null,45,"G05",{"$f":"'DNA Processing Record'!A238","v":237},{"$f":"'DNA Processing Record'!C238","v":"0-DNA"},{"$f":"'DNA Processing Record'!Q238","v":0},{"$f":"'DNA Processing Record'!E240","v":{"$error":"#N/A"}},{"$error":"#N/A"},{"$error":"#N/A"},{"$error":"#N/A"},null,"H06",240,{"$error":"#N/A"},{"$error":"#N/A"},0]
[null,null,null,null,null,null,null,null,null,null,null,46,"H05",{"$f":"'DNA Processing Record'!A239","v":238},{"$f":"'DNA Processing Record'!C239","v":"0-DNA"},{"$f":"'DNA Processing Record'!Q239","v":0},{"$f":"'DNA Processing Record'!E241","v":{"$error":"#N/A"}},{"$error":"#N/A"},{"$error":"#N/A"},{"$error":"#N/A"}]
[null,null,null,null,null,null,null,null,null,null,null,47,"G06",{"$f":"'DNA Processing Record'!A240","v":239},{"$f":"'DNA Processing Record'!C240","v":"0-DNA"},{"$f":"'DNA Processing Record'!Q240","v":0},{"$f":"'DNA Processing Record'!E242","v":{"$error":"#N/A"}},{"$error":"#N/A"},{"$error":"#N/A"},{"$error":"#N/A"}]
[null,null,null,null,null,null,null,null,null,null,null,48,"H06",{"$f":"'DNA Processing Record'!A241","v":240},{"$f":"'DNA Processing Record'!C241","v":"0-DNA"},{"$f":"'DNA Processing Record'!Q241","v":0},{"$f":"'DNA Processing Record'!E243","v":{"$error":"#N/A"}},{"$error":"#N/A"},{"$error":"#N/A"},{"$error":"#N/A"}]
[null,null,null,null,null,null,null,null,null,null,null,"M",null,null,"Fermentas FastRuler High Range DNA Ladder","-",{"$f":"'DNA Processing Record'!E244","v":{"$error":"#N/A"}},20,{"$f":"IF(Q279<35, 20-T279,#REF!* 20-1)","v":{"$error":"#N/A"}},{"$f":"IF(Q279<35, ROUNDUP(36/Q279, 0), 1)","v":{"$error":"#N/A"}}]
[]
[]
[]
[null,null,null,null,null,null,null,null,null,null,null,"Gel 6",null,null,null,null,null,null,null,null,null,"Dilution Plate 6"]
[null,null,null,null,null,null,null,null,null,null,null,"Lane","Well","Sample no.","Sample_ID","Reference_ID","DNA conc. (ng/ul)","Amount loaded (ng)","Water(ul)","Sample(ul)",null,"Well","Sample no.","Water(ul)","Sample(ul)","Reference ID"]
[null,null,null,null,null,null,null,null,null,null,null,"M",null,null,"Fermentas FastRuler High Range DNA Ladder","-","-",20,null,null,null,"A01",241,{"$f":"VLOOKUP($V285, $M$284:$T$336, 7, FALSE)","v":{"$error":"#N/A"}},{"$f":"VLOOKUP($V285, $M$284:$T$336, 8, FALSE)","v":{"$error":"#N/A"}},{"$f":"VLOOKUP($V285, $M$284:$T$336, 4, FALSE)","v":0}]
[null,null,null,null,null,null,null,null,null,null,null,1,"A01",{"$f":"'DNA Processing Record'!A242","v":241},{"$f":"'DNA Processing Record'!C242","v":"0-DNA"},{"$f":"'DNA Processing Record'!Q242","v":0},{"$f":"'DNA Processing Record'!E242","v":{"$error":"#N/A"}},{"$f":"(Q286*T286/(S286+T286))*20","v":{"$error":"#N/A"}},{"$f":"ROUND(Q286*T286/50*20-T286,0)","v":{"$error":"#N/A"}},{"$f":"ROUNDUP(50/Q286,0)","v":{"$error":"#N/A"}},null,"A02",243,{"$error":"#N/A"},{"$error":"#N/A"},0]
[null,null,null,null,null,null,null,null,null,null,null,2,"B01",{"$f":"'DNA Processing Record'!A243","v":242},{"$f":"'DNA Processing Record'!C243","v":"0-DNA"},{"$f":"'DNA Processing Record'!Q243","v":0},{"$f":"'DNA Processing Record'!E243","v":{"$error":"#N/A"}},{"$f":"(Q287*T287/(S287+T287))*20","v":{"$error":"#N/A"}},{"$f":"ROUND(Q287*T287/50*20-T287,0)","v":{"$error":"#N/A"}},{"$f":"ROUNDUP(50/Q287,0)","v":{"$error":"#N/A"}},null,"A03",245,{"$error":"#N/A"},{"$error":"#N/A"},0]
[null,null,null,null,null,null,null,null,null,null,null,3,"A02",{"$f":"'DNA Processing Record'!A244","v":243},{"$f":"'DNA Processing Record'!C244","v":"0-DNA"},{"$f":"'DNA Processing Record'!Q244","v":0},{"$f":"'DNA Processing Record'!E244","v":{"$error":"#N/A"}},{"$error":"#N/A"},{"$error":"#N/A"},{"$error":"#N/A"},null,"A04",247,{"$error":"#N/A"},{"$error":"#N/A"},0]
[null,null,null,null,null,null,null,null,null,null,null,4,"B02",{"$f":"'DNA Processing Record'!A245","v":244},{"$f":"'DNA Processing Record'!C245","v":"0-DNA"},{"$f":"'DNA Processing Record'!Q245","v":0},{"$f":"'DNA Processing Record'!E245","v":{"$error":"#N/A"}},{"$error":"#N/A"},{"$error":"#N/A"},{"$error":"#N/A"},null,"A05",249,{"$error":"#N/A"},{"$error":"#N/A"},0]
[null,null,null,null,null,null,null,null,null,null,null,5,"A03",{"$f":"'DNA Processing Record'!A246","v":245},{"$f":"'DNA Processing Record'!C246","v":"0-DNA"},{"$f":"'DNA Processing Record'!Q246","v":0},{"$f":"'DNA Processing Record'!E246","v":{"$error":"#N/A"}},{"$error":"#N/A"},{"$error":"#N/A"},{"$error":"#N/A"},null,"A06",251,{"$error":"#N/A"},{"$error":"#N/A"},0]
[null,null,null,null,null,null,null,null,null,null,null,6,"B03",{"$f":"'DNA Processing Record'!A247","v":246},{"$f":"'DNA Processing Record'!C247","v":"0-DNA"},{"$f":"'DNA Processing Record'!Q247","v":0},{"$f":"'DNA Processing Record'!E247","v":{"$error":"#N/A"}},{"$error":"#N/A"},{"$error":"#N/A"},{"$error":"#N/A"},null,"B01",242,{"$error":"#N/A"},{"$error":"#N/A"},0]
[null,null,null,null,null,null,null,null,null,null,null,7,"A04",{"$f":"'DNA Processing Record'!A248","v":247},{"$f":"'DNA Processing Record'!C248","v":"0-DNA"},{"$f":"'DNA Processing Record'!Q248","v":0},{"$f":"'DNA Processing Record'!E248","v":{"$error":"#N/A"}},{"$error":"#N/A"},{"$error":"#N/A"},{"$error":"#N/A"},null,"B02",244,{"$error":"#N/A"},{"$error":"#N/A"},0]
[null,null,null,null,null,null,null,null,null,null,null,8,"B04",{"$f":"'DNA Processing Record'!A249","v":248},{"$f":"'DNA Processing Record'!C249","v":"0-DNA"},{"$f":"'DNA Processing Record'!Q249","v":0},{"$f":"'DNA Processing Record'!E249","v":{"$error":"#N/A"}},{"$error":"#N/A"},{"$error":"#N/A"},{"$error":"#N/A"},null,"B03",246,{"$error":"#N/A"},{"$error":"#N/A"},0]
[null,null,null,null,null,null,null,null,null,null,null,9,"A05",{"$f":"'DNA Processing Record'!A250","v":249},{"$f":"'DNA Processing Record'!C250","v":"0-DNA"},{"$f":"'DNA Processing Record'!Q250","v":0},{"$f":"'DNA Processing Record'!E250","v":{"$error":"#N/A"}},{"$error":"#N/A"},{"$error":"#N/A"},{"$error":"#N/A"},null,"B04",248,{"$error":"#N/A"},{"$error":"#N/A"},0]
[null,null,null,null,null,null,null,null,null,null,null,10,"B05",{"$f":"'DNA Processing Record'!A251","v":250},{"$f":"'DNA Processing Record'!C251","v":"0-DNA"},{"$f":"'DNA Processing Record'!Q251","v":0},{"$f":"'DNA Processing Record'!E251","v":{"$error":"#N/A"}},{"$error":"#N/A"},{"$error":"#N/A"},{"$error":"#N/A"},null,"B05",250,{"$error":"#N/A"},{"$error":"#N/A"},0]
[null,null,null,null,null,null,null,null,null,null,null,11,"A06",{"$f":"'DNA Processing Record'!A252","v":251},{"$f":"'DNA Processing Record'!C252","v":"0-DNA"},{"$f":"'DNA Processing Record'!Q252","v":0},{"$f":"'DNA Processing Record'!E252","v":{"$error":"#N/A"}},{"$error":"#N/A"},{"$error":"#N/A"},{"$error":"#N/A"},null,"B06",252,{"$error":"#N/A"},{"$error":"#N/A"},0]
[null,null,null,null,null,null,null,null,null,null,null,12,"B06",{"$f":"'DNA Processing Record'!A253","v":252},{"$f":"'DNA Processing Record'!C253","v":"0-DNA"},{"$f":"'DNA Processing Record'!Q253","v":0},{"$f":"'DNA Processing Record'!E253","v":{"$error":"#N/A"}},{"$error":"#N/A"},{"$error":"#N/A"},{"$error":"#N/A"},null,"C01",253,{"$error":"#N/A"},{"$error":"#N/A"},0]
[null,null,null,null,null,null,null,null,null,null,null,13,"C01",{"$f":"'DNA Processing Record'!A254","v":253},{"$f":"'DNA Processing Record'!C254","v":"0-DNA"},{"$f":"'DNA Processing Record'!Q254","v":0},{"$f":"'DNA Processing Record'!E254","v":{"$error":"#N/A"}},{"$error":"#N/A"},{"$error":"#N/A"},{"$error":"#N/A"},null,"C02",255,{"$error":"#N/A"},{"$error":"#N/A"},0]
[null,null,null,null,null,null,null,null,null,null,null,14,"D01",{"$f":"'DNA Processing Record'!A255","v":254},{"$f":"'DNA Processing Record'!C255","v":"0-DNA"},{"$f":"'DNA Processing Record'!Q255","v":0},{"$f":"'DNA Processing Record'!E255","v":{"$error":"#N/A"}},{"$error":"#N/A"},{"$error":"#N/A"},{"$error":"#N/A"},null,"C03",257,{"$error":"#N/A"},{"$error":"#N/A"},0]
[null,null,null,null,null,null,null,null,null,null,null,15,"C02",{"$f":"'DNA Processing Record'!A256","v":255},{"$f":"'DNA Processing Record'!C256","v":"0-DNA"},{"$f":"'DNA Processing Record'!Q256","v":0},{"$f":"'DNA Processing Record'!E256","v":{"$error":"#N/A"}},{"$error":"#N/A"},{"$error":"#N/A"},{"$error":"#N/A"},null,"C04",259,{"$error":"#N/A"},{"$error":"#N/A"},0]
[null,null,null,null,null,null,null,null,null,null,null,16,"D02",{"$f":"'DNA Processing Record'!A257","v":256},{"$f":"'DNA Processing Record'!C257","v":"0-DNA"},{"$f":"'DNA Processing Record'!Q257","v":0},{"$f":"'DNA Processing Record'!E257","v":{"$error":"#N/A"}},{"$error":"#N/A"},{"$error":"#N/A"},{"$error":"#N/A"},null,"C05",261,{"$error":"#N/A"},{"$error":"#N/A"},0]
[null,null,null,null,null,null,null,null,null,null,null,17,"C03",{"$f":"'DNA Processing Record'!A258","v":257},{"$f":"'DNA Processing Record'!C258","v":"0-DNA"},{"$f":"'DNA Processing Record'!Q258","v":0},{"$f":"'DNA Processing Record'!E258","v":{"$error":"#N/A"}},{"$error":"#N/A"},{"$error":"#N/A"},{"$error":"#N/A"},null,"C06",263,{"$error":"#N/A"},{"$error":"#N/A"},0]
[null,null,null,null,null,null,null,null,null,null,null,18,"D03",{"$f":"'DNA Processing Record'!A259","v":258},{"$f":"'DNA Processing Record'!C259","v":"0-DNA"},{"$f":"'DNA Processing Record'!Q259","v":0},{"$f":"'DNA Processing Record'!E259","v":{"$error":"#N/A"}},{"$error":"#N/A"},{"$error":"#N/A"},{"$error":"#N/A"},null,"D01",254,{"$error":"#N/A"},{"$error":"#N/A"},0]
[null,null,null,null,null,null,null,null,null,null,null,19,"C04",{"$f":"'DNA Processing Record'!A260","v":259},{"$f":"'DNA Processing Record'!C260","v":"0-DNA"},{"$f":"'DNA Processing Record'!Q260","v":0},{"$f":"'DNA Processing Record'!E260","v":{"$error":"#N/A"}},{"$error":"#N/A"},{"$error":"#N/A"},{"$error":"#N/A"},null,"D02",256,{"$error":"#N/A"},{"$error":"#N/A"},0]
[null,null,null,null,null,null,null,null,null,null,null,20,"D04",{"$f":"'DNA Processing Record'!A261","v":260},{"$f":"'DNA Processing Record'!C261","v":"0-DNA"},{"$f":"'DNA Processing Record'!Q261","v":0},{"$f":"'DNA Processing Record'!E261","v":{"$error":"#N/A"}},{"$error":"#N/A"},{"$error":"#N/A"},{"$error":"#N/A"},null,"D03",258,{"$error":"#N/A"},{"$error":"#N/A"},0]
[null,null,null,null,null,null,null,null,null,null,null,21,"C05",{"$f":"'DNA Processing Record'!A262","v":261},{"$f":"'DNA Processing Record'!C262","v":"0-DNA"},{"$f":"'DNA Processing Record'!Q262","v":0},{"$f":"'DNA Processing Record'!E262","v":{"$error":"#N/A"}},{"$error":"#N/A"},{"$error":"#N/A"},{"$error":"#N/A"},null,"D04",260,{"$error":"#N/A"},{"$error":"#N/A"},0]
[null,null,null,null,null,null,null,null,null,null,null,22,"D05",{"$f":"'DNA Processing Record'!A263","v":262},{"$f":"'DNA Processing Record'!C263","v":"0-DNA"},{"$f":"'DNA Processing Record'!Q263","v":0},{"$f":"'DNA Processing Record'!E263","v":{"$error":"#N/A"}},{"$error":"#N/A"},{"$error":"#N/A"},{"$error":"#N/A"},null,"D05",262,{"$error":"#N/A"},{"$error":"#N/A"},0]
[null,null,null,null,null,null,null,null,null,null,null,23,"C06",{"$f":"'DNA Processing Record'!A264","v":263},{"$f":"'DNA Processing Record'!C264","v":"0-DNA"},{"$f":"'DNA Processing Record'!Q264","v":0},{"$f":"'DNA Processing Record'!E264","v":{"$error":"#N/A"}},{"$error":"#N/A"},{"$error":"#N/A"},{"$error":"#N/A"},null,"D06",264,{"$error":"#N/A"},{"$error":"#N/A"},0]
[null,null,null,null,null,null,null,null,null,null,null,24,"D06",{"$f":"'DNA Processing Record'!A265","v":264},{"$f":"'DNA Processing Record'!C265","v":"0-DNA"},{"$f":"'DNA Processing Record'!Q265","v":0},{"$f":"'DNA Processing Record'!E265","v":{"$error":"#N/A"}},{"$error":"#N/A"},{"$error":"#N/A"},{"$error":"#N/A"},null,"E01",265,{"$error":"#N/A"},{"$error":"#N/A"},0]
[null,null,null,null,null,null,null,null,null,null,null,"M",null,null,"Fermentas FastRuler High Range DNA Ladder","-",{"$f":"'DNA Processing Record'!E266","v":{"$error":"#N/A"}},20,null,null,null,"E02",267,{"$error":"#N/A"},{"$error":"#N/A"},0]
[null,null,null,null,null,null,null,null,null,null,null,"M",null,null,"Fermentas FastRuler High Range DNA Ladder","-",{"$f":"'DNA Processing Record'!E267","v":{"$error":"#N/A"}},20,null,null,null,"E03",269,{"$error":"#N/A"},{"$error":"#N/A"},0]
[null,null,null,null,null,null,null,null,null,null,null,25,"E01",{"$f":"'DNA Processing Record'!A266","v":265},{"$f":"'DNA Processing Record'!C266","v":"0-DNA"},{"$f":"'DNA Processing Record'!Q266","v":0},{"$f":"'DNA Processing Record'!E268","v":{"$error":"#N/A"}},{"$f":"(Q312*T312/(S312+T312))*20","v":{"$error":"#N/A"}},{"$f":"ROUND(Q312*T312/50*20-T312,0)","v":{"$error":"#N/A"}},{"$f":"ROUNDUP(50/Q312,0)","v":{"$error":"#N/A"}},null,"E04",271,{"$error":"#N/A"},{"$error":"#N/A"},0]
[null,null,null,null,null,null,null,null,null,null,null,26,"F01",{"$f":"'DNA Processing Record'!A267","v":266},{"$f":"'DNA Processing Record'!C267","v":"0-DNA"},{"$f":"'DNA Processing Record'!Q267","v":0},{"$f":"'DNA Processing Record'!E269","v":{"$error":"#N/A"}},{"$f":"(Q313*T313/(S313+T313))*20","v":{"$error":"#N/A"}},{"$f":"ROUND(Q313*T313/50*20-T313,0)","v":{"$error":"#N/A"}},{"$f":"ROUNDUP(50/Q313,0)","v":{"$error":"#N/A"}},null,"E05",273,{"$error":"#N/A"},{"$error":"#N/A"},0]
[null,null,null,null,null,null,null,null,null,null,null,27,"E02",{"$f":"'DNA Processing Record'!A268","v":267},{"$f":"'DNA Processing Record'!C268","v":"0-DNA"},{"$f":"'DNA Processing Record'!Q268","v":0},{"$f":"'DNA Processing Record'!E270","v":{"$error":"#N/A"}},{"$error":"#N/A"},{"$error":"#N/A"},{"$error":"#N/A"},null,"E06",275,{"$error":"#N/A"},{"$error":"#N/A"},0]
[null,null,null,null,null,null,null,null,null,null,null,28,"F02",{"$f":"'DNA Processing Record'!A269","v":268},{"$f":"'DNA Processing Record'!C269","v":"0-DNA"},{"$f":"'DNA Processing Record'!Q269","v":0},{"$f":"'DNA Processing Record'!E271","v":{"$error":"#N/A"}},{"$error":"#N/A"},{"$error":"#N/A"},{"$error":"#N/A"},null,"F01",266,{"$error":"#N/A"},{"$error":"#N/A"},0]
[null,null,null,null,null,null,null,null,null,null,null,29,"E03",{"$f":"'DNA Processing Record'!A270","v":269},{"$f":"'DNA Processing Record'!C270","v":"0-DNA"},{"$f":"'DNA Processing Record'!Q270","v":0},{"$f":"'DNA Processing Record'!E272","v":{"$error":"#N/A"}},{"$error":"#N/A"},{"$error":"#N/A"},{"$error":"#N/A"},null,"F02",268,{"$error":"#N/A"},{"$error":"#N/A"},0]
[null,null,null,null,null,null,null,null,null,null,null,30,"F03",{"$f":"'DNA Processing Record'!A271","v":270},{"$f":"'DNA Processing Record'!C271","v":"0-DNA"},{"$f":"'DNA Processing Record'!Q271","v":0},{"$f":"'DNA Processing Record'!E273","v":{"$error":"#N/A"}},{"$error":"#N/A"},{"$error":"#N/A"},{"$error":"#N/A"},null,"F03",270,{"$error":"#N/A"},{"$error":"#N/A"},0]
[null,null,null,null,null,null,null,null,null,null,null,31,"E04",{"$f":"'DNA Processing Record'!A272","v":271},{"$f":"'DNA Processing Record'!C272","v":"0-DNA"},{"$f":"'DNA Processing Record'!Q272","v":0},{"$f":"'DNA Processing Record'!E274","v":{"$error":"#N/A"}},{"$error":"#N/A"},{"$error":"#N/A"},{"$error":"#N/A"},null,"F04",272,{"$error":"#N/A"},{"$error":"#N/A"},0]
[null,null,null,null,null,null,null,null,null,null,null,32,"F04",{"$f":"'DNA Processing Record'!A273","v":272},{"$f":"'DNA Processing Record'!C273","v":"0-DNA"},{"$f":"'DNA Processing Record'!Q273","v":0},{"$f":"'DNA Processing Record'!E275","v":{"$error":"#N/A"}},{"$error":"#N/A"},{"$error":"#N/A"},{"$error":"#N/A"},null,"F05",274,{"$error":"#N/A"},{"$error":"#N/A"},0]
[null,null,null,null,null,null,null,null,null,null,null,33,"E05",{"$f":"'DNA Processing Record'!A274","v":273},{"$f":"'DNA Processing Record'!C274","v":"0-DNA"},{"$f":"'DNA Processing Record'!Q274","v":0},{"$f":"'DNA Processing Record'!E276","v":{"$error":"#N/A"}},{"$error":"#N/A"},{"$error":"#N/A"},{"$error":"#N/A"},null,"F06",276,{"$error":"#N/A"},{"$error":"#N/A"},0]
[null,null,null,null,null,null,null,null,null,null,null,34,"F05",{"$f":"'DNA Processing Record'!A275","v":274},{"$f":"'DNA Processing Record'!C275","v":"0-DNA"},{"$f":"'DNA Processing Record'!Q275","v":0},{"$f":"'DNA Processing Record'!E277","v":{"$error":"#N/A"}},{"$error":"#N/A"},{"$error":"#N/A"},{"$error":"#N/A"},null,"G01",277,{"$error":"#N/A"},{"$error":"#N/A"},0]
[null,null,null,null,null,null,null,null,null,null,null,35,"E06",{"$f":"'DNA Processing Record'!A276","v":275},{"$f":"'DNA Processing Record'!C276","v":"0-DNA"},{"$f":"'DNA Processing Record'!Q276","v":0},{"$f":"'DNA Processing Record'!E278","v":{"$error":"#N/A"}},{"$error":"#N/A"},{"$error":"#N/A"},{"$error":"#N/A"},null,"G02",279,{"$error":"#N/A"},{"$error":"#N/A"},0]
[null,null,null,null,null,null,null,null,null,null,null,36,"F06",{"$f":"'DNA Processing Record'!A277","v":276},{"$f":"'DNA Processing Record'!C277","v":"0-DNA"},{"$f":"'DNA Processing Record'!Q277","v":0},{"$f":"'DNA Processing Record'!E279","v":{"$error":"#N/A"}},{"$error":"#N/A"},{"$error":"#N/A"},{"$error":"#N/A"},null,"G03",281,{"$error":"#N/A"},{"$error":"#N/A"},0]
[null,null,null,null,null,null,null,null,null,null,null,37,"G01",{"$f":"'DNA Processing Record'!A278","v":277},{"$f":"'DNA Processing Record'!C278","v":"0-DNA"},{"$f":"'DNA Processing Record'!Q278","v":0},{"$f":"'DNA Processing Record'!E280","v":{"$error":"#N/A"}},{"$error":"#N/A"},{"$error":"#N/A"},{"$error":"#N/A"},null,"G04",283,{"$error":"#N/A"},{"$error":"#N/A"},0]
[null,null,null,null,null,null,null,null,null,null,null,38,"H01",{"$f":"'DNA Processing Record'!A279","v":278},{"$f":"'DNA Processing Record'!C279","v":"0-DNA"},{"$f":"'DNA Processing Record'!Q279","v":0},{"$f":"'DNA Processing Record'!E281","v":{"$error":"#N/A"}},{"$error":"#N/A"},{"$error":"#N/A"},{"$error":"#N/A"},null,"G05",285,{"$error":"#N/A"},{"$error":"#N/A"},0]
[null,null,null,null,null,null,null,null,null,null,null,39,"G02",{"$f":"'DNA Processing Record'!A280","v":279},{"$f":"'DNA Processing Record'!C280","v":"0-DNA"},{"$f":"'DNA Processing Record'!Q280","v":0},{"$f":"'DNA Processing Record'!E282","v":{"$error":"#N/A"}},{"$error":"#N/A"},{"$error":"#N/A"},{"$error":"#N/A"},null,"G06",287,{"$error":"#N/A"},{"$error":"#N/A"},0]
[null,null,null,null,null,null,null,null,null,null,null,40,"H02",{"$f":"'DNA Processing Record'!A281","v":280},{"$f":"'DNA Processing Record'!C281","v":"0-DNA"},{"$f":"'DNA Processing Record'!Q281","v":0},{"$f":"'DNA Processing Record'!E283","v":{"$error":"#N/A"}},{"$error":"#N/A"},{"$error":"#N/A"},{"$error":"#N/A"},null,"H01",278,{"$error":"#N/A"},{"$error":"#N/A"},0]
[null,null,null,null,null,null,null,null,null,null,null,41,"G03",{"$f":"'DNA Processing Record'!A282","v":281},{"$f":"'DNA Processing Record'!C282","v":"0-DNA"},{"$f":"'DNA Processing Record'!Q282","v":0},{"$f":"'DNA Processing Record'!E284","v":{"$error":"#N/A"}},{"$error":"#N/A"},{"$error":"#N/A"},{"$error":"#N/A"},null,"H02",280,{"$error":"#N/A"},{"$error":"#N/A"},0]
[null,null,null,null,null,null,null,null,null,null,null,42,"H03",{"$f":"'DNA Processing Record'!A283","v":282},{"$f":"'DNA Processing Record'!C283","v":"0-DNA"},{"$f":"'DNA Processing Record'!Q283","v":0},{"$f":"'DNA Processing Record'!E285","v":{"$error":"#N/A"}},{"$error":"#N/A"},{"$error":"#N/A"},{"$error":"#N/A"},null,"H03",282,{"$error":"#N/A"},{"$error":"#N/A"},0]
[null,null,null,null,null,null,null,null,null,null,null,43,"G04",{"$f":"'DNA Processing Record'!A284","v":283},{"$f":"'DNA Processing Record'!C284","v":"0-DNA"},{"$f":"'DNA Processing Record'!Q284","v":0},{"$f":"'DNA Processing Record'!E286","v":{"$error":"#N/A"}},{"$error":"#N/A"},{"$error":"#N/A"},{"$error":"#N/A"},null,"H04",284,{"$error":"#N/A"},{"$error":"#N/A"},0]
[null,null,null,null,null,null,null,null,null,null,null,44,"H04",{"$f":"'DNA Processing Record'!A285","v":284},{"$f":"'DNA Processing Record'!C285","v":"0-DNA"},{"$f":"'DNA Processing Record'!Q285","v":0},{"$f":"'DNA Processing Record'!E287","v":{"$error":"#N/A"}},{"$error":"#N/A"},{"$error":"#N/A"},{"$error":"#N/A"},null,"H05",286,{"$error":"#N/A"},{"$error":"#N/A"},0]
[null,null,null,null,null,null,null,null,null,null,null,45,"G05",{"$f":"'DNA Processing Record'!A286","v":285},{"$f":"'DNA Processing Record'!C286","v":"0-DNA"},{"$f":"'DNA Processing Record'!Q286","v":0},{"$f":"'DNA Processing Record'!E288","v":{"$error":"#N/A"}},{"$error":"#N/A"},{"$error":"#N/A"},{"$error":"#N/A"},null,"H06",288,{"$error":"#N/A"},{"$error":"#N/A"},0]
[null,null,null,null,null,null,null,null,null,null,null,46,"H05",{"$f":"'DNA Processing Record'!A287","v":286},{"$f":"'DNA Processing Record'!C287","v":"0-DNA"},{"$f":"'DNA Processing Record'!Q287","v":0},{"$f":"'DNA Processing Record'!E289","v":{"$error":"#N/A"}},{"$error":"#N/A"},{"$error":"#N/A"},{"$error":"#N/A"}]
[null,null,null,null,null,null,null,null,null,null,null,47,"G06",{"$f":"'DNA Processing Record'!A288","v":287},{"$f":"'DNA Processing Record'!C288","v":"0-DNA"},{"$f":"'DNA Processing Record'!Q288","v":0},{"$f":"'DNA Processing Record'!E290","v":{"$error":"#N/A"}},{"$error":"#N/A"},{"$error":"#N/A"},{"$error":"#N/A"}]
[null,null,null,null,null,null,null,null,null,null,null,48,"H06",{"$f":"'DNA Processing Record'!A289","v":288},{"$f":"'DNA Processing Record'!C289","v":"0-DNA"},{"$f":"'DNA Processing Record'!Q289","v":0},{"$f":"'DNA Processing Record'!E291","v":{"$error":"#N/A"}},{"$error":"#N/A"},{"$error":"#N/A"},{"$error":"#N/A"}]
[null,null,null,null,null,null,null,null,null,null,null,"M",null,null,"Fermentas FastRuler High Range DNA Ladder","-",{"$f":"'DNA Processing Record'!E292","v":{"$error":"#N/A"}},20,{"$f":"IF(Q336<35, 20-T336,#REF!* 20-1)","v":{"$error":"#N/A"}},{"$f":"IF(Q336<35, ROUND(45/Q336, 0), 1)","v":{"$error":"#N/A"}}]
[]
[]
[]
[null,null,null,null,null,null,null,null,null,null,null,"Gel 7",null,null,null,null,null,null,null,null,null,"Dilution Plate 7"]
[null,null,null,null,null,null,null,null,null,null,null,"Lane","Well","Sample no.","Sample_ID","Reference_ID","DNA conc. (ng/ul)","Amount loaded (ng)","Water(ul)","Sample(ul)",null,"Well","Sample no.","Water(ul)","Sample(ul)","Reference ID"]
[null,null,null,null,null,null,null,null,null,null,null,"M",null,null,"Fermentas FastRuler High Range DNA Ladder","-","-",null,null,null,null,"A01",289,{"$f":"VLOOKUP($V342, $M$341:$T$393, 7, FALSE)","v":{"$error":"#N/A"}},{"$f":"VLOOKUP($V342, $M$341:$T$393, 8, FALSE)","v":{"$error":"#N/A"}},{"$f":"VLOOKUP($V342, $M$341:$T$393, 4, FALSE)","v":0}]
[null,null,null,null,null,null,null,null,null,null,null,1,"A01",{"$f":"'DNA Processing Record'!A290","v":289},{"$f":"'DNA Processing Record'!C290","v":"0-DNA"},{"$f":"'DNA Processing Record'!Q290","v":0},{"$f":"'DNA Processing Record'!E290","v":{"$error":"#N/A"}},{"$f":"(Q343*T343/(S343+T343))*20","v":{"$error":"#N/A"}},{"$f":"ROUND(Q343*T343/50*20-T343,0)","v":{"$error":"#N/A"}},{"$f":"ROUNDUP(50/Q343,0)","v":{"$error":"#N/A"}},null,"A02",291,{"$error":"#N/A"},{"$error":"#N/A"},0]
[null,null,null,null,null,null,null,null,null,null,null,2,"B01",{"$f":"'DNA Processing Record'!A291","v":290},{"$f":"'DNA Processing Record'!C291","v":"0-DNA"},{"$f":"'DNA Processing Record'!Q291","v":0},{"$f":"'DNA Processing Record'!E291","v":{"$error":"#N/A"}},{"$f":"(Q344*T344/(S344+T344))*20","v":{"$error":"#N/A"}},{"$f":"ROUND(Q344*T344/50*20-T344,0)","v":{"$error":"#N/A"}},{"$f":"ROUNDUP(50/Q344,0)","v":{"$error":"#N/A"}},null,"A03",293,{"$error":"#N/A"},{"$error":"#N/A"},0]
[null,null,null,null,null,null,null,null,null,null,null,3,"A02",{"$f":"'DNA Processing Record'!A292","v":291},{"$f":"'DNA Processing Record'!C292","v":"0-DNA"},{"$f":"'DNA Processing Record'!Q292","v":0},{"$f":"'DNA Processing Record'!E292","v":{"$error":"#N/A"}},{"$error":"#N/A"},{"$error":"#N/A"},{"$error":"#N/A"},null,"A04",295,{"$error":"#N/A"},{"$error":"#N/A"},0]
[null,null,null,null,null,null,null,null,null,null,null,4,"B02",{"$f":"'DNA Processing Record'!A293","v":292},{"$f":"'DNA Processing Record'!C293","v":"0-DNA"},{"$f":"'DNA Processing Record'!Q293","v":0},{"$f":"'DNA Processing Record'!E293","v":{"$error":"#N/A"}},{"$error":"#N/A"},{"$error":"#N/A"},{"$error":"#N/A"},null,"A05",297,{"$error":"#N/A"},{"$error":"#N/A"},0]
[null,null,null,null,null,null,null,null,null,null,null,5,"A03",{"$f":"'DNA Processing Record'!A294","v":293},{"$f":"'DNA Processing Record'!C294","v":"0-DNA"},{"$f":"'DNA Processing Record'!Q294","v":0},{"$f":"'DNA Processing Record'!E294","v":{"$error":"#N/A"}},{"$error":"#N/A"},{"$error":"#N/A"},{"$error":"#N/A"},null,"A06",299,{"$error":"#N/A"},{"$error":"#N/A"},0]
[null,null,null,null,null,null,null,null,null,null,null,6,"B03",{"$f":"'DNA Processing Record'!A295","v":294},{"$f":"'DNA Processing Record'!C295","v":"0-DNA"},{"$f":"'DNA Processing Record'!Q295","v":0},{"$f":"'DNA Processing Record'!E295","v":{"$error":"#N/A"}},{"$error":"#N/A"},{"$error":"#N/A"},{"$error":"#N/A"},null,"B01",290,{"$error":"#N/A"},{"$error":"#N/A"},0]
[null,null,null,null,null,null,null,null,null,null,null,7,"A04",{"$f":"'DNA Processing Record'!A296","v":295},{"$f":"'DNA Processing Record'!C296","v":"0-DNA"},{"$f":"'DNA Processing Record'!Q296","v":0},{"$f":"'DNA Processing Record'!E296","v":{"$error":"#N/A"}},{"$error":"#N/A"},{"$error":"#N/A"},{"$error":"#N/A"},null,"B02",292,{"$error":"#N/A"},{"$error":"#N/A"},0]
[null,null,null,null,null,null,null,null,null,null,null,8,"B04",{"$f":"'DNA Processing Record'!A297","v":296},{"$f":"'DNA Processing Record'!C297","v":"0-DNA"},{"$f":"'DNA Processing Record'!Q297","v":0},{"$f":"'DNA Processing Record'!E297","v":{"$error":"#N/A"}},{"$error":"#N/A"},{"$error":"#N/A"},{"$error":"#N/A"},null,"B03",294,{"$error":"#N/A"},{"$error":"#N/A"},0]
[null,null,null,null,null,null,null,null,null,null,null,9,"A05",{"$f":"'DNA Processing Record'!A298","v":297},{"$f":"'DNA Processing Record'!C298","v":"0-DNA"},{"$f":"'DNA Processing Record'!Q298","v":0},{"$f":"'DNA Processing Record'!E298","v":{"$error":"#N/A"}},{"$error":"#N/A"},{"$error":"#N/A"},{"$error":"#N/A"},null,"B04",296,{"$error":"#N/A"},{"$error":"#N/A"},0]
[null,null,null,null,null,null,null,null,null,null,null,10,"B05",{"$f":"'DNA Processing Record'!A299","v":298},{"$f":"'DNA Processing Record'!C299","v":"0-DNA"},{"$f":"'DNA Processing Record'!Q299","v":0},{"$f":"'DNA Processing Record'!E299","v":{"$error":"#N/A"}},{"$error":"#N/A"},{"$error":"#N/A"},{"$error":"#N/A"},null,"B05",298,{"$error":"#N/A"},{"$error":"#N/A"},0]
[null,null,null,null,null,null,null,null,null,null,null,11,"A06",{"$f":"'DNA Processing Record'!A300","v":299},{"$f":"'DNA Processing Record'!C300","v":"0-DNA"},{"$f":"'DNA Processing Record'!Q300","v":0},{"$f":"'DNA Processing Record'!E300","v":{"$error":"#N/A"}},{"$error":"#N/A"},{"$error":"#N/A"},{"$error":"#N/A"},null,"B06",300,{"$error":"#N/A"},{"$error":"#N/A"},0]
[null,null,null,null,null,null,null,null,null,null,null,12,"B06",{"$f":"'DNA Processing Record'!A301","v":300},{"$f":"'DNA Processing Record'!C301","v":"0-DNA"},{"$f":"'DNA Processing Record'!Q301","v":0},{"$f":"'DNA Processing Record'!E301","v":{"$error":"#N/A"}},{"$error":"#N/A"},{"$error":"#N/A"},{"$error":"#N/A"},null,"C01",301,{"$error":"#N/A"},{"$error":"#N/A"},0]
[null,null,null,null,null,null,null,null,null,null,null,13,"C01",{"$f":"'DNA Processing Record'!A302","v":301},{"$f":"'DNA Processing Record'!C302","v":"0-DNA"},{"$f":"'DNA Processing Record'!Q302","v":0},{"$f":"'DNA Processing Record'!E302","v":{"$error":"#N/A"}},{"$error":"#N/A"},{"$error":"#N/A"},{"$error":"#N/A"},null,"C02",303,{"$error":"#N/A"},{"$error":"#N/A"},0]
[null,null,null,null,null,null,null,null,null,null,null,14,"D01",{"$f":"'DNA Processing Record'!A303","v":302},{"$f":"'DNA Processing Record'!C303","v":"0-DNA"},{"$f":"'DNA Processing Record'!Q303","v":0},{"$f":"'DNA Processing Record'!E303","v":{"$error":"#N/A"}},{"$error":"#N/A"},{"$error":"#N/A"},{"$error":"#N/A"},null,"C03",305,{"$error":"#N/A"},{"$error":"#N/A"},0]
[null,null,null,null,null,null,null,null,null,null,null,15,"C02",{"$f":"'DNA Processing Record'!A304","v":303},{"$f":"'DNA Processing Record'!C304","v":"0-DNA"},{"$f":"'DNA Processing Record'!Q304","v":0},{"$f":"'DNA Processing Record'!E304","v":{"$error":"#N/A"}},{"$error":"#N/A"},{"$error":"#N/A"},{"$error":"#N/A"},null,"C04",307,{"$error":"#N/A"},{"$error":"#N/A"},0]
[null,null,null,null,null,null,null,null,null,null,null,16,"D02",{"$f":"'DNA Processing Record'!A305","v":304},{"$f":"'DNA Processing Record'!C305","v":"0-DNA"},{"$f":"'DNA Processing Record'!Q305","v":0},{"$f":"'DNA Processing Record'!E305","v":{"$error":"#N/A"}},{"$error":"#N/A"},{"$error":"#N/A"},{"$error":"#N/A"},null,"C05",309,{"$error":"#N/A"},{"$error":"#N/A"},0]
[null,null,null,null,null,null,null,null,null,null,null,17,"C03",{"$f":"'DNA Processing Record'!A306","v":305},{"$f":"'DNA Processing Record'!C306","v":"0-DNA"},{"$f":"'DNA Processing Record'!Q306","v":0},{"$f":"'DNA Processing Record'!E306","v":{"$error":"#N/A"}},{"$error":"#N/A"},{"$error":"#N/A"},{"$error":"#N/A"},null,"C06",311,{"$error":"#N/A"},{"$error":"#N/A"},0]
[null,null,null,null,null,null,null,null,null,null,null,18,"D03",{"$f":"'DNA Processing Record'!A307","v":306},{"$f":"'DNA Processing Record'!C307","v":"0-DNA"},{"$f":"'DNA Processing Record'!Q307","v":0},{"$f":"'DNA Processing Record'!E307","v":{"$error":"#N/A"}},{"$error":"#N/A"},{"$error":"#N/A"},{"$error":"#N/A"},null,"D01",302,{"$error":"#N/A"},{"$error":"#N/A"},0]
[null,null,null,null,null,null,null,null,null,null,null,19,"C04",{"$f":"'DNA Processing Record'!A308","v":307},{"$f":"'DNA Processing Record'!C308","v":"0-DNA"},{"$f":"'DNA Processing Record'!Q308","v":0},{"$f":"'DNA Processing Record'!E308","v":{"$error":"#N/A"}},{"$error":"#N/A"},{"$error":"#N/A"},{"$error":"#N/A"},null,"D02",304,{"$error":"#N/A"},{"$error":"#N/A"},0]
[null,null,null,null,null,null,null,null,null,null,null,20,"D04",{"$f":"'DNA Processing Record'!A309","v":308},{"$f":"'DNA Processing Record'!C309","v":"0-DNA"},{"$f":"'DNA Processing Record'!Q309","v":0},{"$f":"'DNA Processing Record'!E309","v":{"$error":"#N/A"}},{"$error":"#N/A"},{"$error":"#N/A"},{"$error":"#N/A"},null,"D03",306,{"$error":"#N/A"},{"$error":"#N/A"},0]
[null,null,null,null,null,null,null,null,null,null,null,21,"C05",{"$f":"'DNA Processing Record'!A310","v":309},{"$f":"'DNA Processing Record'!C310","v":"0-DNA"},{"$f":"'DNA Processing Record'!Q310","v":0},{"$f":"'DNA Processing Record'!E310","v":{"$error":"#N/A"}},{"$error":"#N/A"},{"$error":"#N/A"},{"$error":"#N/A"},null,"D04",308,{"$error":"#N/A"},{"$error":"#N/A"},0]
[null,null,null,null,null,null,null,null,null,null,null,22,"D05",{"$f":"'DNA Processing Record'!A311","v":310},{"$f":"'DNA Processing Record'!C311","v":"0-DNA"},{"$f":"'DNA Processing Record'!Q311","v":0},{"$f":"'DNA Processing Record'!E311","v":{"$error":"#N/A"}},{"$error":"#N/A"},{"$error":"#N/A"},{"$error":"#N/A"},null,"D05",310,{"$error":"#N/A"},{"$error":"#N/A"},0]
[null,null,null,null,null,null,null,null,null,null,null,23,"C06",{"$f":"'DNA Processing Record'!A312","v":311},{"$f":"'DNA Processing Record'!C312","v":"0-DNA"},{"$f":"'DNA Processing Record'!Q312","v":0},{"$f":"'DNA Processing Record'!E312","v":{"$error":"#N/A"}},{"$error":"#N/A"},{"$error":"#N/A"},{"$error":"#N/A"},null,"D06",312,{"$error":"#N/A"},{"$error":"#N/A"},0]
[null,null,null,null,null,null,null,null,null,null,null,24,"D06",{"$f":"'DNA Processing Record'!A313","v":312},{"$f":"'DNA Processing Record'!C313","v":"0-DNA"},{"$f":"'DNA Processing Record'!Q313","v":0},{"$f":"'DNA Processing Record'!E313","v":{"$error":"#N/A"}},{"$error":"#N/A"},{"$error":"#N/A"},{"$error":"#N/A"},null,"E01",313,{"$error":"#N/A"},{"$error":"#N/A"},0]
[null,null,null,null,null,null,null,null,null,null,null,"M",null,null,"Fermentas FastRuler High Range DNA Ladder","-",{"$f":"'DNA Processing Record'!E314","v":{"$error":"#N/A"}},20,null,null,null,"E02",315,{"$error":"#N/A"},{"$error":"#N/A"},0]
[null,null,null,null,null,null,null,null,null,null,null,"M",null,null,"Fermentas FastRuler High Range DNA Ladder","-",{"$f":"'DNA Processing Record'!E315","v":{"$error":"#N/A"}},20,null,null,null,"E03",317,{"$error":"#N/A"},{"$error":"#N/A"},0]
[null,null,null,null,null,null,null,null,null,null,null,25,"E01",{"$f":"'DNA Processing Record'!A314","v":313},{"$f":"'DNA Processing Record'!C314","v":"0-DNA"},{"$f":"'DNA Processing Record'!Q314","v":0},{"$f":"'DNA Processing Record'!E316","v":{"$error":"#N/A"}},{"$f":"(Q369*T369/(S369+T369))*20","v":{"$error":"#N/A"}},{"$f":"ROUND(Q369*T369/50*20-T369,0)","v":{"$error":"#N/A"}},{"$f":"ROUNDUP(50/Q369,0)","v":{"$error":"#N/A"}},null,"E04",319,{"$error":"#N/A"},{"$error":"#N/A"},0]
[null,null,null,null,null,null,null,null,null,null,null,26,"F01",{"$f":"'DNA Processing Record'!A315","v":314},{"$f":"'DNA Processing Record'!C315","v":"0-DNA"},{"$f":"'DNA Processing Record'!Q315","v":0},{"$f":"'DNA Processing Record'!E317","v":{"$error":"#N/A"}},{"$f":"(Q370*T370/(S370+T370))*20","v":{"$error":"#N/A"}},{"$f":"ROUND(Q370*T370/50*20-T370,0)","v":{"$error":"#N/A"}},{"$f":"ROUNDUP(50/Q370,0)","v":{"$error":"#N/A"}},null,"E05",321,{"$error":"#N/A"},{"$error":"#N/A"},0]
[null,null,null,null,null,null,null,null,null,null,null,27,"E02",{"$f":"'DNA Processing Record'!A316","v":315},{"$f":"'DNA Processing Record'!C316","v":"0-DNA"},{"$f":"'DNA Processing Record'!Q316","v":0},{"$f":"'DNA Processing Record'!E318","v":{"$error":"#N/A"}},{"$error":"#N/A"},{"$error":"#N/A"},{"$error":"#N/A"},null,"E06",323,{"$error":"#N/A"},{"$error":"#N/A"},0]
[null,null,null,null,null,null,null,null,null,null,null,28,"F02",{"$f":"'DNA Processing Record'!A317","v":316},{"$f":"'DNA Processing Record'!C317","v":"0-DNA"},{"$f":"'DNA Processing Record'!Q317","v":0},{"$f":"'DNA Processing Record'!E319","v":{"$error":"#N/A"}},{"$error":"#N/A"},{"$error":"#N/A"},{"$error":"#N/A"},null,"F01",314,{"$error":"#N/A"},{"$error":"#N/A"},0]
[null,null,null,null,null,null,null,null,null,null,null,29,"E03",{"$f":"'DNA Processing Record'!A318","v":317},{"$f":"'DNA Processing Record'!C318","v":"0-DNA"},{"$f":"'DNA Processing Record'!Q318","v":0},{"$f":"'DNA Processing Record'!E320","v":{"$error":"#N/A"}},{"$error":"#N/A"},{"$error":"#N/A"},{"$error":"#N/A"},null,"F02",316,{"$error":"#N/A"},{"$error":"#N/A"},0]
[null,null,null,null,null,null,null,null,null,null,null,30,"F03",{"$f":"'DNA Processing Record'!A319","v":318},{"$f":"'DNA Processing Record'!C319","v":"0-DNA"},{"$f":"'DNA Processing Record'!Q319","v":0},{"$f":"'DNA Processing Record'!E321","v":{"$error":"#N/A"}},{"$error":"#N/A"},{"$error":"#N/A"},{"$error":"#N/A"},null,"F03",318,{"$error":"#N/A"},{"$error":"#N/A"},0]
[null,null,null,null,null,null,null,null,null,null,null,31,"E04",{"$f":"'DNA Processing Record'!A320","v":319},{"$f":"'DNA Processing Record'!C320","v":"0-DNA"},{"$f":"'DNA Processing Record'!Q320","v":0},{"$f":"'DNA Processing Record'!E322","v":{"$error":"#N/A"}},{"$error":"#N/A"},{"$error":"#N/A"},{"$error":"#N/A"},null,"F04",320,{"$error":"#N/A"},{"$error":"#N/A"},0]
[null,null,null,null,null,null,null,null,null,null,null,32,"F04",{"$f":"'DNA Processing Record'!A321","v":320},{"$f":"'DNA Processing Record'!C321","v":"0-DNA"},{"$f":"'DNA Processing Record'!Q321","v":0},{"$f":"'DNA Processing Record'!E323","v":{"$error":"#N/A"}},{"$error":"#N/A"},{"$error":"#N/A"},{"$error":"#N/A"},null,"F05",322,{"$error":"#N/A"},{"$error":"#N/A"},0]
[null,null,null,null,null,null,null,null,null,null,null,33,"E05",{"$f":"'DNA Processing Record'!A322","v":321},{"$f":"'DNA Processing Record'!C322","v":"0-DNA"},{"$f":"'DNA Processing Record'!Q322","v":0},{"$f":"'DNA Processing Record'!E324","v":{"$error":"#N/A"}},{"$error":"#N/A"},{"$error":"#N/A"},{"$error":"#N/A"},null,"F06",324,{"$error":"#N/A"},{"$error":"#N/A"},0]
[null,null,null,null,null,null,null,null,null,null,null,34,"F05",{"$f":"'DNA Processing Record'!A323","v":322},{"$f":"'DNA Processing Record'!C323","v":"0-DNA"},{"$f":"'DNA Processing Record'!Q323","v":0},{"$f":"'DNA Processing Record'!E325","v":{"$error":"#N/A"}},{"$error":"#N/A"},{"$error":"#N/A"},{"$error":"#N/A"},null,"G01",325,{"$error":"#N/A"},{"$error":"#N/A"},0]
[null,null,null,null,null,null,null,null,null,null,null,35,"E06",{"$f":"'DNA Processing Record'!A324","v":323},{"$f":"'DNA Processing Record'!C324","v":"0-DNA"},{"$f":"'DNA Processing Record'!Q324","v":0},{"$f":"'DNA Processing Record'!E326","v":{"$error":"#N/A"}},{"$error":"#N/A"},{"$error":"#N/A"},{"$error":"#N/A"},null,"G02",327,{"$error":"#N/A"},{"$error":"#N/A"},0]
[null,null,null,null,null,null,null,null,null,null,null,36,"F06",{"$f":"'DNA Processing Record'!A325","v":324},{"$f":"'DNA Processing Record'!C325","v":"0-DNA"},{"$f":"'DNA Processing Record'!Q325","v":0},{"$f":"'DNA Processing Record'!E327","v":{"$error":"#N/A"}},{"$error":"#N/A"},{"$error":"#N/A"},{"$error":"#N/A"},null,"G03",329,{"$error":"#N/A"},{"$error":"#N/A"},0]
[null,null,null,null,null,null,null,null,null,null,null,37,"G01",{"$f":"'DNA Processing Record'!A326","v":325},{"$f":"'DNA Processing Record'!C326","v":"0-DNA"},{"$f":"'DNA Processing Record'!Q326","v":0},{"$f":"'DNA Processing Record'!E328","v":{"$error":"#N/A"}},{"$error":"#N/A"},{"$error":"#N/A"},{"$error":"#N/A"},null,"G04",331,{"$error":"#N/A"},{"$error":"#N/A"},0]
[null,null,null,null,null,null,null,null,null,null,null,38,"H01",{"$f":"'DNA Processing Record'!A327","v":326},{"$f":"'DNA Processing Record'!C327","v":"0-DNA"},{"$f":"'DNA Processing Record'!Q327","v":0},{"$f":"'DNA Processing Record'!E329","v":{"$error":"#N/A"}},{"$error":"#N/A"},{"$error":"#N/A"},{"$error":"#N/A"},null,"G05",333,{"$error":"#N/A"},{"$error":"#N/A"},0]
[null,null,null,null,null,null,null,null,null,null,null,39,"G02",{"$f":"'DNA Processing Record'!A328","v":327},{"$f":"'DNA Processing Record'!C328","v":"0-DNA"},{"$f":"'DNA Processing Record'!Q328","v":0},{"$f":"'DNA Processing Record'!E330","v":{"$error":"#N/A"}},{"$error":"#N/A"},{"$error":"#N/A"},{"$error":"#N/A"},null,"G06",335,{"$error":"#N/A"},{"$error":"#N/A"},0]
[null,null,null,null,null,null,null,null,null,null,null,40,"H02",{"$f":"'DNA Processing Record'!A329","v":328},{"$f":"'DNA Processing Record'!C329","v":"0-DNA"},{"$f":"'DNA Processing Record'!Q329","v":0},{"$f":"'DNA Processing Record'!E331","v":{"$error":"#N/A"}},{"$error":"#N/A"},{"$error":"#N/A"},{"$error":"#N/A"},null,"H01",326,{"$error":"#N/A"},{"$error":"#N/A"},0]
[null,null,null,null,null,null,null,null,null,null,null,41,"G03",{"$f":"'DNA Processing Record'!A330","v":329},{"$f":"'DNA Processing Record'!C330","v":"0-DNA"},{"$f":"'DNA Processing Record'!Q330","v":0},{"$f":"'DNA Processing Record'!E332","v":{"$error":"#N/A"}},{"$error":"#N/A"},{"$error":"#N/A"},{"$error":"#N/A"},null,"H02",328,{"$error":"#N/A"},{"$error":"#N/A"},0]
[null,null,null,null,null,null,null,null,null,null,null,42,"H03",{"$f":"'DNA Processing Record'!A331","v":330},{"$f":"'DNA Processing Record'!C331","v":"0-DNA"},{"$f":"'DNA Processing Record'!Q331","v":0},{"$f":"'DNA Processing Record'!E333","v":{"$error":"#N/A"}},{"$error":"#N/A"},{"$error":"#N/A"},{"$error":"#N/A"},null,"H03",330,{"$error":"#N/A"},{"$error":"#N/A"},0]
[null,null,null,null,null,null,null,null,null,null,null,43,"G04",{"$f":"'DNA Processing Record'!A332","v":331},{"$f":"'DNA Processing Record'!C332","v":"0-DNA"},{"$f":"'DNA Processing Record'!Q332","v":0},{"$f":"'DNA Processing Record'!E334","v":{"$error":"#N/A"}},{"$error":"#N/A"},{"$error":"#N/A"},{"$error":"#N/A"},null,"H04",332,{"$error":"#N/A"},{"$error":"#N/A"},0]
[null,null,null,null,null,null,null,null,null,null,null,44,"H04",{"$f":"'DNA Processing Record'!A333","v":332},{"$f":"'DNA Processing Record'!C333","v":"0-DNA"},{"$f":"'DNA Processing Record'!Q333","v":0},{"$f":"'DNA Processing Record'!E335","v":{"$error":"#N/A"}},{"$error":"#N/A"},{"$error":"#N/A"},{"$error":"#N/A"},null,"H05",334,{"$error":"#N/A"},{"$error":"#N/A"},0]
[null,null,null,null,null,null,null,null,null,null,null,45,"G05",{"$f":"'DNA Processing Record'!A334","v":333},{"$f":"'DNA Processing Record'!C334","v":"0-DNA"},{"$f":"'DNA Processing Record'!Q334","v":0},{"$f":"'DNA Processing Record'!E336","v":{"$error":"#N/A"}},{"$error":"#N/A"},{"$error":"#N/A"},{"$error":"#N/A"},null,"H06",336,{"$error":"#N/A"},{"$error":"#N/A"},0]
[null,null,null,null,null,null,null,null,null,null,null,46,"H05",{"$f":"'DNA Processing Record'!A335","v":334},{"$f":"'DNA Processing Record'!C335","v":"0-DNA"},{"$f":"'DNA Processing Record'!Q335","v":0},{"$f":"'DNA Processing Record'!E337","v":{"$error":"#N/A"}},{"$error":"#N/A"},{"$error":"#N/A"},{"$error":"#N/A"}]
[null,null,null,null,null,null,null,null,null,null,null,47,"G06",{"$f":"'DNA Processing Record'!A336","v":335},{"$f":"'DNA Processing Record'!C336","v":"0-DNA"},{"$f":"'DNA Processing Record'!Q336","v":0},{"$f":"'DNA Processing Record'!E338","v":{"$error":"#N/A"}},{"$error":"#N/A"},{"$error":"#N/A"},{"$error":"#N/A"}]
[null,null,null,null,null,null,null,null,null,null,null,48,"H06",{"$f":"'DNA Processing Record'!A337","v":336},{"$f":"'DNA Processing Record'!C337","v":"0-DNA"},{"$f":"'DNA Processing Record'!Q337","v":0},{"$f":"'DNA Processing Record'!E339","v":{"$error":"#N/A"}},{"$error":"#N/A"},{"$error":"#N/A"},{"$error":"#N/A"}]
[null,null,null,null,null,null,null,null,null,null,null,"M",null,null,"Fermentas FastRuler High Range DNA Ladder","-",{"$f":"'DNA Processing Record'!E340","v":{"$error":"#N/A"}},20,{"$f":"IF(Q393<35, 20-T393,#REF!* 20-1)","v":{"$error":"#N/A"}},{"$f":"IF(Q393<35, ROUND(45/Q393, 0), 1)","v":{"$error":"#N/A"}}]
[]
[]
[]
[null,null,null,null,null,null,null,null,null,null,null,"Gel 8",null,null,null,null,null,null,null,null,null,"Dilution Plate 8"]
[null,null,null,null,null,null,null,null,null,null,null,"Lane","Well","Sample no.","Sample_ID","Reference_ID","DNA conc. (ng/ul)","Amount loaded (ng)","Water(ul)","Sample(ul)",null,"Well","Sample no.","Water(ul)","Sample(ul)","Reference ID"]
[null,null,null,null,null,null,null,null,null,null,null,"M",null,null,"Fermentas FastRuler High Range DNA Ladder","-","-",null,null,null,null,"A01",337,{"$f":"VLOOKUP($V399, $M$398:$T$450, 7, FALSE)","v":{"$error":"#N/A"}},{"$f":"VLOOKUP($V399, $M$398:$T$450, 8, FALSE)","v":{"$error":"#N/A"}},{"$f":"VLOOKUP($V399, $M$398:$T$450, 4, FALSE)","v":0}]
[null,null,null,null,null,null,null,null,null,null,null,1,"A01",{"$f":"'DNA Processing Record'!A338","v":337},{"$f":"'DNA Processing Record'!C338","v":"0-DNA"},{"$f":"'DNA Processing Record'!Q338","v":0},{"$f":"'DNA Processing Record'!E338","v":{"$error":"#N/A"}},{"$f":"(Q400*T400/(S400+T400))*20","v":{"$error":"#N/A"}},{"$f":"ROUND(Q400*T400/50*20-T400,0)","v":{"$error":"#N/A"}},{"$f":"ROUNDUP(50/Q400,0)","v":{"$error":"#N/A"}},null,"A02",339,{"$error":"#N/A"},{"$error":"#N/A"},0]
[null,null,null,null,null,null,null,null,null,null,null,2,"B01",{"$f":"'DNA Processing Record'!A339","v":338},{"$f":"'DNA Processing Record'!C339","v":"0-DNA"},{"$f":"'DNA Processing Record'!Q339","v":0},{"$f":"'DNA Processing Record'!E339","v":{"$error":"#N/A"}},{"$f":"(Q401*T401/(S401+T401))*20","v":{"$error":"#N/A"}},{"$f":"ROUND(Q401*T401/50*20-T401,0)","v":{"$error":"#N/A"}},{"$f":"ROUNDUP(50/Q401,0)","v":{"$error":"#N/A"}},null,"A03",341,{"$error":"#N/A"},{"$error":"#N/A"},0]
[null,null,null,null,null,null,null,null,null,null,null,3,"A02",{"$f":"'DNA Processing Record'!A340","v":339},{"$f":"'DNA Processing Record'!C340","v":"0-DNA"},{"$f":"'DNA Processing Record'!Q340","v":0},{"$f":"'DNA Processing Record'!E340","v":{"$error":"#N/A"}},{"$error":"#N/A"},{"$error":"#N/A"},{"$error":"#N/A"},null,"A04",343,{"$error":"#N/A"},{"$error":"#N/A"},0]
[null,null,null,null,null,null,null,null,null,null,null,4,"B02",{"$f":"'DNA Processing Record'!A341","v":340},{"$f":"'DNA Processing Record'!C341","v":"0-DNA"},{"$f":"'DNA Processing Record'!Q341","v":0},{"$f":"'DNA Processing Record'!E341","v":{"$error":"#N/A"}},{"$error":"#N/A"},{"$error":"#N/A"},{"$error":"#N/A"},null,"A05",345,{"$error":"#N/A"},{"$error":"#N/A"},0]
[null,null,null,null,null,null,null,null,null,null,null,5,"A03",{"$f":"'DNA Processing Record'!A342","v":341},{"$f":"'DNA Processing Record'!C342","v":"0-DNA"},{"$f":"'DNA Processing Record'!Q342","v":0},{"$f":"'DNA Processing Record'!E342","v":{"$error":"#N/A"}},{"$error":"#N/A"},{"$error":"#N/A"},{"$error":"#N/A"},null,"A06",347,{"$error":"#N/A"},{"$error":"#N/A"},0]
[null,null,null,null,null,null,null,null,null,null,null,6,"B03",{"$f":"'DNA Processing Record'!A343","v":342},{"$f":"'DNA Processing Record'!C343","v":"0-DNA"},{"$f":"'DNA Processing Record'!Q343","v":0},{"$f":"'DNA Processing Record'!E343","v":{"$error":"#N/A"}},{"$error":"#N/A"},{"$error":"#N/A"},{"$error":"#N/A"},null,"B01",338,{"$error":"#N/A"},{"$error":"#N/A"},0]
[null,null,null,null,null,null,null,null,null,null,null,7,"A04",{"$f":"'DNA Processing Record'!A344","v":343},{"$f":"'DNA Processing Record'!C344","v":"0-DNA"},{"$f":"'DNA Processing Record'!Q344","v":0},{"$f":"'DNA Processing Record'!E344","v":{"$error":"#N/A"}},{"$error":"#N/A"},{"$error":"#N/A"},{"$error":"#N/A"},null,"B02",340,{"$error":"#N/A"},{"$error":"#N/A"},0]
[null,null,null,null,null,null,null,null,null,null,null,8,"B04",{"$f":"'DNA Processing Record'!A345","v":344},{"$f":"'DNA Processing Record'!C345","v":"0-DNA"},{"$f":"'DNA Processing Record'!Q345","v":0},{"$f":"'DNA Processing Record'!E345","v":{"$error":"#N/A"}},{"$error":"#N/A"},{"$error":"#N/A"},{"$error":"#N/A"},null,"B03",342,{"$error":"#N/A"},{"$error":"#N/A"},0]
[null,null,null,null,null,null,null,null,null,null,null,9,"A05",{"$f":"'DNA Processing Record'!A346","v":345},{"$f":"'DNA Processing Record'!C346","v":"0-DNA"},{"$f":"'DNA Processing Record'!Q346","v":0},{"$f":"'DNA Processing Record'!E346","v":{"$error":"#N/A"}},{"$error":"#N/A"},{"$error":"#N/A"},{"$error":"#N/A"},null,"B04",344,{"$error":"#N/A"},{"$error":"#N/A"},0]
[null,null,null,null,null,null,null,null,null,null,null,10,"B05",{"$f":"'DNA Processing Record'!A347","v":346},{"$f":"'DNA Processing Record'!C347","v":"0-DNA"},{"$f":"'DNA Processing Record'!Q347","v":0},{"$f":"'DNA Processing Record'!E347","v":{"$error":"#N/A"}},{"$error":"#N/A"},{"$error":"#N/A"},{"$error":"#N/A"},null,"B05",346,{"$error":"#N/A"},{"$error":"#N/A"},0]
[null,null,null,null,null,null,null,null,null,null,null,11,"A06",{"$f":"'DNA Processing Record'!A348","v":347},{"$f":"'DNA Processing Record'!C348","v":"0-DNA"},{"$f":"'DNA Processing Record'!Q348","v":0},{"$f":"'DNA Processing Record'!E348","v":{"$error":"#N/A"}},{"$error":"#N/A"},{"$error":"#N/A"},{"$error":"#N/A"},null,"B06",348,{"$error":"#N/A"},{"$error":"#N/A"},0]
[null,null,null,null,null,null,null,null,null,null,null,12,"B06",{"$f":"'DNA Processing Record'!A349","v":348},{"$f":"'DNA Processing Record'!C349","v":"0-DNA"},{"$f":"'DNA Processing Record'!Q349","v":0},{"$f":"'DNA Processing Record'!E349","v":{"$error":"#N/A"}},{"$error":"#N/A"},{"$error":"#N/A"},{"$error":"#N/A"},null,"C01",349,{"$error":"#N/A"},{"$error":"#N/A"},0]
[null,null,null,null,null,null,null,null,null,null,null,13,"C01",{"$f":"'DNA Processing Record'!A350","v":349},{"$f":"'DNA Processing Record'!C350","v":"0-DNA"},{"$f":"'DNA Processing Record'!Q350","v":0},{"$f":"'DNA Processing Record'!E350","v":{"$error":"#N/A"}},{"$error":"#N/A"},{"$error":"#N/A"},{"$error":"#N/A"},null,"C02",351,{"$error":"#N/A"},{"$error":"#N/A"},0]
[null,null,null,null,null,null,null,null,null,null,null,14,"D01",{"$f":"'DNA Processing Record'!A351","v":350},{"$f":"'DNA Processing Record'!C351","v":"0-DNA"},{"$f":"'DNA Processing Record'!Q351","v":0},{"$f":"'DNA Processing Record'!E351","v":{"$error":"#N/A"}},{"$error":"#N/A"},{"$error":"#N/A"},{"$error":"#N/A"},null,"C03",353,{"$error":"#N/A"},{"$error":"#N/A"},0]
[null,null,null,null,null,null,null,null,null,null,null,15,"C02",{"$f":"'DNA Processing Record'!A352","v":351},{"$f":"'DNA Processing Record'!C352","v":"0-DNA"},{"$f":"'DNA Processing Record'!Q352","v":0},{"$f":"'DNA Processing Record'!E352","v":{"$error":"#N/A"}},{"$error":"#N/A"},{"$error":"#N/A"},{"$error":"#N/A"},null,"C04",355,{"$error":"#N/A"},{"$error":"#N/A"},0]
[null,null,null,null,null,null,null,null,null,null,null,16,"D02",{"$f":"'DNA Processing Record'!A353","v":352},{"$f":"'DNA Processing Record'!C353","v":"0-DNA"},{"$f":"'DNA Processing Record'!Q353","v":0},{"$f":"'DNA Processing Record'!E353","v":{"$error":"#N/A"}},{"$error":"#N/A"},{"$error":"#N/A"},{"$error":"#N/A"},null,"C05",357,{"$error":"#N/A"},{"$error":"#N/A"},0]
[null,null,null,null,null,null,null,null,null,null,null,17,"C03",{"$f":"'DNA Processing Record'!A354","v":353},{"$f":"'DNA Processing Record'!C354","v":"0-DNA"},{"$f":"'DNA Processing Record'!Q354","v":0},{"$f":"'DNA Processing Record'!E354","v":{"$error":"#N/A"}},{"$error":"#N/A"},{"$error":"#N/A"},{"$error":"#N/A"},null,"C06",359,{"$error":"#N/A"},{"$error":"#N/A"},0]
[null,null,null,null,null,null,null,null,null,null,null,18,"D03",{"$f":"'DNA Processing Record'!A355","v":354},{"$f":"'DNA Processing Record'!C355","v":"0-DNA"},{"$f":"'DNA Processing Record'!Q355","v":0},{"$f":"'DNA Processing Record'!E355","v":{"$error":"#N/A"}},{"$error":"#N/A"},{"$error":"#N/A"},{"$error":"#N/A"},null,"D01",350,{"$error":"#N/A"},{"$error":"#N/A"},0]
[null,null,null,null,null,null,null,null,null,null,null,19,"C04",{"$f":"'DNA Processing Record'!A356","v":355},{"$f":"'DNA Processing Record'!C356","v":"0-DNA"},{"$f":"'DNA Processing Record'!Q356","v":0},{"$f":"'DNA Processing Record'!E356","v":{"$error":"#N/A"}},{"$error":"#N/A"},{"$error":"#N/A"},{"$error":"#N/A"},null,"D02",352,{"$error":"#N/A"},{"$error":"#N/A"},0]
[null,null,null,null,null,null,null,null,null,null,null,20,"D04",{"$f":"'DNA Processing Record'!A357","v":356},{"$f":"'DNA Processing Record'!C357","v":"0-DNA"},{"$f":"'DNA Processing Record'!Q357","v":0},{"$f":"'DNA Processing Record'!E357","v":{"$error":"#N/A"}},{"$error":"#N/A"},{"$error":"#N/A"},{"$error":"#N/A"},null,"D03",354,{"$error":"#N/A"},{"$error":"#N/A"},0]
[null,null,null,null,null,null,null,null,null,null,null,21,"C05",{"$f":"'DNA Processing Record'!A358","v":357},{"$f":"'DNA Processing Record'!C358","v":"0-DNA"},{"$f":"'DNA Processing Record'!Q358","v":0},{"$f":"'DNA Processing Record'!E358","v":{"$error":"#N/A"}},{"$error":"#N/A"},{"$error":"#N/A"},{"$error":"#N/A"},null,"D04",356,{"$error":"#N/A"},{"$error":"#N/A"},0]
[null,null,null,null,null,null,null,null,null,null,null,22,"D05",{"$f":"'DNA Processing Record'!A359","v":358},{"$f":"'DNA Processing Record'!C359","v":"0-DNA"},{"$f":"'DNA Processing Record'!Q359","v":0},{"$f":"'DNA Processing Record'!E359","v":{"$error":"#N/A"}},{"$error":"#N/A"},{"$error":"#N/A"},{"$error":"#N/A"},null,"D05",358,{"$error":"#N/A"},{"$error":"#N/A"},0]
[null,null,null,null,null,null,null,null,null,null,null,23,"C06",{"$f":"'DNA Processing Record'!A360","v":359},{"$f":"'DNA Processing Record'!C360","v":"0-DNA"},{"$f":"'DNA Processing Record'!Q360","v":0},{"$f":"'DNA Processing Record'!E360","v":{"$error":"#N/A"}},{"$error":"#N/A"},{"$error":"#N/A"},{"$error":"#N/A"},null,"D06",360,{"$error":"#N/A"},{"$error":"#N/A"},0]
[null,null,null,null,null,null,null,null,null,null,null,24,"D06",{"$f":"'DNA Processing Record'!A361","v":360},{"$f":"'DNA Processing Record'!C361","v":"0-DNA"},{"$f":"'DNA Processing Record'!Q361","v":0},{"$f":"'DNA Processing Record'!E361","v":{"$error":"#N/A"}},{"$error":"#N/A"},{"$error":"#N/A"},{"$error":"#N/A"},null,"E01",361,{"$error":"#N/A"},{"$error":"#N/A"},0]
[null,null,null,null,null,null,null,null,null,null,null,"M",null,null,"Fermentas FastRuler High Range DNA Ladder","-",{"$f":"'DNA Processing Record'!E362","v":{"$error":"#N/A"}},20,null,null,null,"E02",363,{"$error":"#N/A"},{"$error":"#N/A"},0]
[null,null,null,null,null,null,null,null,null,null,null,"M",null,null,"Fermentas FastRuler High Range DNA Ladder","-",{"$f":"'DNA Processing Record'!E363","v":{"$error":"#N/A"}},20,null,null,null,"E03",365,{"$error":"#N/A"},{"$error":"#N/A"},0]
[null,null,null,null,null,null,null,null,null,null,null,25,"E01",{"$f":"'DNA Processing Record'!A362","v":361},{"$f":"'DNA Processing Record'!C362","v":"0-DNA"},{"$f":"'DNA Processing Record'!Q362","v":0},{"$f":"'DNA Processing Record'!E364","v":{"$error":"#N/A"}},{"$f":"(Q426*T426/(S426+T426))*20","v":{"$error":"#N/A"}},{"$f":"ROUND(Q426*T426/50*20-T426,0)","v":{"$error":"#N/A"}},{"$f":"ROUNDUP(50/Q426,0)","v":{"$error":"#N/A"}},null,"E04",367,{"$error":"#N/A"},{"$error":"#N/A"},0]
[null,null,null,null,null,null,null,null,null,null,null,26,"F01",{"$f":"'DNA Processing Record'!A363","v":362},{"$f":"'DNA Processing Record'!C363","v":"0-DNA"},{"$f":"'DNA Processing Record'!Q363","v":0},{"$f":"'DNA Processing Record'!E365","v":{"$error":"#N/A"}},{"$f":"(Q427*T427/(S427+T427))*20","v":{"$error":"#N/A"}},{"$f":"ROUND(Q427*T427/50*20-T427,0)","v":{"$error":"#N/A"}},{"$f":"ROUNDUP(50/Q427,0)","v":{"$error":"#N/A"}},null,"E05",369,{"$error":"#N/A"},{"$error":"#N/A"},0]
[null,null,null,null,null,null,null,null,null,null,null,27,"E02",{"$f":"'DNA Processing Record'!A364","v":363},{"$f":"'DNA Processing Record'!C364","v":"0-DNA"},{"$f":"'DNA Processing Record'!Q364","v":0},{"$f":"'DNA Processing Record'!E366","v":{"$error":"#N/A"}},{"$error":"#N/A"},{"$error":"#N/A"},{"$error":"#N/A"},null,"E06",371,{"$error":"#N/A"},{"$error":"#N/A"},0]
[null,null,null,null,null,null,null,null,null,null,null,28,"F02",{"$f":"'DNA Processing Record'!A365","v":364},{"$f":"'DNA Processing Record'!C365","v":"0-DNA"},{"$f":"'DNA Processing Record'!Q365","v":0},{"$f":"'DNA Processing Record'!E367","v":{"$error":"#N/A"}},{"$error":"#N/A"},{"$error":"#N/A"},{"$error":"#N/A"},null,"F01",362,{"$error":"#N/A"},{"$error":"#N/A"},0]
[null,null,null,null,null,null,null,null,null,null,null,29,"E03",{"$f":"'DNA Processing Record'!A366","v":365},{"$f":"'DNA Processing Record'!C366","v":"0-DNA"},{"$f":"'DNA Processing Record'!Q366","v":0},{"$f":"'DNA Processing Record'!E368","v":{"$error":"#N/A"}},{"$error":"#N/A"},{"$error":"#N/A"},{"$error":"#N/A"},null,"F02",364,{"$error":"#N/A"},{"$error":"#N/A"},0]
[null,null,null,null,null,null,null,null,null,null,null,30,"F03",{"$f":"'DNA Processing Record'!A367","v":366},{"$f":"'DNA Processing Record'!C367","v":"0-DNA"},{"$f":"'DNA Processing Record'!Q367","v":0},{"$f":"'DNA Processing Record'!E369","v":{"$error":"#N/A"}},{"$error":"#N/A"},{"$error":"#N/A"},{"$error":"#N/A"},null,"F03",366,{"$error":"#N/A"},{"$error":"#N/A"},0]
[null,null,null,null,null,null,null,null,null,null,null,31,"E04",{"$f":"'DNA Processing Record'!A368","v":367},{"$f":"'DNA Processing Record'!C368","v":"0-DNA"},{"$f":"'DNA Processing Record'!Q368","v":0},{"$f":"'DNA Processing Record'!E370","v":{"$error":"#N/A"}},{"$error":"#N/A"},{"$error":"#N/A"},{"$error":"#N/A"},null,"F04",368,{"$error":"#N/A"},{"$error":"#N/A"},0]
[null,null,null,null,null,null,null,null,null,null,null,32,"F04",{"$f":"'DNA Processing Record'!A369","v":368},{"$f":"'DNA Processing Record'!C369","v":"0-DNA"},{"$f":"'DNA Processing Record'!Q369","v":0},{"$f":"'DNA Processing Record'!E371","v":{"$error":"#N/A"}},{"$error":"#N/A"},{"$error":"#N/A"},{"$error":"#N/A"},null,"F05",370,{"$error":"#N/A"},{"$error":"#N/A"},0]
[null,null,null,null,null,null,null,null,null,null,null,33,"E05",{"$f":"'DNA Processing Record'!A370","v":369},{"$f":"'DNA Processing Record'!C370","v":"0-DNA"},{"$f":"'DNA Processing Record'!Q370","v":0},{"$f":"'DNA Processing Record'!E372","v":{"$error":"#N/A"}},{"$error":"#N/A"},{"$error":"#N/A"},{"$error":"#N/A"},null,"F06",372,{"$error":"#N/A"},{"$error":"#N/A"},0]
[null,null,null,null,null,null,null,null,null,null,null,34,"F05",{"$f":"'DNA Processing Record'!A371","v":370},{"$f":"'DNA Processing Record'!C371","v":"0-DNA"},{"$f":"'DNA Processing Record'!Q371","v":0},{"$f":"'DNA Processing Record'!E373","v":{"$error":"#N/A"}},{"$error":"#N/A"},{"$error":"#N/A"},{"$error":"#N/A"},null,"G01",373,{"$error":"#N/A"},{"$error":"#N/A"},0]
[null,null,null,null,null,null,null,null,null,null,null,35,"E06",{"$f":"'DNA Processing Record'!A372","v":371},{"$f":"'DNA Processing Record'!C372","v":"0-DNA"},{"$f":"'DNA Processing Record'!Q372","v":0},{"$f":"'DNA Processing Record'!E374","v":{"$error":"#N/A"}},{"$error":"#N/A"},{"$error":"#N/A"},{"$error":"#N/A"},null,"G02",375,{"$error":"#N/A"},{"$error":"#N/A"},0]
[null,null,null,null,null,null,null,null,null,null,null,36,"F06",{"$f":"'DNA Processing Record'!A373","v":372},{"$f":"'DNA Processing Record'!C373","v":"0-DNA"},{"$f":"'DNA Processing Record'!Q373","v":0},{"$f":"'DNA Processing Record'!E375","v":{"$error":"#N/A"}},{"$error":"#N/A"},{"$error":"#N/A"},{"$error":"#N/A"},null,"G03",377,{"$error":"#N/A"},{"$error":"#N/A"},0]
[null,null,null,null,null,null,null,null,null,null,null,37,"G01",{"$f":"'DNA Processing Record'!A374","v":373},{"$f":"'DNA Processing Record'!C374","v":"0-DNA"},{"$f":"'DNA Processing Record'!Q374","v":0},{"$f":"'DNA Processing Record'!E376","v":{"$error":"#N/A"}},{"$error":"#N/A"},{"$error":"#N/A"},{"$error":"#N/A"},null,"G04",379,{"$error":"#N/A"},{"$error":"#N/A"},0]
[null,null,null,null,null,null,null,null,null,null,null,38,"H01",{"$f":"'DNA Processing Record'!A375","v":374},{"$f":"'DNA Processing Record'!C375","v":"0-DNA"},{"$f":"'DNA Processing Record'!Q375","v":0},{"$f":"'DNA Processing Record'!E377","v":{"$error":"#N/A"}},{"$error":"#N/A"},{"$error":"#N/A"},{"$error":"#N/A"},null,"G05",381,{"$error":"#N/A"},{"$error":"#N/A"},0]
[null,null,null,null,null,null,null,null,null,null,null,39,"G02",{"$f":"'DNA Processing Record'!A376","v":375},{"$f":"'DNA Processing Record'!C376","v":"0-DNA"},{"$f":"'DNA Processing Record'!Q376","v":0},{"$f":"'DNA Processing Record'!E378","v":{"$error":"#N/A"}},{"$error":"#N/A"},{"$error":"#N/A"},{"$error":"#N/A"},null,"G06",383,{"$error":"#N/A"},{"$error":"#N/A"},0]
[null,null,null,null,null,null,null,null,null,null,null,40,"H02",{"$f":"'DNA Processing Record'!A377","v":376},{"$f":"'DNA Processing Record'!C377","v":"0-DNA"},{"$f":"'DNA Processing Record'!Q377","v":0},{"$f":"'DNA Processing Record'!E379","v":{"$error":"#N/A"}},{"$error":"#N/A"},{"$error":"#N/A"},{"$error":"#N/A"},null,"H01",374,{"$error":"#N/A"},{"$error":"#N/A"},0]
[null,null,null,null,null,null,null,null,null,null,null,41,"G03",{"$f":"'DNA Processing Record'!A378","v":377},{"$f":"'DNA Processing Record'!C378","v":"0-DNA"},{"$f":"'DNA Processing Record'!Q378","v":0},{"$f":"'DNA Processing Record'!E380","v":{"$error":"#N/A"}},{"$error":"#N/A"},{"$error":"#N/A"},{"$error":"#N/A"},null,"H02",376,{"$error":"#N/A"},{"$error":"#N/A"},0]
[null,null,null,null,null,null,null,null,null,null,null,42,"H03",{"$f":"'DNA Processing Record'!A379","v":378},{"$f":"'DNA Processing Record'!C379","v":"0-DNA"},{"$f":"'DNA Processing Record'!Q379","v":0},{"$f":"'DNA Processing Record'!E381","v":{"$error":"#N/A"}},{"$error":"#N/A"},{"$error":"#N/A"},{"$error":"#N/A"},null,"H03",378,{"$error":"#N/A"},{"$error":"#N/A"},0]
[null,null,null,null,null,null,null,null,null,null,null,43,"G04",{"$f":"'DNA Processing Record'!A380","v":379},{"$f":"'DNA Processing Record'!C380","v":"0-DNA"},{"$f":"'DNA Processing Record'!Q380","v":0},{"$f":"'DNA Processing Record'!E382","v":{"$error":"#N/A"}},{"$error":"#N/A"},{"$error":"#N/A"},{"$error":"#N/A"},null,"H04",380,{"$error":"#N/A"},{"$error":"#N/A"},0]
[null,null,null,null,null,null,null,null,null,null,null,44,"H04",{"$f":"'DNA Processing Record'!A381","v":380},{"$f":"'DNA Processing Record'!C381","v":"0-DNA"},{"$f":"'DNA Processing Record'!Q381","v":0},{"$f":"'DNA Processing Record'!E383","v":{"$error":"#N/A"}},{"$error":"#N/A"},{"$error":"#N/A"},{"$error":"#N/A"},null,"H05",382,{"$error":"#N/A"},{"$error":"#N/A"},0]
[null,null,null,null,null,null,null,null,null,null,null,45,"G05",{"$f":"'DNA Processing Record'!A382","v":381},{"$f":"'DNA Processing Record'!C382","v":"0-DNA"},{"$f":"'DNA Processing Record'!Q382","v":0},{"$f":"'DNA Processing Record'!E384","v":{"$error":"#N/A"}},{"$error":"#N/A"},{"$error":"#N/A"},{"$error":"#N/A"},null,"H06",384,{"$error":"#N/A"},{"$error":"#N/A"},0]
[null,null,null,null,null,null,null,null,null,null,null,46,"H05",{"$f":"'DNA Processing Record'!A383","v":382},{"$f":"'DNA Processing Record'!C383","v":"0-DNA"},{"$f":"'DNA Processing Record'!Q383","v":0},{"$f":"'DNA Processing Record'!E385","v":{"$error":"#N/A"}},{"$error":"#N/A"},{"$error":"#N/A"},{"$error":"#N/A"}]
[null,null,null,null,null,null,null,null,null,null,null,47,"G06",{"$f":"'DNA Processing Record'!A384","v":383},{"$f":"'DNA Processing Record'!C384","v":"0-DNA"},{"$f":"'DNA Processing Record'!Q384","v":0},{"$f":"'DNA Processing Record'!E386","v":{"$error":"#N/A"}},{"$error":"#N/A"},{"$error":"#N/A"},{"$error":"#N/A"}]
[null,null,null,null,null,null,null,null,null,null,null,48,"H06",{"$f":"'DNA Processing Record'!A385","v":384},{"$f":"'DNA Processing Record'!C385","v":"0-DNA"},{"$f":"'DNA Processing Record'!Q385","v":0},{"$f":"'DNA Processing Record'!E387","v":{"$error":"#N/A"}},{"$error":"#N/A"},{"$error":"#N/A"},{"$error":"#N/A"}]
[null,null,null,null,null,null,null,null,null,null,null,"M",null,null,"Fermentas FastRuler High Range DNA Ladder","-",{"$f":"'DNA Processing Record'!E388","v":{"$error":"#N/A"}},20,{"$f":"IF(Q450<35, 20-T450,#REF!* 20-1)","v":{"$error":"#N/A"}},{"$f":"IF(Q450<35, ROUND(45/Q450, 0), 1)","v":{"$error":"#N/A"}}]
[]
[]
[]
[null,null,null,null,null,null,null,null,null,null,null,"Gel 9",null,null,null,null,null,null,null,null,null,"Dilution Plate 9"]
[null,null,null,null,null,null,null,null,null,null,null,"Lane","Well","Sample no.","Sample_ID","Reference_ID","DNA conc. (ng/ul)","Amount loaded (ng)","Water(ul)","Sample(ul)",null,"Well","Sample no.","Water(ul)","Sample(ul)","Reference ID"]
[null,null,null,null,null,null,null,null,null,null,null,"M",null,null,"Fermentas FastRuler High Range DNA Ladder","-","-",20,null,null,null,"A01",385,{"$f":"VLOOKUP($V456, $M$455:$T$507, 7, FALSE)","v":{"$error":"#N/A"}},{"$f":"VLOOKUP($V456, $M$455:$T$507, 8, FALSE)","v":{"$error":"#N/A"}},{"$f":"VLOOKUP($V456, $M$455:$T$507, 4, FALSE)","v":0}]
[null,null,null,null,null,null,null,null,null,null,null,1,"A01",{"$f":"'DNA Processing Record'!A386","v":385},{"$f":"'DNA Processing Record'!C386","v":"0-DNA"},{"$f":"'DNA Processing Record'!Q386","v":0},{"$f":"'DNA Processing Record'!E386","v":{"$error":"#N/A"}},{"$f":"(Q457*T457/(S457+T457))*20","v":{"$error":"#N/A"}},{"$f":"ROUND(Q457*T457/50*20-T457,0)","v":{"$error":"#N/A"}},{"$f":"ROUNDUP(50/Q457,0)","v":{"$error":"#N/A"}},null,"A02",387,{"$error":"#N/A"},{"$error":"#N/A"},0]
[null,null,null,null,null,null,null,null,null,null,null,2,"B01",{"$f":"'DNA Processing Record'!A387","v":386},{"$f":"'DNA Processing Record'!C387","v":"0-DNA"},{"$f":"'DNA Processing Record'!Q387","v":0},{"$f":"'DNA Processing Record'!E387","v":{"$error":"#N/A"}},{"$f":"(Q458*T458/(S458+T458))*20","v":{"$error":"#N/A"}},{"$f":"ROUND(Q458*T458/50*20-T458,0)","v":{"$error":"#N/A"}},{"$f":"ROUNDUP(50/Q458,0)","v":{"$error":"#N/A"}},null,"A03",389,{"$error":"#N/A"},{"$error":"#N/A"},0]
[null,null,null,null,null,null,null,null,null,null,null,3,"A02",{"$f":"'DNA Processing Record'!A388","v":387},{"$f":"'DNA Processing Record'!C388","v":"0-DNA"},{"$f":"'DNA Processing Record'!Q388","v":0},{"$f":"'DNA Processing Record'!E388","v":{"$error":"#N/A"}},{"$error":"#N/A"},{"$error":"#N/A"},{"$error":"#N/A"},null,"A04",391,{"$error":"#N/A"},{"$error":"#N/A"},0]
[null,null,null,null,null,null,null,null,null,null,null,4,"B02",{"$f":"'DNA Processing Record'!A389","v":388},{"$f":"'DNA Processing Record'!C389","v":"0-DNA"},{"$f":"'DNA Processing Record'!Q389","v":0},{"$f":"'DNA Processing Record'!E389","v":{"$error":"#N/A"}},{"$error":"#N/A"},{"$error":"#N/A"},{"$error":"#N/A"},null,"A05",393,{"$error":"#N/A"},{"$error":"#N/A"},0]
[null,null,null,null,null,null,null,null,null,null,null,5,"A03",{"$f":"'DNA Processing Record'!A390","v":389},{"$f":"'DNA Processing Record'!C390","v":"0-DNA"},{"$f":"'DNA Processing Record'!Q390","v":0},{"$f":"'DNA Processing Record'!E390","v":{"$error":"#N/A"}},{"$error":"#N/A"},{"$error":"#N/A"},{"$error":"#N/A"},null,"A06",395,{"$error":"#N/A"},{"$error":"#N/A"},0]
[null,null,null,null,null,null,null,null,null,null,null,6,"B03",{"$f":"'DNA Processing Record'!A391","v":390},{"$f":"'DNA Processing Record'!C391","v":"0-DNA"},{"$f":"'DNA Processing Record'!Q391","v":0},{"$f":"'DNA Processing Record'!E391","v":{"$error":"#N/A"}},{"$error":"#N/A"},{"$error":"#N/A"},{"$error":"#N/A"},null,"B01",386,{"$error":"#N/A"},{"$error":"#N/A"},0]
[null,null,null,null,null,null,null,null,null,null,null,7,"A04",{"$f":"'DNA Processing Record'!A392","v":391},{"$f":"'DNA Processing Record'!C392","v":"0-DNA"},{"$f":"'DNA Processing Record'!Q392","v":0},{"$f":"'DNA Processing Record'!E392","v":{"$error":"#N/A"}},{"$error":"#N/A"},{"$error":"#N/A"},{"$error":"#N/A"},null,"B02",388,{"$error":"#N/A"},{"$error":"#N/A"},0]
[null,null,null,null,null,null,null,null,null,null,null,8,"B04",{"$f":"'DNA Processing Record'!A393","v":392},{"$f":"'DNA Processing Record'!C393","v":"0-DNA"},{"$f":"'DNA Processing Record'!Q393","v":0},{"$f":"'DNA Processing Record'!E393","v":{"$error":"#N/A"}},{"$error":"#N/A"},{"$error":"#N/A"},{"$error":"#N/A"},null,"B03",390,{"$error":"#N/A"},{"$error":"#N/A"},0]
[null,null,null,null,null,null,null,null,null,null,null,9,"A05",{"$f":"'DNA Processing Record'!A394","v":393},{"$f":"'DNA Processing Record'!C394","v":"0-DNA"},{"$f":"'DNA Processing Record'!Q394","v":0},{"$f":"'DNA Processing Record'!E394","v":{"$error":"#N/A"}},{"$error":"#N/A"},{"$error":"#N/A"},{"$error":"#N/A"},null,"B04",392,{"$error":"#N/A"},{"$error":"#N/A"},0]
[null,null,null,null,null,null,null,null,null,null,null,10,"B05",{"$f":"'DNA Processing Record'!A395","v":394},{"$f":"'DNA Processing Record'!C395","v":"0-DNA"},{"$f":"'DNA Processing Record'!Q395","v":0},{"$f":"'DNA Processing Record'!E395","v":{"$error":"#N/A"}},{"$error":"#N/A"},{"$error":"#N/A"},{"$error":"#N/A"},null,"B05",394,{"$error":"#N/A"},{"$error":"#N/A"},0]
[null,null,null,null,null,null,null,null,null,null,null,11,"A06",{"$f":"'DNA Processing Record'!A396","v":395},{"$f":"'DNA Processing Record'!C396","v":"0-DNA"},{"$f":"'DNA Processing Record'!Q396","v":0},{"$f":"'DNA Processing Record'!E396","v":{"$error":"#N/A"}},{"$error":"#N/A"},{"$error":"#N/A"},{"$error":"#N/A"},null,"B06",396,{"$error":"#N/A"},{"$error":"#N/A"},0]
[null,null,null,null,null,null,null,null,null,null,null,12,"B06",{"$f":"'DNA Processing Record'!A397","v":396},{"$f":"'DNA Processing Record'!C397","v":"0-DNA"},{"$f":"'DNA Processing Record'!Q397","v":0},{"$f":"'DNA Processing Record'!E397","v":{"$error":"#N/A"}},{"$error":"#N/A"},{"$error":"#N/A"},{"$error":"#N/A"},null,"C01",397,{"$error":"#N/A"},{"$error":"#N/A"},0]
[null,null,null,null,null,null,null,null,null,null,null,13,"C01",{"$f":"'DNA Processing Record'!A398","v":397},{"$f":"'DNA Processing Record'!C398","v":"0-DNA"},{"$f":"'DNA Processing Record'!Q398","v":0},{"$f":"'DNA Processing Record'!E398","v":{"$error":"#N/A"}},{"$error":"#N/A"},{"$error":"#N/A"},{"$error":"#N/A"},null,"C02",399,{"$error":"#N/A"},{"$error":"#N/A"},0]
[null,null,null,null,null,null,null,null,null,null,null,14,"D01",{"$f":"'DNA Processing Record'!A399","v":398},{"$f":"'DNA Processing Record'!C399","v":"0-DNA"},{"$f":"'DNA Processing Record'!Q399","v":0},{"$f":"'DNA Processing Record'!E399","v":{"$error":"#N/A"}},{"$error":"#N/A"},{"$error":"#N/A"},{"$error":"#N/A"},null,"C03",401,{"$error":"#N/A"},{"$error":"#N/A"},0]
[null,null,null,null,null,null,null,null,null,null,null,15,"C02",{"$f":"'DNA Processing Record'!A400","v":399},{"$f":"'DNA Processing Record'!C400","v":"0-DNA"},{"$f":"'DNA Processing Record'!Q400","v":0},{"$f":"'DNA Processing Record'!E400","v":{"$error":"#N/A"}},{"$error":"#N/A"},{"$error":"#N/A"},{"$error":"#N/A"},null,"C04",403,{"$error":"#N/A"},{"$error":"#N/A"},0]
[null,null,null,null,null,null,null,null,null,null,null,16,"D02",{"$f":"'DNA Processing Record'!A401","v":400},{"$f":"'DNA Processing Record'!C401","v":"0-DNA"},{"$f":"'DNA Processing Record'!Q401","v":0},{"$f":"'DNA Processing Record'!E401","v":{"$error":"#N/A"}},{"$error":"#N/A"},{"$error":"#N/A"},{"$error":"#N/A"},null,"C05",405,{"$error":"#N/A"},{"$error":"#N/A"},0]
[null,null,null,null,null,null,null,null,null,null,null,17,"C03",{"$f":"'DNA Processing Record'!A402","v":401},{"$f":"'DNA Processing Record'!C402","v":"0-DNA"},{"$f":"'DNA Processing Record'!Q402","v":0},{"$f":"'DNA Processing Record'!E402","v":{"$error":"#N/A"}},{"$error":"#N/A"},{"$error":"#N/A"},{"$error":"#N/A"},null,"C06",407,{"$error":"#N/A"},{"$error":"#N/A"},0]
[null,null,null,null,null,null,null,null,null,null,null,18,"D03",{"$f":"'DNA Processing Record'!A403","v":402},{"$f":"'DNA Processing Record'!C403","v":"0-DNA"},{"$f":"'DNA Processing Record'!Q403","v":0},{"$f":"'DNA Processing Record'!E403","v":{"$error":"#N/A"}},{"$error":"#N/A"},{"$error":"#N/A"},{"$error":"#N/A"},null,"D01",398,{"$error":"#N/A"},{"$error":"#N/A"},0]
[null,null,null,null,null,null,null,null,null,null,null,19,"C04",{"$f":"'DNA Processing Record'!A404","v":403},{"$f":"'DNA Processing Record'!C404","v":"0-DNA"},{"$f":"'DNA Processing Record'!Q404","v":0},{"$f":"'DNA Processing Record'!E404","v":{"$error":"#N/A"}},{"$error":"#N/A"},{"$error":"#N/A"},{"$error":"#N/A"},null,"D02",400,{"$error":"#N/A"},{"$error":"#N/A"},0]
[null,null,null,null,null,null,null,null,null,null,null,20,"D04",{"$f":"'DNA Processing Record'!A405","v":404},{"$f":"'DNA Processing Record'!C405","v":"0-DNA"},{"$f":"'DNA Processing Record'!Q405","v":0},{"$f":"'DNA Processing Record'!E405","v":{"$error":"#N/A"}},{"$error":"#N/A"},{"$error":"#N/A"},{"$error":"#N/A"},null,"D03",402,{"$error":"#N/A"},{"$error":"#N/A"},0]
[null,null,null,null,null,null,null,null,null,null,null,21,"C05",{"$f":"'DNA Processing Record'!A406","v":405},{"$f":"'DNA Processing Record'!C406","v":"0-DNA"},{"$f":"'DNA Processing Record'!Q406","v":0},{"$f":"'DNA Processing Record'!E406","v":{"$error":"#N/A"}},{"$error":"#N/A"},{"$error":"#N/A"},{"$error":"#N/A"},null,"D04",404,{"$error":"#N/A"},{"$error":"#N/A"},0]
[null,null,null,null,null,null,null,null,null,null,null,22,"D05",{"$f":"'DNA Processing Record'!A407","v":406},{"$f":"'DNA Processing Record'!C407","v":"0-DNA"},{"$f":"'DNA Processing Record'!Q407","v":0},{"$f":"'DNA Processing Record'!E407","v":{"$error":"#N/A"}},{"$error":"#N/A"},{"$error":"#N/A"},{"$error":"#N/A"},null,"D05",406,{"$error":"#N/A"},{"$error":"#N/A"},0]
[null,null,null,null,null,null,null,null,null,null,null,23,"C06",{"$f":"'DNA Processing Record'!A408","v":407},{"$f":"'DNA Processing Record'!C408","v":"0-DNA"},{"$f":"'DNA Processing Record'!Q408","v":0},{"$f":"'DNA Processing Record'!E408","v":{"$error":"#N/A"}},{"$error":"#N/A"},{"$error":"#N/A"},{"$error":"#N/A"},null,"D06",408,{"$error":"#N/A"},{"$error":"#N/A"},0]
[null,null,null,null,null,null,null,null,null,null,null,24,"D06",{"$f":"'DNA Processing Record'!A409","v":408},{"$f":"'DNA Processing Record'!C409","v":"0-DNA"},{"$f":"'DNA Processing Record'!Q409","v":0},{"$f":"'DNA Processing Record'!E409","v":{"$error":"#N/A"}},{"$error":"#N/A"},{"$error":"#N/A"},{"$error":"#N/A"},null,"E01",409,{"$error":"#N/A"},{"$error":"#N/A"},0]
[null,null,null,null,null,null,null,null,null,null,null,"M",null,null,"Fermentas FastRuler High Range DNA Ladder","-",{"$f":"'DNA Processing Record'!E410","v":{"$error":"#N/A"}},20,null,null,null,"E02",411,{"$error":"#N/A"},{"$error":"#N/A"},0]
[null,null,null,null,null,null,null,null,null,null,null,"M",null,null,"Fermentas FastRuler High Range DNA Ladder","-",{"$f":"'DNA Processing Record'!E411","v":{"$error":"#N/A"}},20,null,null,null,"E03",413,{"$error":"#N/A"},{"$error":"#N/A"},0]
[null,null,null,null,null,null,null,null,null,null,null,25,"E01",{"$f":"'DNA Processing Record'!A410","v":409},{"$f":"'DNA Processing Record'!C410","v":"0-DNA"},{"$f":"'DNA Processing Record'!Q410","v":0},{"$f":"'DNA Processing Record'!E412","v":{"$error":"#N/A"}},{"$f":"(Q483*T483/(S483+T483))*20","v":{"$error":"#N/A"}},{"$f":"ROUND(Q483*T483/50*20-T483,0)","v":{"$error":"#N/A"}},{"$f":"ROUNDUP(50/Q483,0)","v":{"$error":"#N/A"}},null,"E04",415,{"$error":"#N/A"},{"$error":"#N/A"},0]
[null,null,null,null,null,null,null,null,null,null,null,26,"F01",{"$f":"'DNA Processing Record'!A411","v":410},{"$f":"'DNA Processing Record'!C411","v":"0-DNA"},{"$f":"'DNA Processing Record'!Q411","v":0},{"$f":"'DNA Processing Record'!E413","v":{"$error":"#N/A"}},{"$f":"(Q484*T484/(S484+T484))*20","v":{"$error":"#N/A"}},{"$f":"ROUND(Q484*T484/50*20-T484,0)","v":{"$error":"#N/A"}},{"$f":"ROUNDUP(50/Q484,0)","v":{"$error":"#N/A"}},null,"E05",417,{"$error":"#N/A"},{"$error":"#N/A"},0]
[null,null,null,null,null,null,null,null,null,null,null,27,"E02",{"$f":"'DNA Processing Record'!A412","v":411},{"$f":"'DNA Processing Record'!C412","v":"0-DNA"},{"$f":"'DNA Processing Record'!Q412","v":0},{"$f":"'DNA Processing Record'!E414","v":{"$error":"#N/A"}},{"$error":"#N/A"},{"$error":"#N/A"},{"$error":"#N/A"},null,"E06",419,{"$error":"#N/A"},{"$error":"#N/A"},0]
[null,null,null,null,null,null,null,null,null,null,null,28,"F02",{"$f":"'DNA Processing Record'!A413","v":412},{"$f":"'DNA Processing Record'!C413","v":"0-DNA"},{"$f":"'DNA Processing Record'!Q413","v":0},{"$f":"'DNA Processing Record'!E415","v":{"$error":"#N/A"}},{"$error":"#N/A"},{"$error":"#N/A"},{"$error":"#N/A"},null,"F01",410,{"$error":"#N/A"},{"$error":"#N/A"},0]
[null,null,null,null,null,null,null,null,null,null,null,29,"E03",{"$f":"'DNA Processing Record'!A414","v":413},{"$f":"'DNA Processing Record'!C414","v":"0-DNA"},{"$f":"'DNA Processing Record'!Q414","v":0},{"$f":"'DNA Processing Record'!E416","v":{"$error":"#N/A"}},{"$error":"#N/A"},{"$error":"#N/A"},{"$error":"#N/A"},null,"F02",412,{"$error":"#N/A"},{"$error":"#N/A"},0]
[null,null,null,null,null,null,null,null,null,null,null,30,"F03",{"$f":"'DNA Processing Record'!A415","v":414},{"$f":"'DNA Processing Record'!C415","v":"0-DNA"},{"$f":"'DNA Processing Record'!Q415","v":0},{"$f":"'DNA Processing Record'!E417","v":{"$error":"#N/A"}},{"$error":"#N/A"},{"$error":"#N/A"},{"$error":"#N/A"},null,"F03",414,{"$error":"#N/A"},{"$error":"#N/A"},0]
[null,null,null,null,null,null,null,null,null,null,null,31,"E04",{"$f":"'DNA Processing Record'!A416","v":415},{"$f":"'DNA Processing Record'!C416","v":"0-DNA"},{"$f":"'DNA Processing Record'!Q416","v":0},{"$f":"'DNA Processing Record'!E418","v":{"$error":"#N/A"}},{"$error":"#N/A"},{"$error":"#N/A"},{"$error":"#N/A"},null,"F04",416,{"$error":"#N/A"},{"$error":"#N/A"},0]
[null,null,null,null,null,null,null,null,null,null,null,32,"F04",{"$f":"'DNA Processing Record'!A417","v":416},{"$f":"'DNA Processing Record'!C417","v":"0-DNA"},{"$f":"'DNA Processing Record'!Q417","v":0},{"$f":"'DNA Processing Record'!E419","v":{"$error":"#N/A"}},{"$error":"#N/A"},{"$error":"#N/A"},{"$error":"#N/A"},null,"F05",418,{"$error":"#N/A"},{"$error":"#N/A"},0]
[null,null,null,null,null,null,null,null,null,null,null,33,"E05",{"$f":"'DNA Processing Record'!A418","v":417},{"$f":"'DNA Processing Record'!C418","v":"0-DNA"},{"$f":"'DNA Processing Record'!Q418","v":0},{"$f":"'DNA Processing Record'!E420","v":{"$error":"#N/A"}},{"$error":"#N/A"},{"$error":"#N/A"},{"$error":"#N/A"},null,"F06",420,{"$error":"#N/A"},{"$error":"#N/A"},0]
[null,null,null,null,null,null,null,null,null,null,null,34,"F05",{"$f":"'DNA Processing Record'!A419","v":418},{"$f":"'DNA Processing Record'!C419","v":"0-DNA"},{"$f":"'DNA Processing Record'!Q419","v":0},{"$f":"'DNA Processing Record'!E421","v":{"$error":"#N/A"}},{"$error":"#N/A"},{"$error":"#N/A"},{"$error":"#N/A"},null,"G01",421,{"$error":"#N/A"},{"$error":"#N/A"},0]
[null,null,null,null,null,null,null,null,null,null,null,35,"E06",{"$f":"'DNA Processing Record'!A420","v":419},{"$f":"'DNA Processing Record'!C420","v":"0-DNA"},{"$f":"'DNA Processing Record'!Q420","v":0},{"$f":"'DNA Processing Record'!E422","v":{"$error":"#N/A"}},{"$error":"#N/A"},{"$error":"#N/A"},{"$error":"#N/A"},null,"G02",423,{"$error":"#N/A"},{"$error":"#N/A"},0]
[null,null,null,null,null,null,null,null,null,null,null,36,"F06",{"$f":"'DNA Processing Record'!A421","v":420},{"$f":"'DNA Processing Record'!C421","v":"0-DNA"},{"$f":"'DNA Processing Record'!Q421","v":0},{"$f":"'DNA Processing Record'!E423","v":{"$error":"#N/A"}},{"$error":"#N/A"},{"$error":"#N/A"},{"$error":"#N/A"},null,"G03",425,{"$error":"#N/A"},{"$error":"#N/A"},0]
[null,null,null,null,null,null,null,null,null,null,null,37,"G01",{"$f":"'DNA Processing Record'!A422","v":421},{"$f":"'DNA Processing Record'!C422","v":"0-DNA"},{"$f":"'DNA Processing Record'!Q422","v":0},{"$f":"'DNA Processing Record'!E424","v":{"$error":"#N/A"}},{"$error":"#N/A"},{"$error":"#N/A"},{"$error":"#N/A"},null,"G04",427,{"$error":"#N/A"},{"$error":"#N/A"},0]
[null,null,null,null,null,null,null,null,null,null,null,38,"H01",{"$f":"'DNA Processing Record'!A423","v":422},{"$f":"'DNA Processing Record'!C423","v":"0-DNA"},{"$f":"'DNA Processing Record'!Q423","v":0},{"$f":"'DNA Processing Record'!E425","v":{"$error":"#N/A"}},{"$error":"#N/A"},{"$error":"#N/A"},{"$error":"#N/A"},null,"G05",429,{"$error":"#N/A"},{"$error":"#N/A"},0]
[null,null,null,null,null,null,null,null,null,null,null,39,"G02",{"$f":"'DNA Processing Record'!A424","v":423},{"$f":"'DNA Processing Record'!C424","v":"0-DNA"},{"$f":"'DNA Processing Record'!Q424","v":0},{"$f":"'DNA Processing Record'!E426","v":{"$error":"#N/A"}},{"$error":"#N/A"},{"$error":"#N/A"},{"$error":"#N/A"},null,"G06",431,{"$error":"#N/A"},{"$error":"#N/A"},0]
[null,null,null,null,null,null,null,null,null,null,null,40,"H02",{"$f":"'DNA Processing Record'!A425","v":424},{"$f":"'DNA Processing Record'!C425","v":"0-DNA"},{"$f":"'DNA Processing Record'!Q425","v":0},{"$f":"'DNA Processing Record'!E427","v":{"$error":"#N/A"}},{"$error":"#N/A"},{"$error":"#N/A"},{"$error":"#N/A"},null,"H01",422,{"$error":"#N/A"},{"$error":"#N/A"},0]
[null,null,null,null,null,null,null,null,null,null,null,41,"G03",{"$f":"'DNA Processing Record'!A426","v":425},{"$f":"'DNA Processing Record'!C426","v":"0-DNA"},{"$f":"'DNA Processing Record'!Q426","v":0},{"$f":"'DNA Processing Record'!E428","v":{"$error":"#N/A"}},{"$error":"#N/A"},{"$error":"#N/A"},{"$error":"#N/A"},null,"H02",424,{"$error":"#N/A"},{"$error":"#N/A"},0]
[null,null,null,null,null,null,null,null,null,null,null,42,"H03",{"$f":"'DNA Processing Record'!A427","v":426},{"$f":"'DNA Processing Record'!C427","v":"0-DNA"},{"$f":"'DNA Processing Record'!Q427","v":0},{"$f":"'DNA Processing Record'!E429","v":{"$error":"#N/A"}},{"$error":"#N/A"},{"$error":"#N/A"},{"$error":"#N/A"},null,"H03",426,{"$error":"#N/A"},{"$error":"#N/A"},0]
[null,null,null,null,null,null,null,null,null,null,null,43,"G04",{"$f":"'DNA Processing Record'!A428","v":427},{"$f":"'DNA Processing Record'!C428","v":"0-DNA"},{"$f":"'DNA Processing Record'!Q428","v":0},{"$f":"'DNA Processing Record'!E430","v":{"$error":"#N/A"}},{"$error":"#N/A"},{"$error":"#N/A"},{"$error":"#N/A"},null,"H04",428,{"$error":"#N/A"},{"$error":"#N/A"},0]
[null,null,null,null,null,null,null,null,null,null,null,44,"H04",{"$f":"'DNA Processing Record'!A429","v":428},{"$f":"'DNA Processing Record'!C429","v":"0-DNA"},{"$f":"'DNA Processing Record'!Q429","v":0},{"$f":"'DNA Processing Record'!E431","v":{"$error":"#N/A"}},{"$error":"#N/A"},{"$error":"#N/A"},{"$error":"#N/A"},null,"H05",430,{"$error":"#N/A"},{"$error":"#N/A"},0]
[null,null,null,null,null,null,null,null,null,null,null,45,"G05",{"$f":"'DNA Processing Record'!A430","v":429},{"$f":"'DNA Processing Record'!C430","v":"0-DNA"},{"$f":"'DNA Processing Record'!Q430","v":0},{"$f":"'DNA Processing Record'!E432","v":{"$error":"#N/A"}},{"$error":"#N/A"},{"$error":"#N/A"},{"$error":"#N/A"},null,"H06",432,{"$error":"#N/A"},{"$error":"#N/A"},0]
[null,null,null,null,null,null,null,null,null,null,null,46,"H05",{"$f":"'DNA Processing Record'!A431","v":430},{"$f":"'DNA Processing Record'!C431","v":"0-DNA"},{"$f":"'DNA Processing Record'!Q431","v":0},{"$f":"'DNA Processing Record'!E433","v":{"$error":"#N/A"}},{"$error":"#N/A"},{"$error":"#N/A"},{"$error":"#N/A"}]
[null,null,null,null,null,null,null,null,null,null,null,47,"G06",{"$f":"'DNA Processing Record'!A432","v":431},{"$f":"'DNA Processing Record'!C432","v":"0-DNA"},{"$f":"'DNA Processing Record'!Q432","v":0},{"$f":"'DNA Processing Record'!E434","v":{"$error":"#N/A"}},{"$error":"#N/A"},{"$error":"#N/A"},{"$error":"#N/A"}]
[null,null,null,null,null,null,null,null,null,null,null,48,"H06",{"$f":"'DNA Processing Record'!A433","v":432},{"$f":"'DNA Processing Record'!C433","v":"0-DNA"},{"$f":"'DNA Processing Record'!Q433","v":0},{"$f":"'DNA Processing Record'!E435","v":{"$error":"#N/A"}},{"$error":"#N/A"},{"$error":"#N/A"},{"$error":"#N/A"}]
[null,null,null,null,null,null,null,null,null,null,null,"M",null,null,"Fermentas FastRuler High Range DNA Ladder","-",{"$f":"'DNA Processing Record'!E436","v":{"$error":"#N/A"}},20,{"$f":"IF(Q507<35, 20-T507,#REF!* 20-1)","v":{"$error":"#N/A"}},{"$f":"IF(Q507<35, ROUND(45/Q507, 0), 1)","v":{"$error":"#N/A"}}]
[]
[]
[]
[null,null,null,null,null,null,null,null,null,null,null,"Gel 10",null,null,null,null,null,null,null,null,null,"Dilution Plate 10"]
[null,null,null,null,null,null,null,null,null,null,null,"Lane","Well","Sample no.","Sample_ID","Reference_ID","DNA conc. (ng/ul)","Amount loaded (ng)","Water(ul)","Sample(ul)",null,"Well","Sample no.","Water(ul)","Sample(ul)","Reference ID"]
[null,null,null,null,null,null,null,null,null,null,null,"M",null,null,"Fermentas FastRuler High Range DNA Ladder","-","-",20,null,null,null,"A01",433,{"$f":"VLOOKUP($V513, $M$512:$T$564, 7, FALSE)","v":{"$error":"#N/A"}},{"$f":"VLOOKUP($V513, $M$512:$T$564, 8, FALSE)","v":{"$error":"#N/A"}},{"$f":"VLOOKUP($V513, $M$512:$T$564, 4, FALSE)","v":0}]
[null,null,null,null,null,null,null,null,null,null,null,1,"A01",{"$f":"'DNA Processing Record'!A434","v":433},{"$f":"'DNA Processing Record'!C434","v":"0-DNA"},{"$f":"'DNA Processing Record'!Q434","v":0},{"$f":"'DNA Processing Record'!E434","v":{"$error":"#N/A"}},{"$f":"(Q514*T514/(S514+T514))*20","v":{"$error":"#N/A"}},{"$f":"ROUND(Q514*T514/50*20-T514,0)","v":{"$error":"#N/A"}},{"$f":"ROUNDUP(50/Q514,0)","v":{"$error":"#N/A"}},null,"A02",435,{"$error":"#N/A"},{"$error":"#N/A"},0]
[null,null,null,null,null,null,null,null,null,null,null,2,"B01",{"$f":"'DNA Processing Record'!A435","v":434},{"$f":"'DNA Processing Record'!C435","v":"0-DNA"},{"$f":"'DNA Processing Record'!Q435","v":0},{"$f":"'DNA Processing Record'!E435","v":{"$error":"#N/A"}},{"$f":"(Q515*T515/(S515+T515))*20","v":{"$error":"#N/A"}},{"$f":"ROUND(Q515*T515/50*20-T515,0)","v":{"$error":"#N/A"}},{"$f":"ROUNDUP(50/Q515,0)","v":{"$error":"#N/A"}},null,"A03",437,{"$error":"#N/A"},{"$error":"#N/A"},0]
[null,null,null,null,null,null,null,null,null,null,null,3,"A02",{"$f":"'DNA Processing Record'!A436","v":435},{"$f":"'DNA Processing Record'!C436","v":"0-DNA"},{"$f":"'DNA Processing Record'!Q436","v":0},{"$f":"'DNA Processing Record'!E436","v":{"$error":"#N/A"}},{"$error":"#N/A"},{"$error":"#N/A"},{"$error":"#N/A"},null,"A04",439,{"$error":"#N/A"},{"$error":"#N/A"},0]
[null,null,null,null,null,null,null,null,null,null,null,4,"B02",{"$f":"'DNA Processing Record'!A437","v":436},{"$f":"'DNA Processing Record'!C437","v":"0-DNA"},{"$f":"'DNA Processing Record'!Q437","v":0},{"$f":"'DNA Processing Record'!E437","v":{"$error":"#N/A"}},{"$error":"#N/A"},{"$error":"#N/A"},{"$error":"#N/A"},null,"A05",441,{"$error":"#N/A"},{"$error":"#N/A"},0]
[null,null,null,null,null,null,null,null,null,null,null,5,"A03",{"$f":"'DNA Processing Record'!A438","v":437},{"$f":"'DNA Processing Record'!C438","v":"0-DNA"},{"$f":"'DNA Processing Record'!Q438","v":0},{"$f":"'DNA Processing Record'!E438","v":{"$error":"#N/A"}},{"$error":"#N/A"},{"$error":"#N/A"},{"$error":"#N/A"},null,"A06",443,{"$error":"#N/A"},{"$error":"#N/A"},0]
[null,null,null,null,null,null,null,null,null,null,null,6,"B03",{"$f":"'DNA Processing Record'!A439","v":438},{"$f":"'DNA Processing Record'!C439","v":"0-DNA"},{"$f":"'DNA Processing Record'!Q439","v":0},{"$f":"'DNA Processing Record'!E439","v":{"$error":"#N/A"}},{"$error":"#N/A"},{"$error":"#N/A"},{"$error":"#N/A"},null,"B01",434,{"$error":"#N/A"},{"$error":"#N/A"},0]
[null,null,null,null,null,null,null,null,null,null,null,7,"A04",{"$f":"'DNA Processing Record'!A440","v":439},{"$f":"'DNA Processing Record'!C440","v":"0-DNA"},{"$f":"'DNA Processing Record'!Q440","v":0},{"$f":"'DNA Processing Record'!E440","v":{"$error":"#N/A"}},{"$error":"#N/A"},{"$error":"#N/A"},{"$error":"#N/A"},null,"B02",436,{"$error":"#N/A"},{"$error":"#N/A"},0]
[null,null,null,null,null,null,null,null,null,null,null,8,"B04",{"$f":"'DNA Processing Record'!A441","v":440},{"$f":"'DNA Processing Record'!C441","v":"0-DNA"},{"$f":"'DNA Processing Record'!Q441","v":0},{"$f":"'DNA Processing Record'!E441","v":{"$error":"#N/A"}},{"$error":"#N/A"},{"$error":"#N/A"},{"$error":"#N/A"},null,"B03",438,{"$error":"#N/A"},{"$error":"#N/A"},0]
[null,null,null,null,null,null,null,null,null,null,null,9,"A05",{"$f":"'DNA Processing Record'!A442","v":441},{"$f":"'DNA Processing Record'!C442","v":"0-DNA"},{"$f":"'DNA Processing Record'!Q442","v":0},{"$f":"'DNA Processing Record'!E442","v":{"$error":"#N/A"}},{"$error":"#N/A"},{"$error":"#N/A"},{"$error":"#N/A"},null,"B04",440,{"$error":"#N/A"},{"$error":"#N/A"},0]
[null,null,null,null,null,null,null,null,null,null,null,10,"B05",{"$f":"'DNA Processing Record'!A443","v":442},{"$f":"'DNA Processing Record'!C443","v":"0-DNA"},{"$f":"'DNA Processing Record'!Q443","v":0},{"$f":"'DNA Processing Record'!E443","v":{"$error":"#N/A"}},{"$error":"#N/A"},{"$error":"#N/A"},{"$error":"#N/A"},null,"B05",442,{"$error":"#N/A"},{"$error":"#N/A"},0]
[null,null,null,null,null,null,null,null,null,null,null,11,"A06",{"$f":"'DNA Processing Record'!A444","v":443},{"$f":"'DNA Processing Record'!C444","v":"0-DNA"},{"$f":"'DNA Processing Record'!Q444","v":0},{"$f":"'DNA Processing Record'!E444","v":{"$error":"#N/A"}},{"$error":"#N/A"},{"$error":"#N/A"},{"$error":"#N/A"},null,"B06",444,{"$error":"#N/A"},{"$error":"#N/A"},0]
[null,null,null,null,null,null,null,null,null,null,null,12,"B06",{"$f":"'DNA Processing Record'!A445","v":444},{"$f":"'DNA Processing Record'!C445","v":"0-DNA"},{"$f":"'DNA Processing Record'!Q445","v":0},{"$f":"'DNA Processing Record'!E445","v":{"$error":"#N/A"}},{"$error":"#N/A"},{"$error":"#N/A"},{"$error":"#N/A"},null,"C01",445,{"$error":"#N/A"},{"$error":"#N/A"},0]
[null,null,null,null,null,null,null,null,null,null,null,13,"C01",{"$f":"'DNA Processing Record'!A446","v":445},{"$f":"'DNA Processing Record'!C446","v":"0-DNA"},{"$f":"'DNA Processing Record'!Q446","v":0},{"$f":"'DNA Processing Record'!E446","v":{"$error":"#N/A"}},{"$error":"#N/A"},{"$error":"#N/A"},{"$error":"#N/A"},null,"C02",447,{"$error":"#N/A"},{"$error":"#N/A"},0]
[null,null,null,null,null,null,null,null,null,null,null,14,"D01",{"$f":"'DNA Processing Record'!A447","v":446},{"$f":"'DNA Processing Record'!C447","v":"0-DNA"},{"$f":"'DNA Processing Record'!Q447","v":0},{"$f":"'DNA Processing Record'!E447","v":{"$error":"#N/A"}},{"$error":"#N/A"},{"$error":"#N/A"},{"$error":"#N/A"},null,"C03",449,{"$error":"#N/A"},{"$error":"#N/A"},0]
[null,null,null,null,null,null,null,null,null,null,null,15,"C02",{"$f":"'DNA Processing Record'!A448","v":447},{"$f":"'DNA Processing Record'!C448","v":"0-DNA"},{"$f":"'DNA Processing Record'!Q448","v":0},{"$f":"'DNA Processing Record'!E448","v":{"$error":"#N/A"}},{"$error":"#N/A"},{"$error":"#N/A"},{"$error":"#N/A"},null,"C04",451,{"$error":"#N/A"},{"$error":"#N/A"},0]
[null,null,null,null,null,null,null,null,null,null,null,16,"D02",{"$f":"'DNA Processing Record'!A449","v":448},{"$f":"'DNA Processing Record'!C449","v":"0-DNA"},{"$f":"'DNA Processing Record'!Q449","v":0},{"$f":"'DNA Processing Record'!E449","v":{"$error":"#N/A"}},{"$error":"#N/A"},{"$error":"#N/A"},{"$error":"#N/A"},null,"C05",453,{"$error":"#N/A"},{"$error":"#N/A"},0]
[null,null,null,null,null,null,null,null,null,null,null,17,"C03",{"$f":"'DNA Processing Record'!A450","v":449},{"$f":"'DNA Processing Record'!C450","v":"0-DNA"},{"$f":"'DNA Processing Record'!Q450","v":0},{"$f":"'DNA Processing Record'!E450","v":{"$error":"#N/A"}},{"$error":"#N/A"},{"$error":"#N/A"},{"$error":"#N/A"},null,"C06",455,{"$error":"#N/A"},{"$error":"#N/A"},0]
[null,null,null,null,null,null,null,null,null,null,null,18,"D03",{"$f":"'DNA Processing Record'!A451","v":450},{"$f":"'DNA Processing Record'!C451","v":"0-DNA"},{"$f":"'DNA Processing Record'!Q451","v":0},{"$f":"'DNA Processing Record'!E451","v":{"$error":"#N/A"}},{"$error":"#N/A"},{"$error":"#N/A"},{"$error":"#N/A"},null,"D01",446,{"$error":"#N/A"},{"$error":"#N/A"},0]
[null,null,null,null,null,null,null,null,null,null,null,19,"C04",{"$f":"'DNA Processing Record'!A452","v":451},{"$f":"'DNA Processing Record'!C452","v":"0-DNA"},{"$f":"'DNA Processing Record'!Q452","v":0},{"$f":"'DNA Processing Record'!E452","v":{"$error":"#N/A"}},{"$error":"#N/A"},{"$error":"#N/A"},{"$error":"#N/A"},null,"D02",448,{"$error":"#N/A"},{"$error":"#N/A"},0]
[null,null,null,null,null,null,null,null,null,null,null,20,"D04",{"$f":"'DNA Processing Record'!A453","v":452},{"$f":"'DNA Processing Record'!C453","v":"0-DNA"},{"$f":"'DNA Processing Record'!Q453","v":0},{"$f":"'DNA Processing Record'!E453","v":{"$error":"#N/A"}},{"$error":"#N/A"},{"$error":"#N/A"},{"$error":"#N/A"},null,"D03",450,{"$error":"#N/A"},{"$error":"#N/A"},0]
[null,null,null,null,null,null,null,null,null,null,null,21,"C05",{"$f":"'DNA Processing Record'!A454","v":453},{"$f":"'DNA Processing Record'!C454","v":"0-DNA"},{"$f":"'DNA Processing Record'!Q454","v":0},{"$f":"'DNA Processing Record'!E454","v":{"$error":"#N/A"}},{"$error":"#N/A"},{"$error":"#N/A"},{"$error":"#N/A"},null,"D04",452,{"$error":"#N/A"},{"$error":"#N/A"},0]
[null,null,null,null,null,null,null,null,null,null,null,22,"D05",{"$f":"'DNA Processing Record'!A455","v":454},{"$f":"'DNA Processing Record'!C455","v":"0-DNA"},{"$f":"'DNA Processing Record'!Q455","v":0},{"$f":"'DNA Processing Record'!E455","v":{"$error":"#N/A"}},{"$error":"#N/A"},{"$error":"#N/A"},{"$error":"#N/A"},null,"D05",454,{"$error":"#N/A"},{"$error":"#N/A"},0]
[null,null,null,null,null,null,null,null,null,null,null,23,"C06",{"$f":"'DNA Processing Record'!A456","v":455},{"$f":"'DNA Processing Record'!C456","v":"0-DNA"},{"$f":"'DNA Processing Record'!Q456","v":0},{"$f":"'DNA Processing Record'!E456","v":{"$error":"#N/A"}},{"$error":"#N/A"},{"$error":"#N/A"},{"$error":"#N/A"},null,"D06",456,{"$error":"#N/A"},{"$error":"#N/A"},0]
[null,null,null,null,null,null,null,null,null,null,null,24,"D06",{"$f":"'DNA Processing Record'!A457","v":456},{"$f":"'DNA Processing Record'!C457","v":"0-DNA"},{"$f":"'DNA Processing Record'!Q457","v":0},{"$f":"'DNA Processing Record'!E457","v":{"$error":"#N/A"}},{"$error":"#N/A"},{"$error":"#N/A"},{"$error":"#N/A"},null,"E01",457,{"$error":"#N/A"},{"$error":"#N/A"},0]
[null,null,null,null,null,null,null,null,null,null,null,"M",null,null,"Fermentas FastRuler High Range DNA Ladder","-",{"$f":"'DNA Processing Record'!E458","v":{"$error":"#N/A"}},20,null,null,null,"E02",459,{"$error":"#N/A"},{"$error":"#N/A"},0]
[null,null,null,null,null,null,null,null,null,null,null,"M",null,null,"Fermentas FastRuler High Range DNA Ladder","-",{"$f":"'DNA Processing Record'!E459","v":{"$error":"#N/A"}},20,null,null,null,"E03",461,{"$error":"#N/A"},{"$error":"#N/A"},0]
[null,null,null,null,null,null,null,null,null,null,null,25,"E01",{"$f":"'DNA Processing Record'!A458","v":457},{"$f":"'DNA Processing Record'!C458","v":"0-DNA"},{"$f":"'DNA Processing Record'!Q458","v":0},{"$f":"'DNA Processing Record'!E460","v":{"$error":"#N/A"}},{"$f":"(Q540*T540/(S540+T540))*20","v":{"$error":"#N/A"}},{"$f":"ROUND(Q540*T540/50*20-T540,0)","v":{"$error":"#N/A"}},{"$f":"ROUNDUP(50/Q540,0)","v":{"$error":"#N/A"}},null,"E04",463,{"$error":"#N/A"},{"$error":"#N/A"},0]
[null,null,null,null,null,null,null,null,null,null,null,26,"F01",{"$f":"'DNA Processing Record'!A459","v":458},{"$f":"'DNA Processing Record'!C459","v":"0-DNA"},{"$f":"'DNA Processing Record'!Q459","v":0},{"$f":"'DNA Processing Record'!E461","v":{"$error":"#N/A"}},{"$f":"(Q541*T541/(S541+T541))*20","v":{"$error":"#N/A"}},{"$f":"ROUND(Q541*T541/50*20-T541,0)","v":{"$error":"#N/A"}},{"$f":"ROUNDUP(50/Q541,0)","v":{"$error":"#N/A"}},null,"E05",465,{"$error":"#N/A"},{"$error":"#N/A"},0]
[null,null,null,null,null,null,null,null,null,null,null,27,"E02",{"$f":"'DNA Processing Record'!A460","v":459},{"$f":"'DNA Processing Record'!C460","v":"0-DNA"},{"$f":"'DNA Processing Record'!Q460","v":0},{"$f":"'DNA Processing Record'!E462","v":{"$error":"#N/A"}},{"$error":"#N/A"},{"$error":"#N/A"},{"$error":"#N/A"},null,"E06",467,{"$error":"#N/A"},{"$error":"#N/A"},0]
[null,null,null,null,null,null,null,null,null,null,null,28,"F02",{"$f":"'DNA Processing Record'!A461","v":460},{"$f":"'DNA Processing Record'!C461","v":"0-DNA"},{"$f":"'DNA Processing Record'!Q461","v":0},{"$f":"'DNA Processing Record'!E463","v":{"$error":"#N/A"}},{"$error":"#N/A"},{"$error":"#N/A"},{"$error":"#N/A"},null,"F01",458,{"$error":"#N/A"},{"$error":"#N/A"},0]
[null,null,null,null,null,null,null,null,null,null,null,29,"E03",{"$f":"'DNA Processing Record'!A462","v":461},{"$f":"'DNA Processing Record'!C462","v":"0-DNA"},{"$f":"'DNA Processing Record'!Q462","v":0},{"$f":"'DNA Processing Record'!E464","v":{"$error":"#N/A"}},{"$error":"#N/A"},{"$error":"#N/A"},{"$error":"#N/A"},null,"F02",460,{"$error":"#N/A"},{"$error":"#N/A"},0]
[null,null,null,null,null,null,null,null,null,null,null,30,"F03",{"$f":"'DNA Processing Record'!A463","v":462},{"$f":"'DNA Processing Record'!C463","v":"0-DNA"},{"$f":"'DNA Processing Record'!Q463","v":0},{"$f":"'DNA Processing Record'!E465","v":{"$error":"#N/A"}},{"$error":"#N/A"},{"$error":"#N/A"},{"$error":"#N/A"},null,"F03",462,{"$error":"#N/A"},{"$error":"#N/A"},0]
[null,null,null,null,null,null,null,null,null,null,null,31,"E04",{"$f":"'DNA Processing Record'!A464","v":463},{"$f":"'DNA Processing Record'!C464","v":"0-DNA"},{"$f":"'DNA Processing Record'!Q464","v":0},{"$f":"'DNA Processing Record'!E466","v":{"$error":"#N/A"}},{"$error":"#N/A"},{"$error":"#N/A"},{"$error":"#N/A"},null,"F04",464,{"$error":"#N/A"},{"$error":"#N/A"},0]
[null,null,null,null,null,null,null,null,null,null,null,32,"F04",{"$f":"'DNA Processing Record'!A465","v":464},{"$f":"'DNA Processing Record'!C465","v":"0-DNA"},{"$f":"'DNA Processing Record'!Q465","v":0},{"$f":"'DNA Processing Record'!E467","v":{"$error":"#N/A"}},{"$error":"#N/A"},{"$error":"#N/A"},{"$error":"#N/A"},null,"F05",466,{"$error":"#N/A"},{"$error":"#N/A"},0]
[null,null,null,null,null,null,null,null,null,null,null,33,"E05",{"$f":"'DNA Processing Record'!A466","v":465},{"$f":"'DNA Processing Record'!C466","v":"0-DNA"},{"$f":"'DNA Processing Record'!Q466","v":0},{"$f":"'DNA Processing Record'!E468","v":{"$error":"#N/A"}},{"$error":"#N/A"},{"$error":"#N/A"},{"$error":"#N/A"},null,"F06",468,{"$error":"#N/A"},{"$error":"#N/A"},0]
[null,null,null,null,null,null,null,null,null,null,null,34,"F05",{"$f":"'DNA Processing Record'!A467","v":466},{"$f":"'DNA Processing Record'!C467","v":"0-DNA"},{"$f":"'DNA Processing Record'!Q467","v":0},{"$f":"'DNA Processing Record'!E469","v":{"$error":"#N/A"}},{"$error":"#N/A"},{"$error":"#N/A"},{"$error":"#N/A"},null,"G01",469,{"$error":"#N/A"},{"$error":"#N/A"},0]
[null,null,null,null,null,null,null,null,null,null,null,35,"E06",{"$f":"'DNA Processing Record'!A468","v":467},{"$f":"'DNA Processing Record'!C468","v":"0-DNA"},{"$f":"'DNA Processing Record'!Q468","v":0},{"$f":"'DNA Processing Record'!E470","v":{"$error":"#N/A"}},{"$error":"#N/A"},{"$error":"#N/A"},{"$error":"#N/A"},null,"G02",471,{"$error":"#N/A"},{"$error":"#N/A"},0]
[null,null,null,null,null,null,null,null,null,null,null,36,"F06",{"$f":"'DNA Processing Record'!A469","v":468},{"$f":"'DNA Processing Record'!C469","v":"0-DNA"},{"$f":"'DNA Processing Record'!Q469","v":0},{"$f":"'DNA Processing Record'!E471","v":{"$error":"#N/A"}},{"$error":"#N/A"},{"$error":"#N/A"},{"$error":"#N/A"},null,"G03",473,{"$error":"#N/A"},{"$error":"#N/A"},0]
[null,null,null,null,null,null,null,null,null,null,null,37,"G01",{"$f":"'DNA Processing Record'!A470","v":469},{"$f":"'DNA Processing Record'!C470","v":"0-DNA"},{"$f":"'DNA Processing Record'!Q470","v":0},{"$f":"'DNA Processing Record'!E472","v":{"$error":"#N/A"}},{"$error":"#N/A"},{"$error":"#N/A"},{"$error":"#N/A"},null,"G04",475,{"$error":"#N/A"},{"$error":"#N/A"},0]
[null,null,null,null,null,null,null,null,null,null,null,38,"H01",{"$f":"'DNA Processing Record'!A471","v":470},{"$f":"'DNA Processing Record'!C471","v":"0-DNA"},{"$f":"'DNA Processing Record'!Q471","v":0},{"$f":"'DNA Processing Record'!E473","v":{"$error":"#N/A"}},{"$error":"#N/A"},{"$error":"#N/A"},{"$error":"#N/A"},null,"G05",477,{"$error":"#N/A"},{"$error":"#N/A"},0]
[null,null,null,null,null,null,null,null,null,null,null,39,"G02",{"$f":"'DNA Processing Record'!A472","v":471},{"$f":"'DNA Processing Record'!C472","v":"0-DNA"},{"$f":"'DNA Processing Record'!Q472","v":0},{"$f":"'DNA Processing Record'!E474","v":{"$error":"#N/A"}},{"$error":"#N/A"},{"$error":"#N/A"},{"$error":"#N/A"},null,"G06",479,{"$error":"#N/A"},{"$error":"#N/A"},0]
[null,null,null,null,null,null,null,null,null,null,null,40,"H02",{"$f":"'DNA Processing Record'!A473","v":472},{"$f":"'DNA Processing Record'!C473","v":"0-DNA"},{"$f":"'DNA Processing Record'!Q473","v":0},{"$f":"'DNA Processing Record'!E475","v":{"$error":"#N/A"}},{"$error":"#N/A"},{"$error":"#N/A"},{"$error":"#N/A"},null,"H01",470,{"$error":"#N/A"},{"$error":"#N/A"},0]
[null,null,null,null,null,null,null,null,null,null,null,41,"G03",{"$f":"'DNA Processing Record'!A474","v":473},{"$f":"'DNA Processing Record'!C474","v":"0-DNA"},{"$f":"'DNA Processing Record'!Q474","v":0},{"$f":"'DNA Processing Record'!E476","v":{"$error":"#N/A"}},{"$error":"#N/A"},{"$error":"#N/A"},{"$error":"#N/A"},null,"H02",472,{"$error":"#N/A"},{"$error":"#N/A"},0]
[null,null,null,null,null,null,null,null,null,null,null,42,"H03",{"$f":"'DNA Processing Record'!A475","v":474},{"$f":"'DNA Processing Record'!C475","v":"0-DNA"},{"$f":"'DNA Processing Record'!Q475","v":0},{"$f":"'DNA Processing Record'!E477","v":{"$error":"#N/A"}},{"$error":"#N/A"},{"$error":"#N/A"},{"$error":"#N/A"},null,"H03",474,{"$error":"#N/A"},{"$error":"#N/A"},0]
[null,null,null,null,null,null,null,null,null,null,null,43,"G04",{"$f":"'DNA Processing Record'!A476","v":475},{"$f":"'DNA Processing Record'!C476","v":"0-DNA"},{"$f":"'DNA Processing Record'!Q476","v":0},{"$f":"'DNA Processing Record'!E478","v":{"$error":"#N/A"}},{"$error":"#N/A"},{"$error":"#N/A"},{"$error":"#N/A"},null,"H04",476,{"$error":"#N/A"},{"$error":"#N/A"},0]
[null,null,null,null,null,null,null,null,null,null,null,44,"H04",{"$f":"'DNA Processing Record'!A477","v":476},{"$f":"'DNA Processing Record'!C477","v":"0-DNA"},{"$f":"'DNA Processing Record'!Q477","v":0},{"$f":"'DNA Processing Record'!E479","v":{"$error":"#N/A"}},{"$error":"#N/A"},{"$error":"#N/A"},{"$error":"#N/A"},null,"H05",478,{"$error":"#N/A"},{"$error":"#N/A"},0]
[null,null,null,null,null,null,null,null,null,null,null,45,"G05",{"$f":"'DNA Processing Record'!A478","v":477},{"$f":"'DNA Processing Record'!C478","v":"0-DNA"},{"$f":"'DNA Processing Record'!Q478","v":0},{"$f":"'DNA Processing Record'!E480","v":{"$error":"#N/A"}},{"$error":"#N/A"},{"$error":"#N/A"},{"$error":"#N/A"},null,"H06",480,{"$error":"#N/A"},{"$error":"#N/A"},0]
[null,null,null,null,null,null,null,null,null,null,null,46,"H05",{"$f":"'DNA Processing Record'!A479","v":478},{"$f":"'DNA Processing Record'!C479","v":"0-DNA"},{"$f":"'DNA Processing Record'!Q479","v":0},{"$f":"'DNA Processing Record'!E481","v":{"$error":"#N/A"}},{"$error":"#N/A"},{"$error":"#N/A"},{"$error":"#N/A"}]
[null,null,null,null,null,null,null,null,null,null,null,47,"G06",{"$f":"'DNA Processing Record'!A480","v":479},{"$f":"'DNA Processing Record'!C480","v":"0-DNA"},{"$f":"'DNA Processing Record'!Q480","v":0},{"$f":"'DNA Processing Record'!E482","v":{"$error":"#N/A"}},{"$error":"#N/A"},{"$error":"#N/A"},{"$error":"#N/A"}]
[null,null,null,null,null,null,null,null,null,null,null,48,"H06",{"$f":"'DNA Processing Record'!A481","v":480},{"$f":"'DNA Processing Record'!C481","v":"0-DNA"},{"$f":"'DNA Processing Record'!Q481","v":0},{"$f":"'DNA Processing Record'!E483","v":{"$error":"#N/A"}},{"$error":"#N/A"},{"$error":"#N/A"},{"$error":"#N/A"}]
[null,null,null,null,null,null,null,null,null,null,null,"M",null,null,"Fermentas FastRuler High Range DNA Ladder","-",{"$f":"'DNA Processing Record'!E484","v":{"$error":"#N/A"}},20]
[]
[]
[]
[null,null,null,null,null,null,null,null,null,null,null,"Gel 11",null,null,null,null,null,null,null,null,null,"Dilution Plate 11"]
[null,null,null,null,null,null,null,null,null,null,null,"Lane","Well","Sample no.","Sample_ID","Reference_ID","DNA conc. (ng/ul)","Amount loaded (ng)","Water(ul)","Sample(ul)",null,"Well","Sample no.","Water(ul)","Sample(ul)","Reference ID"]
[null,null,null,null,null,null,null,null,null,null,null,"M",null,null,"Fermentas FastRuler High Range DNA Ladder","-","-",20,null,null,null,"A01",481,{"$f":"VLOOKUP($V570, $M$569:$T$621, 7, FALSE)","v":{"$error":"#N/A"}},{"$f":"VLOOKUP($V570, $M$569:$T$620, 8, FALSE)","v":{"$error":"#N/A"}},{"$f":"VLOOKUP($V570, $M$569:$T$620, 4, FALSE)","v":0}]
[null,null,null,null,null,null,null,null,null,null,null,1,"A01",{"$f":"'DNA Processing Record'!A482","v":481},{"$f":"'DNA Processing Record'!C482","v":"0-DNA"},{"$f":"'DNA Processing Record'!Q482","v":0},{"$f":"'DNA Processing Record'!E482","v":{"$error":"#N/A"}},{"$f":"(Q571*T571/(S571+T571))*20","v":{"$error":"#N/A"}},{"$f":"ROUND(Q571*T571/50*20-T571,0)","v":{"$error":"#N/A"}},{"$f":"ROUNDUP(50/Q571,0)","v":{"$error":"#N/A"}},null,"A02",483,{"$error":"#N/A"},{"$error":"#N/A"},0]
[null,null,null,null,null,null,null,null,null,null,null,2,"B01",{"$f":"'DNA Processing Record'!A483","v":482},{"$f":"'DNA Processing Record'!C483","v":"0-DNA"},{"$f":"'DNA Processing Record'!Q483","v":0},{"$f":"'DNA Processing Record'!E483","v":{"$error":"#N/A"}},{"$f":"(Q572*T572/(S572+T572))*20","v":{"$error":"#N/A"}},{"$f":"ROUND(Q572*T572/50*20-T572,0)","v":{"$error":"#N/A"}},{"$f":"ROUNDUP(50/Q572,0)","v":{"$error":"#N/A"}},null,"A03",485,{"$error":"#N/A"},{"$error":"#N/A"},0]
[null,null,null,null,null,null,null,null,null,null,null,3,"A02",{"$f":"'DNA Processing Record'!A484","v":483},{"$f":"'DNA Processing Record'!C484","v":"0-DNA"},{"$f":"'DNA Processing Record'!Q484","v":0},{"$f":"'DNA Processing Record'!E484","v":{"$error":"#N/A"}},{"$error":"#N/A"},{"$error":"#N/A"},{"$error":"#N/A"},null,"A04",487,{"$error":"#N/A"},{"$error":"#N/A"},0]
[null,null,null,null,null,null,null,null,null,null,null,4,"B02",{"$f":"'DNA Processing Record'!A485","v":484},{"$f":"'DNA Processing Record'!C485","v":"0-DNA"},{"$f":"'DNA Processing Record'!Q485","v":0},{"$f":"'DNA Processing Record'!E485","v":{"$error":"#N/A"}},{"$error":"#N/A"},{"$error":"#N/A"},{"$error":"#N/A"},null,"A05",489,{"$error":"#N/A"},{"$error":"#N/A"},0]
[null,null,null,null,null,null,null,null,null,null,null,5,"A03",{"$f":"'DNA Processing Record'!A486","v":485},{"$f":"'DNA Processing Record'!C486","v":"0-DNA"},{"$f":"'DNA Processing Record'!Q486","v":0},{"$f":"'DNA Processing Record'!E486","v":{"$error":"#N/A"}},{"$error":"#N/A"},{"$error":"#N/A"},{"$error":"#N/A"},null,"A06",491,{"$error":"#N/A"},{"$error":"#N/A"},0]
[null,null,null,null,null,null,null,null,null,null,null,6,"B03",{"$f":"'DNA Processing Record'!A487","v":486},{"$f":"'DNA Processing Record'!C487","v":"0-DNA"},{"$f":"'DNA Processing Record'!Q487","v":0},{"$f":"'DNA Processing Record'!E487","v":{"$error":"#N/A"}},{"$error":"#N/A"},{"$error":"#N/A"},{"$error":"#N/A"},null,"B01",482,{"$error":"#N/A"},{"$error":"#N/A"},0]
[null,null,null,null,null,null,null,null,null,null,null,7,"A04",{"$f":"'DNA Processing Record'!A488","v":487},{"$f":"'DNA Processing Record'!C488","v":"0-DNA"},{"$f":"'DNA Processing Record'!Q488","v":0},{"$f":"'DNA Processing Record'!E488","v":{"$error":"#N/A"}},{"$error":"#N/A"},{"$error":"#N/A"},{"$error":"#N/A"},null,"B02",484,{"$error":"#N/A"},{"$error":"#N/A"},0]
[null,null,null,null,null,null,null,null,null,null,null,8,"B04",{"$f":"'DNA Processing Record'!A489","v":488},{"$f":"'DNA Processing Record'!C489","v":"0-DNA"},{"$f":"'DNA Processing Record'!Q489","v":0},{"$f":"'DNA Processing Record'!E489","v":{"$error":"#N/A"}},{"$error":"#N/A"},{"$error":"#N/A"},{"$error":"#N/A"},null,"B03",486,{"$error":"#N/A"},{"$error":"#N/A"},0]
[null,null,null,null,null,null,null,null,null,null,null,9,"A05",{"$f":"'DNA Processing Record'!A490","v":489},{"$f":"'DNA Processing Record'!C490","v":"0-DNA"},{"$f":"'DNA Processing Record'!Q490","v":0},{"$f":"'DNA Processing Record'!E490","v":{"$error":"#N/A"}},{"$error":"#N/A"},{"$error":"#N/A"},{"$error":"#N/A"},null,"B04",488,{"$error":"#N/A"},{"$error":"#N/A"},0]
[null,null,null,null,null,null,null,null,null,null,null,10,"B05",{"$f":"'DNA Processing Record'!A491","v":490},{"$f":"'DNA Processing Record'!C491","v":"0-DNA"},{"$f":"'DNA Processing Record'!Q491","v":0},{"$f":"'DNA Processing Record'!E491","v":{"$error":"#N/A"}},{"$error":"#N/A"},{"$error":"#N/A"},{"$error":"#N/A"},null,"B05",490,{"$error":"#N/A"},{"$error":"#N/A"},0]
[null,null,null,null,null,null,null,null,null,null,null,11,"A06",{"$f":"'DNA Processing Record'!A492","v":491},{"$f":"'DNA Processing Record'!C492","v":"0-DNA"},{"$f":"'DNA Processing Record'!Q492","v":0},{"$f":"'DNA Processing Record'!E492","v":{"$error":"#N/A"}},{"$error":"#N/A"},{"$error":"#N/A"},{"$error":"#N/A"},null,"B06",492,{"$error":"#N/A"},{"$error":"#N/A"},0]
[null,null,null,null,null,null,null,null,null,null,null,12,"B06",{"$f":"'DNA Processing Record'!A493","v":492},{"$f":"'DNA Processing Record'!C493","v":"0-DNA"},{"$f":"'DNA Processing Record'!Q493","v":0},{"$f":"'DNA Processing Record'!E493","v":{"$error":"#N/A"}},{"$error":"#N/A"},{"$error":"#N/A"},{"$error":"#N/A"},null,"C01",493,{"$error":"#N/A"},{"$error":"#N/A"},0]
[null,null,null,null,null,null,null,null,null,null,null,13,"C01",{"$f":"'DNA Processing Record'!A494","v":493},{"$f":"'DNA Processing Record'!C494","v":"0-DNA"},{"$f":"'DNA Processing Record'!Q494","v":0},{"$f":"'DNA Processing Record'!E494","v":{"$error":"#N/A"}},{"$error":"#N/A"},{"$error":"#N/A"},{"$error":"#N/A"},null,"C02",495,{"$error":"#N/A"},{"$error":"#N/A"},0]
[null,null,null,null,null,null,null,null,null,null,null,14,"D01",{"$f":"'DNA Processing Record'!A495","v":494},{"$f":"'DNA Processing Record'!C495","v":"0-DNA"},{"$f":"'DNA Processing Record'!Q495","v":0},{"$f":"'DNA Processing Record'!E495","v":{"$error":"#N/A"}},{"$error":"#N/A"},{"$error":"#N/A"},{"$error":"#N/A"},null,"C03",497,{"$error":"#N/A"},{"$error":"#N/A"},0]
[null,null,null,null,null,null,null,null,null,null,null,15,"C02",{"$f":"'DNA Processing Record'!A496","v":495},{"$f":"'DNA Processing Record'!C496","v":"0-DNA"},{"$f":"'DNA Processing Record'!Q496","v":0},{"$f":"'DNA Processing Record'!E496","v":{"$error":"#N/A"}},{"$error":"#N/A"},{"$error":"#N/A"},{"$error":"#N/A"},null,"C04",499,{"$error":"#N/A"},{"$error":"#N/A"},0]
[null,null,null,null,null,null,null,null,null,null,null,16,"D02",{"$f":"'DNA Processing Record'!A497","v":496},{"$f":"'DNA Processing Record'!C497","v":"0-DNA"},{"$f":"'DNA Processing Record'!Q497","v":0},{"$f":"'DNA Processing Record'!E497","v":{"$error":"#N/A"}},{"$error":"#N/A"},{"$error":"#N/A"},{"$error":"#N/A"},null,"C05",501,{"$error":"#DIV/0!"},{"$error":"#DIV/0!"},0]
[null,null,null,null,null,null,null,null,null,null,null,17,"C03",{"$f":"'DNA Processing Record'!A498","v":497},{"$f":"'DNA Processing Record'!C498","v":"0-DNA"},{"$f":"'DNA Processing Record'!Q498","v":0},{"$f":"'DNA Processing Record'!E498","v":{"$error":"#N/A"}},{"$error":"#N/A"},{"$error":"#N/A"},{"$error":"#N/A"},null,"C06",503,{"$error":"#DIV/0!"},{"$error":"#DIV/0!"},0]
[null,null,null,null,null,null,null,null,null,null,null,18,"D03",{"$f":"'DNA Processing Record'!A499","v":498},{"$f":"'DNA Processing Record'!C499","v":"0-DNA"},{"$f":"'DNA Processing Record'!Q499","v":0},{"$f":"'DNA Processing Record'!E499","v":{"$error":"#N/A"}},{"$error":"#N/A"},{"$error":"#N/A"},{"$error":"#N/A"},null,"D01",494,{"$error":"#N/A"},{"$error":"#N/A"},0]
[null,null,null,null,null,null,null,null,null,null,null,19,"C04",{"$f":"'DNA Processing Record'!A500","v":499},{"$f":"'DNA Processing Record'!C500","v":"0-DNA"},{"$f":"'DNA Processing Record'!Q500","v":0},{"$f":"'DNA Processing Record'!E500","v":{"$error":"#N/A"}},{"$error":"#N/A"},{"$error":"#N/A"},{"$error":"#N/A"},null,"D02",496,{"$error":"#N/A"},{"$error":"#N/A"},0]
[null,null,null,null,null,null,null,null,null,null,null,20,"D04",{"$f":"'DNA Processing Record'!A501","v":500},{"$f":"'DNA Processing Record'!C501","v":"0-DNA"},{"$f":"'DNA Processing Record'!Q501","v":0},{"$f":"'DNA Processing Record'!E501","v":{"$error":"#N/A"}},{"$error":"#N/A"},{"$error":"#N/A"},{"$error":"#N/A"},null,"D03",498,{"$error":"#N/A"},{"$error":"#N/A"},0]
[null,null,null,null,null,null,null,null,null,null,null,21,"C05",{"$f":"'DNA Processing Record'!A502","v":0},{"$f":"'DNA Processing Record'!C502","v":0},{"$f":"'DNA Processing Record'!Q502","v":0},{"$f":"'DNA Processing Record'!E502","v":0},{"$error":"#DIV/0!"},{"$error":"#DIV/0!"},{"$error":"#DIV/0!"},null,"D04",500,{"$error":"#N/A"},{"$error":"#N/A"},0]
[null,null,null,null,null,null,null,null,null,null,null,22,"D05",{"$f":"'DNA Processing Record'!A503","v":0},{"$f":"'DNA Processing Record'!C503","v":0},{"$f":"'DNA Processing Record'!Q503","v":0},{"$f":"'DNA Processing Record'!E503","v":0},{"$error":"#DIV/0!"},{"$error":"#DIV/0!"},{"$error":"#DIV/0!"},null,"D05",502,{"$error":"#DIV/0!"},{"$error":"#DIV/0!"},0]
[null,null,null,null,null,null,null,null,null,null,null,23,"C06",{"$f":"'DNA Processing Record'!A504","v":0},{"$f":"'DNA Processing Record'!C504","v":0},{"$f":"'DNA Processing Record'!Q504","v":0},{"$f":"'DNA Processing Record'!E504","v":0},{"$error":"#DIV/0!"},{"$error":"#DIV/0!"},{"$error":"#DIV/0!"},null,"D06",504,{"$error":"#DIV/0!"},{"$error":"#DIV/0!"},0]
[null,null,null,null,null,null,null,null,null,null,null,24,"D06",{"$f":"'DNA Processing Record'!A505","v":0},{"$f":"'DNA Processing Record'!C505","v":0},{"$f":"'DNA Processing Record'!Q505","v":0},{"$f":"'DNA Processing Record'!E505","v":0},{"$error":"#DIV/0!"},{"$error":"#DIV/0!"},{"$error":"#DIV/0!"},null,"E01",505,{"$error":"#DIV/0!"},{"$error":"#DIV/0!"},0]
[null,null,null,null,null,null,null,null,null,null,null,"M",null,null,"Fermentas FastRuler High Range DNA Ladder","-",{"$f":"'DNA Processing Record'!E506","v":0},20,null,null,null,"E02",507,{"$error":"#DIV/0!"},{"$error":"#DIV/0!"},0]
[null,null,null,null,null,null,null,null,null,null,null,"M",null,null,"Fermentas FastRuler High Range DNA Ladder","-",{"$f":"'DNA Processing Record'!E507","v":0},20,null,null,null,"E03",509,{"$error":"#DIV/0!"},{"$error":"#DIV/0!"},0]
[null,null,null,null,null,null,null,null,null,null,null,25,"E01",{"$f":"'DNA Processing Record'!A506","v":0},{"$f":"'DNA Processing Record'!C506","v":0},{"$f":"'DNA Processing Record'!Q506","v":0},{"$f":"'DNA Processing Record'!E508","v":0},{"$f":"(Q597*T597/(S597+T597))*20","v":{"$error":"#DIV/0!"}},{"$f":"ROUND(Q597*T597/50*20-T597,0)","v":{"$error":"#DIV/0!"}},{"$f":"ROUNDUP(50/Q597,0)","v":{"$error":"#DIV/0!"}},null,"E04",511,{"$error":"#DIV/0!"},{"$error":"#DIV/0!"},0]
[null,null,null,null,null,null,null,null,null,null,null,26,"F01",{"$f":"'DNA Processing Record'!A507","v":0},{"$f":"'DNA Processing Record'!C507","v":0},{"$f":"'DNA Processing Record'!Q507","v":0},{"$f":"'DNA Processing Record'!E509","v":0},{"$f":"(Q598*T598/(S598+T598))*20","v":{"$error":"#DIV/0!"}},{"$f":"ROUND(Q598*T598/50*20-T598,0)","v":{"$error":"#DIV/0!"}},{"$f":"ROUNDUP(50/Q598,0)","v":{"$error":"#DIV/0!"}},null,"E05",513,{"$error":"#DIV/0!"},{"$error":"#DIV/0!"},0]
[null,null,null,null,null,null,null,null,null,null,null,27,"E02",{"$f":"'DNA Processing Record'!A508","v":0},{"$f":"'DNA Processing Record'!C508","v":0},{"$f":"'DNA Processing Record'!Q508","v":0},{"$f":"'DNA Processing Record'!E510","v":0},{"$error":"#DIV/0!"},{"$error":"#DIV/0!"},{"$error":"#DIV/0!"},null,"E06",515,{"$error":"#DIV/0!"},{"$error":"#DIV/0!"},0]
[null,null,null,null,null,null,null,null,null,null,null,28,"F02",{"$f":"'DNA Processing Record'!A509","v":0},{"$f":"'DNA Processing Record'!C509","v":0},{"$f":"'DNA Processing Record'!Q509","v":0},{"$f":"'DNA Processing Record'!E511","v":0},{"$error":"#DIV/0!"},{"$error":"#DIV/0!"},{"$error":"#DIV/0!"},null,"F01",506,{"$error":"#DIV/0!"},{"$error":"#DIV/0!"},0]
[null,null,null,null,null,null,null,null,null,null,null,29,"E03",{"$f":"'DNA Processing Record'!A510","v":0},{"$f":"'DNA Processing Record'!C510","v":0},{"$f":"'DNA Processing Record'!Q510","v":0},{"$f":"'DNA Processing Record'!E512","v":0},{"$error":"#DIV/0!"},{"$error":"#DIV/0!"},{"$error":"#DIV/0!"},null,"F02",508,{"$error":"#DIV/0!"},{"$error":"#DIV/0!"},0]
[null,null,null,null,null,null,null,null,null,null,null,30,"F03",{"$f":"'DNA Processing Record'!A511","v":0},{"$f":"'DNA Processing Record'!C511","v":0},{"$f":"'DNA Processing Record'!Q511","v":0},{"$f":"'DNA Processing Record'!E513","v":0},{"$error":"#DIV/0!"},{"$error":"#DIV/0!"},{"$error":"#DIV/0!"},null,"F03",510,{"$error":"#DIV/0!"},{"$error":"#DIV/0!"},0]
[null,null,null,null,null,null,null,null,null,null,null,31,"E04",{"$f":"'DNA Processing Record'!A512","v":0},{"$f":"'DNA Processing Record'!C512","v":0},{"$f":"'DNA Processing Record'!Q512","v":0},{"$f":"'DNA Processing Record'!E514","v":0},{"$error":"#DIV/0!"},{"$error":"#DIV/0!"},{"$error":"#DIV/0!"},null,"F04",512,{"$error":"#DIV/0!"},{"$error":"#DIV/0!"},0]
[null,null,null,null,null,null,null,null,null,null,null,32,"F04",{"$f":"'DNA Processing Record'!A513","v":0},{"$f":"'DNA Processing Record'!C513","v":0},{"$f":"'DNA Processing Record'!Q513","v":0},{"$f":"'DNA Processing Record'!E515","v":0},{"$error":"#DIV/0!"},{"$error":"#DIV/0!"},{"$error":"#DIV/0!"},null,"F05",514,{"$error":"#DIV/0!"},{"$error":"#DIV/0!"},0]
[null,null,null,null,null,null,null,null,null,null,null,33,"E05",{"$f":"'DNA Processing Record'!A514","v":0},{"$f":"'DNA Processing Record'!C514","v":0},{"$f":"'DNA Processing Record'!Q514","v":0},{"$f":"'DNA Processing Record'!E516","v":0},{"$error":"#DIV/0!"},{"$error":"#DIV/0!"},{"$error":"#DIV/0!"},null,"F06",516,{"$error":"#DIV/0!"},{"$error":"#DIV/0!"},0]
[null,null,null,null,null,null,null,null,null,null,null,34,"F05",{"$f":"'DNA Processing Record'!A515","v":0},{"$f":"'DNA Processing Record'!C515","v":0},{"$f":"'DNA Processing Record'!Q515","v":0},{"$f":"'DNA Processing Record'!E517","v":0},{"$error":"#DIV/0!"},{"$error":"#DIV/0!"},{"$error":"#DIV/0!"},null,"G01",517,{"$error":"#DIV/0!"},{"$error":"#DIV/0!"},0]
[null,null,null,null,null,null,null,null,null,null,null,35,"E06",{"$f":"'DNA Processing Record'!A516","v":0},{"$f":"'DNA Processing Record'!C516","v":0},{"$f":"'DNA Processing Record'!Q516","v":0},{"$f":"'DNA Processing Record'!E518","v":0},{"$error":"#DIV/0!"},{"$error":"#DIV/0!"},{"$error":"#DIV/0!"},null,"G02",519,{"$error":"#DIV/0!"},{"$error":"#DIV/0!"},0]
[null,null,null,null,null,null,null,null,null,null,null,36,"F06",{"$f":"'DNA Processing Record'!A517","v":0},{"$f":"'DNA Processing Record'!C517","v":0},{"$f":"'DNA Processing Record'!Q517","v":0},{"$f":"'DNA Processing Record'!E519","v":0},{"$error":"#DIV/0!"},{"$error":"#DIV/0!"},{"$error":"#DIV/0!"},null,"G03",521,{"$error":"#DIV/0!"},{"$error":"#DIV/0!"},0]
[null,null,null,null,null,null,null,null,null,null,null,37,"G01",{"$f":"'DNA Processing Record'!A518","v":0},{"$f":"'DNA Processing Record'!C518","v":0},{"$f":"'DNA Processing Record'!Q518","v":0},{"$f":"'DNA Processing Record'!E520","v":0},{"$error":"#DIV/0!"},{"$error":"#DIV/0!"},{"$error":"#DIV/0!"},null,"G04",523,{"$error":"#DIV/0!"},{"$error":"#DIV/0!"},0]
[null,null,null,null,null,null,null,null,null,null,null,38,"H01",{"$f":"'DNA Processing Record'!A519","v":0},{"$f":"'DNA Processing Record'!C519","v":0},{"$f":"'DNA Processing Record'!Q519","v":0},{"$f":"'DNA Processing Record'!E521","v":0},{"$error":"#DIV/0!"},{"$error":"#DIV/0!"},{"$error":"#DIV/0!"},null,"G05",525,{"$error":"#DIV/0!"},{"$error":"#DIV/0!"},0]
[null,null,null,null,null,null,null,null,null,null,null,39,"G02",{"$f":"'DNA Processing Record'!A520","v":0},{"$f":"'DNA Processing Record'!C520","v":0},{"$f":"'DNA Processing Record'!Q520","v":0},{"$f":"'DNA Processing Record'!E522","v":0},{"$error":"#DIV/0!"},{"$error":"#DIV/0!"},{"$error":"#DIV/0!"},null,"G06",527,{"$error":"#DIV/0!"},{"$error":"#DIV/0!"},0]
[null,null,null,null,null,null,null,null,null,null,null,40,"H02",{"$f":"'DNA Processing Record'!A521","v":0},{"$f":"'DNA Processing Record'!C521","v":0},{"$f":"'DNA Processing Record'!Q521","v":0},{"$f":"'DNA Processing Record'!E523","v":0},{"$error":"#DIV/0!"},{"$error":"#DIV/0!"},{"$error":"#DIV/0!"},null,"H01",518,{"$error":"#DIV/0!"},{"$error":"#DIV/0!"},0]
[null,null,null,null,null,null,null,null,null,null,null,41,"G03",{"$f":"'DNA Processing Record'!A522","v":0},{"$f":"'DNA Processing Record'!C522","v":0},{"$f":"'DNA Processing Record'!Q522","v":0},{"$f":"'DNA Processing Record'!E524","v":0},{"$error":"#DIV/0!"},{"$error":"#DIV/0!"},{"$error":"#DIV/0!"},null,"H02",520,{"$error":"#DIV/0!"},{"$error":"#DIV/0!"},0]
[null,null,null,null,null,null,null,null,null,null,null,42,"H03",{"$f":"'DNA Processing Record'!A523","v":0},{"$f":"'DNA Processing Record'!C523","v":0},{"$f":"'DNA Processing Record'!Q523","v":0},{"$f":"'DNA Processing Record'!E525","v":0},{"$error":"#DIV/0!"},{"$error":"#DIV/0!"},{"$error":"#DIV/0!"},null,"H03",522,{"$error":"#DIV/0!"},{"$error":"#DIV/0!"},0]
[null,null,null,null,null,null,null,null,null,null,null,43,"G04",{"$f":"'DNA Processing Record'!A524","v":0},{"$f":"'DNA Processing Record'!C524","v":0},{"$f":"'DNA Processing Record'!Q524","v":0},{"$f":"'DNA Processing Record'!E526","v":0},{"$error":"#DIV/0!"},{"$error":"#DIV/0!"},{"$error":"#DIV/0!"},null,"H04",524,{"$error":"#DIV/0!"},{"$error":"#DIV/0!"},0]
[null,null,null,null,null,null,null,null,null,null,null,44,"H04",{"$f":"'DNA Processing Record'!A525","v":0},{"$f":"'DNA Processing Record'!C525","v":0},{"$f":"'DNA Processing Record'!Q525","v":0},{"$f":"'DNA Processing Record'!E527","v":0},{"$error":"#DIV/0!"},{"$error":"#DIV/0!"},{"$error":"#DIV/0!"},null,"H05",526,{"$error":"#DIV/0!"},{"$error":"#DIV/0!"},0]
[null,null,null,null,null,null,null,null,null,null,null,45,"G05",{"$f":"'DNA Processing Record'!A526","v":0},{"$f":"'DNA Processing Record'!C526","v":0},{"$f":"'DNA Processing Record'!Q526","v":0},{"$f":"'DNA Processing Record'!E528","v":0},{"$error":"#DIV/0!"},{"$error":"#DIV/0!"},{"$error":"#DIV/0!"},null,"H06",528,{"$error":"#DIV/0!"},{"$error":"#DIV/0!"},0]
[null,null,null,null,null,null,null,null,null,null,null,46,"H05",{"$f":"'DNA Processing Record'!A527","v":0},{"$f":"'DNA Processing Record'!C527","v":0},{"$f":"'DNA Processing Record'!Q527","v":0},{"$f":"'DNA Processing Record'!E529","v":0},{"$error":"#DIV/0!"},{"$error":"#DIV/0!"},{"$error":"#DIV/0!"}]
[null,null,null,null,null,null,null,null,null,null,null,47,"G06",{"$f":"'DNA Processing Record'!A528","v":0},{"$f":"'DNA Processing Record'!C528","v":0},{"$f":"'DNA Processing Record'!Q528","v":0},{"$f":"'DNA Processing Record'!E530","v":0},{"$error":"#DIV/0!"},{"$error":"#DIV/0!"},{"$error":"#DIV/0!"}]
[null,null,null,null,null,null,null,null,null,null,null,48,"H06",{"$f":"'DNA Processing Record'!A529","v":0},{"$f":"'DNA Processing Record'!C529","v":0},{"$f":"'DNA Processing Record'!Q529","v":0},{"$f":"'DNA Processing Record'!E531","v":0},{"$error":"#DIV/0!"},{"$error":"#DIV/0!"},{"$error":"#DIV/0!"}]
[null,null,null,null,null,null,null,null,null,null,null,"M",null,null,"Fermentas FastRuler High Range DNA Ladder","-",{"$f":"'DNA Processing Record'!E532","v":0},20,{"$f":"IF(Q621<35, 20-T621,#REF!* 20-1)","v":{"$error":"#DIV/0!"}},{"$f":"IF(Q621<35, ROUND(45/Q621, 0), 1)","v":{"$error":"#DIV/0!"}}]

{"sheet":"Ladder information","index":9,"n_rows":0,"n_cols":0,"rows_kept":0,"cut":false,"hidden":true,"merged":[]}

{"sheet":"Nanodrop Data Raw","index":10,"n_rows":2,"n_cols":25,"rows_kept":2,"cut":false,"hidden":true,"merged":[[0,1,0,25]]}
[null,"Paste NanoDrop™ One value from Column B"]
["Reference ID","Date","Sample Name","Nucleic Acid(ng/uL)","A260/A280","A260/A230","A260 (-A320)","A280","Nucleic Acid Factor","Baseline Correction (nm)","Baseline Absorbance"," Corrected (ng/uL)"," Corrected %CV","Impurity 1","Impurity 1 A260","Impurity 1 %CV","Impurity 1 mM","Impurity 2","Impurity 2 A260","Impurity 2 %CV","Impurity 2 mM","Impurity 3","Impurity 3 A260","Impurity 3 %CV","Impurity 3 mM"]

{"sheet":"Sample Receipt","index":11,"n_rows":20,"n_cols":5,"rows_kept":20,"cut":false,"hidden":true,"merged":[[16,4,17,4],[5,2,5,3],[16,0,16,1],[17,0,17,1],[16,2,17,2],[16,3,17,3],[9,0,10,1],[9,2,10,2],[9,3,10,3],[9,4,10,4],[0,2,0,3],[1,2,1,3],[2,2,2,3],[3,2,3,3],[4,2,4,3]]}
[null,"User Name:",{"$f":"'Sample Information'!$H$2","v":" "}]
[null,"PI:",{"$f":"'Sample Information'!$H$3","v":0}]
[null,"Department:",{"$f":"'Sample Information'!$H$4","v":0}]
[null,"Submission Date:\n(yymmdd)",{"$f":"'Sample Information'!$H$5","v":0}]
[null,"iLab Service ID",{"$f":"'Sample Information'!$H$6","v":0}]
[null,"Extraction Protocol",{"$f":"'Sample Information'!$H$7","v":0}]
[]
[]
[]
["Result Review",null,"Sign","Date","Remarks"]
[]
[null,"Nanodrop vs Qubit checked and troubleshot"]
[null,"Gel photo matched with nanodrop/Qubit"]
[null,"Result checked & ready for data release to user"]
[]
[]
["Extracted Nucleic Acid Tracking",null,"Sign","Date","Remarks"]
[{"$f":"\"iLab Service ID: \"&'Sample Information'!H6","v":"iLab Service ID: "}]
[null,"DNA/RNA collected by user / PI"]
[null,"DNA/RNA passed to CGS core platform: _______"]